{"text_format":"1","workbook":"xlsx","n_sheets":25,"sheets":["Introducton","Input&Findings","Traffic Volume Input","Warrant 1 - MUTCD","Warrant 2 - MUTCD","Print 4C-1","Print 4C-2","Warrant 3 - MUTCD","Print 4C-3","Print 4C-4","Warrant 4 - MUTCD","Print 4C-5","Print 4C-6","Print 4C-7","Print 4C-8","Warrant 5 & 6 - MUTCD","Warrant 7 & 8 - MUTCD","Warrant 9 - MUTCD","Print 4C-9","Print 4C-10","Warrant PA-1","Warrant PA-2","Print Ex 4-6","Print Ex 4-7","Lists"],"not_rendered":{"charts":36,"images":13,"macros":1,"external_links":0,"defined_names":29,"comments":0,"pivot_tables":0},"unopened":[{"sheet":"Print 4C-1","index":5,"reason":"not_a_worksheet"},{"sheet":"Print 4C-2","index":6,"reason":"not_a_worksheet"},{"sheet":"Print 4C-3","index":8,"reason":"not_a_worksheet"},{"sheet":"Print 4C-4","index":9,"reason":"not_a_worksheet"},{"sheet":"Print 4C-5","index":11,"reason":"not_a_worksheet"},{"sheet":"Print 4C-6","index":12,"reason":"not_a_worksheet"},{"sheet":"Print 4C-7","index":13,"reason":"not_a_worksheet"},{"sheet":"Print 4C-8","index":14,"reason":"not_a_worksheet"},{"sheet":"Print 4C-9","index":18,"reason":"not_a_worksheet"},{"sheet":"Print 4C-10","index":19,"reason":"not_a_worksheet"},{"sheet":"Print Ex 4-6","index":22,"reason":"not_a_worksheet"},{"sheet":"Print Ex 4-7","index":23,"reason":"not_a_worksheet"}],"bounds":{"document_bytes":16777216,"sheet_cells":100000,"rows_first":2000,"rows_last":500,"rows_between":2000,"halvings":0,"cell_chars":16384,"cell_head_chars":4096},"cells_cut":0,"cells_raw":0,"read":"whole","date_system":"1900"}

{"sheet":"Introducton","index":0,"n_rows":53,"n_cols":4,"rows_kept":53,"cut":false,"hidden":false,"merged":[[35,1,41,10],[33,1,34,10],[52,1,52,2],[25,1,26,10],[45,1,48,10],[1,0,1,10],[11,0,11,10],[23,0,23,10],[50,1,50,2],[50,3,50,10],[2,0,6,10],[8,0,9,10],[13,1,13,10],[14,1,15,10],[16,1,17,10],[27,1,27,10],[28,1,32,10],[42,1,44,10],[20,1,21,10],[18,1,19,10],[54,1,54,2],[55,1,55,2],[51,3,51,10],[52,3,52,10],[53,3,53,10],[54,3,54,10],[55,3,55,10],[53,1,53,2],[51,1,51,2]]}
[]
["Introduction"]
["The purpose of this workbook is to aid in the evaluation of each of the 9 traffic signal warrants in the 2009 MUTCD and the 2 additional warrants in PennDOT Publication 46/PennDOT Publication 212. All users shall reference these documents while completing this workbook to verify the accuracy of any findings and to account for conditions not inherently modeled or accounted for in this workbook. This workbook is a tool to make a traffic engineering decision. This workbook is not a substitute for engineering judgement."]
[]
[]
[]
[]
[]
["Workbook procedures are consistent with Sections 4C.01-4C.10 of the 2009 MUTCD and Section 4.3 of PennDOT Publication 46, Traffic Engineering Manual."]
[]
[]
["Assumptions"]
[]
[1,"All users are familiar with the applications of each traffic signal warrant."]
[2,"All users are familiar with Section 4C.01 of the MUTCD which details the engineering judgment decisions required to implement competent and accurate inputs within this workbook."]
[]
[3,"Imbedded calculations and graphical comparisons are provided throughout the workbook to automate analyses but the user shall verify the accuracy of these calculations/comparisons."]
[]
[4,"The workbook will only yield accurate results if the data entry is by 15-minute intervals for the vehicular volumes."]
[]
[5,"The term \"Unique Hour\" used throughout this workbook refers to any four sequential 15-minute periods that meet the appropriate warrant/condition/figure/criteria and do not overlap with another warranted hour."]
[]
[]
["Instructions"]
[]
[1,"Enable macros within this workbook. Macros must be enabled for the workbook's imbedded print buttons to function properly."]
[]
[2,"This workbook represents one day of analysis. Duplicate this workbook for each day of analysis."]
[3,"All pale yellow cells are available for the user to either input required information or to provide a decision. These input cells are provided throughout the workbook to account for the varying inputs unique to each warrant. Some of these input cells, when selected, provide additional information/drop-down lists for the user to input the correct information. Green cells are self calculating based on the user's inputs and the constraints of the applicable warrant."]
[]
[]
[]
[]
[4,"Begin by inputting the study and analysis information within the \"Inputs&Findings\" tab. Make sure to indicate which warrant(s) are applicable for analysis at the bottom of the \"Inputs&Findings\" tab."]
[]
[5,"Next, input all available traffic volume data into the \"Traffic Volume Input\" tab. THIS WORKBOOK ONLY ACCEPTS DATA ENTRY IN 15-MINUTE INTERVALS. DO NOT ENTER HOURLY DATA. For ease of input, it is preferred to export 15-minute interval volume data from a counter's software to an Excel file and then copy the data into this workbook. When pasting volume data into this workbook, use the \"Paste Special\" option and select \"Values\" or \"Text\" so as to retain the workbook's formatting. 15-minute interval volume data is desirable because warranting hours may not fall within a \"standard\" hour (i.e. 1-2PM, 2-3PM, etc.). If only partial day volumes are available, enter these volumes as such."]
[]
[]
[]
[]
[]
[]
[6,"Provide additional inputs as needed for each applicable warrant tab. Upon completion, provide all supplementary calculations and/or documentation where indicated here within the workbook or within the above indicated references."]
[]
[]
[7,"Printing can be accomplished by utilizing the blue print buttons throughout the workbook (ensure that macros are enabled). \"Print Page\" buttons print all content that is in the respective tab. \"Print w/…\" buttons print both the content in the respective tab and the indicated figure/exhibit. Once selected, the print buttons send a print command to the user's default printer."]
[]
[]
[]
[]
["Version #","Revision Date",null,"Revision Description"]
[1,"2012-08-22",null,"Original"]
[2,"2012-11-02",null,"Per Clearance Transmittal T-12-016 Comments"]

{"sheet":"Input&Findings","index":1,"n_rows":44,"n_cols":5,"rows_kept":44,"cut":false,"hidden":false,"merged":[[28,0,28,2],[11,0,11,3],[0,0,0,4],[15,1,15,4],[24,1,24,4],[20,0,20,2],[13,0,13,4],[6,0,6,4],[22,0,22,4],[19,0,19,2],[30,0,30,4],[33,0,33,1],[34,0,34,1],[35,0,35,1],[36,0,36,1],[42,0,42,1],[43,0,43,1],[37,0,37,1],[38,0,38,1],[39,0,39,1],[40,0,40,1],[41,0,41,1]]}
["STUDY AND ANALYSIS INFORMATION"]
[]
["Municipality:","Upper Allen Township",null,"Analysis Date:","2012-10-31"]
["County:","Cumberland County",null,"Conducted By:","TJT"]
["PennDOT Engineering District:",8,null,"Agency/Company Name:","PennDOT CO"]
[]
["Analysis Information"]
[]
["Data Collection Date:","2012-07-25"]
["Day of the Week:","Monday"]
[]
["Is the intersection in a built-up area of an isolated community of <10,000 population?",null,null,null,"No"]
[]
["Major Street Information"]
[]
["Major Street Name and Route Number:","Main Street (SR 2010)"]
["Major Street Approach #1 Direction:","E-Bound"]
["Major Street Approach #2 Direction:","W-Bound"]
[]
["Number of Lanes for Moving Traffic on Each Major Street Approach:",null,null,1,"LANE(S)"]
["Speed Limit or 85th Percentile Speed on the Major Street:",null,null,35,"MPH"]
[]
["Minor Street Information"]
[]
["Minor Street Name and Route Number:","Oak Street (T-511)"]
["Minor Street Approach #1 Direction:","S-Bound"]
["Minor Street Approach #2 Direction:","N-Bound"]
[]
["Number of Lanes for Moving Traffic on Each Minor Street Approach:",null,null,1,"LANE(S)"]
[]
["TRAFFIC SIGNAL WARRANT ANALYSIS FINDINGS"]
[]
[null,null,"Applicable?","Warrant Met?"]
["Warrant 1, Eight-Hour Vehicular Volume",null,"No",{"$f":"IF($C$34=\"No\",\"N/A\",IF(AND($C$34=\"Yes\",OR('Warrant 1 - MUTCD'!$G$35=\"Yes\",'Warrant 1 - MUTCD'!G39=\"Yes\",'Warrant 1 - MUTCD'!$E$47=\"Yes\")),\"Yes\",\"No\"))","v":"N/A"}]
["Warrant 2, Four-Hour Vehicular Volume",null,"No",{"$f":"IF($C$35=\"No\",\"N/A\",IF(AND($C$35=\"Yes\",'Warrant 2 - MUTCD'!$D$5>=4),\"Yes\",\"No\"))","v":"N/A"}]
["Warrant 3, Peak Hour",null,"No",{"$f":"IF($C$36=\"No\",\"N/A\",IF(AND(AND($C$36=\"Yes\",'Warrant 3 - MUTCD'!D12=\"Yes\"),OR('Warrant 3 - MUTCD'!$D$30>=1,AND('Warrant 3 - MUTCD'!$D$18=\"Yes\",'Warrant 3 - MUTCD'!$D$21=\"Yes\",'Warrant 3 - MUTCD'!$D$24=\"Yes\"))),\"Yes\",\"No\"))","v":"N/A"}]
["Warrant 4, Pedestrian Volume",null,"No",{"$f":"IF($C$37=\"No\",\"N/A\",IF('Warrant 4 - MUTCD'!$D$6=\"Yes\",\"Unknown\",IF(AND($C$37=\"Yes\",AND(OR('Warrant 4 - MUTCD'!$D$10=\"Yes\",'Warrant 4 - MUTCD'!$D$10=\"No\"),'Warrant 4 - MUTCD'!$D$14=\"No\"),OR('Warrant 4 - MUTCD'!$D$17>=4,'Warrant 4 - MUTCD'!$D$19>=1)),\"Yes\",\"No\")))","v":"N/A"}]
["Warrant 5, School Crossing",null,"No",{"$f":"IF($C$38=\"No\",\"N/A\",IF(AND($C$38=\"Yes\",'Warrant 5 & 6 - MUTCD'!$J$3=\"Yes\",'Warrant 5 & 6 - MUTCD'!$J$6=\"Yes\",'Warrant 5 & 6 - MUTCD'!$J$13=\"Yes\",AND(OR('Warrant 5 & 6 - MUTCD'!$J$8=\"Yes\",'Warrant 5 & 6 - MUTCD'!$J$8=\"No\"),'Warrant 5 & 6 - MUTCD'!$J$11=\"No\"),OR('Warrant 5 & 6 - MUTCD'!$E$30=\"Met\",'Warrant 5 & 6 - MUTCD'!$G$30=\"Met\",'Warrant 5 & 6 - MUTCD'!$I$30=\"Met\",'Warrant 5 & 6 - MUTCD'!$K$30=\"Met\")),\"Yes\",\"No\"))","v":"N/A"}]
["Warrant 6, Coordinated Signal System",null,"No",{"$f":"IF($C$39=\"No\",\"N/A\",IF(AND($C$39=\"Yes\",OR('Warrant 5 & 6 - MUTCD'!$I$39=\"Yes\",'Warrant 5 & 6 - MUTCD'!$I$42=\"Yes\")),\"Yes\",\"No\"))","v":"N/A"}]
["Warrant 7, Crash Experience",null,"No",{"$f":"IF($C$40=\"No\",\"N/A\",IF(AND($C$40=\"Yes\",'Warrant 7 & 8 - MUTCD'!$H$11=\"Yes\",'Warrant 7 & 8 - MUTCD'!$H$14=\"Yes\",OR('Warrant 7 & 8 - MUTCD'!$H$18=\"Yes\",'Warrant 7 & 8 - MUTCD'!$H$21=\"Yes\",'Warrant 7 & 8 - MUTCD'!$H$24=\"Yes\")),\"Yes\",\"No\"))","v":"N/A"}]
["Warrant 8, Roadway Network",null,"No",{"$f":"IF($C$41=\"No\",\"N/A\",IF(AND($C$41=\"Yes\",'Warrant 7 & 8 - MUTCD'!$I$30=\"Yes\",OR('Warrant 7 & 8 - MUTCD'!$I$34=\"Yes\",'Warrant 7 & 8 - MUTCD'!$I$37=\"Yes\"),OR('Warrant 7 & 8 - MUTCD'!$I$39=\"Yes\",'Warrant 7 & 8 - MUTCD'!$I$41=\"Yes\",'Warrant 7 & 8 - MUTCD'!$I$44=\"Yes\")),\"Yes\",\"No\"))","v":"N/A"}]
["Warrant 9, Intersection Near a Grade Crossing",null,"No",{"$f":"IF($C$42=\"No\",\"N/A\",IF(AND($C$42=\"Yes\",'Warrant 9 - MUTCD'!$H$4=\"Yes\",'Warrant 9 - MUTCD'!$H$9=\"Yes\"),\"Yes\",\"No\"))","v":"N/A"}]
["Warrant PA-1, ADT Volume Warrant",null,"No",{"$f":"IF($C$43=\"No\",\"N/A\",IF(AND($C$43=\"Yes\",OR('Warrant PA-1'!$C$37=\"Yes\",'Warrant PA-1'!$C$38=\"Yes\")),\"Yes\",\"No\"))","v":"N/A"}]
["Warrant PA-2, Midblock and Trail Crossings",null,"No",{"$f":"IF($C$44=\"No\",\"N/A\",IF(AND($C$44=\"Yes\",AND('Warrant PA-2'!$H$3=\"Yes\",'Warrant PA-2'!$H$5=\"Yes\",'Warrant PA-2'!$H$30=\"Yes\")),\"Yes\",\"No\"))","v":"N/A"}]

{"sheet":"Traffic Volume Input","index":2,"n_rows":102,"n_cols":208,"rows_kept":102,"cut":false,"hidden":false,"merged":[[0,0,0,6],[101,16,101,20],[101,64,101,68],[101,0,101,1],[0,9,1,15],[2,0,3,1],[2,4,3,4],[2,9,3,10],[2,13,3,13],[2,160,4,207],[0,112,1,207],[0,16,1,111],[101,160,101,164],[2,112,4,159],[101,112,101,116],[2,16,4,63],[2,64,4,111]]}
["ENTER VOLUME DATA PER 15 MINUTE INTERVAL, PER APPROACH",null,null,null,null,null,null,null,"↓","CALCULATED VOLUME DATA PER 1-HOUR INTERVAL, PER APPROACH",null,null,null,null,null,null,"Warrant 1 - 8-Hour Vehicular Volume",null,null,null,null,null,null,null,null,null,null,null,null,null,null,null,null,null,null,null,null,null,null,null,null,null,null,null,null,null,null,null,null,null,null,null,null,null,null,null,null,null,null,null,null,null,null,null,null,null,null,null,null,null,null,null,null,null,null,null,null,null,null,null,null,null,null,null,null,null,null,null,null,null,null,null,null,null,null,null,null,null,null,null,null,null,null,null,null,null,null,null,null,null,null,null,"Warrant 7 - Crash Experience"]
[]
["Time Interval",null,"Major Street Approach #1","Major Street Approach #2","Major Street Combined","Minor Street Approach #1","Minor Street Approach #2",null,null,"Time Interval",null,"Major Street Approach #1","Major Street Approach #2","Major Street Combined","Minor Street Approach #1","Minor Street Approach #2","Condition A Volume Validation",null,null,null,null,null,null,null,null,null,null,null,null,null,null,null,null,null,null,null,null,null,null,null,null,null,null,null,null,null,null,null,null,null,null,null,null,null,null,null,null,null,null,null,null,null,null,null,"Condition B Volume Validation",null,null,null,null,null,null,null,null,null,null,null,null,null,null,null,null,null,null,null,null,null,null,null,null,null,null,null,null,null,null,null,null,null,null,null,null,null,null,null,null,null,null,null,null,null,null,null,"Condition A Volume Validation",null,null,null,null,null,null,null,null,null,null,null,null,null,null,null,null,null,null,null,null,null,null,null,null,null,null,null,null,null,null,null,null,null,null,null,null,null,null,null,null,null,null,null,null,null,null,null,"Condition B Volume Validation"]
[null,null,{"$f":"\"(\" & 'Input&Findings'!$B$17 & \")\"","v":"(E-Bound)"},{"$f":"\"(\" & 'Input&Findings'!$B$18 & \")\"","v":"(W-Bound)"},null,{"$f":"\"(\" & 'Input&Findings'!$B$26 & \")\"","v":"(S-Bound)"},{"$f":"\"(\" & 'Input&Findings'!$B$27 & \")\"","v":"(N-Bound)"},null,null,null,null,{"$f":"C4","v":"(E-Bound)"},{"$f":"D4","v":"(W-Bound)"},null,{"$f":"F4","v":"(S-Bound)"},{"$f":"G4","v":"(N-Bound)"}]
["Begin At","End Of","Volume","Volume","Total Volume","Volume","Volume",null,null,"Being At","End Of","Volume","Volume","Total Volume","Volume","Volume"]
["00:00:00","00:14:00",null,null,{"$f":"C6+D6","v":0},null,null,null,null,"00:00:00","00:59:00",{"$f":"SUM(C6:C9)","v":0},{"$f":"SUM(D6:D9)","v":0},{"$f":"L6+M6","v":0},{"$f":"SUM(F6:F9)","v":0},{"$f":"SUM(G6:G9)","v":0},{"$f":"IF(AND(N6>='Warrant 1 - MUTCD'!$M$23,OR('Traffic Volume Input'!O6>='Warrant 1 - MUTCD'!$Q$23,'Traffic Volume Input'!P6>='Warrant 1 - MUTCD'!$Q$23)),\"Yes\",\"\")","v":""},{"$f":"IF(Q6=\"Yes\",\"Yes\",\"\")","v":""},{"$f":"IF(AND(R6=\"Yes\",Q6=\"Yes\"),\"\",\"\")","v":""},{"$f":"IF(S6=\"Yes\",\"Yes\",\"\")","v":""},{"$f":"IF(AND(T6=\"Yes\",S6=\"Yes\"),\"\",\"\")","v":""},{"$f":"IF(U6=\"Yes\",\"Yes\",\"\")","v":""},{"$f":"IF(AND(V6=\"Yes\",U6=\"Yes\"),\"\",\"\")","v":""},{"$f":"IF(W6=\"Yes\",\"Yes\",\"\")","v":""},{"$f":"IF(AND(X6=\"Yes\",W6=\"Yes\"),\"\",\"\")","v":""},{"$f":"IF(Y6=\"Yes\",\"Yes\",\"\")","v":""},{"$f":"IF(AND(Z6=\"Yes\",Y6=\"Yes\"),\"\",\"\")","v":""},{"$f":"IF(AA6=\"Yes\",\"Yes\",\"\")","v":""},{"$f":"IF(AND(AB6=\"Yes\",AA6=\"Yes\"),\"\",\"\")","v":""},{"$f":"IF(AC6=\"Yes\",\"Yes\",\"\")","v":""},{"$f":"IF(AND(AD6=\"Yes\",AC6=\"Yes\"),\"\",\"\")","v":""},{"$f":"IF(AE6=\"Yes\",\"Yes\",\"\")","v":""},{"$f":"IF(AND(AF6=\"Yes\",AE6=\"Yes\"),\"\",\"\")","v":""},{"$f":"IF(AG6=\"Yes\",\"Yes\",\"\")","v":""},{"$f":"IF(AND(AH6=\"Yes\",AG6=\"Yes\"),\"\",\"\")","v":""},{"$f":"IF(AI6=\"Yes\",\"Yes\",\"\")","v":""},{"$f":"IF(AND(AJ6=\"Yes\",AI6=\"Yes\"),\"\",\"\")","v":""},{"$f":"IF(AK6=\"Yes\",\"Yes\",\"\")","v":""},{"$f":"IF(AND(AL6=\"Yes\",AK6=\"Yes\"),\"\",\"\")","v":""},{"$f":"IF(AM6=\"Yes\",\"Yes\",\"\")","v":""},{"$f":"IF(AND(AN6=\"Yes\",AM6=\"Yes\"),\"\",\"\")","v":""},{"$f":"IF(AO6=\"Yes\",\"Yes\",\"\")","v":""},{"$f":"IF(AND(AP6=\"Yes\",AO6=\"Yes\"),\"\",\"\")","v":""},{"$f":"IF(AQ6=\"Yes\",\"Yes\",\"\")","v":""},{"$f":"IF(AND(AR6=\"Yes\",AQ6=\"Yes\"),\"\",\"\")","v":""},{"$f":"IF(AS6=\"Yes\",\"Yes\",\"\")","v":""},{"$f":"IF(AND(AT6=\"Yes\",AS6=\"Yes\"),\"\",\"\")","v":""},{"$f":"IF(AU6=\"Yes\",\"Yes\",\"\")","v":""},{"$f":"IF(AND(AV6=\"Yes\",AU6=\"Yes\"),\"\",\"\")","v":""},{"$f":"IF(AW6=\"Yes\",\"Yes\",\"\")","v":""},{"$f":"IF(AND(AX6=\"Yes\",AW6=\"Yes\"),\"\",\"\")","v":""},{"$f":"IF(AY6=\"Yes\",\"Yes\",\"\")","v":""},{"$f":"IF(AND(AZ6=\"Yes\",AY6=\"Yes\"),\"\",\"\")","v":""},{"$f":"IF(BA6=\"Yes\",\"Yes\",\"\")","v":""},{"$f":"IF(AND(BB6=\"Yes\",BA6=\"Yes\"),\"\",\"\")","v":""},{"$f":"IF(BC6=\"Yes\",\"Yes\",\"\")","v":""},{"$f":"IF(AND(BD6=\"Yes\",BC6=\"Yes\"),\"\",\"\")","v":""},{"$f":"IF(BE6=\"Yes\",\"Yes\",\"\")","v":""},{"$f":"IF(AND(BF6=\"Yes\",BE6=\"Yes\"),\"\",\"\")","v":""},{"$f":"IF(BG6=\"Yes\",\"Yes\",\"\")","v":""},{"$f":"IF(AND(BH6=\"Yes\",BG6=\"Yes\"),\"\",\"\")","v":""},{"$f":"IF(BI6=\"Yes\",\"Yes\",\"\")","v":""},{"$f":"IF(AND(BJ6=\"Yes\",BI6=\"Yes\"),\"\",\"\")","v":""},"",{"$f":"IF(AND(N6>='Warrant 1 - MUTCD'!$M$32,OR('Traffic Volume Input'!O6>='Warrant 1 - MUTCD'!$Q$32,'Traffic Volume Input'!P6>='Warrant 1 - MUTCD'!$Q$32)),\"Yes\",\"\")","v":""},{"$f":"IF(BM6=\"Yes\",\"Yes\",\"\")","v":""},{"$f":"IF(AND(BN6=\"Yes\",BM6=\"Yes\"),\"\",\"\")","v":""},{"$f":"IF(BO6=\"Yes\",\"Yes\",\"\")","v":""},{"$f":"IF(AND(BP6=\"Yes\",BO6=\"Yes\"),\"\",\"\")","v":""},{"$f":"IF(BQ6=\"Yes\",\"Yes\",\"\")","v":""},{"$f":"IF(AND(BR6=\"Yes\",BQ6=\"Yes\"),\"\",\"\")","v":""},{"$f":"IF(BS6=\"Yes\",\"Yes\",\"\")","v":""},{"$f":"IF(AND(BT6=\"Yes\",BS6=\"Yes\"),\"\",\"\")","v":""},{"$f":"IF(BU6=\"Yes\",\"Yes\",\"\")","v":""},{"$f":"IF(AND(BV6=\"Yes\",BU6=\"Yes\"),\"\",\"\")","v":""},{"$f":"IF(BW6=\"Yes\",\"Yes\",\"\")","v":""},{"$f":"IF(AND(BX6=\"Yes\",BW6=\"Yes\"),\"\",\"\")","v":""},{"$f":"IF(BY6=\"Yes\",\"Yes\",\"\")","v":""},{"$f":"IF(AND(BZ6=\"Yes\",BY6=\"Yes\"),\"\",\"\")","v":""},{"$f":"IF(CA6=\"Yes\",\"Yes\",\"\")","v":""},{"$f":"IF(AND(CB6=\"Yes\",CA6=\"Yes\"),\"\",\"\")","v":""},{"$f":"IF(CC6=\"Yes\",\"Yes\",\"\")","v":""},{"$f":"IF(AND(CD6=\"Yes\",CC6=\"Yes\"),\"\",\"\")","v":""},{"$f":"IF(CE6=\"Yes\",\"Yes\",\"\")","v":""},{"$f":"IF(AND(CF6=\"Yes\",CE6=\"Yes\"),\"\",\"\")","v":""},{"$f":"IF(CG6=\"Yes\",\"Yes\",\"\")","v":""},{"$f":"IF(AND(CH6=\"Yes\",CG6=\"Yes\"),\"\",\"\")","v":""},{"$f":"IF(CI6=\"Yes\",\"Yes\",\"\")","v":""},{"$f":"IF(AND(CJ6=\"Yes\",CI6=\"Yes\"),\"\",\"\")","v":""},{"$f":"IF(CK6=\"Yes\",\"Yes\",\"\")","v":""},{"$f":"IF(AND(CL6=\"Yes\",CK6=\"Yes\"),\"\",\"\")","v":""},{"$f":"IF(CM6=\"Yes\",\"Yes\",\"\")","v":""},{"$f":"IF(AND(CN6=\"Yes\",CM6=\"Yes\"),\"\",\"\")","v":""},{"$f":"IF(CO6=\"Yes\",\"Yes\",\"\")","v":""},{"$f":"IF(AND(CP6=\"Yes\",CO6=\"Yes\"),\"\",\"\")","v":""},{"$f":"IF(CQ6=\"Yes\",\"Yes\",\"\")","v":""},{"$f":"IF(AND(CR6=\"Yes\",CQ6=\"Yes\"),\"\",\"\")","v":""},{"$f":"IF(CS6=\"Yes\",\"Yes\",\"\")","v":""},{"$f":"IF(AND(CT6=\"Yes\",CS6=\"Yes\"),\"\",\"\")","v":""},{"$f":"IF(CU6=\"Yes\",\"Yes\",\"\")","v":""},{"$f":"IF(AND(CV6=\"Yes\",CU6=\"Yes\"),\"\",\"\")","v":""},{"$f":"IF(CW6=\"Yes\",\"Yes\",\"\")","v":""},{"$f":"IF(AND(CX6=\"Yes\",CW6=\"Yes\"),\"\",\"\")","v":""},{"$f":"IF(CY6=\"Yes\",\"Yes\",\"\")","v":""},{"$f":"IF(AND(CZ6=\"Yes\",CY6=\"Yes\"),\"\",\"\")","v":""},{"$f":"IF(DA6=\"Yes\",\"Yes\",\"\")","v":""},{"$f":"IF(AND(DB6=\"Yes\",DA6=\"Yes\"),\"\",\"\")","v":""},{"$f":"IF(DC6=\"Yes\",\"Yes\",\"\")","v":""},{"$f":"IF(AND(DD6=\"Yes\",DC6=\"Yes\"),\"\",\"\")","v":""},{"$f":"IF(DE6=\"Yes\",\"Yes\",\"\")","v":""},{"$f":"IF(AND(DF6=\"Yes\",DE6=\"Yes\"),\"\",\"\")","v":""},{"$f":"IF(DG6=\"Yes\",\"Yes\",\"\")","v":""},{"$f":"IF(AND(N6>='Warrant 7 & 8 - MUTCD'!$L$16,OR('Traffic Volume Input'!O6>='Warrant 7 & 8 - MUTCD'!$N$16,'Traffic Volume Input'!P6>='Warrant 7 & 8 - MUTCD'!$N$16)),\"Yes\",\"\")","v":""},{"$f":"IF(DI6=\"Yes\",\"Yes\",\"\")","v":""},{"$f":"IF(AND(DJ6=\"Yes\",DI6=\"Yes\"),\"\",\"\")","v":""},{"$f":"IF(DK6=\"Yes\",\"Yes\",\"\")","v":""},{"$f":"IF(AND(DL6=\"Yes\",DK6=\"Yes\"),\"\",\"\")","v":""},{"$f":"IF(DM6=\"Yes\",\"Yes\",\"\")","v":""},{"$f":"IF(AND(DN6=\"Yes\",DM6=\"Yes\"),\"\",\"\")","v":""},{"$f":"IF(DO6=\"Yes\",\"Yes\",\"\")","v":""},{"$f":"IF(AND(DP6=\"Yes\",DO6=\"Yes\"),\"\",\"\")","v":""},{"$f":"IF(DQ6=\"Yes\",\"Yes\",\"\")","v":""},{"$f":"IF(AND(DR6=\"Yes\",DQ6=\"Yes\"),\"\",\"\")","v":""},{"$f":"IF(DS6=\"Yes\",\"Yes\",\"\")","v":""},{"$f":"IF(AND(DT6=\"Yes\",DS6=\"Yes\"),\"\",\"\")","v":""},{"$f":"IF(DU6=\"Yes\",\"Yes\",\"\")","v":""},{"$f":"IF(AND(DV6=\"Yes\",DU6=\"Yes\"),\"\",\"\")","v":""},{"$f":"IF(DW6=\"Yes\",\"Yes\",\"\")","v":""},{"$f":"IF(AND(DX6=\"Yes\",DW6=\"Yes\"),\"\",\"\")","v":""},{"$f":"IF(DY6=\"Yes\",\"Yes\",\"\")","v":""},{"$f":"IF(AND(DZ6=\"Yes\",DY6=\"Yes\"),\"\",\"\")","v":""},{"$f":"IF(EA6=\"Yes\",\"Yes\",\"\")","v":""},{"$f":"IF(AND(EB6=\"Yes\",EA6=\"Yes\"),\"\",\"\")","v":""},{"$f":"IF(EC6=\"Yes\",\"Yes\",\"\")","v":""},{"$f":"IF(AND(ED6=\"Yes\",EC6=\"Yes\"),\"\",\"\")","v":""},{"$f":"IF(EE6=\"Yes\",\"Yes\",\"\")","v":""},{"$f":"IF(AND(EF6=\"Yes\",EE6=\"Yes\"),\"\",\"\")","v":""},{"$f":"IF(EG6=\"Yes\",\"Yes\",\"\")","v":""},{"$f":"IF(AND(EH6=\"Yes\",EG6=\"Yes\"),\"\",\"\")","v":""},{"$f":"IF(EI6=\"Yes\",\"Yes\",\"\")","v":""},{"$f":"IF(AND(EJ6=\"Yes\",EI6=\"Yes\"),\"\",\"\")","v":""},{"$f":"IF(EK6=\"Yes\",\"Yes\",\"\")","v":""},{"$f":"IF(AND(EL6=\"Yes\",EK6=\"Yes\"),\"\",\"\")","v":""},{"$f":"IF(EM6=\"Yes\",\"Yes\",\"\")","v":""},{"$f":"IF(AND(EN6=\"Yes\",EM6=\"Yes\"),\"\",\"\")","v":""},{"$f":"IF(EO6=\"Yes\",\"Yes\",\"\")","v":""},{"$f":"IF(AND(EP6=\"Yes\",EO6=\"Yes\"),\"\",\"\")","v":""},{"$f":"IF(EQ6=\"Yes\",\"Yes\",\"\")","v":""},{"$f":"IF(AND(ER6=\"Yes\",EQ6=\"Yes\"),\"\",\"\")","v":""},{"$f":"IF(ES6=\"Yes\",\"Yes\",\"\")","v":""},{"$f":"IF(AND(ET6=\"Yes\",ES6=\"Yes\"),\"\",\"\")","v":""},{"$f":"IF(EU6=\"Yes\",\"Yes\",\"\")","v":""},{"$f":"IF(AND(EV6=\"Yes\",EU6=\"Yes\"),\"\",\"\")","v":""},{"$f":"IF(EW6=\"Yes\",\"Yes\",\"\")","v":""},{"$f":"IF(AND(EX6=\"Yes\",EW6=\"Yes\"),\"\",\"\")","v":""},{"$f":"IF(EY6=\"Yes\",\"Yes\",\"\")","v":""},{"$f":"IF(AND(EZ6=\"Yes\",EY6=\"Yes\"),\"\",\"\")","v":""},{"$f":"IF(FA6=\"Yes\",\"Yes\",\"\")","v":""},{"$f":"IF(AND(FB6=\"Yes\",FA6=\"Yes\"),\"\",\"\")","v":""},{"$f":"IF(FC6=\"Yes\",\"Yes\",\"\")","v":""},{"$f":"IF(AND(N6>='Warrant 7 & 8 - MUTCD'!$L$25,OR('Traffic Volume Input'!O6>='Warrant 7 & 8 - MUTCD'!$N$25,'Traffic Volume Input'!P6>='Warrant 7 & 8 - MUTCD'!$N$25)),\"Yes\",\"\")","v":""},{"$f":"IF(FE6=\"Yes\",\"Yes\",\"\")","v":""},{"$f":"IF(AND(FF6=\"Yes\",FE6=\"Yes\"),\"\",\"\")","v":""},{"$f":"IF(FG6=\"Yes\",\"Yes\",\"\")","v":""},{"$f":"IF(AND(FH6=\"Yes\",FG6=\"Yes\"),\"\",\"\")","v":""},{"$f":"IF(FI6=\"Yes\",\"Yes\",\"\")","v":""},{"$f":"IF(AND(FJ6=\"Yes\",FI6=\"Yes\"),\"\",\"\")","v":""},{"$f":"IF(FK6=\"Yes\",\"Yes\",\"\")","v":""},{"$f":"IF(AND(FL6=\"Yes\",FK6=\"Yes\"),\"\",\"\")","v":""},{"$f":"IF(FM6=\"Yes\",\"Yes\",\"\")","v":""},{"$f":"IF(AND(FN6=\"Yes\",FM6=\"Yes\"),\"\",\"\")","v":""},{"$f":"IF(FO6=\"Yes\",\"Yes\",\"\")","v":""},{"$f":"IF(AND(FP6=\"Yes\",FO6=\"Yes\"),\"\",\"\")","v":""},{"$f":"IF(FQ6=\"Yes\",\"Yes\",\"\")","v":""},{"$f":"IF(AND(FR6=\"Yes\",FQ6=\"Yes\"),\"\",\"\")","v":""},{"$f":"IF(FS6=\"Yes\",\"Yes\",\"\")","v":""},{"$f":"IF(AND(FT6=\"Yes\",FS6=\"Yes\"),\"\",\"\")","v":""},{"$f":"IF(FU6=\"Yes\",\"Yes\",\"\")","v":""},{"$f":"IF(AND(FV6=\"Yes\",FU6=\"Yes\"),\"\",\"\")","v":""},{"$f":"IF(FW6=\"Yes\",\"Yes\",\"\")","v":""},{"$f":"IF(AND(FX6=\"Yes\",FW6=\"Yes\"),\"\",\"\")","v":""},{"$f":"IF(FY6=\"Yes\",\"Yes\",\"\")","v":""},{"$f":"IF(AND(FZ6=\"Yes\",FY6=\"Yes\"),\"\",\"\")","v":""},{"$f":"IF(GA6=\"Yes\",\"Yes\",\"\")","v":""},{"$f":"IF(AND(GB6=\"Yes\",GA6=\"Yes\"),\"\",\"\")","v":""},{"$f":"IF(GC6=\"Yes\",\"Yes\",\"\")","v":""},{"$f":"IF(AND(GD6=\"Yes\",GC6=\"Yes\"),\"\",\"\")","v":""},{"$f":"IF(GE6=\"Yes\",\"Yes\",\"\")","v":""},{"$f":"IF(AND(GF6=\"Yes\",GE6=\"Yes\"),\"\",\"\")","v":""},{"$f":"IF(GG6=\"Yes\",\"Yes\",\"\")","v":""},{"$f":"IF(AND(GH6=\"Yes\",GG6=\"Yes\"),\"\",\"\")","v":""},{"$f":"IF(GI6=\"Yes\",\"Yes\",\"\")","v":""},{"$f":"IF(AND(GJ6=\"Yes\",GI6=\"Yes\"),\"\",\"\")","v":""},{"$f":"IF(GK6=\"Yes\",\"Yes\",\"\")","v":""},{"$f":"IF(AND(GL6=\"Yes\",GK6=\"Yes\"),\"\",\"\")","v":""},{"$f":"IF(GM6=\"Yes\",\"Yes\",\"\")","v":""},{"$f":"IF(AND(GN6=\"Yes\",GM6=\"Yes\"),\"\",\"\")","v":""},{"$f":"IF(GO6=\"Yes\",\"Yes\",\"\")","v":""},{"$f":"IF(AND(GP6=\"Yes\",GO6=\"Yes\"),\"\",\"\")","v":""},{"$f":"IF(GQ6=\"Yes\",\"Yes\",\"\")","v":""},{"$f":"IF(AND(GR6=\"Yes\",GQ6=\"Yes\"),\"\",\"\")","v":""},{"$f":"IF(GS6=\"Yes\",\"Yes\",\"\")","v":""},{"$f":"IF(AND(GT6=\"Yes\",GS6=\"Yes\"),\"\",\"\")","v":""},{"$f":"IF(GU6=\"Yes\",\"Yes\",\"\")","v":""},{"$f":"IF(AND(GV6=\"Yes\",GU6=\"Yes\"),\"\",\"\")","v":""},{"$f":"IF(GW6=\"Yes\",\"Yes\",\"\")","v":""},{"$f":"IF(AND(GX6=\"Yes\",GW6=\"Yes\"),\"\",\"\")","v":""},{"$f":"IF(GY6=\"Yes\",\"Yes\",\"\")","v":""}]
["00:15:00","00:29:00",null,null,{"$f":"C7+D7","v":0},null,null,null,null,"00:15:00","01:14:00",{"$f":"SUM(C7:C10)","v":0},{"$f":"SUM(D7:D10)","v":0},{"$f":"L7+M7","v":0},{"$f":"SUM(F7:F10)","v":0},{"$f":"SUM(G7:G10)","v":0},{"$f":"IF(AND(N7>='Warrant 1 - MUTCD'!$M$23,OR('Traffic Volume Input'!O7>='Warrant 1 - MUTCD'!$Q$23,'Traffic Volume Input'!P7>='Warrant 1 - MUTCD'!$Q$23)),\"Yes\",\"\")","v":""},{"$f":"IF(AND(Q7=\"Yes\",Q6=\"\"),\"Yes\",\"\")","v":""},{"$f":"IF(OR(R7=\"Yes\",R6=\"Yes\"),\"\",IF(Q7=\"Yes\",\"Yes\",\"\"))","v":""},{"$f":"IF(AND(S7=\"Yes\",S6=\"\"),\"Yes\",\"\")","v":""},{"$f":"IF(OR(T7=\"Yes\",T6=\"Yes\"),\"\",IF(S7=\"Yes\",\"Yes\",\"\"))","v":""},{"$f":"IF(AND(U7=\"Yes\",U6=\"\"),\"Yes\",\"\")","v":""},{"$f":"IF(OR(V7=\"Yes\",V6=\"Yes\"),\"\",IF(U7=\"Yes\",\"Yes\",\"\"))","v":""},{"$f":"IF(AND(W7=\"Yes\",W6=\"\"),\"Yes\",\"\")","v":""},{"$f":"IF(OR(X7=\"Yes\",X6=\"Yes\"),\"\",IF(W7=\"Yes\",\"Yes\",\"\"))","v":""},{"$f":"IF(AND(Y7=\"Yes\",Y6=\"\"),\"Yes\",\"\")","v":""},{"$f":"IF(OR(Z7=\"Yes\",Z6=\"Yes\"),\"\",IF(Y7=\"Yes\",\"Yes\",\"\"))","v":""},{"$f":"IF(AND(AA7=\"Yes\",AA6=\"\"),\"Yes\",\"\")","v":""},{"$f":"IF(OR(AB7=\"Yes\",AB6=\"Yes\"),\"\",IF(AA7=\"Yes\",\"Yes\",\"\"))","v":""},{"$f":"IF(AND(AC7=\"Yes\",AC6=\"\"),\"Yes\",\"\")","v":""},{"$f":"IF(OR(AD7=\"Yes\",AD6=\"Yes\"),\"\",IF(AC7=\"Yes\",\"Yes\",\"\"))","v":""},{"$f":"IF(AND(AE7=\"Yes\",AE6=\"\"),\"Yes\",\"\")","v":""},{"$f":"IF(OR(AF7=\"Yes\",AF6=\"Yes\"),\"\",IF(AE7=\"Yes\",\"Yes\",\"\"))","v":""},{"$f":"IF(AND(AG7=\"Yes\",AG6=\"\"),\"Yes\",\"\")","v":""},{"$f":"IF(OR(AH7=\"Yes\",AH6=\"Yes\"),\"\",IF(AG7=\"Yes\",\"Yes\",\"\"))","v":""},{"$f":"IF(AND(AI7=\"Yes\",AI6=\"\"),\"Yes\",\"\")","v":""},{"$f":"IF(OR(AJ7=\"Yes\",AJ6=\"Yes\"),\"\",IF(AI7=\"Yes\",\"Yes\",\"\"))","v":""},{"$f":"IF(AND(AK7=\"Yes\",AK6=\"\"),\"Yes\",\"\")","v":""},{"$f":"IF(OR(AL7=\"Yes\",AL6=\"Yes\"),\"\",IF(AK7=\"Yes\",\"Yes\",\"\"))","v":""},{"$f":"IF(AND(AM7=\"Yes\",AM6=\"\"),\"Yes\",\"\")","v":""},{"$f":"IF(OR(AN7=\"Yes\",AN6=\"Yes\"),\"\",IF(AM7=\"Yes\",\"Yes\",\"\"))","v":""},{"$f":"IF(AND(AO7=\"Yes\",AO6=\"\"),\"Yes\",\"\")","v":""},{"$f":"IF(OR(AP7=\"Yes\",AP6=\"Yes\"),\"\",IF(AO7=\"Yes\",\"Yes\",\"\"))","v":""},{"$f":"IF(AND(AQ7=\"Yes\",AQ6=\"\"),\"Yes\",\"\")","v":""},{"$f":"IF(OR(AR7=\"Yes\",AR6=\"Yes\"),\"\",IF(AQ7=\"Yes\",\"Yes\",\"\"))","v":""},{"$f":"IF(AND(AS7=\"Yes\",AS6=\"\"),\"Yes\",\"\")","v":""},{"$f":"IF(OR(AT7=\"Yes\",AT6=\"Yes\"),\"\",IF(AS7=\"Yes\",\"Yes\",\"\"))","v":""},{"$f":"IF(AND(AU7=\"Yes\",AU6=\"\"),\"Yes\",\"\")","v":""},{"$f":"IF(OR(AV7=\"Yes\",AV6=\"Yes\"),\"\",IF(AU7=\"Yes\",\"Yes\",\"\"))","v":""},{"$f":"IF(AND(AW7=\"Yes\",AW6=\"\"),\"Yes\",\"\")","v":""},{"$f":"IF(OR(AX7=\"Yes\",AX6=\"Yes\"),\"\",IF(AW7=\"Yes\",\"Yes\",\"\"))","v":""},{"$f":"IF(AND(AY7=\"Yes\",AY6=\"\"),\"Yes\",\"\")","v":""},{"$f":"IF(OR(AZ7=\"Yes\",AZ6=\"Yes\"),\"\",IF(AY7=\"Yes\",\"Yes\",\"\"))","v":""},{"$f":"IF(AND(BA7=\"Yes\",BA6=\"\"),\"Yes\",\"\")","v":""},{"$f":"IF(OR(BB7=\"Yes\",BB6=\"Yes\"),\"\",IF(BA7=\"Yes\",\"Yes\",\"\"))","v":""},{"$f":"IF(AND(BC7=\"Yes\",BC6=\"\"),\"Yes\",\"\")","v":""},{"$f":"IF(OR(BD7=\"Yes\",BD6=\"Yes\"),\"\",IF(BC7=\"Yes\",\"Yes\",\"\"))","v":""},{"$f":"IF(AND(BE7=\"Yes\",BE6=\"\"),\"Yes\",\"\")","v":""},{"$f":"IF(OR(BF7=\"Yes\",BF6=\"Yes\"),\"\",IF(BE7=\"Yes\",\"Yes\",\"\"))","v":""},{"$f":"IF(AND(BG7=\"Yes\",BG6=\"\"),\"Yes\",\"\")","v":""},{"$f":"IF(OR(BH7=\"Yes\",BH6=\"Yes\"),\"\",IF(BG7=\"Yes\",\"Yes\",\"\"))","v":""},{"$f":"IF(AND(BI7=\"Yes\",BI6=\"\"),\"Yes\",\"\")","v":""},{"$f":"IF(OR(BJ7=\"Yes\",BJ6=\"Yes\"),\"\",IF(BI7=\"Yes\",\"Yes\",\"\"))","v":""},"",{"$f":"IF(AND(N7>='Warrant 1 - MUTCD'!$M$32,OR('Traffic Volume Input'!O7>='Warrant 1 - MUTCD'!$Q$32,'Traffic Volume Input'!P7>='Warrant 1 - MUTCD'!$Q$32)),\"Yes\",\"\")","v":""},{"$f":"IF(AND(BM7=\"Yes\",BM6=\"\"),\"Yes\",\"\")","v":""},{"$f":"IF(OR(BN7=\"Yes\",BN6=\"Yes\"),\"\",IF(BM7=\"Yes\",\"Yes\",\"\"))","v":""},{"$f":"IF(AND(BO7=\"Yes\",BO6=\"\"),\"Yes\",\"\")","v":""},{"$f":"IF(OR(BP7=\"Yes\",BP6=\"Yes\"),\"\",IF(BO7=\"Yes\",\"Yes\",\"\"))","v":""},{"$f":"IF(AND(BQ7=\"Yes\",BQ6=\"\"),\"Yes\",\"\")","v":""},{"$f":"IF(OR(BR7=\"Yes\",BR6=\"Yes\"),\"\",IF(BQ7=\"Yes\",\"Yes\",\"\"))","v":""},{"$f":"IF(AND(BS7=\"Yes\",BS6=\"\"),\"Yes\",\"\")","v":""},{"$f":"IF(OR(BT7=\"Yes\",BT6=\"Yes\"),\"\",IF(BS7=\"Yes\",\"Yes\",\"\"))","v":""},{"$f":"IF(AND(BU7=\"Yes\",BU6=\"\"),\"Yes\",\"\")","v":""},{"$f":"IF(OR(BV7=\"Yes\",BV6=\"Yes\"),\"\",IF(BU7=\"Yes\",\"Yes\",\"\"))","v":""},{"$f":"IF(AND(BW7=\"Yes\",BW6=\"\"),\"Yes\",\"\")","v":""},{"$f":"IF(OR(BX7=\"Yes\",BX6=\"Yes\"),\"\",IF(BW7=\"Yes\",\"Yes\",\"\"))","v":""},{"$f":"IF(AND(BY7=\"Yes\",BY6=\"\"),\"Yes\",\"\")","v":""},{"$f":"IF(OR(BZ7=\"Yes\",BZ6=\"Yes\"),\"\",IF(BY7=\"Yes\",\"Yes\",\"\"))","v":""},{"$f":"IF(AND(CA7=\"Yes\",CA6=\"\"),\"Yes\",\"\")","v":""},{"$f":"IF(OR(CB7=\"Yes\",CB6=\"Yes\"),\"\",IF(CA7=\"Yes\",\"Yes\",\"\"))","v":""},{"$f":"IF(AND(CC7=\"Yes\",CC6=\"\"),\"Yes\",\"\")","v":""},{"$f":"IF(OR(CD7=\"Yes\",CD6=\"Yes\"),\"\",IF(CC7=\"Yes\",\"Yes\",\"\"))","v":""},{"$f":"IF(AND(CE7=\"Yes\",CE6=\"\"),\"Yes\",\"\")","v":""},{"$f":"IF(OR(CF7=\"Yes\",CF6=\"Yes\"),\"\",IF(CE7=\"Yes\",\"Yes\",\"\"))","v":""},{"$f":"IF(AND(CG7=\"Yes\",CG6=\"\"),\"Yes\",\"\")","v":""},{"$f":"IF(OR(CH7=\"Yes\",CH6=\"Yes\"),\"\",IF(CG7=\"Yes\",\"Yes\",\"\"))","v":""},{"$f":"IF(AND(CI7=\"Yes\",CI6=\"\"),\"Yes\",\"\")","v":""},{"$f":"IF(OR(CJ7=\"Yes\",CJ6=\"Yes\"),\"\",IF(CI7=\"Yes\",\"Yes\",\"\"))","v":""},{"$f":"IF(AND(CK7=\"Yes\",CK6=\"\"),\"Yes\",\"\")","v":""},{"$f":"IF(OR(CL7=\"Yes\",CL6=\"Yes\"),\"\",IF(CK7=\"Yes\",\"Yes\",\"\"))","v":""},{"$f":"IF(AND(CM7=\"Yes\",CM6=\"\"),\"Yes\",\"\")","v":""},{"$f":"IF(OR(CN7=\"Yes\",CN6=\"Yes\"),\"\",IF(CM7=\"Yes\",\"Yes\",\"\"))","v":""},{"$f":"IF(AND(CO7=\"Yes\",CO6=\"\"),\"Yes\",\"\")","v":""},{"$f":"IF(OR(CP7=\"Yes\",CP6=\"Yes\"),\"\",IF(CO7=\"Yes\",\"Yes\",\"\"))","v":""},{"$f":"IF(AND(CQ7=\"Yes\",CQ6=\"\"),\"Yes\",\"\")","v":""},{"$f":"IF(OR(CR7=\"Yes\",CR6=\"Yes\"),\"\",IF(CQ7=\"Yes\",\"Yes\",\"\"))","v":""},{"$f":"IF(AND(CS7=\"Yes\",CS6=\"\"),\"Yes\",\"\")","v":""},{"$f":"IF(OR(CT7=\"Yes\",CT6=\"Yes\"),\"\",IF(CS7=\"Yes\",\"Yes\",\"\"))","v":""},{"$f":"IF(AND(CU7=\"Yes\",CU6=\"\"),\"Yes\",\"\")","v":""},{"$f":"IF(OR(CV7=\"Yes\",CV6=\"Yes\"),\"\",IF(CU7=\"Yes\",\"Yes\",\"\"))","v":""},{"$f":"IF(AND(CW7=\"Yes\",CW6=\"\"),\"Yes\",\"\")","v":""},{"$f":"IF(OR(CX7=\"Yes\",CX6=\"Yes\"),\"\",IF(CW7=\"Yes\",\"Yes\",\"\"))","v":""},{"$f":"IF(AND(CY7=\"Yes\",CY6=\"\"),\"Yes\",\"\")","v":""},{"$f":"IF(OR(CZ7=\"Yes\",CZ6=\"Yes\"),\"\",IF(CY7=\"Yes\",\"Yes\",\"\"))","v":""},{"$f":"IF(AND(DA7=\"Yes\",DA6=\"\"),\"Yes\",\"\")","v":""},{"$f":"IF(OR(DB7=\"Yes\",DB6=\"Yes\"),\"\",IF(DA7=\"Yes\",\"Yes\",\"\"))","v":""},{"$f":"IF(AND(DC7=\"Yes\",DC6=\"\"),\"Yes\",\"\")","v":""},{"$f":"IF(OR(DD7=\"Yes\",DD6=\"Yes\"),\"\",IF(DC7=\"Yes\",\"Yes\",\"\"))","v":""},{"$f":"IF(AND(DE7=\"Yes\",DE6=\"\"),\"Yes\",\"\")","v":""},{"$f":"IF(OR(DF7=\"Yes\",DF6=\"Yes\"),\"\",IF(DE7=\"Yes\",\"Yes\",\"\"))","v":""},{"$f":"IF(AND(DG7=\"Yes\",DG6=\"\"),\"Yes\",\"\")","v":""},{"$f":"IF(AND(N7>='Warrant 7 & 8 - MUTCD'!$L$16,OR('Traffic Volume Input'!O7>='Warrant 7 & 8 - MUTCD'!$N$16,'Traffic Volume Input'!P7>='Warrant 7 & 8 - MUTCD'!$N$16)),\"Yes\",\"\")","v":""},{"$f":"IF(AND(DI7=\"Yes\",DI6=\"\"),\"Yes\",\"\")","v":""},{"$f":"IF(OR(DJ7=\"Yes\",DJ6=\"Yes\"),\"\",IF(DI7=\"Yes\",\"Yes\",\"\"))","v":""},{"$f":"IF(AND(DK7=\"Yes\",DK6=\"\"),\"Yes\",\"\")","v":""},{"$f":"IF(OR(DL7=\"Yes\",DL6=\"Yes\"),\"\",IF(DK7=\"Yes\",\"Yes\",\"\"))","v":""},{"$f":"IF(AND(DM7=\"Yes\",DM6=\"\"),\"Yes\",\"\")","v":""},{"$f":"IF(OR(DN7=\"Yes\",DN6=\"Yes\"),\"\",IF(DM7=\"Yes\",\"Yes\",\"\"))","v":""},{"$f":"IF(AND(DO7=\"Yes\",DO6=\"\"),\"Yes\",\"\")","v":""},{"$f":"IF(OR(DP7=\"Yes\",DP6=\"Yes\"),\"\",IF(DO7=\"Yes\",\"Yes\",\"\"))","v":""},{"$f":"IF(AND(DQ7=\"Yes\",DQ6=\"\"),\"Yes\",\"\")","v":""},{"$f":"IF(OR(DR7=\"Yes\",DR6=\"Yes\"),\"\",IF(DQ7=\"Yes\",\"Yes\",\"\"))","v":""},{"$f":"IF(AND(DS7=\"Yes\",DS6=\"\"),\"Yes\",\"\")","v":""},{"$f":"IF(OR(DT7=\"Yes\",DT6=\"Yes\"),\"\",IF(DS7=\"Yes\",\"Yes\",\"\"))","v":""},{"$f":"IF(AND(DU7=\"Yes\",DU6=\"\"),\"Yes\",\"\")","v":""},{"$f":"IF(OR(DV7=\"Yes\",DV6=\"Yes\"),\"\",IF(DU7=\"Yes\",\"Yes\",\"\"))","v":""},{"$f":"IF(AND(DW7=\"Yes\",DW6=\"\"),\"Yes\",\"\")","v":""},{"$f":"IF(OR(DX7=\"Yes\",DX6=\"Yes\"),\"\",IF(DW7=\"Yes\",\"Yes\",\"\"))","v":""},{"$f":"IF(AND(DY7=\"Yes\",DY6=\"\"),\"Yes\",\"\")","v":""},{"$f":"IF(OR(DZ7=\"Yes\",DZ6=\"Yes\"),\"\",IF(DY7=\"Yes\",\"Yes\",\"\"))","v":""},{"$f":"IF(AND(EA7=\"Yes\",EA6=\"\"),\"Yes\",\"\")","v":""},{"$f":"IF(OR(EB7=\"Yes\",EB6=\"Yes\"),\"\",IF(EA7=\"Yes\",\"Yes\",\"\"))","v":""},{"$f":"IF(AND(EC7=\"Yes\",EC6=\"\"),\"Yes\",\"\")","v":""},{"$f":"IF(OR(ED7=\"Yes\",ED6=\"Yes\"),\"\",IF(EC7=\"Yes\",\"Yes\",\"\"))","v":""},{"$f":"IF(AND(EE7=\"Yes\",EE6=\"\"),\"Yes\",\"\")","v":""},{"$f":"IF(OR(EF7=\"Yes\",EF6=\"Yes\"),\"\",IF(EE7=\"Yes\",\"Yes\",\"\"))","v":""},{"$f":"IF(AND(EG7=\"Yes\",EG6=\"\"),\"Yes\",\"\")","v":""},{"$f":"IF(OR(EH7=\"Yes\",EH6=\"Yes\"),\"\",IF(EG7=\"Yes\",\"Yes\",\"\"))","v":""},{"$f":"IF(AND(EI7=\"Yes\",EI6=\"\"),\"Yes\",\"\")","v":""},{"$f":"IF(OR(EJ7=\"Yes\",EJ6=\"Yes\"),\"\",IF(EI7=\"Yes\",\"Yes\",\"\"))","v":""},{"$f":"IF(AND(EK7=\"Yes\",EK6=\"\"),\"Yes\",\"\")","v":""},{"$f":"IF(OR(EL7=\"Yes\",EL6=\"Yes\"),\"\",IF(EK7=\"Yes\",\"Yes\",\"\"))","v":""},{"$f":"IF(AND(EM7=\"Yes\",EM6=\"\"),\"Yes\",\"\")","v":""},{"$f":"IF(OR(EN7=\"Yes\",EN6=\"Yes\"),\"\",IF(EM7=\"Yes\",\"Yes\",\"\"))","v":""},{"$f":"IF(AND(EO7=\"Yes\",EO6=\"\"),\"Yes\",\"\")","v":""},{"$f":"IF(OR(EP7=\"Yes\",EP6=\"Yes\"),\"\",IF(EO7=\"Yes\",\"Yes\",\"\"))","v":""},{"$f":"IF(AND(EQ7=\"Yes\",EQ6=\"\"),\"Yes\",\"\")","v":""},{"$f":"IF(OR(ER7=\"Yes\",ER6=\"Yes\"),\"\",IF(EQ7=\"Yes\",\"Yes\",\"\"))","v":""},{"$f":"IF(AND(ES7=\"Yes\",ES6=\"\"),\"Yes\",\"\")","v":""},{"$f":"IF(OR(ET7=\"Yes\",ET6=\"Yes\"),\"\",IF(ES7=\"Yes\",\"Yes\",\"\"))","v":""},{"$f":"IF(AND(EU7=\"Yes\",EU6=\"\"),\"Yes\",\"\")","v":""},{"$f":"IF(OR(EV7=\"Yes\",EV6=\"Yes\"),\"\",IF(EU7=\"Yes\",\"Yes\",\"\"))","v":""},{"$f":"IF(AND(EW7=\"Yes\",EW6=\"\"),\"Yes\",\"\")","v":""},{"$f":"IF(OR(EX7=\"Yes\",EX6=\"Yes\"),\"\",IF(EW7=\"Yes\",\"Yes\",\"\"))","v":""},{"$f":"IF(AND(EY7=\"Yes\",EY6=\"\"),\"Yes\",\"\")","v":""},{"$f":"IF(OR(EZ7=\"Yes\",EZ6=\"Yes\"),\"\",IF(EY7=\"Yes\",\"Yes\",\"\"))","v":""},{"$f":"IF(AND(FA7=\"Yes\",FA6=\"\"),\"Yes\",\"\")","v":""},{"$f":"IF(OR(FB7=\"Yes\",FB6=\"Yes\"),\"\",IF(FA7=\"Yes\",\"Yes\",\"\"))","v":""},{"$f":"IF(AND(FC7=\"Yes\",FC6=\"\"),\"Yes\",\"\")","v":""},{"$f":"IF(AND(N7>='Warrant 7 & 8 - MUTCD'!$L$25,OR('Traffic Volume Input'!O7>='Warrant 7 & 8 - MUTCD'!$N$25,'Traffic Volume Input'!P7>='Warrant 7 & 8 - MUTCD'!$N$25)),\"Yes\",\"\")","v":""},{"$f":"IF(AND(FE7=\"Yes\",FE6=\"\"),\"Yes\",\"\")","v":""},{"$f":"IF(OR(FF7=\"Yes\",FF6=\"Yes\"),\"\",IF(FE7=\"Yes\",\"Yes\",\"\"))","v":""},{"$f":"IF(AND(FG7=\"Yes\",FG6=\"\"),\"Yes\",\"\")","v":""},{"$f":"IF(OR(FH7=\"Yes\",FH6=\"Yes\"),\"\",IF(FG7=\"Yes\",\"Yes\",\"\"))","v":""},{"$f":"IF(AND(FI7=\"Yes\",FI6=\"\"),\"Yes\",\"\")","v":""},{"$f":"IF(OR(FJ7=\"Yes\",FJ6=\"Yes\"),\"\",IF(FI7=\"Yes\",\"Yes\",\"\"))","v":""},{"$f":"IF(AND(FK7=\"Yes\",FK6=\"\"),\"Yes\",\"\")","v":""},{"$f":"IF(OR(FL7=\"Yes\",FL6=\"Yes\"),\"\",IF(FK7=\"Yes\",\"Yes\",\"\"))","v":""},{"$f":"IF(AND(FM7=\"Yes\",FM6=\"\"),\"Yes\",\"\")","v":""},{"$f":"IF(OR(FN7=\"Yes\",FN6=\"Yes\"),\"\",IF(FM7=\"Yes\",\"Yes\",\"\"))","v":""},{"$f":"IF(AND(FO7=\"Yes\",FO6=\"\"),\"Yes\",\"\")","v":""},{"$f":"IF(OR(FP7=\"Yes\",FP6=\"Yes\"),\"\",IF(FO7=\"Yes\",\"Yes\",\"\"))","v":""},{"$f":"IF(AND(FQ7=\"Yes\",FQ6=\"\"),\"Yes\",\"\")","v":""},{"$f":"IF(OR(FR7=\"Yes\",FR6=\"Yes\"),\"\",IF(FQ7=\"Yes\",\"Yes\",\"\"))","v":""},{"$f":"IF(AND(FS7=\"Yes\",FS6=\"\"),\"Yes\",\"\")","v":""},{"$f":"IF(OR(FT7=\"Yes\",FT6=\"Yes\"),\"\",IF(FS7=\"Yes\",\"Yes\",\"\"))","v":""},{"$f":"IF(AND(FU7=\"Yes\",FU6=\"\"),\"Yes\",\"\")","v":""},{"$f":"IF(OR(FV7=\"Yes\",FV6=\"Yes\"),\"\",IF(FU7=\"Yes\",\"Yes\",\"\"))","v":""},{"$f":"IF(AND(FW7=\"Yes\",FW6=\"\"),\"Yes\",\"\")","v":""},{"$f":"IF(OR(FX7=\"Yes\",FX6=\"Yes\"),\"\",IF(FW7=\"Yes\",\"Yes\",\"\"))","v":""},{"$f":"IF(AND(FY7=\"Yes\",FY6=\"\"),\"Yes\",\"\")","v":""},{"$f":"IF(OR(FZ7=\"Yes\",FZ6=\"Yes\"),\"\",IF(FY7=\"Yes\",\"Yes\",\"\"))","v":""},{"$f":"IF(AND(GA7=\"Yes\",GA6=\"\"),\"Yes\",\"\")","v":""},{"$f":"IF(OR(GB7=\"Yes\",GB6=\"Yes\"),\"\",IF(GA7=\"Yes\",\"Yes\",\"\"))","v":""},{"$f":"IF(AND(GC7=\"Yes\",GC6=\"\"),\"Yes\",\"\")","v":""},{"$f":"IF(OR(GD7=\"Yes\",GD6=\"Yes\"),\"\",IF(GC7=\"Yes\",\"Yes\",\"\"))","v":""},{"$f":"IF(AND(GE7=\"Yes\",GE6=\"\"),\"Yes\",\"\")","v":""},{"$f":"IF(OR(GF7=\"Yes\",GF6=\"Yes\"),\"\",IF(GE7=\"Yes\",\"Yes\",\"\"))","v":""},{"$f":"IF(AND(GG7=\"Yes\",GG6=\"\"),\"Yes\",\"\")","v":""},{"$f":"IF(OR(GH7=\"Yes\",GH6=\"Yes\"),\"\",IF(GG7=\"Yes\",\"Yes\",\"\"))","v":""},{"$f":"IF(AND(GI7=\"Yes\",GI6=\"\"),\"Yes\",\"\")","v":""},{"$f":"IF(OR(GJ7=\"Yes\",GJ6=\"Yes\"),\"\",IF(GI7=\"Yes\",\"Yes\",\"\"))","v":""},{"$f":"IF(AND(GK7=\"Yes\",GK6=\"\"),\"Yes\",\"\")","v":""},{"$f":"IF(OR(GL7=\"Yes\",GL6=\"Yes\"),\"\",IF(GK7=\"Yes\",\"Yes\",\"\"))","v":""},{"$f":"IF(AND(GM7=\"Yes\",GM6=\"\"),\"Yes\",\"\")","v":""},{"$f":"IF(OR(GN7=\"Yes\",GN6=\"Yes\"),\"\",IF(GM7=\"Yes\",\"Yes\",\"\"))","v":""},{"$f":"IF(AND(GO7=\"Yes\",GO6=\"\"),\"Yes\",\"\")","v":""},{"$f":"IF(OR(GP7=\"Yes\",GP6=\"Yes\"),\"\",IF(GO7=\"Yes\",\"Yes\",\"\"))","v":""},{"$f":"IF(AND(GQ7=\"Yes\",GQ6=\"\"),\"Yes\",\"\")","v":""},{"$f":"IF(OR(GR7=\"Yes\",GR6=\"Yes\"),\"\",IF(GQ7=\"Yes\",\"Yes\",\"\"))","v":""},{"$f":"IF(AND(GS7=\"Yes\",GS6=\"\"),\"Yes\",\"\")","v":""},{"$f":"IF(OR(GT7=\"Yes\",GT6=\"Yes\"),\"\",IF(GS7=\"Yes\",\"Yes\",\"\"))","v":""},{"$f":"IF(AND(GU7=\"Yes\",GU6=\"\"),\"Yes\",\"\")","v":""},{"$f":"IF(OR(GV7=\"Yes\",GV6=\"Yes\"),\"\",IF(GU7=\"Yes\",\"Yes\",\"\"))","v":""},{"$f":"IF(AND(GW7=\"Yes\",GW6=\"\"),\"Yes\",\"\")","v":""},{"$f":"IF(OR(GX7=\"Yes\",GX6=\"Yes\"),\"\",IF(GW7=\"Yes\",\"Yes\",\"\"))","v":""},{"$f":"IF(AND(GY7=\"Yes\",GY6=\"\"),\"Yes\",\"\")","v":""}]
["00:30:00","00:44:00",null,null,0,null,null,null,null,"00:30:00","01:29:00",{"$f":"SUM(C8:C11)","v":0},0,{"$f":"L8+M8","v":0},0,{"$f":"SUM(G8:G11)","v":0},{"$f":"IF(AND(N8>='Warrant 1 - MUTCD'!$M$23,OR('Traffic Volume Input'!O8>='Warrant 1 - MUTCD'!$Q$23,'Traffic Volume Input'!P8>='Warrant 1 - MUTCD'!$Q$23)),\"Yes\",\"\")","v":""},{"$f":"IF(AND(Q8=\"Yes\",Q7=\"\",Q6=\"\"),\"Yes\",\"\")","v":""},{"$f":"IF(OR(R8=\"Yes\",R7=\"Yes\",R6=\"Yes\"),\"\",IF(Q8=\"Yes\",\"Yes\",\"\"))","v":""},{"$f":"IF(AND(S8=\"Yes\",S7=\"\",S6=\"\"),\"Yes\",\"\")","v":""},{"$f":"IF(OR(T8=\"Yes\",T7=\"Yes\",T6=\"Yes\"),\"\",IF(S8=\"Yes\",\"Yes\",\"\"))","v":""},{"$f":"IF(AND(U8=\"Yes\",U7=\"\",U6=\"\"),\"Yes\",\"\")","v":""},{"$f":"IF(OR(V8=\"Yes\",V7=\"Yes\",V6=\"Yes\"),\"\",IF(U8=\"Yes\",\"Yes\",\"\"))","v":""},{"$f":"IF(AND(W8=\"Yes\",W7=\"\",W6=\"\"),\"Yes\",\"\")","v":""},{"$f":"IF(OR(X8=\"Yes\",X7=\"Yes\",X6=\"Yes\"),\"\",IF(W8=\"Yes\",\"Yes\",\"\"))","v":""},{"$f":"IF(AND(Y8=\"Yes\",Y7=\"\",Y6=\"\"),\"Yes\",\"\")","v":""},{"$f":"IF(OR(Z8=\"Yes\",Z7=\"Yes\",Z6=\"Yes\"),\"\",IF(Y8=\"Yes\",\"Yes\",\"\"))","v":""},{"$f":"IF(AND(AA8=\"Yes\",AA7=\"\",AA6=\"\"),\"Yes\",\"\")","v":""},{"$f":"IF(OR(AB8=\"Yes\",AB7=\"Yes\",AB6=\"Yes\"),\"\",IF(AA8=\"Yes\",\"Yes\",\"\"))","v":""},{"$f":"IF(AND(AC8=\"Yes\",AC7=\"\",AC6=\"\"),\"Yes\",\"\")","v":""},{"$f":"IF(OR(AD8=\"Yes\",AD7=\"Yes\",AD6=\"Yes\"),\"\",IF(AC8=\"Yes\",\"Yes\",\"\"))","v":""},{"$f":"IF(AND(AE8=\"Yes\",AE7=\"\",AE6=\"\"),\"Yes\",\"\")","v":""},{"$f":"IF(OR(AF8=\"Yes\",AF7=\"Yes\",AF6=\"Yes\"),\"\",IF(AE8=\"Yes\",\"Yes\",\"\"))","v":""},{"$f":"IF(AND(AG8=\"Yes\",AG7=\"\",AG6=\"\"),\"Yes\",\"\")","v":""},{"$f":"IF(OR(AH8=\"Yes\",AH7=\"Yes\",AH6=\"Yes\"),\"\",IF(AG8=\"Yes\",\"Yes\",\"\"))","v":""},{"$f":"IF(AND(AI8=\"Yes\",AI7=\"\",AI6=\"\"),\"Yes\",\"\")","v":""},{"$f":"IF(OR(AJ8=\"Yes\",AJ7=\"Yes\",AJ6=\"Yes\"),\"\",IF(AI8=\"Yes\",\"Yes\",\"\"))","v":""},{"$f":"IF(AND(AK8=\"Yes\",AK7=\"\",AK6=\"\"),\"Yes\",\"\")","v":""},{"$f":"IF(OR(AL8=\"Yes\",AL7=\"Yes\",AL6=\"Yes\"),\"\",IF(AK8=\"Yes\",\"Yes\",\"\"))","v":""},{"$f":"IF(AND(AM8=\"Yes\",AM7=\"\",AM6=\"\"),\"Yes\",\"\")","v":""},{"$f":"IF(OR(AN8=\"Yes\",AN7=\"Yes\",AN6=\"Yes\"),\"\",IF(AM8=\"Yes\",\"Yes\",\"\"))","v":""},{"$f":"IF(AND(AO8=\"Yes\",AO7=\"\",AO6=\"\"),\"Yes\",\"\")","v":""},{"$f":"IF(OR(AP8=\"Yes\",AP7=\"Yes\",AP6=\"Yes\"),\"\",IF(AO8=\"Yes\",\"Yes\",\"\"))","v":""},{"$f":"IF(AND(AQ8=\"Yes\",AQ7=\"\",AQ6=\"\"),\"Yes\",\"\")","v":""},{"$f":"IF(OR(AR8=\"Yes\",AR7=\"Yes\",AR6=\"Yes\"),\"\",IF(AQ8=\"Yes\",\"Yes\",\"\"))","v":""},{"$f":"IF(AND(AS8=\"Yes\",AS7=\"\",AS6=\"\"),\"Yes\",\"\")","v":""},{"$f":"IF(OR(AT8=\"Yes\",AT7=\"Yes\",AT6=\"Yes\"),\"\",IF(AS8=\"Yes\",\"Yes\",\"\"))","v":""},{"$f":"IF(AND(AU8=\"Yes\",AU7=\"\",AU6=\"\"),\"Yes\",\"\")","v":""},{"$f":"IF(OR(AV8=\"Yes\",AV7=\"Yes\",AV6=\"Yes\"),\"\",IF(AU8=\"Yes\",\"Yes\",\"\"))","v":""},{"$f":"IF(AND(AW8=\"Yes\",AW7=\"\",AW6=\"\"),\"Yes\",\"\")","v":""},{"$f":"IF(OR(AX8=\"Yes\",AX7=\"Yes\",AX6=\"Yes\"),\"\",IF(AW8=\"Yes\",\"Yes\",\"\"))","v":""},{"$f":"IF(AND(AY8=\"Yes\",AY7=\"\",AY6=\"\"),\"Yes\",\"\")","v":""},{"$f":"IF(OR(AZ8=\"Yes\",AZ7=\"Yes\",AZ6=\"Yes\"),\"\",IF(AY8=\"Yes\",\"Yes\",\"\"))","v":""},{"$f":"IF(AND(BA8=\"Yes\",BA7=\"\",BA6=\"\"),\"Yes\",\"\")","v":""},{"$f":"IF(OR(BB8=\"Yes\",BB7=\"Yes\",BB6=\"Yes\"),\"\",IF(BA8=\"Yes\",\"Yes\",\"\"))","v":""},{"$f":"IF(AND(BC8=\"Yes\",BC7=\"\",BC6=\"\"),\"Yes\",\"\")","v":""},{"$f":"IF(OR(BD8=\"Yes\",BD7=\"Yes\",BD6=\"Yes\"),\"\",IF(BC8=\"Yes\",\"Yes\",\"\"))","v":""},{"$f":"IF(AND(BE8=\"Yes\",BE7=\"\",BE6=\"\"),\"Yes\",\"\")","v":""},{"$f":"IF(OR(BF8=\"Yes\",BF7=\"Yes\",BF6=\"Yes\"),\"\",IF(BE8=\"Yes\",\"Yes\",\"\"))","v":""},{"$f":"IF(AND(BG8=\"Yes\",BG7=\"\",BG6=\"\"),\"Yes\",\"\")","v":""},{"$f":"IF(OR(BH8=\"Yes\",BH7=\"Yes\",BH6=\"Yes\"),\"\",IF(BG8=\"Yes\",\"Yes\",\"\"))","v":""},{"$f":"IF(AND(BI8=\"Yes\",BI7=\"\",BI6=\"\"),\"Yes\",\"\")","v":""},{"$f":"IF(OR(BJ8=\"Yes\",BJ7=\"Yes\",BJ6=\"Yes\"),\"\",IF(BI8=\"Yes\",\"Yes\",\"\"))","v":""},"",{"$f":"IF(AND(N8>='Warrant 1 - MUTCD'!$M$32,OR('Traffic Volume Input'!O8>='Warrant 1 - MUTCD'!$Q$32,'Traffic Volume Input'!P8>='Warrant 1 - MUTCD'!$Q$32)),\"Yes\",\"\")","v":""},{"$f":"IF(AND(BM8=\"Yes\",BM7=\"\",BM6=\"\"),\"Yes\",\"\")","v":""},{"$f":"IF(OR(BN8=\"Yes\",BN7=\"Yes\",BN6=\"Yes\"),\"\",IF(BM8=\"Yes\",\"Yes\",\"\"))","v":""},{"$f":"IF(AND(BO8=\"Yes\",BO7=\"\",BO6=\"\"),\"Yes\",\"\")","v":""},{"$f":"IF(OR(BP8=\"Yes\",BP7=\"Yes\",BP6=\"Yes\"),\"\",IF(BO8=\"Yes\",\"Yes\",\"\"))","v":""},{"$f":"IF(AND(BQ8=\"Yes\",BQ7=\"\",BQ6=\"\"),\"Yes\",\"\")","v":""},{"$f":"IF(OR(BR8=\"Yes\",BR7=\"Yes\",BR6=\"Yes\"),\"\",IF(BQ8=\"Yes\",\"Yes\",\"\"))","v":""},{"$f":"IF(AND(BS8=\"Yes\",BS7=\"\",BS6=\"\"),\"Yes\",\"\")","v":""},{"$f":"IF(OR(BT8=\"Yes\",BT7=\"Yes\",BT6=\"Yes\"),\"\",IF(BS8=\"Yes\",\"Yes\",\"\"))","v":""},{"$f":"IF(AND(BU8=\"Yes\",BU7=\"\",BU6=\"\"),\"Yes\",\"\")","v":""},{"$f":"IF(OR(BV8=\"Yes\",BV7=\"Yes\",BV6=\"Yes\"),\"\",IF(BU8=\"Yes\",\"Yes\",\"\"))","v":""},{"$f":"IF(AND(BW8=\"Yes\",BW7=\"\",BW6=\"\"),\"Yes\",\"\")","v":""},{"$f":"IF(OR(BX8=\"Yes\",BX7=\"Yes\",BX6=\"Yes\"),\"\",IF(BW8=\"Yes\",\"Yes\",\"\"))","v":""},{"$f":"IF(AND(BY8=\"Yes\",BY7=\"\",BY6=\"\"),\"Yes\",\"\")","v":""},{"$f":"IF(OR(BZ8=\"Yes\",BZ7=\"Yes\",BZ6=\"Yes\"),\"\",IF(BY8=\"Yes\",\"Yes\",\"\"))","v":""},{"$f":"IF(AND(CA8=\"Yes\",CA7=\"\",CA6=\"\"),\"Yes\",\"\")","v":""},{"$f":"IF(OR(CB8=\"Yes\",CB7=\"Yes\",CB6=\"Yes\"),\"\",IF(CA8=\"Yes\",\"Yes\",\"\"))","v":""},{"$f":"IF(AND(CC8=\"Yes\",CC7=\"\",CC6=\"\"),\"Yes\",\"\")","v":""},{"$f":"IF(OR(CD8=\"Yes\",CD7=\"Yes\",CD6=\"Yes\"),\"\",IF(CC8=\"Yes\",\"Yes\",\"\"))","v":""},{"$f":"IF(AND(CE8=\"Yes\",CE7=\"\",CE6=\"\"),\"Yes\",\"\")","v":""},{"$f":"IF(OR(CF8=\"Yes\",CF7=\"Yes\",CF6=\"Yes\"),\"\",IF(CE8=\"Yes\",\"Yes\",\"\"))","v":""},{"$f":"IF(AND(CG8=\"Yes\",CG7=\"\",CG6=\"\"),\"Yes\",\"\")","v":""},{"$f":"IF(OR(CH8=\"Yes\",CH7=\"Yes\",CH6=\"Yes\"),\"\",IF(CG8=\"Yes\",\"Yes\",\"\"))","v":""},{"$f":"IF(AND(CI8=\"Yes\",CI7=\"\",CI6=\"\"),\"Yes\",\"\")","v":""},{"$f":"IF(OR(CJ8=\"Yes\",CJ7=\"Yes\",CJ6=\"Yes\"),\"\",IF(CI8=\"Yes\",\"Yes\",\"\"))","v":""},{"$f":"IF(AND(CK8=\"Yes\",CK7=\"\",CK6=\"\"),\"Yes\",\"\")","v":""},{"$f":"IF(OR(CL8=\"Yes\",CL7=\"Yes\",CL6=\"Yes\"),\"\",IF(CK8=\"Yes\",\"Yes\",\"\"))","v":""},{"$f":"IF(AND(CM8=\"Yes\",CM7=\"\",CM6=\"\"),\"Yes\",\"\")","v":""},{"$f":"IF(OR(CN8=\"Yes\",CN7=\"Yes\",CN6=\"Yes\"),\"\",IF(CM8=\"Yes\",\"Yes\",\"\"))","v":""},{"$f":"IF(AND(CO8=\"Yes\",CO7=\"\",CO6=\"\"),\"Yes\",\"\")","v":""},{"$f":"IF(OR(CP8=\"Yes\",CP7=\"Yes\",CP6=\"Yes\"),\"\",IF(CO8=\"Yes\",\"Yes\",\"\"))","v":""},{"$f":"IF(AND(CQ8=\"Yes\",CQ7=\"\",CQ6=\"\"),\"Yes\",\"\")","v":""},{"$f":"IF(OR(CR8=\"Yes\",CR7=\"Yes\",CR6=\"Yes\"),\"\",IF(CQ8=\"Yes\",\"Yes\",\"\"))","v":""},{"$f":"IF(AND(CS8=\"Yes\",CS7=\"\",CS6=\"\"),\"Yes\",\"\")","v":""},{"$f":"IF(OR(CT8=\"Yes\",CT7=\"Yes\",CT6=\"Yes\"),\"\",IF(CS8=\"Yes\",\"Yes\",\"\"))","v":""},{"$f":"IF(AND(CU8=\"Yes\",CU7=\"\",CU6=\"\"),\"Yes\",\"\")","v":""},{"$f":"IF(OR(CV8=\"Yes\",CV7=\"Yes\",CV6=\"Yes\"),\"\",IF(CU8=\"Yes\",\"Yes\",\"\"))","v":""},{"$f":"IF(AND(CW8=\"Yes\",CW7=\"\",CW6=\"\"),\"Yes\",\"\")","v":""},{"$f":"IF(OR(CX8=\"Yes\",CX7=\"Yes\",CX6=\"Yes\"),\"\",IF(CW8=\"Yes\",\"Yes\",\"\"))","v":""},{"$f":"IF(AND(CY8=\"Yes\",CY7=\"\",CY6=\"\"),\"Yes\",\"\")","v":""},{"$f":"IF(OR(CZ8=\"Yes\",CZ7=\"Yes\",CZ6=\"Yes\"),\"\",IF(CY8=\"Yes\",\"Yes\",\"\"))","v":""},{"$f":"IF(AND(DA8=\"Yes\",DA7=\"\",DA6=\"\"),\"Yes\",\"\")","v":""},{"$f":"IF(OR(DB8=\"Yes\",DB7=\"Yes\",DB6=\"Yes\"),\"\",IF(DA8=\"Yes\",\"Yes\",\"\"))","v":""},{"$f":"IF(AND(DC8=\"Yes\",DC7=\"\",DC6=\"\"),\"Yes\",\"\")","v":""},{"$f":"IF(OR(DD8=\"Yes\",DD7=\"Yes\",DD6=\"Yes\"),\"\",IF(DC8=\"Yes\",\"Yes\",\"\"))","v":""},{"$f":"IF(AND(DE8=\"Yes\",DE7=\"\",DE6=\"\"),\"Yes\",\"\")","v":""},{"$f":"IF(OR(DF8=\"Yes\",DF7=\"Yes\",DF6=\"Yes\"),\"\",IF(DE8=\"Yes\",\"Yes\",\"\"))","v":""},{"$f":"IF(AND(DG8=\"Yes\",DG7=\"\",DG6=\"\"),\"Yes\",\"\")","v":""},{"$f":"IF(AND(N8>='Warrant 7 & 8 - MUTCD'!$L$16,OR('Traffic Volume Input'!O8>='Warrant 7 & 8 - MUTCD'!$N$16,'Traffic Volume Input'!P8>='Warrant 7 & 8 - MUTCD'!$N$16)),\"Yes\",\"\")","v":""},{"$f":"IF(AND(DI8=\"Yes\",DI7=\"\",DI6=\"\"),\"Yes\",\"\")","v":""},{"$f":"IF(OR(DJ8=\"Yes\",DJ7=\"Yes\",DJ6=\"Yes\"),\"\",IF(DI8=\"Yes\",\"Yes\",\"\"))","v":""},{"$f":"IF(AND(DK8=\"Yes\",DK7=\"\",DK6=\"\"),\"Yes\",\"\")","v":""},{"$f":"IF(OR(DL8=\"Yes\",DL7=\"Yes\",DL6=\"Yes\"),\"\",IF(DK8=\"Yes\",\"Yes\",\"\"))","v":""},{"$f":"IF(AND(DM8=\"Yes\",DM7=\"\",DM6=\"\"),\"Yes\",\"\")","v":""},{"$f":"IF(OR(DN8=\"Yes\",DN7=\"Yes\",DN6=\"Yes\"),\"\",IF(DM8=\"Yes\",\"Yes\",\"\"))","v":""},{"$f":"IF(AND(DO8=\"Yes\",DO7=\"\",DO6=\"\"),\"Yes\",\"\")","v":""},{"$f":"IF(OR(DP8=\"Yes\",DP7=\"Yes\",DP6=\"Yes\"),\"\",IF(DO8=\"Yes\",\"Yes\",\"\"))","v":""},{"$f":"IF(AND(DQ8=\"Yes\",DQ7=\"\",DQ6=\"\"),\"Yes\",\"\")","v":""},{"$f":"IF(OR(DR8=\"Yes\",DR7=\"Yes\",DR6=\"Yes\"),\"\",IF(DQ8=\"Yes\",\"Yes\",\"\"))","v":""},{"$f":"IF(AND(DS8=\"Yes\",DS7=\"\",DS6=\"\"),\"Yes\",\"\")","v":""},{"$f":"IF(OR(DT8=\"Yes\",DT7=\"Yes\",DT6=\"Yes\"),\"\",IF(DS8=\"Yes\",\"Yes\",\"\"))","v":""},{"$f":"IF(AND(DU8=\"Yes\",DU7=\"\",DU6=\"\"),\"Yes\",\"\")","v":""},{"$f":"IF(OR(DV8=\"Yes\",DV7=\"Yes\",DV6=\"Yes\"),\"\",IF(DU8=\"Yes\",\"Yes\",\"\"))","v":""},{"$f":"IF(AND(DW8=\"Yes\",DW7=\"\",DW6=\"\"),\"Yes\",\"\")","v":""},{"$f":"IF(OR(DX8=\"Yes\",DX7=\"Yes\",DX6=\"Yes\"),\"\",IF(DW8=\"Yes\",\"Yes\",\"\"))","v":""},{"$f":"IF(AND(DY8=\"Yes\",DY7=\"\",DY6=\"\"),\"Yes\",\"\")","v":""},{"$f":"IF(OR(DZ8=\"Yes\",DZ7=\"Yes\",DZ6=\"Yes\"),\"\",IF(DY8=\"Yes\",\"Yes\",\"\"))","v":""},{"$f":"IF(AND(EA8=\"Yes\",EA7=\"\",EA6=\"\"),\"Yes\",\"\")","v":""},{"$f":"IF(OR(EB8=\"Yes\",EB7=\"Yes\",EB6=\"Yes\"),\"\",IF(EA8=\"Yes\",\"Yes\",\"\"))","v":""},{"$f":"IF(AND(EC8=\"Yes\",EC7=\"\",EC6=\"\"),\"Yes\",\"\")","v":""},{"$f":"IF(OR(ED8=\"Yes\",ED7=\"Yes\",ED6=\"Yes\"),\"\",IF(EC8=\"Yes\",\"Yes\",\"\"))","v":""},{"$f":"IF(AND(EE8=\"Yes\",EE7=\"\",EE6=\"\"),\"Yes\",\"\")","v":""},{"$f":"IF(OR(EF8=\"Yes\",EF7=\"Yes\",EF6=\"Yes\"),\"\",IF(EE8=\"Yes\",\"Yes\",\"\"))","v":""},{"$f":"IF(AND(EG8=\"Yes\",EG7=\"\",EG6=\"\"),\"Yes\",\"\")","v":""},{"$f":"IF(OR(EH8=\"Yes\",EH7=\"Yes\",EH6=\"Yes\"),\"\",IF(EG8=\"Yes\",\"Yes\",\"\"))","v":""},{"$f":"IF(AND(EI8=\"Yes\",EI7=\"\",EI6=\"\"),\"Yes\",\"\")","v":""},{"$f":"IF(OR(EJ8=\"Yes\",EJ7=\"Yes\",EJ6=\"Yes\"),\"\",IF(EI8=\"Yes\",\"Yes\",\"\"))","v":""},{"$f":"IF(AND(EK8=\"Yes\",EK7=\"\",EK6=\"\"),\"Yes\",\"\")","v":""},{"$f":"IF(OR(EL8=\"Yes\",EL7=\"Yes\",EL6=\"Yes\"),\"\",IF(EK8=\"Yes\",\"Yes\",\"\"))","v":""},{"$f":"IF(AND(EM8=\"Yes\",EM7=\"\",EM6=\"\"),\"Yes\",\"\")","v":""},{"$f":"IF(OR(EN8=\"Yes\",EN7=\"Yes\",EN6=\"Yes\"),\"\",IF(EM8=\"Yes\",\"Yes\",\"\"))","v":""},{"$f":"IF(AND(EO8=\"Yes\",EO7=\"\",EO6=\"\"),\"Yes\",\"\")","v":""},{"$f":"IF(OR(EP8=\"Yes\",EP7=\"Yes\",EP6=\"Yes\"),\"\",IF(EO8=\"Yes\",\"Yes\",\"\"))","v":""},{"$f":"IF(AND(EQ8=\"Yes\",EQ7=\"\",EQ6=\"\"),\"Yes\",\"\")","v":""},{"$f":"IF(OR(ER8=\"Yes\",ER7=\"Yes\",ER6=\"Yes\"),\"\",IF(EQ8=\"Yes\",\"Yes\",\"\"))","v":""},{"$f":"IF(AND(ES8=\"Yes\",ES7=\"\",ES6=\"\"),\"Yes\",\"\")","v":""},{"$f":"IF(OR(ET8=\"Yes\",ET7=\"Yes\",ET6=\"Yes\"),\"\",IF(ES8=\"Yes\",\"Yes\",\"\"))","v":""},{"$f":"IF(AND(EU8=\"Yes\",EU7=\"\",EU6=\"\"),\"Yes\",\"\")","v":""},{"$f":"IF(OR(EV8=\"Yes\",EV7=\"Yes\",EV6=\"Yes\"),\"\",IF(EU8=\"Yes\",\"Yes\",\"\"))","v":""},{"$f":"IF(AND(EW8=\"Yes\",EW7=\"\",EW6=\"\"),\"Yes\",\"\")","v":""},{"$f":"IF(OR(EX8=\"Yes\",EX7=\"Yes\",EX6=\"Yes\"),\"\",IF(EW8=\"Yes\",\"Yes\",\"\"))","v":""},{"$f":"IF(AND(EY8=\"Yes\",EY7=\"\",EY6=\"\"),\"Yes\",\"\")","v":""},{"$f":"IF(OR(EZ8=\"Yes\",EZ7=\"Yes\",EZ6=\"Yes\"),\"\",IF(EY8=\"Yes\",\"Yes\",\"\"))","v":""},{"$f":"IF(AND(FA8=\"Yes\",FA7=\"\",FA6=\"\"),\"Yes\",\"\")","v":""},{"$f":"IF(OR(FB8=\"Yes\",FB7=\"Yes\",FB6=\"Yes\"),\"\",IF(FA8=\"Yes\",\"Yes\",\"\"))","v":""},{"$f":"IF(AND(FC8=\"Yes\",FC7=\"\",FC6=\"\"),\"Yes\",\"\")","v":""},{"$f":"IF(AND(N8>='Warrant 7 & 8 - MUTCD'!$L$25,OR('Traffic Volume Input'!O8>='Warrant 7 & 8 - MUTCD'!$N$25,'Traffic Volume Input'!P8>='Warrant 7 & 8 - MUTCD'!$N$25)),\"Yes\",\"\")","v":""},{"$f":"IF(AND(FE8=\"Yes\",FE7=\"\",FE6=\"\"),\"Yes\",\"\")","v":""},{"$f":"IF(OR(FF8=\"Yes\",FF7=\"Yes\",FF6=\"Yes\"),\"\",IF(FE8=\"Yes\",\"Yes\",\"\"))","v":""},{"$f":"IF(AND(FG8=\"Yes\",FG7=\"\",FG6=\"\"),\"Yes\",\"\")","v":""},{"$f":"IF(OR(FH8=\"Yes\",FH7=\"Yes\",FH6=\"Yes\"),\"\",IF(FG8=\"Yes\",\"Yes\",\"\"))","v":""},{"$f":"IF(AND(FI8=\"Yes\",FI7=\"\",FI6=\"\"),\"Yes\",\"\")","v":""},{"$f":"IF(OR(FJ8=\"Yes\",FJ7=\"Yes\",FJ6=\"Yes\"),\"\",IF(FI8=\"Yes\",\"Yes\",\"\"))","v":""},{"$f":"IF(AND(FK8=\"Yes\",FK7=\"\",FK6=\"\"),\"Yes\",\"\")","v":""},{"$f":"IF(OR(FL8=\"Yes\",FL7=\"Yes\",FL6=\"Yes\"),\"\",IF(FK8=\"Yes\",\"Yes\",\"\"))","v":""},{"$f":"IF(AND(FM8=\"Yes\",FM7=\"\",FM6=\"\"),\"Yes\",\"\")","v":""},{"$f":"IF(OR(FN8=\"Yes\",FN7=\"Yes\",FN6=\"Yes\"),\"\",IF(FM8=\"Yes\",\"Yes\",\"\"))","v":""},{"$f":"IF(AND(FO8=\"Yes\",FO7=\"\",FO6=\"\"),\"Yes\",\"\")","v":""},{"$f":"IF(OR(FP8=\"Yes\",FP7=\"Yes\",FP6=\"Yes\"),\"\",IF(FO8=\"Yes\",\"Yes\",\"\"))","v":""},{"$f":"IF(AND(FQ8=\"Yes\",FQ7=\"\",FQ6=\"\"),\"Yes\",\"\")","v":""},{"$f":"IF(OR(FR8=\"Yes\",FR7=\"Yes\",FR6=\"Yes\"),\"\",IF(FQ8=\"Yes\",\"Yes\",\"\"))","v":""},{"$f":"IF(AND(FS8=\"Yes\",FS7=\"\",FS6=\"\"),\"Yes\",\"\")","v":""},{"$f":"IF(OR(FT8=\"Yes\",FT7=\"Yes\",FT6=\"Yes\"),\"\",IF(FS8=\"Yes\",\"Yes\",\"\"))","v":""},{"$f":"IF(AND(FU8=\"Yes\",FU7=\"\",FU6=\"\"),\"Yes\",\"\")","v":""},{"$f":"IF(OR(FV8=\"Yes\",FV7=\"Yes\",FV6=\"Yes\"),\"\",IF(FU8=\"Yes\",\"Yes\",\"\"))","v":""},{"$f":"IF(AND(FW8=\"Yes\",FW7=\"\",FW6=\"\"),\"Yes\",\"\")","v":""},{"$f":"IF(OR(FX8=\"Yes\",FX7=\"Yes\",FX6=\"Yes\"),\"\",IF(FW8=\"Yes\",\"Yes\",\"\"))","v":""},{"$f":"IF(AND(FY8=\"Yes\",FY7=\"\",FY6=\"\"),\"Yes\",\"\")","v":""},{"$f":"IF(OR(FZ8=\"Yes\",FZ7=\"Yes\",FZ6=\"Yes\"),\"\",IF(FY8=\"Yes\",\"Yes\",\"\"))","v":""},{"$f":"IF(AND(GA8=\"Yes\",GA7=\"\",GA6=\"\"),\"Yes\",\"\")","v":""},{"$f":"IF(OR(GB8=\"Yes\",GB7=\"Yes\",GB6=\"Yes\"),\"\",IF(GA8=\"Yes\",\"Yes\",\"\"))","v":""},{"$f":"IF(AND(GC8=\"Yes\",GC7=\"\",GC6=\"\"),\"Yes\",\"\")","v":""},{"$f":"IF(OR(GD8=\"Yes\",GD7=\"Yes\",GD6=\"Yes\"),\"\",IF(GC8=\"Yes\",\"Yes\",\"\"))","v":""},{"$f":"IF(AND(GE8=\"Yes\",GE7=\"\",GE6=\"\"),\"Yes\",\"\")","v":""},{"$f":"IF(OR(GF8=\"Yes\",GF7=\"Yes\",GF6=\"Yes\"),\"\",IF(GE8=\"Yes\",\"Yes\",\"\"))","v":""},{"$f":"IF(AND(GG8=\"Yes\",GG7=\"\",GG6=\"\"),\"Yes\",\"\")","v":""},{"$f":"IF(OR(GH8=\"Yes\",GH7=\"Yes\",GH6=\"Yes\"),\"\",IF(GG8=\"Yes\",\"Yes\",\"\"))","v":""},{"$f":"IF(AND(GI8=\"Yes\",GI7=\"\",GI6=\"\"),\"Yes\",\"\")","v":""},{"$f":"IF(OR(GJ8=\"Yes\",GJ7=\"Yes\",GJ6=\"Yes\"),\"\",IF(GI8=\"Yes\",\"Yes\",\"\"))","v":""},{"$f":"IF(AND(GK8=\"Yes\",GK7=\"\",GK6=\"\"),\"Yes\",\"\")","v":""},{"$f":"IF(OR(GL8=\"Yes\",GL7=\"Yes\",GL6=\"Yes\"),\"\",IF(GK8=\"Yes\",\"Yes\",\"\"))","v":""},{"$f":"IF(AND(GM8=\"Yes\",GM7=\"\",GM6=\"\"),\"Yes\",\"\")","v":""},{"$f":"IF(OR(GN8=\"Yes\",GN7=\"Yes\",GN6=\"Yes\"),\"\",IF(GM8=\"Yes\",\"Yes\",\"\"))","v":""},{"$f":"IF(AND(GO8=\"Yes\",GO7=\"\",GO6=\"\"),\"Yes\",\"\")","v":""},{"$f":"IF(OR(GP8=\"Yes\",GP7=\"Yes\",GP6=\"Yes\"),\"\",IF(GO8=\"Yes\",\"Yes\",\"\"))","v":""},{"$f":"IF(AND(GQ8=\"Yes\",GQ7=\"\",GQ6=\"\"),\"Yes\",\"\")","v":""},{"$f":"IF(OR(GR8=\"Yes\",GR7=\"Yes\",GR6=\"Yes\"),\"\",IF(GQ8=\"Yes\",\"Yes\",\"\"))","v":""},{"$f":"IF(AND(GS8=\"Yes\",GS7=\"\",GS6=\"\"),\"Yes\",\"\")","v":""},{"$f":"IF(OR(GT8=\"Yes\",GT7=\"Yes\",GT6=\"Yes\"),\"\",IF(GS8=\"Yes\",\"Yes\",\"\"))","v":""},{"$f":"IF(AND(GU8=\"Yes\",GU7=\"\",GU6=\"\"),\"Yes\",\"\")","v":""},{"$f":"IF(OR(GV8=\"Yes\",GV7=\"Yes\",GV6=\"Yes\"),\"\",IF(GU8=\"Yes\",\"Yes\",\"\"))","v":""},{"$f":"IF(AND(GW8=\"Yes\",GW7=\"\",GW6=\"\"),\"Yes\",\"\")","v":""},{"$f":"IF(OR(GX8=\"Yes\",GX7=\"Yes\",GX6=\"Yes\"),\"\",IF(GW8=\"Yes\",\"Yes\",\"\"))","v":""},{"$f":"IF(AND(GY8=\"Yes\",GY7=\"\",GY6=\"\"),\"Yes\",\"\")","v":""}]
["00:45:00","00:59:00",null,null,0,null,null,null,null,"00:45:00","01:44:00",0,0,0,0,0,{"$f":"IF(AND(N9>='Warrant 1 - MUTCD'!$M$23,OR('Traffic Volume Input'!O9>='Warrant 1 - MUTCD'!$Q$23,'Traffic Volume Input'!P9>='Warrant 1 - MUTCD'!$Q$23)),\"Yes\",\"\")","v":""},{"$f":"IF(AND(Q9=\"Yes\",Q8=\"\",Q7=\"\",Q6=\"\"),\"Yes\",\"\")","v":""},{"$f":"IF(OR(R9=\"Yes\",R8=\"Yes\",R7=\"Yes\",R6=\"Yes\"),\"\",IF(Q9=\"Yes\",\"Yes\",\"\"))","v":""},{"$f":"IF(AND(S9=\"Yes\",S8=\"\",S7=\"\",S6=\"\"),\"Yes\",\"\")","v":""},{"$f":"IF(OR(T9=\"Yes\",T8=\"Yes\",T7=\"Yes\",T6=\"Yes\"),\"\",IF(S9=\"Yes\",\"Yes\",\"\"))","v":""},{"$f":"IF(AND(U9=\"Yes\",U8=\"\",U7=\"\",U6=\"\"),\"Yes\",\"\")","v":""},{"$f":"IF(OR(V9=\"Yes\",V8=\"Yes\",V7=\"Yes\",V6=\"Yes\"),\"\",IF(U9=\"Yes\",\"Yes\",\"\"))","v":""},{"$f":"IF(AND(W9=\"Yes\",W8=\"\",W7=\"\",W6=\"\"),\"Yes\",\"\")","v":""},{"$f":"IF(OR(X9=\"Yes\",X8=\"Yes\",X7=\"Yes\",X6=\"Yes\"),\"\",IF(W9=\"Yes\",\"Yes\",\"\"))","v":""},{"$f":"IF(AND(Y9=\"Yes\",Y8=\"\",Y7=\"\",Y6=\"\"),\"Yes\",\"\")","v":""},{"$f":"IF(OR(Z9=\"Yes\",Z8=\"Yes\",Z7=\"Yes\",Z6=\"Yes\"),\"\",IF(Y9=\"Yes\",\"Yes\",\"\"))","v":""},{"$f":"IF(AND(AA9=\"Yes\",AA8=\"\",AA7=\"\",AA6=\"\"),\"Yes\",\"\")","v":""},{"$f":"IF(OR(AB9=\"Yes\",AB8=\"Yes\",AB7=\"Yes\",AB6=\"Yes\"),\"\",IF(AA9=\"Yes\",\"Yes\",\"\"))","v":""},{"$f":"IF(AND(AC9=\"Yes\",AC8=\"\",AC7=\"\",AC6=\"\"),\"Yes\",\"\")","v":""},{"$f":"IF(OR(AD9=\"Yes\",AD8=\"Yes\",AD7=\"Yes\",AD6=\"Yes\"),\"\",IF(AC9=\"Yes\",\"Yes\",\"\"))","v":""},{"$f":"IF(AND(AE9=\"Yes\",AE8=\"\",AE7=\"\",AE6=\"\"),\"Yes\",\"\")","v":""},{"$f":"IF(OR(AF9=\"Yes\",AF8=\"Yes\",AF7=\"Yes\",AF6=\"Yes\"),\"\",IF(AE9=\"Yes\",\"Yes\",\"\"))","v":""},{"$f":"IF(AND(AG9=\"Yes\",AG8=\"\",AG7=\"\",AG6=\"\"),\"Yes\",\"\")","v":""},{"$f":"IF(OR(AH9=\"Yes\",AH8=\"Yes\",AH7=\"Yes\",AH6=\"Yes\"),\"\",IF(AG9=\"Yes\",\"Yes\",\"\"))","v":""},{"$f":"IF(AND(AI9=\"Yes\",AI8=\"\",AI7=\"\",AI6=\"\"),\"Yes\",\"\")","v":""},{"$f":"IF(OR(AJ9=\"Yes\",AJ8=\"Yes\",AJ7=\"Yes\",AJ6=\"Yes\"),\"\",IF(AI9=\"Yes\",\"Yes\",\"\"))","v":""},{"$f":"IF(AND(AK9=\"Yes\",AK8=\"\",AK7=\"\",AK6=\"\"),\"Yes\",\"\")","v":""},{"$f":"IF(OR(AL9=\"Yes\",AL8=\"Yes\",AL7=\"Yes\",AL6=\"Yes\"),\"\",IF(AK9=\"Yes\",\"Yes\",\"\"))","v":""},{"$f":"IF(AND(AM9=\"Yes\",AM8=\"\",AM7=\"\",AM6=\"\"),\"Yes\",\"\")","v":""},{"$f":"IF(OR(AN9=\"Yes\",AN8=\"Yes\",AN7=\"Yes\",AN6=\"Yes\"),\"\",IF(AM9=\"Yes\",\"Yes\",\"\"))","v":""},{"$f":"IF(AND(AO9=\"Yes\",AO8=\"\",AO7=\"\",AO6=\"\"),\"Yes\",\"\")","v":""},{"$f":"IF(OR(AP9=\"Yes\",AP8=\"Yes\",AP7=\"Yes\",AP6=\"Yes\"),\"\",IF(AO9=\"Yes\",\"Yes\",\"\"))","v":""},{"$f":"IF(AND(AQ9=\"Yes\",AQ8=\"\",AQ7=\"\",AQ6=\"\"),\"Yes\",\"\")","v":""},{"$f":"IF(OR(AR9=\"Yes\",AR8=\"Yes\",AR7=\"Yes\",AR6=\"Yes\"),\"\",IF(AQ9=\"Yes\",\"Yes\",\"\"))","v":""},{"$f":"IF(AND(AS9=\"Yes\",AS8=\"\",AS7=\"\",AS6=\"\"),\"Yes\",\"\")","v":""},{"$f":"IF(OR(AT9=\"Yes\",AT8=\"Yes\",AT7=\"Yes\",AT6=\"Yes\"),\"\",IF(AS9=\"Yes\",\"Yes\",\"\"))","v":""},{"$f":"IF(AND(AU9=\"Yes\",AU8=\"\",AU7=\"\",AU6=\"\"),\"Yes\",\"\")","v":""},{"$f":"IF(OR(AV9=\"Yes\",AV8=\"Yes\",AV7=\"Yes\",AV6=\"Yes\"),\"\",IF(AU9=\"Yes\",\"Yes\",\"\"))","v":""},{"$f":"IF(AND(AW9=\"Yes\",AW8=\"\",AW7=\"\",AW6=\"\"),\"Yes\",\"\")","v":""},{"$f":"IF(OR(AX9=\"Yes\",AX8=\"Yes\",AX7=\"Yes\",AX6=\"Yes\"),\"\",IF(AW9=\"Yes\",\"Yes\",\"\"))","v":""},{"$f":"IF(AND(AY9=\"Yes\",AY8=\"\",AY7=\"\",AY6=\"\"),\"Yes\",\"\")","v":""},{"$f":"IF(OR(AZ9=\"Yes\",AZ8=\"Yes\",AZ7=\"Yes\",AZ6=\"Yes\"),\"\",IF(AY9=\"Yes\",\"Yes\",\"\"))","v":""},{"$f":"IF(AND(BA9=\"Yes\",BA8=\"\",BA7=\"\",BA6=\"\"),\"Yes\",\"\")","v":""},{"$f":"IF(OR(BB9=\"Yes\",BB8=\"Yes\",BB7=\"Yes\",BB6=\"Yes\"),\"\",IF(BA9=\"Yes\",\"Yes\",\"\"))","v":""},{"$f":"IF(AND(BC9=\"Yes\",BC8=\"\",BC7=\"\",BC6=\"\"),\"Yes\",\"\")","v":""},{"$f":"IF(OR(BD9=\"Yes\",BD8=\"Yes\",BD7=\"Yes\",BD6=\"Yes\"),\"\",IF(BC9=\"Yes\",\"Yes\",\"\"))","v":""},{"$f":"IF(AND(BE9=\"Yes\",BE8=\"\",BE7=\"\",BE6=\"\"),\"Yes\",\"\")","v":""},{"$f":"IF(OR(BF9=\"Yes\",BF8=\"Yes\",BF7=\"Yes\",BF6=\"Yes\"),\"\",IF(BE9=\"Yes\",\"Yes\",\"\"))","v":""},{"$f":"IF(AND(BG9=\"Yes\",BG8=\"\",BG7=\"\",BG6=\"\"),\"Yes\",\"\")","v":""},{"$f":"IF(OR(BH9=\"Yes\",BH8=\"Yes\",BH7=\"Yes\",BH6=\"Yes\"),\"\",IF(BG9=\"Yes\",\"Yes\",\"\"))","v":""},{"$f":"IF(AND(BI9=\"Yes\",BI8=\"\",BI7=\"\",BI6=\"\"),\"Yes\",\"\")","v":""},{"$f":"IF(OR(BJ9=\"Yes\",BJ8=\"Yes\",BJ7=\"Yes\",BJ6=\"Yes\"),\"\",IF(BI9=\"Yes\",\"Yes\",\"\"))","v":""},"",{"$f":"IF(AND(N9>='Warrant 1 - MUTCD'!$M$32,OR('Traffic Volume Input'!O9>='Warrant 1 - MUTCD'!$Q$32,'Traffic Volume Input'!P9>='Warrant 1 - MUTCD'!$Q$32)),\"Yes\",\"\")","v":""},{"$f":"IF(AND(BM9=\"Yes\",BM8=\"\",BM7=\"\",BM6=\"\"),\"Yes\",\"\")","v":""},{"$f":"IF(OR(BN9=\"Yes\",BN8=\"Yes\",BN7=\"Yes\",BN6=\"Yes\"),\"\",IF(BM9=\"Yes\",\"Yes\",\"\"))","v":""},{"$f":"IF(AND(BO9=\"Yes\",BO8=\"\",BO7=\"\",BO6=\"\"),\"Yes\",\"\")","v":""},{"$f":"IF(OR(BP9=\"Yes\",BP8=\"Yes\",BP7=\"Yes\",BP6=\"Yes\"),\"\",IF(BO9=\"Yes\",\"Yes\",\"\"))","v":""},{"$f":"IF(AND(BQ9=\"Yes\",BQ8=\"\",BQ7=\"\",BQ6=\"\"),\"Yes\",\"\")","v":""},{"$f":"IF(OR(BR9=\"Yes\",BR8=\"Yes\",BR7=\"Yes\",BR6=\"Yes\"),\"\",IF(BQ9=\"Yes\",\"Yes\",\"\"))","v":""},{"$f":"IF(AND(BS9=\"Yes\",BS8=\"\",BS7=\"\",BS6=\"\"),\"Yes\",\"\")","v":""},{"$f":"IF(OR(BT9=\"Yes\",BT8=\"Yes\",BT7=\"Yes\",BT6=\"Yes\"),\"\",IF(BS9=\"Yes\",\"Yes\",\"\"))","v":""},{"$f":"IF(AND(BU9=\"Yes\",BU8=\"\",BU7=\"\",BU6=\"\"),\"Yes\",\"\")","v":""},{"$f":"IF(OR(BV9=\"Yes\",BV8=\"Yes\",BV7=\"Yes\",BV6=\"Yes\"),\"\",IF(BU9=\"Yes\",\"Yes\",\"\"))","v":""},{"$f":"IF(AND(BW9=\"Yes\",BW8=\"\",BW7=\"\",BW6=\"\"),\"Yes\",\"\")","v":""},{"$f":"IF(OR(BX9=\"Yes\",BX8=\"Yes\",BX7=\"Yes\",BX6=\"Yes\"),\"\",IF(BW9=\"Yes\",\"Yes\",\"\"))","v":""},{"$f":"IF(AND(BY9=\"Yes\",BY8=\"\",BY7=\"\",BY6=\"\"),\"Yes\",\"\")","v":""},{"$f":"IF(OR(BZ9=\"Yes\",BZ8=\"Yes\",BZ7=\"Yes\",BZ6=\"Yes\"),\"\",IF(BY9=\"Yes\",\"Yes\",\"\"))","v":""},{"$f":"IF(AND(CA9=\"Yes\",CA8=\"\",CA7=\"\",CA6=\"\"),\"Yes\",\"\")","v":""},{"$f":"IF(OR(CB9=\"Yes\",CB8=\"Yes\",CB7=\"Yes\",CB6=\"Yes\"),\"\",IF(CA9=\"Yes\",\"Yes\",\"\"))","v":""},{"$f":"IF(AND(CC9=\"Yes\",CC8=\"\",CC7=\"\",CC6=\"\"),\"Yes\",\"\")","v":""},{"$f":"IF(OR(CD9=\"Yes\",CD8=\"Yes\",CD7=\"Yes\",CD6=\"Yes\"),\"\",IF(CC9=\"Yes\",\"Yes\",\"\"))","v":""},{"$f":"IF(AND(CE9=\"Yes\",CE8=\"\",CE7=\"\",CE6=\"\"),\"Yes\",\"\")","v":""},{"$f":"IF(OR(CF9=\"Yes\",CF8=\"Yes\",CF7=\"Yes\",CF6=\"Yes\"),\"\",IF(CE9=\"Yes\",\"Yes\",\"\"))","v":""},{"$f":"IF(AND(CG9=\"Yes\",CG8=\"\",CG7=\"\",CG6=\"\"),\"Yes\",\"\")","v":""},{"$f":"IF(OR(CH9=\"Yes\",CH8=\"Yes\",CH7=\"Yes\",CH6=\"Yes\"),\"\",IF(CG9=\"Yes\",\"Yes\",\"\"))","v":""},{"$f":"IF(AND(CI9=\"Yes\",CI8=\"\",CI7=\"\",CI6=\"\"),\"Yes\",\"\")","v":""},{"$f":"IF(OR(CJ9=\"Yes\",CJ8=\"Yes\",CJ7=\"Yes\",CJ6=\"Yes\"),\"\",IF(CI9=\"Yes\",\"Yes\",\"\"))","v":""},{"$f":"IF(AND(CK9=\"Yes\",CK8=\"\",CK7=\"\",CK6=\"\"),\"Yes\",\"\")","v":""},{"$f":"IF(OR(CL9=\"Yes\",CL8=\"Yes\",CL7=\"Yes\",CL6=\"Yes\"),\"\",IF(CK9=\"Yes\",\"Yes\",\"\"))","v":""},{"$f":"IF(AND(CM9=\"Yes\",CM8=\"\",CM7=\"\",CM6=\"\"),\"Yes\",\"\")","v":""},{"$f":"IF(OR(CN9=\"Yes\",CN8=\"Yes\",CN7=\"Yes\",CN6=\"Yes\"),\"\",IF(CM9=\"Yes\",\"Yes\",\"\"))","v":""},{"$f":"IF(AND(CO9=\"Yes\",CO8=\"\",CO7=\"\",CO6=\"\"),\"Yes\",\"\")","v":""},{"$f":"IF(OR(CP9=\"Yes\",CP8=\"Yes\",CP7=\"Yes\",CP6=\"Yes\"),\"\",IF(CO9=\"Yes\",\"Yes\",\"\"))","v":""},{"$f":"IF(AND(CQ9=\"Yes\",CQ8=\"\",CQ7=\"\",CQ6=\"\"),\"Yes\",\"\")","v":""},{"$f":"IF(OR(CR9=\"Yes\",CR8=\"Yes\",CR7=\"Yes\",CR6=\"Yes\"),\"\",IF(CQ9=\"Yes\",\"Yes\",\"\"))","v":""},{"$f":"IF(AND(CS9=\"Yes\",CS8=\"\",CS7=\"\",CS6=\"\"),\"Yes\",\"\")","v":""},{"$f":"IF(OR(CT9=\"Yes\",CT8=\"Yes\",CT7=\"Yes\",CT6=\"Yes\"),\"\",IF(CS9=\"Yes\",\"Yes\",\"\"))","v":""},{"$f":"IF(AND(CU9=\"Yes\",CU8=\"\",CU7=\"\",CU6=\"\"),\"Yes\",\"\")","v":""},{"$f":"IF(OR(CV9=\"Yes\",CV8=\"Yes\",CV7=\"Yes\",CV6=\"Yes\"),\"\",IF(CU9=\"Yes\",\"Yes\",\"\"))","v":""},{"$f":"IF(AND(CW9=\"Yes\",CW8=\"\",CW7=\"\",CW6=\"\"),\"Yes\",\"\")","v":""},{"$f":"IF(OR(CX9=\"Yes\",CX8=\"Yes\",CX7=\"Yes\",CX6=\"Yes\"),\"\",IF(CW9=\"Yes\",\"Yes\",\"\"))","v":""},{"$f":"IF(AND(CY9=\"Yes\",CY8=\"\",CY7=\"\",CY6=\"\"),\"Yes\",\"\")","v":""},{"$f":"IF(OR(CZ9=\"Yes\",CZ8=\"Yes\",CZ7=\"Yes\",CZ6=\"Yes\"),\"\",IF(CY9=\"Yes\",\"Yes\",\"\"))","v":""},{"$f":"IF(AND(DA9=\"Yes\",DA8=\"\",DA7=\"\",DA6=\"\"),\"Yes\",\"\")","v":""},{"$f":"IF(OR(DB9=\"Yes\",DB8=\"Yes\",DB7=\"Yes\",DB6=\"Yes\"),\"\",IF(DA9=\"Yes\",\"Yes\",\"\"))","v":""},{"$f":"IF(AND(DC9=\"Yes\",DC8=\"\",DC7=\"\",DC6=\"\"),\"Yes\",\"\")","v":""},{"$f":"IF(OR(DD9=\"Yes\",DD8=\"Yes\",DD7=\"Yes\",DD6=\"Yes\"),\"\",IF(DC9=\"Yes\",\"Yes\",\"\"))","v":""},{"$f":"IF(AND(DE9=\"Yes\",DE8=\"\",DE7=\"\",DE6=\"\"),\"Yes\",\"\")","v":""},{"$f":"IF(OR(DF9=\"Yes\",DF8=\"Yes\",DF7=\"Yes\",DF6=\"Yes\"),\"\",IF(DE9=\"Yes\",\"Yes\",\"\"))","v":""},{"$f":"IF(AND(DG9=\"Yes\",DG8=\"\",DG7=\"\",DG6=\"\"),\"Yes\",\"\")","v":""},{"$f":"IF(AND(N9>='Warrant 7 & 8 - MUTCD'!$L$16,OR('Traffic Volume Input'!O9>='Warrant 7 & 8 - MUTCD'!$N$16,'Traffic Volume Input'!P9>='Warrant 7 & 8 - MUTCD'!$N$16)),\"Yes\",\"\")","v":""},{"$f":"IF(AND(DI9=\"Yes\",DI8=\"\",DI7=\"\",DI6=\"\"),\"Yes\",\"\")","v":""},{"$f":"IF(OR(DJ9=\"Yes\",DJ8=\"Yes\",DJ7=\"Yes\",DJ6=\"Yes\"),\"\",IF(DI9=\"Yes\",\"Yes\",\"\"))","v":""},{"$f":"IF(AND(DK9=\"Yes\",DK8=\"\",DK7=\"\",DK6=\"\"),\"Yes\",\"\")","v":""},{"$f":"IF(OR(DL9=\"Yes\",DL8=\"Yes\",DL7=\"Yes\",DL6=\"Yes\"),\"\",IF(DK9=\"Yes\",\"Yes\",\"\"))","v":""},{"$f":"IF(AND(DM9=\"Yes\",DM8=\"\",DM7=\"\",DM6=\"\"),\"Yes\",\"\")","v":""},{"$f":"IF(OR(DN9=\"Yes\",DN8=\"Yes\",DN7=\"Yes\",DN6=\"Yes\"),\"\",IF(DM9=\"Yes\",\"Yes\",\"\"))","v":""},{"$f":"IF(AND(DO9=\"Yes\",DO8=\"\",DO7=\"\",DO6=\"\"),\"Yes\",\"\")","v":""},{"$f":"IF(OR(DP9=\"Yes\",DP8=\"Yes\",DP7=\"Yes\",DP6=\"Yes\"),\"\",IF(DO9=\"Yes\",\"Yes\",\"\"))","v":""},{"$f":"IF(AND(DQ9=\"Yes\",DQ8=\"\",DQ7=\"\",DQ6=\"\"),\"Yes\",\"\")","v":""},{"$f":"IF(OR(DR9=\"Yes\",DR8=\"Yes\",DR7=\"Yes\",DR6=\"Yes\"),\"\",IF(DQ9=\"Yes\",\"Yes\",\"\"))","v":""},{"$f":"IF(AND(DS9=\"Yes\",DS8=\"\",DS7=\"\",DS6=\"\"),\"Yes\",\"\")","v":""},{"$f":"IF(OR(DT9=\"Yes\",DT8=\"Yes\",DT7=\"Yes\",DT6=\"Yes\"),\"\",IF(DS9=\"Yes\",\"Yes\",\"\"))","v":""},{"$f":"IF(AND(DU9=\"Yes\",DU8=\"\",DU7=\"\",DU6=\"\"),\"Yes\",\"\")","v":""},{"$f":"IF(OR(DV9=\"Yes\",DV8=\"Yes\",DV7=\"Yes\",DV6=\"Yes\"),\"\",IF(DU9=\"Yes\",\"Yes\",\"\"))","v":""},{"$f":"IF(AND(DW9=\"Yes\",DW8=\"\",DW7=\"\",DW6=\"\"),\"Yes\",\"\")","v":""},{"$f":"IF(OR(DX9=\"Yes\",DX8=\"Yes\",DX7=\"Yes\",DX6=\"Yes\"),\"\",IF(DW9=\"Yes\",\"Yes\",\"\"))","v":""},{"$f":"IF(AND(DY9=\"Yes\",DY8=\"\",DY7=\"\",DY6=\"\"),\"Yes\",\"\")","v":""},{"$f":"IF(OR(DZ9=\"Yes\",DZ8=\"Yes\",DZ7=\"Yes\",DZ6=\"Yes\"),\"\",IF(DY9=\"Yes\",\"Yes\",\"\"))","v":""},{"$f":"IF(AND(EA9=\"Yes\",EA8=\"\",EA7=\"\",EA6=\"\"),\"Yes\",\"\")","v":""},{"$f":"IF(OR(EB9=\"Yes\",EB8=\"Yes\",EB7=\"Yes\",EB6=\"Yes\"),\"\",IF(EA9=\"Yes\",\"Yes\",\"\"))","v":""},{"$f":"IF(AND(EC9=\"Yes\",EC8=\"\",EC7=\"\",EC6=\"\"),\"Yes\",\"\")","v":""},{"$f":"IF(OR(ED9=\"Yes\",ED8=\"Yes\",ED7=\"Yes\",ED6=\"Yes\"),\"\",IF(EC9=\"Yes\",\"Yes\",\"\"))","v":""},{"$f":"IF(AND(EE9=\"Yes\",EE8=\"\",EE7=\"\",EE6=\"\"),\"Yes\",\"\")","v":""},{"$f":"IF(OR(EF9=\"Yes\",EF8=\"Yes\",EF7=\"Yes\",EF6=\"Yes\"),\"\",IF(EE9=\"Yes\",\"Yes\",\"\"))","v":""},{"$f":"IF(AND(EG9=\"Yes\",EG8=\"\",EG7=\"\",EG6=\"\"),\"Yes\",\"\")","v":""},{"$f":"IF(OR(EH9=\"Yes\",EH8=\"Yes\",EH7=\"Yes\",EH6=\"Yes\"),\"\",IF(EG9=\"Yes\",\"Yes\",\"\"))","v":""},{"$f":"IF(AND(EI9=\"Yes\",EI8=\"\",EI7=\"\",EI6=\"\"),\"Yes\",\"\")","v":""},{"$f":"IF(OR(EJ9=\"Yes\",EJ8=\"Yes\",EJ7=\"Yes\",EJ6=\"Yes\"),\"\",IF(EI9=\"Yes\",\"Yes\",\"\"))","v":""},{"$f":"IF(AND(EK9=\"Yes\",EK8=\"\",EK7=\"\",EK6=\"\"),\"Yes\",\"\")","v":""},{"$f":"IF(OR(EL9=\"Yes\",EL8=\"Yes\",EL7=\"Yes\",EL6=\"Yes\"),\"\",IF(EK9=\"Yes\",\"Yes\",\"\"))","v":""},{"$f":"IF(AND(EM9=\"Yes\",EM8=\"\",EM7=\"\",EM6=\"\"),\"Yes\",\"\")","v":""},{"$f":"IF(OR(EN9=\"Yes\",EN8=\"Yes\",EN7=\"Yes\",EN6=\"Yes\"),\"\",IF(EM9=\"Yes\",\"Yes\",\"\"))","v":""},{"$f":"IF(AND(EO9=\"Yes\",EO8=\"\",EO7=\"\",EO6=\"\"),\"Yes\",\"\")","v":""},{"$f":"IF(OR(EP9=\"Yes\",EP8=\"Yes\",EP7=\"Yes\",EP6=\"Yes\"),\"\",IF(EO9=\"Yes\",\"Yes\",\"\"))","v":""},{"$f":"IF(AND(EQ9=\"Yes\",EQ8=\"\",EQ7=\"\",EQ6=\"\"),\"Yes\",\"\")","v":""},{"$f":"IF(OR(ER9=\"Yes\",ER8=\"Yes\",ER7=\"Yes\",ER6=\"Yes\"),\"\",IF(EQ9=\"Yes\",\"Yes\",\"\"))","v":""},{"$f":"IF(AND(ES9=\"Yes\",ES8=\"\",ES7=\"\",ES6=\"\"),\"Yes\",\"\")","v":""},{"$f":"IF(OR(ET9=\"Yes\",ET8=\"Yes\",ET7=\"Yes\",ET6=\"Yes\"),\"\",IF(ES9=\"Yes\",\"Yes\",\"\"))","v":""},{"$f":"IF(AND(EU9=\"Yes\",EU8=\"\",EU7=\"\",EU6=\"\"),\"Yes\",\"\")","v":""},{"$f":"IF(OR(EV9=\"Yes\",EV8=\"Yes\",EV7=\"Yes\",EV6=\"Yes\"),\"\",IF(EU9=\"Yes\",\"Yes\",\"\"))","v":""},{"$f":"IF(AND(EW9=\"Yes\",EW8=\"\",EW7=\"\",EW6=\"\"),\"Yes\",\"\")","v":""},{"$f":"IF(OR(EX9=\"Yes\",EX8=\"Yes\",EX7=\"Yes\",EX6=\"Yes\"),\"\",IF(EW9=\"Yes\",\"Yes\",\"\"))","v":""},{"$f":"IF(AND(EY9=\"Yes\",EY8=\"\",EY7=\"\",EY6=\"\"),\"Yes\",\"\")","v":""},{"$f":"IF(OR(EZ9=\"Yes\",EZ8=\"Yes\",EZ7=\"Yes\",EZ6=\"Yes\"),\"\",IF(EY9=\"Yes\",\"Yes\",\"\"))","v":""},{"$f":"IF(AND(FA9=\"Yes\",FA8=\"\",FA7=\"\",FA6=\"\"),\"Yes\",\"\")","v":""},{"$f":"IF(OR(FB9=\"Yes\",FB8=\"Yes\",FB7=\"Yes\",FB6=\"Yes\"),\"\",IF(FA9=\"Yes\",\"Yes\",\"\"))","v":""},{"$f":"IF(AND(FC9=\"Yes\",FC8=\"\",FC7=\"\",FC6=\"\"),\"Yes\",\"\")","v":""},{"$f":"IF(AND(N9>='Warrant 7 & 8 - MUTCD'!$L$25,OR('Traffic Volume Input'!O9>='Warrant 7 & 8 - MUTCD'!$N$25,'Traffic Volume Input'!P9>='Warrant 7 & 8 - MUTCD'!$N$25)),\"Yes\",\"\")","v":""},{"$f":"IF(AND(FE9=\"Yes\",FE8=\"\",FE7=\"\",FE6=\"\"),\"Yes\",\"\")","v":""},{"$f":"IF(OR(FF9=\"Yes\",FF8=\"Yes\",FF7=\"Yes\",FF6=\"Yes\"),\"\",IF(FE9=\"Yes\",\"Yes\",\"\"))","v":""},{"$f":"IF(AND(FG9=\"Yes\",FG8=\"\",FG7=\"\",FG6=\"\"),\"Yes\",\"\")","v":""},{"$f":"IF(OR(FH9=\"Yes\",FH8=\"Yes\",FH7=\"Yes\",FH6=\"Yes\"),\"\",IF(FG9=\"Yes\",\"Yes\",\"\"))","v":""},{"$f":"IF(AND(FI9=\"Yes\",FI8=\"\",FI7=\"\",FI6=\"\"),\"Yes\",\"\")","v":""},{"$f":"IF(OR(FJ9=\"Yes\",FJ8=\"Yes\",FJ7=\"Yes\",FJ6=\"Yes\"),\"\",IF(FI9=\"Yes\",\"Yes\",\"\"))","v":""},{"$f":"IF(AND(FK9=\"Yes\",FK8=\"\",FK7=\"\",FK6=\"\"),\"Yes\",\"\")","v":""},{"$f":"IF(OR(FL9=\"Yes\",FL8=\"Yes\",FL7=\"Yes\",FL6=\"Yes\"),\"\",IF(FK9=\"Yes\",\"Yes\",\"\"))","v":""},{"$f":"IF(AND(FM9=\"Yes\",FM8=\"\",FM7=\"\",FM6=\"\"),\"Yes\",\"\")","v":""},{"$f":"IF(OR(FN9=\"Yes\",FN8=\"Yes\",FN7=\"Yes\",FN6=\"Yes\"),\"\",IF(FM9=\"Yes\",\"Yes\",\"\"))","v":""},{"$f":"IF(AND(FO9=\"Yes\",FO8=\"\",FO7=\"\",FO6=\"\"),\"Yes\",\"\")","v":""},{"$f":"IF(OR(FP9=\"Yes\",FP8=\"Yes\",FP7=\"Yes\",FP6=\"Yes\"),\"\",IF(FO9=\"Yes\",\"Yes\",\"\"))","v":""},{"$f":"IF(AND(FQ9=\"Yes\",FQ8=\"\",FQ7=\"\",FQ6=\"\"),\"Yes\",\"\")","v":""},{"$f":"IF(OR(FR9=\"Yes\",FR8=\"Yes\",FR7=\"Yes\",FR6=\"Yes\"),\"\",IF(FQ9=\"Yes\",\"Yes\",\"\"))","v":""},{"$f":"IF(AND(FS9=\"Yes\",FS8=\"\",FS7=\"\",FS6=\"\"),\"Yes\",\"\")","v":""},{"$f":"IF(OR(FT9=\"Yes\",FT8=\"Yes\",FT7=\"Yes\",FT6=\"Yes\"),\"\",IF(FS9=\"Yes\",\"Yes\",\"\"))","v":""},{"$f":"IF(AND(FU9=\"Yes\",FU8=\"\",FU7=\"\",FU6=\"\"),\"Yes\",\"\")","v":""},{"$f":"IF(OR(FV9=\"Yes\",FV8=\"Yes\",FV7=\"Yes\",FV6=\"Yes\"),\"\",IF(FU9=\"Yes\",\"Yes\",\"\"))","v":""},{"$f":"IF(AND(FW9=\"Yes\",FW8=\"\",FW7=\"\",FW6=\"\"),\"Yes\",\"\")","v":""},{"$f":"IF(OR(FX9=\"Yes\",FX8=\"Yes\",FX7=\"Yes\",FX6=\"Yes\"),\"\",IF(FW9=\"Yes\",\"Yes\",\"\"))","v":""},{"$f":"IF(AND(FY9=\"Yes\",FY8=\"\",FY7=\"\",FY6=\"\"),\"Yes\",\"\")","v":""},{"$f":"IF(OR(FZ9=\"Yes\",FZ8=\"Yes\",FZ7=\"Yes\",FZ6=\"Yes\"),\"\",IF(FY9=\"Yes\",\"Yes\",\"\"))","v":""},{"$f":"IF(AND(GA9=\"Yes\",GA8=\"\",GA7=\"\",GA6=\"\"),\"Yes\",\"\")","v":""},{"$f":"IF(OR(GB9=\"Yes\",GB8=\"Yes\",GB7=\"Yes\",GB6=\"Yes\"),\"\",IF(GA9=\"Yes\",\"Yes\",\"\"))","v":""},{"$f":"IF(AND(GC9=\"Yes\",GC8=\"\",GC7=\"\",GC6=\"\"),\"Yes\",\"\")","v":""},{"$f":"IF(OR(GD9=\"Yes\",GD8=\"Yes\",GD7=\"Yes\",GD6=\"Yes\"),\"\",IF(GC9=\"Yes\",\"Yes\",\"\"))","v":""},{"$f":"IF(AND(GE9=\"Yes\",GE8=\"\",GE7=\"\",GE6=\"\"),\"Yes\",\"\")","v":""},{"$f":"IF(OR(GF9=\"Yes\",GF8=\"Yes\",GF7=\"Yes\",GF6=\"Yes\"),\"\",IF(GE9=\"Yes\",\"Yes\",\"\"))","v":""},{"$f":"IF(AND(GG9=\"Yes\",GG8=\"\",GG7=\"\",GG6=\"\"),\"Yes\",\"\")","v":""},{"$f":"IF(OR(GH9=\"Yes\",GH8=\"Yes\",GH7=\"Yes\",GH6=\"Yes\"),\"\",IF(GG9=\"Yes\",\"Yes\",\"\"))","v":""},{"$f":"IF(AND(GI9=\"Yes\",GI8=\"\",GI7=\"\",GI6=\"\"),\"Yes\",\"\")","v":""},{"$f":"IF(OR(GJ9=\"Yes\",GJ8=\"Yes\",GJ7=\"Yes\",GJ6=\"Yes\"),\"\",IF(GI9=\"Yes\",\"Yes\",\"\"))","v":""},{"$f":"IF(AND(GK9=\"Yes\",GK8=\"\",GK7=\"\",GK6=\"\"),\"Yes\",\"\")","v":""},{"$f":"IF(OR(GL9=\"Yes\",GL8=\"Yes\",GL7=\"Yes\",GL6=\"Yes\"),\"\",IF(GK9=\"Yes\",\"Yes\",\"\"))","v":""},{"$f":"IF(AND(GM9=\"Yes\",GM8=\"\",GM7=\"\",GM6=\"\"),\"Yes\",\"\")","v":""},{"$f":"IF(OR(GN9=\"Yes\",GN8=\"Yes\",GN7=\"Yes\",GN6=\"Yes\"),\"\",IF(GM9=\"Yes\",\"Yes\",\"\"))","v":""},{"$f":"IF(AND(GO9=\"Yes\",GO8=\"\",GO7=\"\",GO6=\"\"),\"Yes\",\"\")","v":""},{"$f":"IF(OR(GP9=\"Yes\",GP8=\"Yes\",GP7=\"Yes\",GP6=\"Yes\"),\"\",IF(GO9=\"Yes\",\"Yes\",\"\"))","v":""},{"$f":"IF(AND(GQ9=\"Yes\",GQ8=\"\",GQ7=\"\",GQ6=\"\"),\"Yes\",\"\")","v":""},{"$f":"IF(OR(GR9=\"Yes\",GR8=\"Yes\",GR7=\"Yes\",GR6=\"Yes\"),\"\",IF(GQ9=\"Yes\",\"Yes\",\"\"))","v":""},{"$f":"IF(AND(GS9=\"Yes\",GS8=\"\",GS7=\"\",GS6=\"\"),\"Yes\",\"\")","v":""},{"$f":"IF(OR(GT9=\"Yes\",GT8=\"Yes\",GT7=\"Yes\",GT6=\"Yes\"),\"\",IF(GS9=\"Yes\",\"Yes\",\"\"))","v":""},{"$f":"IF(AND(GU9=\"Yes\",GU8=\"\",GU7=\"\",GU6=\"\"),\"Yes\",\"\")","v":""},{"$f":"IF(OR(GV9=\"Yes\",GV8=\"Yes\",GV7=\"Yes\",GV6=\"Yes\"),\"\",IF(GU9=\"Yes\",\"Yes\",\"\"))","v":""},{"$f":"IF(AND(GW9=\"Yes\",GW8=\"\",GW7=\"\",GW6=\"\"),\"Yes\",\"\")","v":""},{"$f":"IF(OR(GX9=\"Yes\",GX8=\"Yes\",GX7=\"Yes\",GX6=\"Yes\"),\"\",IF(GW9=\"Yes\",\"Yes\",\"\"))","v":""},{"$f":"IF(AND(GY9=\"Yes\",GY8=\"\",GY7=\"\",GY6=\"\"),\"Yes\",\"\")","v":""}]
["01:00:00","01:14:00",null,null,0,null,null,null,null,"01:00:00","01:59:00",0,0,0,{"$f":"SUM(F10:F13)","v":0},0,{"$f":"IF(AND(N10>='Warrant 1 - MUTCD'!$M$23,OR('Traffic Volume Input'!O10>='Warrant 1 - MUTCD'!$Q$23,'Traffic Volume Input'!P10>='Warrant 1 - MUTCD'!$Q$23)),\"Yes\",\"\")","v":""},{"$f":"IF(AND(Q10=\"Yes\",Q9=\"\",Q8=\"\",Q7=\"\"),\"Yes\",\"\")","v":""},{"$f":"IF(OR(R10=\"Yes\",R9=\"Yes\",R8=\"Yes\",R7=\"Yes\"),\"\",IF(Q10=\"Yes\",\"Yes\",\"\"))","v":""},{"$f":"IF(AND(S10=\"Yes\",S9=\"\",S8=\"\",S7=\"\"),\"Yes\",\"\")","v":""},{"$f":"IF(OR(T10=\"Yes\",T9=\"Yes\",T8=\"Yes\",T7=\"Yes\"),\"\",IF(S10=\"Yes\",\"Yes\",\"\"))","v":""},"","",{"$f":"IF(AND(W10=\"Yes\",W9=\"\",W8=\"\",W7=\"\"),\"Yes\",\"\")","v":""},{"$f":"IF(OR(X10=\"Yes\",X9=\"Yes\",X8=\"Yes\",X7=\"Yes\"),\"\",IF(W10=\"Yes\",\"Yes\",\"\"))","v":""},{"$f":"IF(AND(Y10=\"Yes\",Y9=\"\",Y8=\"\",Y7=\"\"),\"Yes\",\"\")","v":""},{"$f":"IF(OR(Z10=\"Yes\",Z9=\"Yes\",Z8=\"Yes\",Z7=\"Yes\"),\"\",IF(Y10=\"Yes\",\"Yes\",\"\"))","v":""},{"$f":"IF(AND(AA10=\"Yes\",AA9=\"\",AA8=\"\",AA7=\"\"),\"Yes\",\"\")","v":""},{"$f":"IF(OR(AB10=\"Yes\",AB9=\"Yes\",AB8=\"Yes\",AB7=\"Yes\"),\"\",IF(AA10=\"Yes\",\"Yes\",\"\"))","v":""},{"$f":"IF(AND(AC10=\"Yes\",AC9=\"\",AC8=\"\",AC7=\"\"),\"Yes\",\"\")","v":""},"",{"$f":"IF(AND(AE10=\"Yes\",AE9=\"\",AE8=\"\",AE7=\"\"),\"Yes\",\"\")","v":""},"",{"$f":"IF(AND(AG10=\"Yes\",AG9=\"\",AG8=\"\",AG7=\"\"),\"Yes\",\"\")","v":""},"",{"$f":"IF(AND(AI10=\"Yes\",AI9=\"\",AI8=\"\",AI7=\"\"),\"Yes\",\"\")","v":""},"",{"$f":"IF(AND(AK10=\"Yes\",AK9=\"\",AK8=\"\",AK7=\"\"),\"Yes\",\"\")","v":""},"",{"$f":"IF(AND(AM10=\"Yes\",AM9=\"\",AM8=\"\",AM7=\"\"),\"Yes\",\"\")","v":""},"",{"$f":"IF(AND(AO10=\"Yes\",AO9=\"\",AO8=\"\",AO7=\"\"),\"Yes\",\"\")","v":""},"",{"$f":"IF(AND(AQ10=\"Yes\",AQ9=\"\",AQ8=\"\",AQ7=\"\"),\"Yes\",\"\")","v":""},"",{"$f":"IF(AND(AS10=\"Yes\",AS9=\"\",AS8=\"\",AS7=\"\"),\"Yes\",\"\")","v":""},"",{"$f":"IF(AND(AU10=\"Yes\",AU9=\"\",AU8=\"\",AU7=\"\"),\"Yes\",\"\")","v":""},"",{"$f":"IF(AND(AW10=\"Yes\",AW9=\"\",AW8=\"\",AW7=\"\"),\"Yes\",\"\")","v":""},"",{"$f":"IF(AND(AY10=\"Yes\",AY9=\"\",AY8=\"\",AY7=\"\"),\"Yes\",\"\")","v":""},"",{"$f":"IF(AND(BA10=\"Yes\",BA9=\"\",BA8=\"\",BA7=\"\"),\"Yes\",\"\")","v":""},"",{"$f":"IF(AND(BC10=\"Yes\",BC9=\"\",BC8=\"\",BC7=\"\"),\"Yes\",\"\")","v":""},"",{"$f":"IF(AND(BE10=\"Yes\",BE9=\"\",BE8=\"\",BE7=\"\"),\"Yes\",\"\")","v":""},"",{"$f":"IF(AND(BG10=\"Yes\",BG9=\"\",BG8=\"\",BG7=\"\"),\"Yes\",\"\")","v":""},"",{"$f":"IF(AND(BI10=\"Yes\",BI9=\"\",BI8=\"\",BI7=\"\"),\"Yes\",\"\")","v":""},"","",{"$f":"IF(AND(N10>='Warrant 1 - MUTCD'!$M$32,OR('Traffic Volume Input'!O10>='Warrant 1 - MUTCD'!$Q$32,'Traffic Volume Input'!P10>='Warrant 1 - MUTCD'!$Q$32)),\"Yes\",\"\")","v":""},{"$f":"IF(AND(BM10=\"Yes\",BM9=\"\",BM8=\"\",BM7=\"\"),\"Yes\",\"\")","v":""},{"$f":"IF(OR(BN10=\"Yes\",BN9=\"Yes\",BN8=\"Yes\",BN7=\"Yes\"),\"\",IF(BM10=\"Yes\",\"Yes\",\"\"))","v":""},{"$f":"IF(AND(BO10=\"Yes\",BO9=\"\",BO8=\"\",BO7=\"\"),\"Yes\",\"\")","v":""},{"$f":"IF(OR(BP10=\"Yes\",BP9=\"Yes\",BP8=\"Yes\",BP7=\"Yes\"),\"\",IF(BO10=\"Yes\",\"Yes\",\"\"))","v":""},{"$f":"IF(AND(BQ10=\"Yes\",BQ9=\"\",BQ8=\"\",BQ7=\"\"),\"Yes\",\"\")","v":""},{"$f":"IF(OR(BR10=\"Yes\",BR9=\"Yes\",BR8=\"Yes\",BR7=\"Yes\"),\"\",IF(BQ10=\"Yes\",\"Yes\",\"\"))","v":""},{"$f":"IF(AND(BS10=\"Yes\",BS9=\"\",BS8=\"\",BS7=\"\"),\"Yes\",\"\")","v":""},{"$f":"IF(OR(BT10=\"Yes\",BT9=\"Yes\",BT8=\"Yes\",BT7=\"Yes\"),\"\",IF(BS10=\"Yes\",\"Yes\",\"\"))","v":""},{"$f":"IF(AND(BU10=\"Yes\",BU9=\"\",BU8=\"\",BU7=\"\"),\"Yes\",\"\")","v":""},{"$f":"IF(OR(BV10=\"Yes\",BV9=\"Yes\",BV8=\"Yes\",BV7=\"Yes\"),\"\",IF(BU10=\"Yes\",\"Yes\",\"\"))","v":""},{"$f":"IF(AND(BW10=\"Yes\",BW9=\"\",BW8=\"\",BW7=\"\"),\"Yes\",\"\")","v":""},{"$f":"IF(OR(BX10=\"Yes\",BX9=\"Yes\",BX8=\"Yes\",BX7=\"Yes\"),\"\",IF(BW10=\"Yes\",\"Yes\",\"\"))","v":""},{"$f":"IF(AND(BY10=\"Yes\",BY9=\"\",BY8=\"\",BY7=\"\"),\"Yes\",\"\")","v":""},"",{"$f":"IF(AND(CA10=\"Yes\",CA9=\"\",CA8=\"\",CA7=\"\"),\"Yes\",\"\")","v":""},"",{"$f":"IF(AND(CC10=\"Yes\",CC9=\"\",CC8=\"\",CC7=\"\"),\"Yes\",\"\")","v":""},"",{"$f":"IF(AND(CE10=\"Yes\",CE9=\"\",CE8=\"\",CE7=\"\"),\"Yes\",\"\")","v":""},"",{"$f":"IF(AND(CG10=\"Yes\",CG9=\"\",CG8=\"\",CG7=\"\"),\"Yes\",\"\")","v":""},"",{"$f":"IF(AND(CI10=\"Yes\",CI9=\"\",CI8=\"\",CI7=\"\"),\"Yes\",\"\")","v":""},"",{"$f":"IF(AND(CK10=\"Yes\",CK9=\"\",CK8=\"\",CK7=\"\"),\"Yes\",\"\")","v":""},"",{"$f":"IF(AND(CM10=\"Yes\",CM9=\"\",CM8=\"\",CM7=\"\"),\"Yes\",\"\")","v":""},"",{"$f":"IF(AND(CO10=\"Yes\",CO9=\"\",CO8=\"\",CO7=\"\"),\"Yes\",\"\")","v":""},"",{"$f":"IF(AND(CQ10=\"Yes\",CQ9=\"\",CQ8=\"\",CQ7=\"\"),\"Yes\",\"\")","v":""},"",{"$f":"IF(AND(CS10=\"Yes\",CS9=\"\",CS8=\"\",CS7=\"\"),\"Yes\",\"\")","v":""},"",{"$f":"IF(AND(CU10=\"Yes\",CU9=\"\",CU8=\"\",CU7=\"\"),\"Yes\",\"\")","v":""},"",{"$f":"IF(AND(CW10=\"Yes\",CW9=\"\",CW8=\"\",CW7=\"\"),\"Yes\",\"\")","v":""},"",{"$f":"IF(AND(CY10=\"Yes\",CY9=\"\",CY8=\"\",CY7=\"\"),\"Yes\",\"\")","v":""},"",{"$f":"IF(AND(DA10=\"Yes\",DA9=\"\",DA8=\"\",DA7=\"\"),\"Yes\",\"\")","v":""},"","","",{"$f":"IF(AND(DE10=\"Yes\",DE9=\"\",DE8=\"\",DE7=\"\"),\"Yes\",\"\")","v":""},"",{"$f":"IF(AND(DG10=\"Yes\",DG9=\"\",DG8=\"\",DG7=\"\"),\"Yes\",\"\")","v":""},{"$f":"IF(AND(N10>='Warrant 7 & 8 - MUTCD'!$L$16,OR('Traffic Volume Input'!O10>='Warrant 7 & 8 - MUTCD'!$N$16,'Traffic Volume Input'!P10>='Warrant 7 & 8 - MUTCD'!$N$16)),\"Yes\",\"\")","v":""},{"$f":"IF(AND(DI10=\"Yes\",DI9=\"\",DI8=\"\",DI7=\"\"),\"Yes\",\"\")","v":""},{"$f":"IF(OR(DJ10=\"Yes\",DJ9=\"Yes\",DJ8=\"Yes\",DJ7=\"Yes\"),\"\",IF(DI10=\"Yes\",\"Yes\",\"\"))","v":""},{"$f":"IF(AND(DK10=\"Yes\",DK9=\"\",DK8=\"\",DK7=\"\"),\"Yes\",\"\")","v":""},{"$f":"IF(OR(DL10=\"Yes\",DL9=\"Yes\",DL8=\"Yes\",DL7=\"Yes\"),\"\",IF(DK10=\"Yes\",\"Yes\",\"\"))","v":""},{"$f":"IF(AND(DM10=\"Yes\",DM9=\"\",DM8=\"\",DM7=\"\"),\"Yes\",\"\")","v":""},{"$f":"IF(OR(DN10=\"Yes\",DN9=\"Yes\",DN8=\"Yes\",DN7=\"Yes\"),\"\",IF(DM10=\"Yes\",\"Yes\",\"\"))","v":""},{"$f":"IF(AND(DO10=\"Yes\",DO9=\"\",DO8=\"\",DO7=\"\"),\"Yes\",\"\")","v":""},{"$f":"IF(OR(DP10=\"Yes\",DP9=\"Yes\",DP8=\"Yes\",DP7=\"Yes\"),\"\",IF(DO10=\"Yes\",\"Yes\",\"\"))","v":""},{"$f":"IF(AND(DQ10=\"Yes\",DQ9=\"\",DQ8=\"\",DQ7=\"\"),\"Yes\",\"\")","v":""},{"$f":"IF(OR(DR10=\"Yes\",DR9=\"Yes\",DR8=\"Yes\",DR7=\"Yes\"),\"\",IF(DQ10=\"Yes\",\"Yes\",\"\"))","v":""},{"$f":"IF(AND(DS10=\"Yes\",DS9=\"\",DS8=\"\",DS7=\"\"),\"Yes\",\"\")","v":""},{"$f":"IF(OR(DT10=\"Yes\",DT9=\"Yes\",DT8=\"Yes\",DT7=\"Yes\"),\"\",IF(DS10=\"Yes\",\"Yes\",\"\"))","v":""},{"$f":"IF(AND(DU10=\"Yes\",DU9=\"\",DU8=\"\",DU7=\"\"),\"Yes\",\"\")","v":""},"",{"$f":"IF(AND(DW10=\"Yes\",DW9=\"\",DW8=\"\",DW7=\"\"),\"Yes\",\"\")","v":""},"",{"$f":"IF(AND(DY10=\"Yes\",DY9=\"\",DY8=\"\",DY7=\"\"),\"Yes\",\"\")","v":""},"",{"$f":"IF(AND(EA10=\"Yes\",EA9=\"\",EA8=\"\",EA7=\"\"),\"Yes\",\"\")","v":""},"",{"$f":"IF(AND(EC10=\"Yes\",EC9=\"\",EC8=\"\",EC7=\"\"),\"Yes\",\"\")","v":""},"",{"$f":"IF(AND(EE10=\"Yes\",EE9=\"\",EE8=\"\",EE7=\"\"),\"Yes\",\"\")","v":""},"",{"$f":"IF(AND(EG10=\"Yes\",EG9=\"\",EG8=\"\",EG7=\"\"),\"Yes\",\"\")","v":""},"",{"$f":"IF(AND(EI10=\"Yes\",EI9=\"\",EI8=\"\",EI7=\"\"),\"Yes\",\"\")","v":""},"",{"$f":"IF(AND(EK10=\"Yes\",EK9=\"\",EK8=\"\",EK7=\"\"),\"Yes\",\"\")","v":""},"",{"$f":"IF(AND(EM10=\"Yes\",EM9=\"\",EM8=\"\",EM7=\"\"),\"Yes\",\"\")","v":""},"",{"$f":"IF(AND(EO10=\"Yes\",EO9=\"\",EO8=\"\",EO7=\"\"),\"Yes\",\"\")","v":""},"",{"$f":"IF(AND(EQ10=\"Yes\",EQ9=\"\",EQ8=\"\",EQ7=\"\"),\"Yes\",\"\")","v":""},"",{"$f":"IF(AND(ES10=\"Yes\",ES9=\"\",ES8=\"\",ES7=\"\"),\"Yes\",\"\")","v":""},"",{"$f":"IF(AND(EU10=\"Yes\",EU9=\"\",EU8=\"\",EU7=\"\"),\"Yes\",\"\")","v":""},"",{"$f":"IF(AND(EW10=\"Yes\",EW9=\"\",EW8=\"\",EW7=\"\"),\"Yes\",\"\")","v":""},"","","",{"$f":"IF(AND(FA10=\"Yes\",FA9=\"\",FA8=\"\",FA7=\"\"),\"Yes\",\"\")","v":""},"","",{"$f":"IF(AND(N10>='Warrant 7 & 8 - MUTCD'!$L$25,OR('Traffic Volume Input'!O10>='Warrant 7 & 8 - MUTCD'!$N$25,'Traffic Volume Input'!P10>='Warrant 7 & 8 - MUTCD'!$N$25)),\"Yes\",\"\")","v":""},{"$f":"IF(AND(FE10=\"Yes\",FE9=\"\",FE8=\"\",FE7=\"\"),\"Yes\",\"\")","v":""},{"$f":"IF(OR(FF10=\"Yes\",FF9=\"Yes\",FF8=\"Yes\",FF7=\"Yes\"),\"\",IF(FE10=\"Yes\",\"Yes\",\"\"))","v":""},{"$f":"IF(AND(FG10=\"Yes\",FG9=\"\",FG8=\"\",FG7=\"\"),\"Yes\",\"\")","v":""},{"$f":"IF(OR(FH10=\"Yes\",FH9=\"Yes\",FH8=\"Yes\",FH7=\"Yes\"),\"\",IF(FG10=\"Yes\",\"Yes\",\"\"))","v":""},{"$f":"IF(AND(FI10=\"Yes\",FI9=\"\",FI8=\"\",FI7=\"\"),\"Yes\",\"\")","v":""},{"$f":"IF(OR(FJ10=\"Yes\",FJ9=\"Yes\",FJ8=\"Yes\",FJ7=\"Yes\"),\"\",IF(FI10=\"Yes\",\"Yes\",\"\"))","v":""},{"$f":"IF(AND(FK10=\"Yes\",FK9=\"\",FK8=\"\",FK7=\"\"),\"Yes\",\"\")","v":""},{"$f":"IF(OR(FL10=\"Yes\",FL9=\"Yes\",FL8=\"Yes\",FL7=\"Yes\"),\"\",IF(FK10=\"Yes\",\"Yes\",\"\"))","v":""},{"$f":"IF(AND(FM10=\"Yes\",FM9=\"\",FM8=\"\",FM7=\"\"),\"Yes\",\"\")","v":""},{"$f":"IF(OR(FN10=\"Yes\",FN9=\"Yes\",FN8=\"Yes\",FN7=\"Yes\"),\"\",IF(FM10=\"Yes\",\"Yes\",\"\"))","v":""},{"$f":"IF(AND(FO10=\"Yes\",FO9=\"\",FO8=\"\",FO7=\"\"),\"Yes\",\"\")","v":""},{"$f":"IF(OR(FP10=\"Yes\",FP9=\"Yes\",FP8=\"Yes\",FP7=\"Yes\"),\"\",IF(FO10=\"Yes\",\"Yes\",\"\"))","v":""},{"$f":"IF(AND(FQ10=\"Yes\",FQ9=\"\",FQ8=\"\",FQ7=\"\"),\"Yes\",\"\")","v":""},"",{"$f":"IF(AND(FS10=\"Yes\",FS9=\"\",FS8=\"\",FS7=\"\"),\"Yes\",\"\")","v":""},"",{"$f":"IF(AND(FU10=\"Yes\",FU9=\"\",FU8=\"\",FU7=\"\"),\"Yes\",\"\")","v":""},"",{"$f":"IF(AND(FW10=\"Yes\",FW9=\"\",FW8=\"\",FW7=\"\"),\"Yes\",\"\")","v":""},"",{"$f":"IF(AND(FY10=\"Yes\",FY9=\"\",FY8=\"\",FY7=\"\"),\"Yes\",\"\")","v":""},"",{"$f":"IF(AND(GA10=\"Yes\",GA9=\"\",GA8=\"\",GA7=\"\"),\"Yes\",\"\")","v":""},"",{"$f":"IF(AND(GC10=\"Yes\",GC9=\"\",GC8=\"\",GC7=\"\"),\"Yes\",\"\")","v":""},"",{"$f":"IF(AND(GE10=\"Yes\",GE9=\"\",GE8=\"\",GE7=\"\"),\"Yes\",\"\")","v":""},"",{"$f":"IF(AND(GG10=\"Yes\",GG9=\"\",GG8=\"\",GG7=\"\"),\"Yes\",\"\")","v":""},"",{"$f":"IF(AND(GI10=\"Yes\",GI9=\"\",GI8=\"\",GI7=\"\"),\"Yes\",\"\")","v":""},"",{"$f":"IF(AND(GK10=\"Yes\",GK9=\"\",GK8=\"\",GK7=\"\"),\"Yes\",\"\")","v":""},"",{"$f":"IF(AND(GM10=\"Yes\",GM9=\"\",GM8=\"\",GM7=\"\"),\"Yes\",\"\")","v":""},"",{"$f":"IF(AND(GO10=\"Yes\",GO9=\"\",GO8=\"\",GO7=\"\"),\"Yes\",\"\")","v":""},"",{"$f":"IF(AND(GQ10=\"Yes\",GQ9=\"\",GQ8=\"\",GQ7=\"\"),\"Yes\",\"\")","v":""},"",{"$f":"IF(AND(GS10=\"Yes\",GS9=\"\",GS8=\"\",GS7=\"\"),\"Yes\",\"\")","v":""},"","","",{"$f":"IF(AND(GW10=\"Yes\",GW9=\"\",GW8=\"\",GW7=\"\"),\"Yes\",\"\")","v":""},"",""]
["01:15:00","01:29:00",null,null,0,null,null,null,null,"01:15:00","02:14:00",0,0,0,0,0,{"$f":"IF(AND(N11>='Warrant 1 - MUTCD'!$M$23,OR('Traffic Volume Input'!O11>='Warrant 1 - MUTCD'!$Q$23,'Traffic Volume Input'!P11>='Warrant 1 - MUTCD'!$Q$23)),\"Yes\",\"\")","v":""},{"$f":"IF(AND(Q11=\"Yes\",Q10=\"\",Q9=\"\",Q8=\"\"),\"Yes\",\"\")","v":""},"","","","","",{"$f":"IF(AND(W11=\"Yes\",W10=\"\",W9=\"\",W8=\"\"),\"Yes\",\"\")","v":""},"",{"$f":"IF(AND(Y11=\"Yes\",Y10=\"\",Y9=\"\",Y8=\"\"),\"Yes\",\"\")","v":""},"",{"$f":"IF(AND(AA11=\"Yes\",AA10=\"\",AA9=\"\",AA8=\"\"),\"Yes\",\"\")","v":""},"",{"$f":"IF(AND(AC11=\"Yes\",AC10=\"\",AC9=\"\",AC8=\"\"),\"Yes\",\"\")","v":""},"",{"$f":"IF(AND(AE11=\"Yes\",AE10=\"\",AE9=\"\",AE8=\"\"),\"Yes\",\"\")","v":""},"",{"$f":"IF(AND(AG11=\"Yes\",AG10=\"\",AG9=\"\",AG8=\"\"),\"Yes\",\"\")","v":""},"",{"$f":"IF(AND(AI11=\"Yes\",AI10=\"\",AI9=\"\",AI8=\"\"),\"Yes\",\"\")","v":""},"",{"$f":"IF(AND(AK11=\"Yes\",AK10=\"\",AK9=\"\",AK8=\"\"),\"Yes\",\"\")","v":""},"",{"$f":"IF(AND(AM11=\"Yes\",AM10=\"\",AM9=\"\",AM8=\"\"),\"Yes\",\"\")","v":""},"",{"$f":"IF(AND(AO11=\"Yes\",AO10=\"\",AO9=\"\",AO8=\"\"),\"Yes\",\"\")","v":""},"",{"$f":"IF(AND(AQ11=\"Yes\",AQ10=\"\",AQ9=\"\",AQ8=\"\"),\"Yes\",\"\")","v":""},"",{"$f":"IF(AND(AS11=\"Yes\",AS10=\"\",AS9=\"\",AS8=\"\"),\"Yes\",\"\")","v":""},"",{"$f":"IF(AND(AU11=\"Yes\",AU10=\"\",AU9=\"\",AU8=\"\"),\"Yes\",\"\")","v":""},"",{"$f":"IF(AND(AW11=\"Yes\",AW10=\"\",AW9=\"\",AW8=\"\"),\"Yes\",\"\")","v":""},"",{"$f":"IF(AND(AY11=\"Yes\",AY10=\"\",AY9=\"\",AY8=\"\"),\"Yes\",\"\")","v":""},"",{"$f":"IF(AND(BA11=\"Yes\",BA10=\"\",BA9=\"\",BA8=\"\"),\"Yes\",\"\")","v":""},"",{"$f":"IF(AND(BC11=\"Yes\",BC10=\"\",BC9=\"\",BC8=\"\"),\"Yes\",\"\")","v":""},"",{"$f":"IF(AND(BE11=\"Yes\",BE10=\"\",BE9=\"\",BE8=\"\"),\"Yes\",\"\")","v":""},"",{"$f":"IF(AND(BG11=\"Yes\",BG10=\"\",BG9=\"\",BG8=\"\"),\"Yes\",\"\")","v":""},"",{"$f":"IF(AND(BI11=\"Yes\",BI10=\"\",BI9=\"\",BI8=\"\"),\"Yes\",\"\")","v":""},"","",{"$f":"IF(AND(N11>='Warrant 1 - MUTCD'!$M$32,OR('Traffic Volume Input'!O11>='Warrant 1 - MUTCD'!$Q$32,'Traffic Volume Input'!P11>='Warrant 1 - MUTCD'!$Q$32)),\"Yes\",\"\")","v":""},{"$f":"IF(AND(BM11=\"Yes\",BM10=\"\",BM9=\"\",BM8=\"\"),\"Yes\",\"\")","v":""},"",{"$f":"IF(AND(BO11=\"Yes\",BO10=\"\",BO9=\"\",BO8=\"\"),\"Yes\",\"\")","v":""},"",{"$f":"IF(AND(BQ11=\"Yes\",BQ10=\"\",BQ9=\"\",BQ8=\"\"),\"Yes\",\"\")","v":""},"",{"$f":"IF(AND(BS11=\"Yes\",BS10=\"\",BS9=\"\",BS8=\"\"),\"Yes\",\"\")","v":""},"",{"$f":"IF(AND(BU11=\"Yes\",BU10=\"\",BU9=\"\",BU8=\"\"),\"Yes\",\"\")","v":""},"",{"$f":"IF(AND(BW11=\"Yes\",BW10=\"\",BW9=\"\",BW8=\"\"),\"Yes\",\"\")","v":""},"",{"$f":"IF(AND(BY11=\"Yes\",BY10=\"\",BY9=\"\",BY8=\"\"),\"Yes\",\"\")","v":""},"",{"$f":"IF(AND(CA11=\"Yes\",CA10=\"\",CA9=\"\",CA8=\"\"),\"Yes\",\"\")","v":""},"",{"$f":"IF(AND(CC11=\"Yes\",CC10=\"\",CC9=\"\",CC8=\"\"),\"Yes\",\"\")","v":""},"",{"$f":"IF(AND(CE11=\"Yes\",CE10=\"\",CE9=\"\",CE8=\"\"),\"Yes\",\"\")","v":""},"",{"$f":"IF(AND(CG11=\"Yes\",CG10=\"\",CG9=\"\",CG8=\"\"),\"Yes\",\"\")","v":""},"",{"$f":"IF(AND(CI11=\"Yes\",CI10=\"\",CI9=\"\",CI8=\"\"),\"Yes\",\"\")","v":""},"",{"$f":"IF(AND(CK11=\"Yes\",CK10=\"\",CK9=\"\",CK8=\"\"),\"Yes\",\"\")","v":""},"",{"$f":"IF(AND(CM11=\"Yes\",CM10=\"\",CM9=\"\",CM8=\"\"),\"Yes\",\"\")","v":""},"",{"$f":"IF(AND(CO11=\"Yes\",CO10=\"\",CO9=\"\",CO8=\"\"),\"Yes\",\"\")","v":""},"",{"$f":"IF(AND(CQ11=\"Yes\",CQ10=\"\",CQ9=\"\",CQ8=\"\"),\"Yes\",\"\")","v":""},"",{"$f":"IF(AND(CS11=\"Yes\",CS10=\"\",CS9=\"\",CS8=\"\"),\"Yes\",\"\")","v":""},"",{"$f":"IF(AND(CU11=\"Yes\",CU10=\"\",CU9=\"\",CU8=\"\"),\"Yes\",\"\")","v":""},"",{"$f":"IF(AND(CW11=\"Yes\",CW10=\"\",CW9=\"\",CW8=\"\"),\"Yes\",\"\")","v":""},"",{"$f":"IF(AND(CY11=\"Yes\",CY10=\"\",CY9=\"\",CY8=\"\"),\"Yes\",\"\")","v":""},"",{"$f":"IF(AND(DA11=\"Yes\",DA10=\"\",DA9=\"\",DA8=\"\"),\"Yes\",\"\")","v":""},"","","",{"$f":"IF(AND(DE11=\"Yes\",DE10=\"\",DE9=\"\",DE8=\"\"),\"Yes\",\"\")","v":""},"",{"$f":"IF(AND(DG11=\"Yes\",DG10=\"\",DG9=\"\",DG8=\"\"),\"Yes\",\"\")","v":""},{"$f":"IF(AND(N11>='Warrant 7 & 8 - MUTCD'!$L$16,OR('Traffic Volume Input'!O11>='Warrant 7 & 8 - MUTCD'!$N$16,'Traffic Volume Input'!P11>='Warrant 7 & 8 - MUTCD'!$N$16)),\"Yes\",\"\")","v":""},{"$f":"IF(AND(DI11=\"Yes\",DI10=\"\",DI9=\"\",DI8=\"\"),\"Yes\",\"\")","v":""},"",{"$f":"IF(AND(DK11=\"Yes\",DK10=\"\",DK9=\"\",DK8=\"\"),\"Yes\",\"\")","v":""},"",{"$f":"IF(AND(DM11=\"Yes\",DM10=\"\",DM9=\"\",DM8=\"\"),\"Yes\",\"\")","v":""},"",{"$f":"IF(AND(DO11=\"Yes\",DO10=\"\",DO9=\"\",DO8=\"\"),\"Yes\",\"\")","v":""},"",{"$f":"IF(AND(DQ11=\"Yes\",DQ10=\"\",DQ9=\"\",DQ8=\"\"),\"Yes\",\"\")","v":""},"",{"$f":"IF(AND(DS11=\"Yes\",DS10=\"\",DS9=\"\",DS8=\"\"),\"Yes\",\"\")","v":""},"",{"$f":"IF(AND(DU11=\"Yes\",DU10=\"\",DU9=\"\",DU8=\"\"),\"Yes\",\"\")","v":""},"",{"$f":"IF(AND(DW11=\"Yes\",DW10=\"\",DW9=\"\",DW8=\"\"),\"Yes\",\"\")","v":""},"",{"$f":"IF(AND(DY11=\"Yes\",DY10=\"\",DY9=\"\",DY8=\"\"),\"Yes\",\"\")","v":""},"",{"$f":"IF(AND(EA11=\"Yes\",EA10=\"\",EA9=\"\",EA8=\"\"),\"Yes\",\"\")","v":""},"",{"$f":"IF(AND(EC11=\"Yes\",EC10=\"\",EC9=\"\",EC8=\"\"),\"Yes\",\"\")","v":""},"",{"$f":"IF(AND(EE11=\"Yes\",EE10=\"\",EE9=\"\",EE8=\"\"),\"Yes\",\"\")","v":""},"",{"$f":"IF(AND(EG11=\"Yes\",EG10=\"\",EG9=\"\",EG8=\"\"),\"Yes\",\"\")","v":""},"",{"$f":"IF(AND(EI11=\"Yes\",EI10=\"\",EI9=\"\",EI8=\"\"),\"Yes\",\"\")","v":""},"",{"$f":"IF(AND(EK11=\"Yes\",EK10=\"\",EK9=\"\",EK8=\"\"),\"Yes\",\"\")","v":""},"",{"$f":"IF(AND(EM11=\"Yes\",EM10=\"\",EM9=\"\",EM8=\"\"),\"Yes\",\"\")","v":""},"",{"$f":"IF(AND(EO11=\"Yes\",EO10=\"\",EO9=\"\",EO8=\"\"),\"Yes\",\"\")","v":""},"",{"$f":"IF(AND(EQ11=\"Yes\",EQ10=\"\",EQ9=\"\",EQ8=\"\"),\"Yes\",\"\")","v":""},"",{"$f":"IF(AND(ES11=\"Yes\",ES10=\"\",ES9=\"\",ES8=\"\"),\"Yes\",\"\")","v":""},"",{"$f":"IF(AND(EU11=\"Yes\",EU10=\"\",EU9=\"\",EU8=\"\"),\"Yes\",\"\")","v":""},"",{"$f":"IF(AND(EW11=\"Yes\",EW10=\"\",EW9=\"\",EW8=\"\"),\"Yes\",\"\")","v":""},"","","",{"$f":"IF(AND(FA11=\"Yes\",FA10=\"\",FA9=\"\",FA8=\"\"),\"Yes\",\"\")","v":""},"","",{"$f":"IF(AND(N11>='Warrant 7 & 8 - MUTCD'!$L$25,OR('Traffic Volume Input'!O11>='Warrant 7 & 8 - MUTCD'!$N$25,'Traffic Volume Input'!P11>='Warrant 7 & 8 - MUTCD'!$N$25)),\"Yes\",\"\")","v":""},{"$f":"IF(AND(FE11=\"Yes\",FE10=\"\",FE9=\"\",FE8=\"\"),\"Yes\",\"\")","v":""},"",{"$f":"IF(AND(FG11=\"Yes\",FG10=\"\",FG9=\"\",FG8=\"\"),\"Yes\",\"\")","v":""},"",{"$f":"IF(AND(FI11=\"Yes\",FI10=\"\",FI9=\"\",FI8=\"\"),\"Yes\",\"\")","v":""},"",{"$f":"IF(AND(FK11=\"Yes\",FK10=\"\",FK9=\"\",FK8=\"\"),\"Yes\",\"\")","v":""},"",{"$f":"IF(AND(FM11=\"Yes\",FM10=\"\",FM9=\"\",FM8=\"\"),\"Yes\",\"\")","v":""},"",{"$f":"IF(AND(FO11=\"Yes\",FO10=\"\",FO9=\"\",FO8=\"\"),\"Yes\",\"\")","v":""},"",{"$f":"IF(AND(FQ11=\"Yes\",FQ10=\"\",FQ9=\"\",FQ8=\"\"),\"Yes\",\"\")","v":""},"",{"$f":"IF(AND(FS11=\"Yes\",FS10=\"\",FS9=\"\",FS8=\"\"),\"Yes\",\"\")","v":""},"",{"$f":"IF(AND(FU11=\"Yes\",FU10=\"\",FU9=\"\",FU8=\"\"),\"Yes\",\"\")","v":""},"",{"$f":"IF(AND(FW11=\"Yes\",FW10=\"\",FW9=\"\",FW8=\"\"),\"Yes\",\"\")","v":""},"",{"$f":"IF(AND(FY11=\"Yes\",FY10=\"\",FY9=\"\",FY8=\"\"),\"Yes\",\"\")","v":""},"",{"$f":"IF(AND(GA11=\"Yes\",GA10=\"\",GA9=\"\",GA8=\"\"),\"Yes\",\"\")","v":""},"",{"$f":"IF(AND(GC11=\"Yes\",GC10=\"\",GC9=\"\",GC8=\"\"),\"Yes\",\"\")","v":""},"",{"$f":"IF(AND(GE11=\"Yes\",GE10=\"\",GE9=\"\",GE8=\"\"),\"Yes\",\"\")","v":""},"",{"$f":"IF(AND(GG11=\"Yes\",GG10=\"\",GG9=\"\",GG8=\"\"),\"Yes\",\"\")","v":""},"",{"$f":"IF(AND(GI11=\"Yes\",GI10=\"\",GI9=\"\",GI8=\"\"),\"Yes\",\"\")","v":""},"",{"$f":"IF(AND(GK11=\"Yes\",GK10=\"\",GK9=\"\",GK8=\"\"),\"Yes\",\"\")","v":""},"",{"$f":"IF(AND(GM11=\"Yes\",GM10=\"\",GM9=\"\",GM8=\"\"),\"Yes\",\"\")","v":""},"",{"$f":"IF(AND(GO11=\"Yes\",GO10=\"\",GO9=\"\",GO8=\"\"),\"Yes\",\"\")","v":""},"",{"$f":"IF(AND(GQ11=\"Yes\",GQ10=\"\",GQ9=\"\",GQ8=\"\"),\"Yes\",\"\")","v":""},"",{"$f":"IF(AND(GS11=\"Yes\",GS10=\"\",GS9=\"\",GS8=\"\"),\"Yes\",\"\")","v":""},"","","",{"$f":"IF(AND(GW11=\"Yes\",GW10=\"\",GW9=\"\",GW8=\"\"),\"Yes\",\"\")","v":""},"",""]
["01:30:00","01:44:00",null,null,0,null,null,null,null,"01:30:00","02:29:00",0,0,0,0,0,{"$f":"IF(AND(N12>='Warrant 1 - MUTCD'!$M$23,OR('Traffic Volume Input'!O12>='Warrant 1 - MUTCD'!$Q$23,'Traffic Volume Input'!P12>='Warrant 1 - MUTCD'!$Q$23)),\"Yes\",\"\")","v":""},"","","","","","",{"$f":"IF(AND(W12=\"Yes\",W11=\"\",W10=\"\",W9=\"\"),\"Yes\",\"\")","v":""},"",{"$f":"IF(AND(Y12=\"Yes\",Y11=\"\",Y10=\"\",Y9=\"\"),\"Yes\",\"\")","v":""},"",{"$f":"IF(AND(AA12=\"Yes\",AA11=\"\",AA10=\"\",AA9=\"\"),\"Yes\",\"\")","v":""},"",{"$f":"IF(AND(AC12=\"Yes\",AC11=\"\",AC10=\"\",AC9=\"\"),\"Yes\",\"\")","v":""},"",{"$f":"IF(AND(AE12=\"Yes\",AE11=\"\",AE10=\"\",AE9=\"\"),\"Yes\",\"\")","v":""},"",{"$f":"IF(AND(AG12=\"Yes\",AG11=\"\",AG10=\"\",AG9=\"\"),\"Yes\",\"\")","v":""},"",{"$f":"IF(AND(AI12=\"Yes\",AI11=\"\",AI10=\"\",AI9=\"\"),\"Yes\",\"\")","v":""},"",{"$f":"IF(AND(AK12=\"Yes\",AK11=\"\",AK10=\"\",AK9=\"\"),\"Yes\",\"\")","v":""},"",{"$f":"IF(AND(AM12=\"Yes\",AM11=\"\",AM10=\"\",AM9=\"\"),\"Yes\",\"\")","v":""},"",{"$f":"IF(AND(AO12=\"Yes\",AO11=\"\",AO10=\"\",AO9=\"\"),\"Yes\",\"\")","v":""},"",{"$f":"IF(AND(AQ12=\"Yes\",AQ11=\"\",AQ10=\"\",AQ9=\"\"),\"Yes\",\"\")","v":""},"",{"$f":"IF(AND(AS12=\"Yes\",AS11=\"\",AS10=\"\",AS9=\"\"),\"Yes\",\"\")","v":""},"",{"$f":"IF(AND(AU12=\"Yes\",AU11=\"\",AU10=\"\",AU9=\"\"),\"Yes\",\"\")","v":""},"",{"$f":"IF(AND(AW12=\"Yes\",AW11=\"\",AW10=\"\",AW9=\"\"),\"Yes\",\"\")","v":""},"",{"$f":"IF(AND(AY12=\"Yes\",AY11=\"\",AY10=\"\",AY9=\"\"),\"Yes\",\"\")","v":""},"",{"$f":"IF(AND(BA12=\"Yes\",BA11=\"\",BA10=\"\",BA9=\"\"),\"Yes\",\"\")","v":""},"",{"$f":"IF(AND(BC12=\"Yes\",BC11=\"\",BC10=\"\",BC9=\"\"),\"Yes\",\"\")","v":""},"",{"$f":"IF(AND(BE12=\"Yes\",BE11=\"\",BE10=\"\",BE9=\"\"),\"Yes\",\"\")","v":""},"",{"$f":"IF(AND(BG12=\"Yes\",BG11=\"\",BG10=\"\",BG9=\"\"),\"Yes\",\"\")","v":""},"",{"$f":"IF(AND(BI12=\"Yes\",BI11=\"\",BI10=\"\",BI9=\"\"),\"Yes\",\"\")","v":""},"","",{"$f":"IF(AND(N12>='Warrant 1 - MUTCD'!$M$32,OR('Traffic Volume Input'!O12>='Warrant 1 - MUTCD'!$Q$32,'Traffic Volume Input'!P12>='Warrant 1 - MUTCD'!$Q$32)),\"Yes\",\"\")","v":""},"","",{"$f":"IF(AND(BO12=\"Yes\",BO11=\"\",BO10=\"\",BO9=\"\"),\"Yes\",\"\")","v":""},"",{"$f":"IF(AND(BQ12=\"Yes\",BQ11=\"\",BQ10=\"\",BQ9=\"\"),\"Yes\",\"\")","v":""},"",{"$f":"IF(AND(BS12=\"Yes\",BS11=\"\",BS10=\"\",BS9=\"\"),\"Yes\",\"\")","v":""},"",{"$f":"IF(AND(BU12=\"Yes\",BU11=\"\",BU10=\"\",BU9=\"\"),\"Yes\",\"\")","v":""},"",{"$f":"IF(AND(BW12=\"Yes\",BW11=\"\",BW10=\"\",BW9=\"\"),\"Yes\",\"\")","v":""},"",{"$f":"IF(AND(BY12=\"Yes\",BY11=\"\",BY10=\"\",BY9=\"\"),\"Yes\",\"\")","v":""},"",{"$f":"IF(AND(CA12=\"Yes\",CA11=\"\",CA10=\"\",CA9=\"\"),\"Yes\",\"\")","v":""},"",{"$f":"IF(AND(CC12=\"Yes\",CC11=\"\",CC10=\"\",CC9=\"\"),\"Yes\",\"\")","v":""},"",{"$f":"IF(AND(CE12=\"Yes\",CE11=\"\",CE10=\"\",CE9=\"\"),\"Yes\",\"\")","v":""},"",{"$f":"IF(AND(CG12=\"Yes\",CG11=\"\",CG10=\"\",CG9=\"\"),\"Yes\",\"\")","v":""},"",{"$f":"IF(AND(CI12=\"Yes\",CI11=\"\",CI10=\"\",CI9=\"\"),\"Yes\",\"\")","v":""},"",{"$f":"IF(AND(CK12=\"Yes\",CK11=\"\",CK10=\"\",CK9=\"\"),\"Yes\",\"\")","v":""},"",{"$f":"IF(AND(CM12=\"Yes\",CM11=\"\",CM10=\"\",CM9=\"\"),\"Yes\",\"\")","v":""},"",{"$f":"IF(AND(CO12=\"Yes\",CO11=\"\",CO10=\"\",CO9=\"\"),\"Yes\",\"\")","v":""},"",{"$f":"IF(AND(CQ12=\"Yes\",CQ11=\"\",CQ10=\"\",CQ9=\"\"),\"Yes\",\"\")","v":""},"",{"$f":"IF(AND(CS12=\"Yes\",CS11=\"\",CS10=\"\",CS9=\"\"),\"Yes\",\"\")","v":""},"",{"$f":"IF(AND(CU12=\"Yes\",CU11=\"\",CU10=\"\",CU9=\"\"),\"Yes\",\"\")","v":""},"",{"$f":"IF(AND(CW12=\"Yes\",CW11=\"\",CW10=\"\",CW9=\"\"),\"Yes\",\"\")","v":""},"",{"$f":"IF(AND(CY12=\"Yes\",CY11=\"\",CY10=\"\",CY9=\"\"),\"Yes\",\"\")","v":""},"",{"$f":"IF(AND(DA12=\"Yes\",DA11=\"\",DA10=\"\",DA9=\"\"),\"Yes\",\"\")","v":""},"","","",{"$f":"IF(AND(DE12=\"Yes\",DE11=\"\",DE10=\"\",DE9=\"\"),\"Yes\",\"\")","v":""},"",{"$f":"IF(AND(DG12=\"Yes\",DG11=\"\",DG10=\"\",DG9=\"\"),\"Yes\",\"\")","v":""},{"$f":"IF(AND(N12>='Warrant 7 & 8 - MUTCD'!$L$16,OR('Traffic Volume Input'!O12>='Warrant 7 & 8 - MUTCD'!$N$16,'Traffic Volume Input'!P12>='Warrant 7 & 8 - MUTCD'!$N$16)),\"Yes\",\"\")","v":""},"","",{"$f":"IF(AND(DK12=\"Yes\",DK11=\"\",DK10=\"\",DK9=\"\"),\"Yes\",\"\")","v":""},"",{"$f":"IF(AND(DM12=\"Yes\",DM11=\"\",DM10=\"\",DM9=\"\"),\"Yes\",\"\")","v":""},"",{"$f":"IF(AND(DO12=\"Yes\",DO11=\"\",DO10=\"\",DO9=\"\"),\"Yes\",\"\")","v":""},"",{"$f":"IF(AND(DQ12=\"Yes\",DQ11=\"\",DQ10=\"\",DQ9=\"\"),\"Yes\",\"\")","v":""},"",{"$f":"IF(AND(DS12=\"Yes\",DS11=\"\",DS10=\"\",DS9=\"\"),\"Yes\",\"\")","v":""},"",{"$f":"IF(AND(DU12=\"Yes\",DU11=\"\",DU10=\"\",DU9=\"\"),\"Yes\",\"\")","v":""},"",{"$f":"IF(AND(DW12=\"Yes\",DW11=\"\",DW10=\"\",DW9=\"\"),\"Yes\",\"\")","v":""},"",{"$f":"IF(AND(DY12=\"Yes\",DY11=\"\",DY10=\"\",DY9=\"\"),\"Yes\",\"\")","v":""},"",{"$f":"IF(AND(EA12=\"Yes\",EA11=\"\",EA10=\"\",EA9=\"\"),\"Yes\",\"\")","v":""},"",{"$f":"IF(AND(EC12=\"Yes\",EC11=\"\",EC10=\"\",EC9=\"\"),\"Yes\",\"\")","v":""},"",{"$f":"IF(AND(EE12=\"Yes\",EE11=\"\",EE10=\"\",EE9=\"\"),\"Yes\",\"\")","v":""},"",{"$f":"IF(AND(EG12=\"Yes\",EG11=\"\",EG10=\"\",EG9=\"\"),\"Yes\",\"\")","v":""},"",{"$f":"IF(AND(EI12=\"Yes\",EI11=\"\",EI10=\"\",EI9=\"\"),\"Yes\",\"\")","v":""},"",{"$f":"IF(AND(EK12=\"Yes\",EK11=\"\",EK10=\"\",EK9=\"\"),\"Yes\",\"\")","v":""},"",{"$f":"IF(AND(EM12=\"Yes\",EM11=\"\",EM10=\"\",EM9=\"\"),\"Yes\",\"\")","v":""},"",{"$f":"IF(AND(EO12=\"Yes\",EO11=\"\",EO10=\"\",EO9=\"\"),\"Yes\",\"\")","v":""},"",{"$f":"IF(AND(EQ12=\"Yes\",EQ11=\"\",EQ10=\"\",EQ9=\"\"),\"Yes\",\"\")","v":""},"",{"$f":"IF(AND(ES12=\"Yes\",ES11=\"\",ES10=\"\",ES9=\"\"),\"Yes\",\"\")","v":""},"",{"$f":"IF(AND(EU12=\"Yes\",EU11=\"\",EU10=\"\",EU9=\"\"),\"Yes\",\"\")","v":""},"",{"$f":"IF(AND(EW12=\"Yes\",EW11=\"\",EW10=\"\",EW9=\"\"),\"Yes\",\"\")","v":""},"","","",{"$f":"IF(AND(FA12=\"Yes\",FA11=\"\",FA10=\"\",FA9=\"\"),\"Yes\",\"\")","v":""},"","",{"$f":"IF(AND(N12>='Warrant 7 & 8 - MUTCD'!$L$25,OR('Traffic Volume Input'!O12>='Warrant 7 & 8 - MUTCD'!$N$25,'Traffic Volume Input'!P12>='Warrant 7 & 8 - MUTCD'!$N$25)),\"Yes\",\"\")","v":""},"","",{"$f":"IF(AND(FG12=\"Yes\",FG11=\"\",FG10=\"\",FG9=\"\"),\"Yes\",\"\")","v":""},"",{"$f":"IF(AND(FI12=\"Yes\",FI11=\"\",FI10=\"\",FI9=\"\"),\"Yes\",\"\")","v":""},"",{"$f":"IF(AND(FK12=\"Yes\",FK11=\"\",FK10=\"\",FK9=\"\"),\"Yes\",\"\")","v":""},"",{"$f":"IF(AND(FM12=\"Yes\",FM11=\"\",FM10=\"\",FM9=\"\"),\"Yes\",\"\")","v":""},"",{"$f":"IF(AND(FO12=\"Yes\",FO11=\"\",FO10=\"\",FO9=\"\"),\"Yes\",\"\")","v":""},"",{"$f":"IF(AND(FQ12=\"Yes\",FQ11=\"\",FQ10=\"\",FQ9=\"\"),\"Yes\",\"\")","v":""},"",{"$f":"IF(AND(FS12=\"Yes\",FS11=\"\",FS10=\"\",FS9=\"\"),\"Yes\",\"\")","v":""},"",{"$f":"IF(AND(FU12=\"Yes\",FU11=\"\",FU10=\"\",FU9=\"\"),\"Yes\",\"\")","v":""},"",{"$f":"IF(AND(FW12=\"Yes\",FW11=\"\",FW10=\"\",FW9=\"\"),\"Yes\",\"\")","v":""},"",{"$f":"IF(AND(FY12=\"Yes\",FY11=\"\",FY10=\"\",FY9=\"\"),\"Yes\",\"\")","v":""},"",{"$f":"IF(AND(GA12=\"Yes\",GA11=\"\",GA10=\"\",GA9=\"\"),\"Yes\",\"\")","v":""},"",{"$f":"IF(AND(GC12=\"Yes\",GC11=\"\",GC10=\"\",GC9=\"\"),\"Yes\",\"\")","v":""},"",{"$f":"IF(AND(GE12=\"Yes\",GE11=\"\",GE10=\"\",GE9=\"\"),\"Yes\",\"\")","v":""},"",{"$f":"IF(AND(GG12=\"Yes\",GG11=\"\",GG10=\"\",GG9=\"\"),\"Yes\",\"\")","v":""},"",{"$f":"IF(AND(GI12=\"Yes\",GI11=\"\",GI10=\"\",GI9=\"\"),\"Yes\",\"\")","v":""},"",{"$f":"IF(AND(GK12=\"Yes\",GK11=\"\",GK10=\"\",GK9=\"\"),\"Yes\",\"\")","v":""},"",{"$f":"IF(AND(GM12=\"Yes\",GM11=\"\",GM10=\"\",GM9=\"\"),\"Yes\",\"\")","v":""},"",{"$f":"IF(AND(GO12=\"Yes\",GO11=\"\",GO10=\"\",GO9=\"\"),\"Yes\",\"\")","v":""},"",{"$f":"IF(AND(GQ12=\"Yes\",GQ11=\"\",GQ10=\"\",GQ9=\"\"),\"Yes\",\"\")","v":""},"",{"$f":"IF(AND(GS12=\"Yes\",GS11=\"\",GS10=\"\",GS9=\"\"),\"Yes\",\"\")","v":""},"","","",{"$f":"IF(AND(GW12=\"Yes\",GW11=\"\",GW10=\"\",GW9=\"\"),\"Yes\",\"\")","v":""},"",""]
["01:45:00","01:59:00",null,null,0,null,null,null,null,"01:45:00","02:44:00",0,0,0,0,0,{"$f":"IF(AND(N13>='Warrant 1 - MUTCD'!$M$23,OR('Traffic Volume Input'!O13>='Warrant 1 - MUTCD'!$Q$23,'Traffic Volume Input'!P13>='Warrant 1 - MUTCD'!$Q$23)),\"Yes\",\"\")","v":""},"","","","","","",{"$f":"IF(AND(W13=\"Yes\",W12=\"\",W11=\"\",W10=\"\"),\"Yes\",\"\")","v":""},"",{"$f":"IF(AND(Y13=\"Yes\",Y12=\"\",Y11=\"\",Y10=\"\"),\"Yes\",\"\")","v":""},"",{"$f":"IF(AND(AA13=\"Yes\",AA12=\"\",AA11=\"\",AA10=\"\"),\"Yes\",\"\")","v":""},"",{"$f":"IF(AND(AC13=\"Yes\",AC12=\"\",AC11=\"\",AC10=\"\"),\"Yes\",\"\")","v":""},"",{"$f":"IF(AND(AE13=\"Yes\",AE12=\"\",AE11=\"\",AE10=\"\"),\"Yes\",\"\")","v":""},"",{"$f":"IF(AND(AG13=\"Yes\",AG12=\"\",AG11=\"\",AG10=\"\"),\"Yes\",\"\")","v":""},"",{"$f":"IF(AND(AI13=\"Yes\",AI12=\"\",AI11=\"\",AI10=\"\"),\"Yes\",\"\")","v":""},"",{"$f":"IF(AND(AK13=\"Yes\",AK12=\"\",AK11=\"\",AK10=\"\"),\"Yes\",\"\")","v":""},"",{"$f":"IF(AND(AM13=\"Yes\",AM12=\"\",AM11=\"\",AM10=\"\"),\"Yes\",\"\")","v":""},"",{"$f":"IF(AND(AO13=\"Yes\",AO12=\"\",AO11=\"\",AO10=\"\"),\"Yes\",\"\")","v":""},"",{"$f":"IF(AND(AQ13=\"Yes\",AQ12=\"\",AQ11=\"\",AQ10=\"\"),\"Yes\",\"\")","v":""},"",{"$f":"IF(AND(AS13=\"Yes\",AS12=\"\",AS11=\"\",AS10=\"\"),\"Yes\",\"\")","v":""},"",{"$f":"IF(AND(AU13=\"Yes\",AU12=\"\",AU11=\"\",AU10=\"\"),\"Yes\",\"\")","v":""},"",{"$f":"IF(AND(AW13=\"Yes\",AW12=\"\",AW11=\"\",AW10=\"\"),\"Yes\",\"\")","v":""},"",{"$f":"IF(AND(AY13=\"Yes\",AY12=\"\",AY11=\"\",AY10=\"\"),\"Yes\",\"\")","v":""},"",{"$f":"IF(AND(BA13=\"Yes\",BA12=\"\",BA11=\"\",BA10=\"\"),\"Yes\",\"\")","v":""},"",{"$f":"IF(AND(BC13=\"Yes\",BC12=\"\",BC11=\"\",BC10=\"\"),\"Yes\",\"\")","v":""},"",{"$f":"IF(AND(BE13=\"Yes\",BE12=\"\",BE11=\"\",BE10=\"\"),\"Yes\",\"\")","v":""},"",{"$f":"IF(AND(BG13=\"Yes\",BG12=\"\",BG11=\"\",BG10=\"\"),\"Yes\",\"\")","v":""},"",{"$f":"IF(AND(BI13=\"Yes\",BI12=\"\",BI11=\"\",BI10=\"\"),\"Yes\",\"\")","v":""},"","",{"$f":"IF(AND(N13>='Warrant 1 - MUTCD'!$M$32,OR('Traffic Volume Input'!O13>='Warrant 1 - MUTCD'!$Q$32,'Traffic Volume Input'!P13>='Warrant 1 - MUTCD'!$Q$32)),\"Yes\",\"\")","v":""},"","",{"$f":"IF(AND(BO13=\"Yes\",BO12=\"\",BO11=\"\",BO10=\"\"),\"Yes\",\"\")","v":""},"",{"$f":"IF(AND(BQ13=\"Yes\",BQ12=\"\",BQ11=\"\",BQ10=\"\"),\"Yes\",\"\")","v":""},"",{"$f":"IF(AND(BS13=\"Yes\",BS12=\"\",BS11=\"\",BS10=\"\"),\"Yes\",\"\")","v":""},"",{"$f":"IF(AND(BU13=\"Yes\",BU12=\"\",BU11=\"\",BU10=\"\"),\"Yes\",\"\")","v":""},"",{"$f":"IF(AND(BW13=\"Yes\",BW12=\"\",BW11=\"\",BW10=\"\"),\"Yes\",\"\")","v":""},"",{"$f":"IF(AND(BY13=\"Yes\",BY12=\"\",BY11=\"\",BY10=\"\"),\"Yes\",\"\")","v":""},"",{"$f":"IF(AND(CA13=\"Yes\",CA12=\"\",CA11=\"\",CA10=\"\"),\"Yes\",\"\")","v":""},"",{"$f":"IF(AND(CC13=\"Yes\",CC12=\"\",CC11=\"\",CC10=\"\"),\"Yes\",\"\")","v":""},"",{"$f":"IF(AND(CE13=\"Yes\",CE12=\"\",CE11=\"\",CE10=\"\"),\"Yes\",\"\")","v":""},"",{"$f":"IF(AND(CG13=\"Yes\",CG12=\"\",CG11=\"\",CG10=\"\"),\"Yes\",\"\")","v":""},"",{"$f":"IF(AND(CI13=\"Yes\",CI12=\"\",CI11=\"\",CI10=\"\"),\"Yes\",\"\")","v":""},"",{"$f":"IF(AND(CK13=\"Yes\",CK12=\"\",CK11=\"\",CK10=\"\"),\"Yes\",\"\")","v":""},"",{"$f":"IF(AND(CM13=\"Yes\",CM12=\"\",CM11=\"\",CM10=\"\"),\"Yes\",\"\")","v":""},"",{"$f":"IF(AND(CO13=\"Yes\",CO12=\"\",CO11=\"\",CO10=\"\"),\"Yes\",\"\")","v":""},"",{"$f":"IF(AND(CQ13=\"Yes\",CQ12=\"\",CQ11=\"\",CQ10=\"\"),\"Yes\",\"\")","v":""},"",{"$f":"IF(AND(CS13=\"Yes\",CS12=\"\",CS11=\"\",CS10=\"\"),\"Yes\",\"\")","v":""},"",{"$f":"IF(AND(CU13=\"Yes\",CU12=\"\",CU11=\"\",CU10=\"\"),\"Yes\",\"\")","v":""},"",{"$f":"IF(AND(CW13=\"Yes\",CW12=\"\",CW11=\"\",CW10=\"\"),\"Yes\",\"\")","v":""},"",{"$f":"IF(AND(CY13=\"Yes\",CY12=\"\",CY11=\"\",CY10=\"\"),\"Yes\",\"\")","v":""},"",{"$f":"IF(AND(DA13=\"Yes\",DA12=\"\",DA11=\"\",DA10=\"\"),\"Yes\",\"\")","v":""},"","","",{"$f":"IF(AND(DE13=\"Yes\",DE12=\"\",DE11=\"\",DE10=\"\"),\"Yes\",\"\")","v":""},"",{"$f":"IF(AND(DG13=\"Yes\",DG12=\"\",DG11=\"\",DG10=\"\"),\"Yes\",\"\")","v":""},{"$f":"IF(AND(N13>='Warrant 7 & 8 - MUTCD'!$L$16,OR('Traffic Volume Input'!O13>='Warrant 7 & 8 - MUTCD'!$N$16,'Traffic Volume Input'!P13>='Warrant 7 & 8 - MUTCD'!$N$16)),\"Yes\",\"\")","v":""},"","",{"$f":"IF(AND(DK13=\"Yes\",DK12=\"\",DK11=\"\",DK10=\"\"),\"Yes\",\"\")","v":""},"",{"$f":"IF(AND(DM13=\"Yes\",DM12=\"\",DM11=\"\",DM10=\"\"),\"Yes\",\"\")","v":""},"",{"$f":"IF(AND(DO13=\"Yes\",DO12=\"\",DO11=\"\",DO10=\"\"),\"Yes\",\"\")","v":""},"",{"$f":"IF(AND(DQ13=\"Yes\",DQ12=\"\",DQ11=\"\",DQ10=\"\"),\"Yes\",\"\")","v":""},"",{"$f":"IF(AND(DS13=\"Yes\",DS12=\"\",DS11=\"\",DS10=\"\"),\"Yes\",\"\")","v":""},"",{"$f":"IF(AND(DU13=\"Yes\",DU12=\"\",DU11=\"\",DU10=\"\"),\"Yes\",\"\")","v":""},"",{"$f":"IF(AND(DW13=\"Yes\",DW12=\"\",DW11=\"\",DW10=\"\"),\"Yes\",\"\")","v":""},"",{"$f":"IF(AND(DY13=\"Yes\",DY12=\"\",DY11=\"\",DY10=\"\"),\"Yes\",\"\")","v":""},"",{"$f":"IF(AND(EA13=\"Yes\",EA12=\"\",EA11=\"\",EA10=\"\"),\"Yes\",\"\")","v":""},"",{"$f":"IF(AND(EC13=\"Yes\",EC12=\"\",EC11=\"\",EC10=\"\"),\"Yes\",\"\")","v":""},"",{"$f":"IF(AND(EE13=\"Yes\",EE12=\"\",EE11=\"\",EE10=\"\"),\"Yes\",\"\")","v":""},"",{"$f":"IF(AND(EG13=\"Yes\",EG12=\"\",EG11=\"\",EG10=\"\"),\"Yes\",\"\")","v":""},"",{"$f":"IF(AND(EI13=\"Yes\",EI12=\"\",EI11=\"\",EI10=\"\"),\"Yes\",\"\")","v":""},"",{"$f":"IF(AND(EK13=\"Yes\",EK12=\"\",EK11=\"\",EK10=\"\"),\"Yes\",\"\")","v":""},"",{"$f":"IF(AND(EM13=\"Yes\",EM12=\"\",EM11=\"\",EM10=\"\"),\"Yes\",\"\")","v":""},"",{"$f":"IF(AND(EO13=\"Yes\",EO12=\"\",EO11=\"\",EO10=\"\"),\"Yes\",\"\")","v":""},"",{"$f":"IF(AND(EQ13=\"Yes\",EQ12=\"\",EQ11=\"\",EQ10=\"\"),\"Yes\",\"\")","v":""},"",{"$f":"IF(AND(ES13=\"Yes\",ES12=\"\",ES11=\"\",ES10=\"\"),\"Yes\",\"\")","v":""},"",{"$f":"IF(AND(EU13=\"Yes\",EU12=\"\",EU11=\"\",EU10=\"\"),\"Yes\",\"\")","v":""},"",{"$f":"IF(AND(EW13=\"Yes\",EW12=\"\",EW11=\"\",EW10=\"\"),\"Yes\",\"\")","v":""},"","","",{"$f":"IF(AND(FA13=\"Yes\",FA12=\"\",FA11=\"\",FA10=\"\"),\"Yes\",\"\")","v":""},"","",{"$f":"IF(AND(N13>='Warrant 7 & 8 - MUTCD'!$L$25,OR('Traffic Volume Input'!O13>='Warrant 7 & 8 - MUTCD'!$N$25,'Traffic Volume Input'!P13>='Warrant 7 & 8 - MUTCD'!$N$25)),\"Yes\",\"\")","v":""},"","",{"$f":"IF(AND(FG13=\"Yes\",FG12=\"\",FG11=\"\",FG10=\"\"),\"Yes\",\"\")","v":""},"",{"$f":"IF(AND(FI13=\"Yes\",FI12=\"\",FI11=\"\",FI10=\"\"),\"Yes\",\"\")","v":""},"",{"$f":"IF(AND(FK13=\"Yes\",FK12=\"\",FK11=\"\",FK10=\"\"),\"Yes\",\"\")","v":""},"",{"$f":"IF(AND(FM13=\"Yes\",FM12=\"\",FM11=\"\",FM10=\"\"),\"Yes\",\"\")","v":""},"",{"$f":"IF(AND(FO13=\"Yes\",FO12=\"\",FO11=\"\",FO10=\"\"),\"Yes\",\"\")","v":""},"",{"$f":"IF(AND(FQ13=\"Yes\",FQ12=\"\",FQ11=\"\",FQ10=\"\"),\"Yes\",\"\")","v":""},"",{"$f":"IF(AND(FS13=\"Yes\",FS12=\"\",FS11=\"\",FS10=\"\"),\"Yes\",\"\")","v":""},"",{"$f":"IF(AND(FU13=\"Yes\",FU12=\"\",FU11=\"\",FU10=\"\"),\"Yes\",\"\")","v":""},"",{"$f":"IF(AND(FW13=\"Yes\",FW12=\"\",FW11=\"\",FW10=\"\"),\"Yes\",\"\")","v":""},"",{"$f":"IF(AND(FY13=\"Yes\",FY12=\"\",FY11=\"\",FY10=\"\"),\"Yes\",\"\")","v":""},"",{"$f":"IF(AND(GA13=\"Yes\",GA12=\"\",GA11=\"\",GA10=\"\"),\"Yes\",\"\")","v":""},"",{"$f":"IF(AND(GC13=\"Yes\",GC12=\"\",GC11=\"\",GC10=\"\"),\"Yes\",\"\")","v":""},"",{"$f":"IF(AND(GE13=\"Yes\",GE12=\"\",GE11=\"\",GE10=\"\"),\"Yes\",\"\")","v":""},"",{"$f":"IF(AND(GG13=\"Yes\",GG12=\"\",GG11=\"\",GG10=\"\"),\"Yes\",\"\")","v":""},"",{"$f":"IF(AND(GI13=\"Yes\",GI12=\"\",GI11=\"\",GI10=\"\"),\"Yes\",\"\")","v":""},"",{"$f":"IF(AND(GK13=\"Yes\",GK12=\"\",GK11=\"\",GK10=\"\"),\"Yes\",\"\")","v":""},"",{"$f":"IF(AND(GM13=\"Yes\",GM12=\"\",GM11=\"\",GM10=\"\"),\"Yes\",\"\")","v":""},"",{"$f":"IF(AND(GO13=\"Yes\",GO12=\"\",GO11=\"\",GO10=\"\"),\"Yes\",\"\")","v":""},"",{"$f":"IF(AND(GQ13=\"Yes\",GQ12=\"\",GQ11=\"\",GQ10=\"\"),\"Yes\",\"\")","v":""},"",{"$f":"IF(AND(GS13=\"Yes\",GS12=\"\",GS11=\"\",GS10=\"\"),\"Yes\",\"\")","v":""},"","","",{"$f":"IF(AND(GW13=\"Yes\",GW12=\"\",GW11=\"\",GW10=\"\"),\"Yes\",\"\")","v":""},"",""]
["02:00:00","02:14:00",null,null,0,null,null,null,null,"02:00:00","02:59:00",0,0,0,0,0,{"$f":"IF(AND(N14>='Warrant 1 - MUTCD'!$M$23,OR('Traffic Volume Input'!O14>='Warrant 1 - MUTCD'!$Q$23,'Traffic Volume Input'!P14>='Warrant 1 - MUTCD'!$Q$23)),\"Yes\",\"\")","v":""},"","","","","","",{"$f":"IF(AND(W14=\"Yes\",W13=\"\",W12=\"\",W11=\"\"),\"Yes\",\"\")","v":""},"",{"$f":"IF(AND(Y14=\"Yes\",Y13=\"\",Y12=\"\",Y11=\"\"),\"Yes\",\"\")","v":""},"",{"$f":"IF(AND(AA14=\"Yes\",AA13=\"\",AA12=\"\",AA11=\"\"),\"Yes\",\"\")","v":""},"",{"$f":"IF(AND(AC14=\"Yes\",AC13=\"\",AC12=\"\",AC11=\"\"),\"Yes\",\"\")","v":""},"",{"$f":"IF(AND(AE14=\"Yes\",AE13=\"\",AE12=\"\",AE11=\"\"),\"Yes\",\"\")","v":""},"",{"$f":"IF(AND(AG14=\"Yes\",AG13=\"\",AG12=\"\",AG11=\"\"),\"Yes\",\"\")","v":""},"",{"$f":"IF(AND(AI14=\"Yes\",AI13=\"\",AI12=\"\",AI11=\"\"),\"Yes\",\"\")","v":""},"",{"$f":"IF(AND(AK14=\"Yes\",AK13=\"\",AK12=\"\",AK11=\"\"),\"Yes\",\"\")","v":""},"",{"$f":"IF(AND(AM14=\"Yes\",AM13=\"\",AM12=\"\",AM11=\"\"),\"Yes\",\"\")","v":""},"",{"$f":"IF(AND(AO14=\"Yes\",AO13=\"\",AO12=\"\",AO11=\"\"),\"Yes\",\"\")","v":""},"",{"$f":"IF(AND(AQ14=\"Yes\",AQ13=\"\",AQ12=\"\",AQ11=\"\"),\"Yes\",\"\")","v":""},"",{"$f":"IF(AND(AS14=\"Yes\",AS13=\"\",AS12=\"\",AS11=\"\"),\"Yes\",\"\")","v":""},"",{"$f":"IF(AND(AU14=\"Yes\",AU13=\"\",AU12=\"\",AU11=\"\"),\"Yes\",\"\")","v":""},"",{"$f":"IF(AND(AW14=\"Yes\",AW13=\"\",AW12=\"\",AW11=\"\"),\"Yes\",\"\")","v":""},"",{"$f":"IF(AND(AY14=\"Yes\",AY13=\"\",AY12=\"\",AY11=\"\"),\"Yes\",\"\")","v":""},"",{"$f":"IF(AND(BA14=\"Yes\",BA13=\"\",BA12=\"\",BA11=\"\"),\"Yes\",\"\")","v":""},"",{"$f":"IF(AND(BC14=\"Yes\",BC13=\"\",BC12=\"\",BC11=\"\"),\"Yes\",\"\")","v":""},"",{"$f":"IF(AND(BE14=\"Yes\",BE13=\"\",BE12=\"\",BE11=\"\"),\"Yes\",\"\")","v":""},"",{"$f":"IF(AND(BG14=\"Yes\",BG13=\"\",BG12=\"\",BG11=\"\"),\"Yes\",\"\")","v":""},"",{"$f":"IF(AND(BI14=\"Yes\",BI13=\"\",BI12=\"\",BI11=\"\"),\"Yes\",\"\")","v":""},"","",{"$f":"IF(AND(N14>='Warrant 1 - MUTCD'!$M$32,OR('Traffic Volume Input'!O14>='Warrant 1 - MUTCD'!$Q$32,'Traffic Volume Input'!P14>='Warrant 1 - MUTCD'!$Q$32)),\"Yes\",\"\")","v":""},"","",{"$f":"IF(AND(BO14=\"Yes\",BO13=\"\",BO12=\"\",BO11=\"\"),\"Yes\",\"\")","v":""},"",{"$f":"IF(AND(BQ14=\"Yes\",BQ13=\"\",BQ12=\"\",BQ11=\"\"),\"Yes\",\"\")","v":""},"",{"$f":"IF(AND(BS14=\"Yes\",BS13=\"\",BS12=\"\",BS11=\"\"),\"Yes\",\"\")","v":""},"",{"$f":"IF(AND(BU14=\"Yes\",BU13=\"\",BU12=\"\",BU11=\"\"),\"Yes\",\"\")","v":""},"",{"$f":"IF(AND(BW14=\"Yes\",BW13=\"\",BW12=\"\",BW11=\"\"),\"Yes\",\"\")","v":""},"",{"$f":"IF(AND(BY14=\"Yes\",BY13=\"\",BY12=\"\",BY11=\"\"),\"Yes\",\"\")","v":""},"",{"$f":"IF(AND(CA14=\"Yes\",CA13=\"\",CA12=\"\",CA11=\"\"),\"Yes\",\"\")","v":""},"",{"$f":"IF(AND(CC14=\"Yes\",CC13=\"\",CC12=\"\",CC11=\"\"),\"Yes\",\"\")","v":""},"",{"$f":"IF(AND(CE14=\"Yes\",CE13=\"\",CE12=\"\",CE11=\"\"),\"Yes\",\"\")","v":""},"",{"$f":"IF(AND(CG14=\"Yes\",CG13=\"\",CG12=\"\",CG11=\"\"),\"Yes\",\"\")","v":""},"",{"$f":"IF(AND(CI14=\"Yes\",CI13=\"\",CI12=\"\",CI11=\"\"),\"Yes\",\"\")","v":""},"",{"$f":"IF(AND(CK14=\"Yes\",CK13=\"\",CK12=\"\",CK11=\"\"),\"Yes\",\"\")","v":""},"",{"$f":"IF(AND(CM14=\"Yes\",CM13=\"\",CM12=\"\",CM11=\"\"),\"Yes\",\"\")","v":""},"",{"$f":"IF(AND(CO14=\"Yes\",CO13=\"\",CO12=\"\",CO11=\"\"),\"Yes\",\"\")","v":""},"",{"$f":"IF(AND(CQ14=\"Yes\",CQ13=\"\",CQ12=\"\",CQ11=\"\"),\"Yes\",\"\")","v":""},"",{"$f":"IF(AND(CS14=\"Yes\",CS13=\"\",CS12=\"\",CS11=\"\"),\"Yes\",\"\")","v":""},"",{"$f":"IF(AND(CU14=\"Yes\",CU13=\"\",CU12=\"\",CU11=\"\"),\"Yes\",\"\")","v":""},"",{"$f":"IF(AND(CW14=\"Yes\",CW13=\"\",CW12=\"\",CW11=\"\"),\"Yes\",\"\")","v":""},"",{"$f":"IF(AND(CY14=\"Yes\",CY13=\"\",CY12=\"\",CY11=\"\"),\"Yes\",\"\")","v":""},"",{"$f":"IF(AND(DA14=\"Yes\",DA13=\"\",DA12=\"\",DA11=\"\"),\"Yes\",\"\")","v":""},"","","",{"$f":"IF(AND(DE14=\"Yes\",DE13=\"\",DE12=\"\",DE11=\"\"),\"Yes\",\"\")","v":""},"",{"$f":"IF(AND(DG14=\"Yes\",DG13=\"\",DG12=\"\",DG11=\"\"),\"Yes\",\"\")","v":""},{"$f":"IF(AND(N14>='Warrant 7 & 8 - MUTCD'!$L$16,OR('Traffic Volume Input'!O14>='Warrant 7 & 8 - MUTCD'!$N$16,'Traffic Volume Input'!P14>='Warrant 7 & 8 - MUTCD'!$N$16)),\"Yes\",\"\")","v":""},"","",{"$f":"IF(AND(DK14=\"Yes\",DK13=\"\",DK12=\"\",DK11=\"\"),\"Yes\",\"\")","v":""},"",{"$f":"IF(AND(DM14=\"Yes\",DM13=\"\",DM12=\"\",DM11=\"\"),\"Yes\",\"\")","v":""},"",{"$f":"IF(AND(DO14=\"Yes\",DO13=\"\",DO12=\"\",DO11=\"\"),\"Yes\",\"\")","v":""},"",{"$f":"IF(AND(DQ14=\"Yes\",DQ13=\"\",DQ12=\"\",DQ11=\"\"),\"Yes\",\"\")","v":""},"",{"$f":"IF(AND(DS14=\"Yes\",DS13=\"\",DS12=\"\",DS11=\"\"),\"Yes\",\"\")","v":""},"",{"$f":"IF(AND(DU14=\"Yes\",DU13=\"\",DU12=\"\",DU11=\"\"),\"Yes\",\"\")","v":""},"",{"$f":"IF(AND(DW14=\"Yes\",DW13=\"\",DW12=\"\",DW11=\"\"),\"Yes\",\"\")","v":""},"",{"$f":"IF(AND(DY14=\"Yes\",DY13=\"\",DY12=\"\",DY11=\"\"),\"Yes\",\"\")","v":""},"",{"$f":"IF(AND(EA14=\"Yes\",EA13=\"\",EA12=\"\",EA11=\"\"),\"Yes\",\"\")","v":""},"",{"$f":"IF(AND(EC14=\"Yes\",EC13=\"\",EC12=\"\",EC11=\"\"),\"Yes\",\"\")","v":""},"",{"$f":"IF(AND(EE14=\"Yes\",EE13=\"\",EE12=\"\",EE11=\"\"),\"Yes\",\"\")","v":""},"",{"$f":"IF(AND(EG14=\"Yes\",EG13=\"\",EG12=\"\",EG11=\"\"),\"Yes\",\"\")","v":""},"",{"$f":"IF(AND(EI14=\"Yes\",EI13=\"\",EI12=\"\",EI11=\"\"),\"Yes\",\"\")","v":""},"",{"$f":"IF(AND(EK14=\"Yes\",EK13=\"\",EK12=\"\",EK11=\"\"),\"Yes\",\"\")","v":""},"",{"$f":"IF(AND(EM14=\"Yes\",EM13=\"\",EM12=\"\",EM11=\"\"),\"Yes\",\"\")","v":""},"",{"$f":"IF(AND(EO14=\"Yes\",EO13=\"\",EO12=\"\",EO11=\"\"),\"Yes\",\"\")","v":""},"",{"$f":"IF(AND(EQ14=\"Yes\",EQ13=\"\",EQ12=\"\",EQ11=\"\"),\"Yes\",\"\")","v":""},"",{"$f":"IF(AND(ES14=\"Yes\",ES13=\"\",ES12=\"\",ES11=\"\"),\"Yes\",\"\")","v":""},"",{"$f":"IF(AND(EU14=\"Yes\",EU13=\"\",EU12=\"\",EU11=\"\"),\"Yes\",\"\")","v":""},"",{"$f":"IF(AND(EW14=\"Yes\",EW13=\"\",EW12=\"\",EW11=\"\"),\"Yes\",\"\")","v":""},"","","",{"$f":"IF(AND(FA14=\"Yes\",FA13=\"\",FA12=\"\",FA11=\"\"),\"Yes\",\"\")","v":""},"","",{"$f":"IF(AND(N14>='Warrant 7 & 8 - MUTCD'!$L$25,OR('Traffic Volume Input'!O14>='Warrant 7 & 8 - MUTCD'!$N$25,'Traffic Volume Input'!P14>='Warrant 7 & 8 - MUTCD'!$N$25)),\"Yes\",\"\")","v":""},"","",{"$f":"IF(AND(FG14=\"Yes\",FG13=\"\",FG12=\"\",FG11=\"\"),\"Yes\",\"\")","v":""},"",{"$f":"IF(AND(FI14=\"Yes\",FI13=\"\",FI12=\"\",FI11=\"\"),\"Yes\",\"\")","v":""},"",{"$f":"IF(AND(FK14=\"Yes\",FK13=\"\",FK12=\"\",FK11=\"\"),\"Yes\",\"\")","v":""},"",{"$f":"IF(AND(FM14=\"Yes\",FM13=\"\",FM12=\"\",FM11=\"\"),\"Yes\",\"\")","v":""},"",{"$f":"IF(AND(FO14=\"Yes\",FO13=\"\",FO12=\"\",FO11=\"\"),\"Yes\",\"\")","v":""},"",{"$f":"IF(AND(FQ14=\"Yes\",FQ13=\"\",FQ12=\"\",FQ11=\"\"),\"Yes\",\"\")","v":""},"",{"$f":"IF(AND(FS14=\"Yes\",FS13=\"\",FS12=\"\",FS11=\"\"),\"Yes\",\"\")","v":""},"",{"$f":"IF(AND(FU14=\"Yes\",FU13=\"\",FU12=\"\",FU11=\"\"),\"Yes\",\"\")","v":""},"",{"$f":"IF(AND(FW14=\"Yes\",FW13=\"\",FW12=\"\",FW11=\"\"),\"Yes\",\"\")","v":""},"",{"$f":"IF(AND(FY14=\"Yes\",FY13=\"\",FY12=\"\",FY11=\"\"),\"Yes\",\"\")","v":""},"",{"$f":"IF(AND(GA14=\"Yes\",GA13=\"\",GA12=\"\",GA11=\"\"),\"Yes\",\"\")","v":""},"",{"$f":"IF(AND(GC14=\"Yes\",GC13=\"\",GC12=\"\",GC11=\"\"),\"Yes\",\"\")","v":""},"",{"$f":"IF(AND(GE14=\"Yes\",GE13=\"\",GE12=\"\",GE11=\"\"),\"Yes\",\"\")","v":""},"",{"$f":"IF(AND(GG14=\"Yes\",GG13=\"\",GG12=\"\",GG11=\"\"),\"Yes\",\"\")","v":""},"",{"$f":"IF(AND(GI14=\"Yes\",GI13=\"\",GI12=\"\",GI11=\"\"),\"Yes\",\"\")","v":""},"",{"$f":"IF(AND(GK14=\"Yes\",GK13=\"\",GK12=\"\",GK11=\"\"),\"Yes\",\"\")","v":""},"",{"$f":"IF(AND(GM14=\"Yes\",GM13=\"\",GM12=\"\",GM11=\"\"),\"Yes\",\"\")","v":""},"",{"$f":"IF(AND(GO14=\"Yes\",GO13=\"\",GO12=\"\",GO11=\"\"),\"Yes\",\"\")","v":""},"",{"$f":"IF(AND(GQ14=\"Yes\",GQ13=\"\",GQ12=\"\",GQ11=\"\"),\"Yes\",\"\")","v":""},"",{"$f":"IF(AND(GS14=\"Yes\",GS13=\"\",GS12=\"\",GS11=\"\"),\"Yes\",\"\")","v":""},"","","",{"$f":"IF(AND(GW14=\"Yes\",GW13=\"\",GW12=\"\",GW11=\"\"),\"Yes\",\"\")","v":""},"",""]
["02:15:00","02:29:00",null,null,0,null,null,null,null,"02:15:00","03:14:00",0,0,0,0,0,{"$f":"IF(AND(N15>='Warrant 1 - MUTCD'!$M$23,OR('Traffic Volume Input'!O15>='Warrant 1 - MUTCD'!$Q$23,'Traffic Volume Input'!P15>='Warrant 1 - MUTCD'!$Q$23)),\"Yes\",\"\")","v":""},"","","","","","",{"$f":"IF(AND(W15=\"Yes\",W14=\"\",W13=\"\",W12=\"\"),\"Yes\",\"\")","v":""},"",{"$f":"IF(AND(Y15=\"Yes\",Y14=\"\",Y13=\"\",Y12=\"\"),\"Yes\",\"\")","v":""},"",{"$f":"IF(AND(AA15=\"Yes\",AA14=\"\",AA13=\"\",AA12=\"\"),\"Yes\",\"\")","v":""},"",{"$f":"IF(AND(AC15=\"Yes\",AC14=\"\",AC13=\"\",AC12=\"\"),\"Yes\",\"\")","v":""},"",{"$f":"IF(AND(AE15=\"Yes\",AE14=\"\",AE13=\"\",AE12=\"\"),\"Yes\",\"\")","v":""},"",{"$f":"IF(AND(AG15=\"Yes\",AG14=\"\",AG13=\"\",AG12=\"\"),\"Yes\",\"\")","v":""},"",{"$f":"IF(AND(AI15=\"Yes\",AI14=\"\",AI13=\"\",AI12=\"\"),\"Yes\",\"\")","v":""},"",{"$f":"IF(AND(AK15=\"Yes\",AK14=\"\",AK13=\"\",AK12=\"\"),\"Yes\",\"\")","v":""},"",{"$f":"IF(AND(AM15=\"Yes\",AM14=\"\",AM13=\"\",AM12=\"\"),\"Yes\",\"\")","v":""},"",{"$f":"IF(AND(AO15=\"Yes\",AO14=\"\",AO13=\"\",AO12=\"\"),\"Yes\",\"\")","v":""},"",{"$f":"IF(AND(AQ15=\"Yes\",AQ14=\"\",AQ13=\"\",AQ12=\"\"),\"Yes\",\"\")","v":""},"",{"$f":"IF(AND(AS15=\"Yes\",AS14=\"\",AS13=\"\",AS12=\"\"),\"Yes\",\"\")","v":""},"",{"$f":"IF(AND(AU15=\"Yes\",AU14=\"\",AU13=\"\",AU12=\"\"),\"Yes\",\"\")","v":""},"",{"$f":"IF(AND(AW15=\"Yes\",AW14=\"\",AW13=\"\",AW12=\"\"),\"Yes\",\"\")","v":""},"",{"$f":"IF(AND(AY15=\"Yes\",AY14=\"\",AY13=\"\",AY12=\"\"),\"Yes\",\"\")","v":""},"",{"$f":"IF(AND(BA15=\"Yes\",BA14=\"\",BA13=\"\",BA12=\"\"),\"Yes\",\"\")","v":""},"",{"$f":"IF(AND(BC15=\"Yes\",BC14=\"\",BC13=\"\",BC12=\"\"),\"Yes\",\"\")","v":""},"",{"$f":"IF(AND(BE15=\"Yes\",BE14=\"\",BE13=\"\",BE12=\"\"),\"Yes\",\"\")","v":""},"",{"$f":"IF(AND(BG15=\"Yes\",BG14=\"\",BG13=\"\",BG12=\"\"),\"Yes\",\"\")","v":""},"",{"$f":"IF(AND(BI15=\"Yes\",BI14=\"\",BI13=\"\",BI12=\"\"),\"Yes\",\"\")","v":""},"","",{"$f":"IF(AND(N15>='Warrant 1 - MUTCD'!$M$32,OR('Traffic Volume Input'!O15>='Warrant 1 - MUTCD'!$Q$32,'Traffic Volume Input'!P15>='Warrant 1 - MUTCD'!$Q$32)),\"Yes\",\"\")","v":""},"","",{"$f":"IF(AND(BO15=\"Yes\",BO14=\"\",BO13=\"\",BO12=\"\"),\"Yes\",\"\")","v":""},"",{"$f":"IF(AND(BQ15=\"Yes\",BQ14=\"\",BQ13=\"\",BQ12=\"\"),\"Yes\",\"\")","v":""},"",{"$f":"IF(AND(BS15=\"Yes\",BS14=\"\",BS13=\"\",BS12=\"\"),\"Yes\",\"\")","v":""},"",{"$f":"IF(AND(BU15=\"Yes\",BU14=\"\",BU13=\"\",BU12=\"\"),\"Yes\",\"\")","v":""},"",{"$f":"IF(AND(BW15=\"Yes\",BW14=\"\",BW13=\"\",BW12=\"\"),\"Yes\",\"\")","v":""},"",{"$f":"IF(AND(BY15=\"Yes\",BY14=\"\",BY13=\"\",BY12=\"\"),\"Yes\",\"\")","v":""},"",{"$f":"IF(AND(CA15=\"Yes\",CA14=\"\",CA13=\"\",CA12=\"\"),\"Yes\",\"\")","v":""},"",{"$f":"IF(AND(CC15=\"Yes\",CC14=\"\",CC13=\"\",CC12=\"\"),\"Yes\",\"\")","v":""},"",{"$f":"IF(AND(CE15=\"Yes\",CE14=\"\",CE13=\"\",CE12=\"\"),\"Yes\",\"\")","v":""},"",{"$f":"IF(AND(CG15=\"Yes\",CG14=\"\",CG13=\"\",CG12=\"\"),\"Yes\",\"\")","v":""},"",{"$f":"IF(AND(CI15=\"Yes\",CI14=\"\",CI13=\"\",CI12=\"\"),\"Yes\",\"\")","v":""},"",{"$f":"IF(AND(CK15=\"Yes\",CK14=\"\",CK13=\"\",CK12=\"\"),\"Yes\",\"\")","v":""},"",{"$f":"IF(AND(CM15=\"Yes\",CM14=\"\",CM13=\"\",CM12=\"\"),\"Yes\",\"\")","v":""},"",{"$f":"IF(AND(CO15=\"Yes\",CO14=\"\",CO13=\"\",CO12=\"\"),\"Yes\",\"\")","v":""},"",{"$f":"IF(AND(CQ15=\"Yes\",CQ14=\"\",CQ13=\"\",CQ12=\"\"),\"Yes\",\"\")","v":""},"",{"$f":"IF(AND(CS15=\"Yes\",CS14=\"\",CS13=\"\",CS12=\"\"),\"Yes\",\"\")","v":""},"",{"$f":"IF(AND(CU15=\"Yes\",CU14=\"\",CU13=\"\",CU12=\"\"),\"Yes\",\"\")","v":""},"",{"$f":"IF(AND(CW15=\"Yes\",CW14=\"\",CW13=\"\",CW12=\"\"),\"Yes\",\"\")","v":""},"",{"$f":"IF(AND(CY15=\"Yes\",CY14=\"\",CY13=\"\",CY12=\"\"),\"Yes\",\"\")","v":""},"",{"$f":"IF(AND(DA15=\"Yes\",DA14=\"\",DA13=\"\",DA12=\"\"),\"Yes\",\"\")","v":""},"","","",{"$f":"IF(AND(DE15=\"Yes\",DE14=\"\",DE13=\"\",DE12=\"\"),\"Yes\",\"\")","v":""},"",{"$f":"IF(AND(DG15=\"Yes\",DG14=\"\",DG13=\"\",DG12=\"\"),\"Yes\",\"\")","v":""},{"$f":"IF(AND(N15>='Warrant 7 & 8 - MUTCD'!$L$16,OR('Traffic Volume Input'!O15>='Warrant 7 & 8 - MUTCD'!$N$16,'Traffic Volume Input'!P15>='Warrant 7 & 8 - MUTCD'!$N$16)),\"Yes\",\"\")","v":""},"","",{"$f":"IF(AND(DK15=\"Yes\",DK14=\"\",DK13=\"\",DK12=\"\"),\"Yes\",\"\")","v":""},"",{"$f":"IF(AND(DM15=\"Yes\",DM14=\"\",DM13=\"\",DM12=\"\"),\"Yes\",\"\")","v":""},"",{"$f":"IF(AND(DO15=\"Yes\",DO14=\"\",DO13=\"\",DO12=\"\"),\"Yes\",\"\")","v":""},"",{"$f":"IF(AND(DQ15=\"Yes\",DQ14=\"\",DQ13=\"\",DQ12=\"\"),\"Yes\",\"\")","v":""},"",{"$f":"IF(AND(DS15=\"Yes\",DS14=\"\",DS13=\"\",DS12=\"\"),\"Yes\",\"\")","v":""},"",{"$f":"IF(AND(DU15=\"Yes\",DU14=\"\",DU13=\"\",DU12=\"\"),\"Yes\",\"\")","v":""},"",{"$f":"IF(AND(DW15=\"Yes\",DW14=\"\",DW13=\"\",DW12=\"\"),\"Yes\",\"\")","v":""},"",{"$f":"IF(AND(DY15=\"Yes\",DY14=\"\",DY13=\"\",DY12=\"\"),\"Yes\",\"\")","v":""},"",{"$f":"IF(AND(EA15=\"Yes\",EA14=\"\",EA13=\"\",EA12=\"\"),\"Yes\",\"\")","v":""},"",{"$f":"IF(AND(EC15=\"Yes\",EC14=\"\",EC13=\"\",EC12=\"\"),\"Yes\",\"\")","v":""},"",{"$f":"IF(AND(EE15=\"Yes\",EE14=\"\",EE13=\"\",EE12=\"\"),\"Yes\",\"\")","v":""},"",{"$f":"IF(AND(EG15=\"Yes\",EG14=\"\",EG13=\"\",EG12=\"\"),\"Yes\",\"\")","v":""},"",{"$f":"IF(AND(EI15=\"Yes\",EI14=\"\",EI13=\"\",EI12=\"\"),\"Yes\",\"\")","v":""},"",{"$f":"IF(AND(EK15=\"Yes\",EK14=\"\",EK13=\"\",EK12=\"\"),\"Yes\",\"\")","v":""},"",{"$f":"IF(AND(EM15=\"Yes\",EM14=\"\",EM13=\"\",EM12=\"\"),\"Yes\",\"\")","v":""},"",{"$f":"IF(AND(EO15=\"Yes\",EO14=\"\",EO13=\"\",EO12=\"\"),\"Yes\",\"\")","v":""},"",{"$f":"IF(AND(EQ15=\"Yes\",EQ14=\"\",EQ13=\"\",EQ12=\"\"),\"Yes\",\"\")","v":""},"",{"$f":"IF(AND(ES15=\"Yes\",ES14=\"\",ES13=\"\",ES12=\"\"),\"Yes\",\"\")","v":""},"",{"$f":"IF(AND(EU15=\"Yes\",EU14=\"\",EU13=\"\",EU12=\"\"),\"Yes\",\"\")","v":""},"",{"$f":"IF(AND(EW15=\"Yes\",EW14=\"\",EW13=\"\",EW12=\"\"),\"Yes\",\"\")","v":""},"","","",{"$f":"IF(AND(FA15=\"Yes\",FA14=\"\",FA13=\"\",FA12=\"\"),\"Yes\",\"\")","v":""},"","",{"$f":"IF(AND(N15>='Warrant 7 & 8 - MUTCD'!$L$25,OR('Traffic Volume Input'!O15>='Warrant 7 & 8 - MUTCD'!$N$25,'Traffic Volume Input'!P15>='Warrant 7 & 8 - MUTCD'!$N$25)),\"Yes\",\"\")","v":""},"","",{"$f":"IF(AND(FG15=\"Yes\",FG14=\"\",FG13=\"\",FG12=\"\"),\"Yes\",\"\")","v":""},"",{"$f":"IF(AND(FI15=\"Yes\",FI14=\"\",FI13=\"\",FI12=\"\"),\"Yes\",\"\")","v":""},"",{"$f":"IF(AND(FK15=\"Yes\",FK14=\"\",FK13=\"\",FK12=\"\"),\"Yes\",\"\")","v":""},"",{"$f":"IF(AND(FM15=\"Yes\",FM14=\"\",FM13=\"\",FM12=\"\"),\"Yes\",\"\")","v":""},"",{"$f":"IF(AND(FO15=\"Yes\",FO14=\"\",FO13=\"\",FO12=\"\"),\"Yes\",\"\")","v":""},"",{"$f":"IF(AND(FQ15=\"Yes\",FQ14=\"\",FQ13=\"\",FQ12=\"\"),\"Yes\",\"\")","v":""},"",{"$f":"IF(AND(FS15=\"Yes\",FS14=\"\",FS13=\"\",FS12=\"\"),\"Yes\",\"\")","v":""},"",{"$f":"IF(AND(FU15=\"Yes\",FU14=\"\",FU13=\"\",FU12=\"\"),\"Yes\",\"\")","v":""},"",{"$f":"IF(AND(FW15=\"Yes\",FW14=\"\",FW13=\"\",FW12=\"\"),\"Yes\",\"\")","v":""},"",{"$f":"IF(AND(FY15=\"Yes\",FY14=\"\",FY13=\"\",FY12=\"\"),\"Yes\",\"\")","v":""},"",{"$f":"IF(AND(GA15=\"Yes\",GA14=\"\",GA13=\"\",GA12=\"\"),\"Yes\",\"\")","v":""},"",{"$f":"IF(AND(GC15=\"Yes\",GC14=\"\",GC13=\"\",GC12=\"\"),\"Yes\",\"\")","v":""},"",{"$f":"IF(AND(GE15=\"Yes\",GE14=\"\",GE13=\"\",GE12=\"\"),\"Yes\",\"\")","v":""},"",{"$f":"IF(AND(GG15=\"Yes\",GG14=\"\",GG13=\"\",GG12=\"\"),\"Yes\",\"\")","v":""},"",{"$f":"IF(AND(GI15=\"Yes\",GI14=\"\",GI13=\"\",GI12=\"\"),\"Yes\",\"\")","v":""},"",{"$f":"IF(AND(GK15=\"Yes\",GK14=\"\",GK13=\"\",GK12=\"\"),\"Yes\",\"\")","v":""},"",{"$f":"IF(AND(GM15=\"Yes\",GM14=\"\",GM13=\"\",GM12=\"\"),\"Yes\",\"\")","v":""},"",{"$f":"IF(AND(GO15=\"Yes\",GO14=\"\",GO13=\"\",GO12=\"\"),\"Yes\",\"\")","v":""},"",{"$f":"IF(AND(GQ15=\"Yes\",GQ14=\"\",GQ13=\"\",GQ12=\"\"),\"Yes\",\"\")","v":""},"",{"$f":"IF(AND(GS15=\"Yes\",GS14=\"\",GS13=\"\",GS12=\"\"),\"Yes\",\"\")","v":""},"","","",{"$f":"IF(AND(GW15=\"Yes\",GW14=\"\",GW13=\"\",GW12=\"\"),\"Yes\",\"\")","v":""},"",""]
["02:30:00","02:44:00",null,null,0,null,null,null,null,"02:30:00","03:29:00",0,0,0,0,0,{"$f":"IF(AND(N16>='Warrant 1 - MUTCD'!$M$23,OR('Traffic Volume Input'!O16>='Warrant 1 - MUTCD'!$Q$23,'Traffic Volume Input'!P16>='Warrant 1 - MUTCD'!$Q$23)),\"Yes\",\"\")","v":""},"","","","","","",{"$f":"IF(AND(W16=\"Yes\",W15=\"\",W14=\"\",W13=\"\"),\"Yes\",\"\")","v":""},"",{"$f":"IF(AND(Y16=\"Yes\",Y15=\"\",Y14=\"\",Y13=\"\"),\"Yes\",\"\")","v":""},"",{"$f":"IF(AND(AA16=\"Yes\",AA15=\"\",AA14=\"\",AA13=\"\"),\"Yes\",\"\")","v":""},"",{"$f":"IF(AND(AC16=\"Yes\",AC15=\"\",AC14=\"\",AC13=\"\"),\"Yes\",\"\")","v":""},"",{"$f":"IF(AND(AE16=\"Yes\",AE15=\"\",AE14=\"\",AE13=\"\"),\"Yes\",\"\")","v":""},"",{"$f":"IF(AND(AG16=\"Yes\",AG15=\"\",AG14=\"\",AG13=\"\"),\"Yes\",\"\")","v":""},"",{"$f":"IF(AND(AI16=\"Yes\",AI15=\"\",AI14=\"\",AI13=\"\"),\"Yes\",\"\")","v":""},"",{"$f":"IF(AND(AK16=\"Yes\",AK15=\"\",AK14=\"\",AK13=\"\"),\"Yes\",\"\")","v":""},"",{"$f":"IF(AND(AM16=\"Yes\",AM15=\"\",AM14=\"\",AM13=\"\"),\"Yes\",\"\")","v":""},"",{"$f":"IF(AND(AO16=\"Yes\",AO15=\"\",AO14=\"\",AO13=\"\"),\"Yes\",\"\")","v":""},"",{"$f":"IF(AND(AQ16=\"Yes\",AQ15=\"\",AQ14=\"\",AQ13=\"\"),\"Yes\",\"\")","v":""},"",{"$f":"IF(AND(AS16=\"Yes\",AS15=\"\",AS14=\"\",AS13=\"\"),\"Yes\",\"\")","v":""},"",{"$f":"IF(AND(AU16=\"Yes\",AU15=\"\",AU14=\"\",AU13=\"\"),\"Yes\",\"\")","v":""},"",{"$f":"IF(AND(AW16=\"Yes\",AW15=\"\",AW14=\"\",AW13=\"\"),\"Yes\",\"\")","v":""},"",{"$f":"IF(AND(AY16=\"Yes\",AY15=\"\",AY14=\"\",AY13=\"\"),\"Yes\",\"\")","v":""},"",{"$f":"IF(AND(BA16=\"Yes\",BA15=\"\",BA14=\"\",BA13=\"\"),\"Yes\",\"\")","v":""},"",{"$f":"IF(AND(BC16=\"Yes\",BC15=\"\",BC14=\"\",BC13=\"\"),\"Yes\",\"\")","v":""},"",{"$f":"IF(AND(BE16=\"Yes\",BE15=\"\",BE14=\"\",BE13=\"\"),\"Yes\",\"\")","v":""},"",{"$f":"IF(AND(BG16=\"Yes\",BG15=\"\",BG14=\"\",BG13=\"\"),\"Yes\",\"\")","v":""},"",{"$f":"IF(AND(BI16=\"Yes\",BI15=\"\",BI14=\"\",BI13=\"\"),\"Yes\",\"\")","v":""},"","",{"$f":"IF(AND(N16>='Warrant 1 - MUTCD'!$M$32,OR('Traffic Volume Input'!O16>='Warrant 1 - MUTCD'!$Q$32,'Traffic Volume Input'!P16>='Warrant 1 - MUTCD'!$Q$32)),\"Yes\",\"\")","v":""},"","",{"$f":"IF(AND(BO16=\"Yes\",BO15=\"\",BO14=\"\",BO13=\"\"),\"Yes\",\"\")","v":""},"",{"$f":"IF(AND(BQ16=\"Yes\",BQ15=\"\",BQ14=\"\",BQ13=\"\"),\"Yes\",\"\")","v":""},"",{"$f":"IF(AND(BS16=\"Yes\",BS15=\"\",BS14=\"\",BS13=\"\"),\"Yes\",\"\")","v":""},"",{"$f":"IF(AND(BU16=\"Yes\",BU15=\"\",BU14=\"\",BU13=\"\"),\"Yes\",\"\")","v":""},"",{"$f":"IF(AND(BW16=\"Yes\",BW15=\"\",BW14=\"\",BW13=\"\"),\"Yes\",\"\")","v":""},"",{"$f":"IF(AND(BY16=\"Yes\",BY15=\"\",BY14=\"\",BY13=\"\"),\"Yes\",\"\")","v":""},"",{"$f":"IF(AND(CA16=\"Yes\",CA15=\"\",CA14=\"\",CA13=\"\"),\"Yes\",\"\")","v":""},"",{"$f":"IF(AND(CC16=\"Yes\",CC15=\"\",CC14=\"\",CC13=\"\"),\"Yes\",\"\")","v":""},"",{"$f":"IF(AND(CE16=\"Yes\",CE15=\"\",CE14=\"\",CE13=\"\"),\"Yes\",\"\")","v":""},"",{"$f":"IF(AND(CG16=\"Yes\",CG15=\"\",CG14=\"\",CG13=\"\"),\"Yes\",\"\")","v":""},"",{"$f":"IF(AND(CI16=\"Yes\",CI15=\"\",CI14=\"\",CI13=\"\"),\"Yes\",\"\")","v":""},"",{"$f":"IF(AND(CK16=\"Yes\",CK15=\"\",CK14=\"\",CK13=\"\"),\"Yes\",\"\")","v":""},"",{"$f":"IF(AND(CM16=\"Yes\",CM15=\"\",CM14=\"\",CM13=\"\"),\"Yes\",\"\")","v":""},"",{"$f":"IF(AND(CO16=\"Yes\",CO15=\"\",CO14=\"\",CO13=\"\"),\"Yes\",\"\")","v":""},"",{"$f":"IF(AND(CQ16=\"Yes\",CQ15=\"\",CQ14=\"\",CQ13=\"\"),\"Yes\",\"\")","v":""},"",{"$f":"IF(AND(CS16=\"Yes\",CS15=\"\",CS14=\"\",CS13=\"\"),\"Yes\",\"\")","v":""},"",{"$f":"IF(AND(CU16=\"Yes\",CU15=\"\",CU14=\"\",CU13=\"\"),\"Yes\",\"\")","v":""},"",{"$f":"IF(AND(CW16=\"Yes\",CW15=\"\",CW14=\"\",CW13=\"\"),\"Yes\",\"\")","v":""},"",{"$f":"IF(AND(CY16=\"Yes\",CY15=\"\",CY14=\"\",CY13=\"\"),\"Yes\",\"\")","v":""},"",{"$f":"IF(AND(DA16=\"Yes\",DA15=\"\",DA14=\"\",DA13=\"\"),\"Yes\",\"\")","v":""},"","","",{"$f":"IF(AND(DE16=\"Yes\",DE15=\"\",DE14=\"\",DE13=\"\"),\"Yes\",\"\")","v":""},"",{"$f":"IF(AND(DG16=\"Yes\",DG15=\"\",DG14=\"\",DG13=\"\"),\"Yes\",\"\")","v":""},{"$f":"IF(AND(N16>='Warrant 7 & 8 - MUTCD'!$L$16,OR('Traffic Volume Input'!O16>='Warrant 7 & 8 - MUTCD'!$N$16,'Traffic Volume Input'!P16>='Warrant 7 & 8 - MUTCD'!$N$16)),\"Yes\",\"\")","v":""},"","",{"$f":"IF(AND(DK16=\"Yes\",DK15=\"\",DK14=\"\",DK13=\"\"),\"Yes\",\"\")","v":""},"",{"$f":"IF(AND(DM16=\"Yes\",DM15=\"\",DM14=\"\",DM13=\"\"),\"Yes\",\"\")","v":""},"",{"$f":"IF(AND(DO16=\"Yes\",DO15=\"\",DO14=\"\",DO13=\"\"),\"Yes\",\"\")","v":""},"",{"$f":"IF(AND(DQ16=\"Yes\",DQ15=\"\",DQ14=\"\",DQ13=\"\"),\"Yes\",\"\")","v":""},"",{"$f":"IF(AND(DS16=\"Yes\",DS15=\"\",DS14=\"\",DS13=\"\"),\"Yes\",\"\")","v":""},"",{"$f":"IF(AND(DU16=\"Yes\",DU15=\"\",DU14=\"\",DU13=\"\"),\"Yes\",\"\")","v":""},"",{"$f":"IF(AND(DW16=\"Yes\",DW15=\"\",DW14=\"\",DW13=\"\"),\"Yes\",\"\")","v":""},"",{"$f":"IF(AND(DY16=\"Yes\",DY15=\"\",DY14=\"\",DY13=\"\"),\"Yes\",\"\")","v":""},"",{"$f":"IF(AND(EA16=\"Yes\",EA15=\"\",EA14=\"\",EA13=\"\"),\"Yes\",\"\")","v":""},"",{"$f":"IF(AND(EC16=\"Yes\",EC15=\"\",EC14=\"\",EC13=\"\"),\"Yes\",\"\")","v":""},"",{"$f":"IF(AND(EE16=\"Yes\",EE15=\"\",EE14=\"\",EE13=\"\"),\"Yes\",\"\")","v":""},"",{"$f":"IF(AND(EG16=\"Yes\",EG15=\"\",EG14=\"\",EG13=\"\"),\"Yes\",\"\")","v":""},"",{"$f":"IF(AND(EI16=\"Yes\",EI15=\"\",EI14=\"\",EI13=\"\"),\"Yes\",\"\")","v":""},"",{"$f":"IF(AND(EK16=\"Yes\",EK15=\"\",EK14=\"\",EK13=\"\"),\"Yes\",\"\")","v":""},"",{"$f":"IF(AND(EM16=\"Yes\",EM15=\"\",EM14=\"\",EM13=\"\"),\"Yes\",\"\")","v":""},"",{"$f":"IF(AND(EO16=\"Yes\",EO15=\"\",EO14=\"\",EO13=\"\"),\"Yes\",\"\")","v":""},"",{"$f":"IF(AND(EQ16=\"Yes\",EQ15=\"\",EQ14=\"\",EQ13=\"\"),\"Yes\",\"\")","v":""},"",{"$f":"IF(AND(ES16=\"Yes\",ES15=\"\",ES14=\"\",ES13=\"\"),\"Yes\",\"\")","v":""},"",{"$f":"IF(AND(EU16=\"Yes\",EU15=\"\",EU14=\"\",EU13=\"\"),\"Yes\",\"\")","v":""},"",{"$f":"IF(AND(EW16=\"Yes\",EW15=\"\",EW14=\"\",EW13=\"\"),\"Yes\",\"\")","v":""},"","","",{"$f":"IF(AND(FA16=\"Yes\",FA15=\"\",FA14=\"\",FA13=\"\"),\"Yes\",\"\")","v":""},"","",{"$f":"IF(AND(N16>='Warrant 7 & 8 - MUTCD'!$L$25,OR('Traffic Volume Input'!O16>='Warrant 7 & 8 - MUTCD'!$N$25,'Traffic Volume Input'!P16>='Warrant 7 & 8 - MUTCD'!$N$25)),\"Yes\",\"\")","v":""},"","",{"$f":"IF(AND(FG16=\"Yes\",FG15=\"\",FG14=\"\",FG13=\"\"),\"Yes\",\"\")","v":""},"",{"$f":"IF(AND(FI16=\"Yes\",FI15=\"\",FI14=\"\",FI13=\"\"),\"Yes\",\"\")","v":""},"",{"$f":"IF(AND(FK16=\"Yes\",FK15=\"\",FK14=\"\",FK13=\"\"),\"Yes\",\"\")","v":""},"",{"$f":"IF(AND(FM16=\"Yes\",FM15=\"\",FM14=\"\",FM13=\"\"),\"Yes\",\"\")","v":""},"",{"$f":"IF(AND(FO16=\"Yes\",FO15=\"\",FO14=\"\",FO13=\"\"),\"Yes\",\"\")","v":""},"",{"$f":"IF(AND(FQ16=\"Yes\",FQ15=\"\",FQ14=\"\",FQ13=\"\"),\"Yes\",\"\")","v":""},"",{"$f":"IF(AND(FS16=\"Yes\",FS15=\"\",FS14=\"\",FS13=\"\"),\"Yes\",\"\")","v":""},"",{"$f":"IF(AND(FU16=\"Yes\",FU15=\"\",FU14=\"\",FU13=\"\"),\"Yes\",\"\")","v":""},"",{"$f":"IF(AND(FW16=\"Yes\",FW15=\"\",FW14=\"\",FW13=\"\"),\"Yes\",\"\")","v":""},"",{"$f":"IF(AND(FY16=\"Yes\",FY15=\"\",FY14=\"\",FY13=\"\"),\"Yes\",\"\")","v":""},"",{"$f":"IF(AND(GA16=\"Yes\",GA15=\"\",GA14=\"\",GA13=\"\"),\"Yes\",\"\")","v":""},"",{"$f":"IF(AND(GC16=\"Yes\",GC15=\"\",GC14=\"\",GC13=\"\"),\"Yes\",\"\")","v":""},"",{"$f":"IF(AND(GE16=\"Yes\",GE15=\"\",GE14=\"\",GE13=\"\"),\"Yes\",\"\")","v":""},"",{"$f":"IF(AND(GG16=\"Yes\",GG15=\"\",GG14=\"\",GG13=\"\"),\"Yes\",\"\")","v":""},"",{"$f":"IF(AND(GI16=\"Yes\",GI15=\"\",GI14=\"\",GI13=\"\"),\"Yes\",\"\")","v":""},"",{"$f":"IF(AND(GK16=\"Yes\",GK15=\"\",GK14=\"\",GK13=\"\"),\"Yes\",\"\")","v":""},"",{"$f":"IF(AND(GM16=\"Yes\",GM15=\"\",GM14=\"\",GM13=\"\"),\"Yes\",\"\")","v":""},"",{"$f":"IF(AND(GO16=\"Yes\",GO15=\"\",GO14=\"\",GO13=\"\"),\"Yes\",\"\")","v":""},"",{"$f":"IF(AND(GQ16=\"Yes\",GQ15=\"\",GQ14=\"\",GQ13=\"\"),\"Yes\",\"\")","v":""},"",{"$f":"IF(AND(GS16=\"Yes\",GS15=\"\",GS14=\"\",GS13=\"\"),\"Yes\",\"\")","v":""},"","","",{"$f":"IF(AND(GW16=\"Yes\",GW15=\"\",GW14=\"\",GW13=\"\"),\"Yes\",\"\")","v":""},"",""]
["02:45:00","02:59:00",null,null,0,null,null,null,null,"02:45:00","03:44:00",0,0,0,{"$f":"SUM(F17:F20)","v":0},0,{"$f":"IF(AND(N17>='Warrant 1 - MUTCD'!$M$23,OR('Traffic Volume Input'!O17>='Warrant 1 - MUTCD'!$Q$23,'Traffic Volume Input'!P17>='Warrant 1 - MUTCD'!$Q$23)),\"Yes\",\"\")","v":""},"","","","","","",{"$f":"IF(AND(W17=\"Yes\",W16=\"\",W15=\"\",W14=\"\"),\"Yes\",\"\")","v":""},"",{"$f":"IF(AND(Y17=\"Yes\",Y16=\"\",Y15=\"\",Y14=\"\"),\"Yes\",\"\")","v":""},"",{"$f":"IF(AND(AA17=\"Yes\",AA16=\"\",AA15=\"\",AA14=\"\"),\"Yes\",\"\")","v":""},"",{"$f":"IF(AND(AC17=\"Yes\",AC16=\"\",AC15=\"\",AC14=\"\"),\"Yes\",\"\")","v":""},"",{"$f":"IF(AND(AE17=\"Yes\",AE16=\"\",AE15=\"\",AE14=\"\"),\"Yes\",\"\")","v":""},"",{"$f":"IF(AND(AG17=\"Yes\",AG16=\"\",AG15=\"\",AG14=\"\"),\"Yes\",\"\")","v":""},"",{"$f":"IF(AND(AI17=\"Yes\",AI16=\"\",AI15=\"\",AI14=\"\"),\"Yes\",\"\")","v":""},"",{"$f":"IF(AND(AK17=\"Yes\",AK16=\"\",AK15=\"\",AK14=\"\"),\"Yes\",\"\")","v":""},"",{"$f":"IF(AND(AM17=\"Yes\",AM16=\"\",AM15=\"\",AM14=\"\"),\"Yes\",\"\")","v":""},"",{"$f":"IF(AND(AO17=\"Yes\",AO16=\"\",AO15=\"\",AO14=\"\"),\"Yes\",\"\")","v":""},"",{"$f":"IF(AND(AQ17=\"Yes\",AQ16=\"\",AQ15=\"\",AQ14=\"\"),\"Yes\",\"\")","v":""},"",{"$f":"IF(AND(AS17=\"Yes\",AS16=\"\",AS15=\"\",AS14=\"\"),\"Yes\",\"\")","v":""},"",{"$f":"IF(AND(AU17=\"Yes\",AU16=\"\",AU15=\"\",AU14=\"\"),\"Yes\",\"\")","v":""},"",{"$f":"IF(AND(AW17=\"Yes\",AW16=\"\",AW15=\"\",AW14=\"\"),\"Yes\",\"\")","v":""},"",{"$f":"IF(AND(AY17=\"Yes\",AY16=\"\",AY15=\"\",AY14=\"\"),\"Yes\",\"\")","v":""},"",{"$f":"IF(AND(BA17=\"Yes\",BA16=\"\",BA15=\"\",BA14=\"\"),\"Yes\",\"\")","v":""},"",{"$f":"IF(AND(BC17=\"Yes\",BC16=\"\",BC15=\"\",BC14=\"\"),\"Yes\",\"\")","v":""},"",{"$f":"IF(AND(BE17=\"Yes\",BE16=\"\",BE15=\"\",BE14=\"\"),\"Yes\",\"\")","v":""},"",{"$f":"IF(AND(BG17=\"Yes\",BG16=\"\",BG15=\"\",BG14=\"\"),\"Yes\",\"\")","v":""},"",{"$f":"IF(AND(BI17=\"Yes\",BI16=\"\",BI15=\"\",BI14=\"\"),\"Yes\",\"\")","v":""},"","",{"$f":"IF(AND(N17>='Warrant 1 - MUTCD'!$M$32,OR('Traffic Volume Input'!O17>='Warrant 1 - MUTCD'!$Q$32,'Traffic Volume Input'!P17>='Warrant 1 - MUTCD'!$Q$32)),\"Yes\",\"\")","v":""},"","",{"$f":"IF(AND(BO17=\"Yes\",BO16=\"\",BO15=\"\",BO14=\"\"),\"Yes\",\"\")","v":""},"",{"$f":"IF(AND(BQ17=\"Yes\",BQ16=\"\",BQ15=\"\",BQ14=\"\"),\"Yes\",\"\")","v":""},"",{"$f":"IF(AND(BS17=\"Yes\",BS16=\"\",BS15=\"\",BS14=\"\"),\"Yes\",\"\")","v":""},"",{"$f":"IF(AND(BU17=\"Yes\",BU16=\"\",BU15=\"\",BU14=\"\"),\"Yes\",\"\")","v":""},"",{"$f":"IF(AND(BW17=\"Yes\",BW16=\"\",BW15=\"\",BW14=\"\"),\"Yes\",\"\")","v":""},"",{"$f":"IF(AND(BY17=\"Yes\",BY16=\"\",BY15=\"\",BY14=\"\"),\"Yes\",\"\")","v":""},"",{"$f":"IF(AND(CA17=\"Yes\",CA16=\"\",CA15=\"\",CA14=\"\"),\"Yes\",\"\")","v":""},"",{"$f":"IF(AND(CC17=\"Yes\",CC16=\"\",CC15=\"\",CC14=\"\"),\"Yes\",\"\")","v":""},"",{"$f":"IF(AND(CE17=\"Yes\",CE16=\"\",CE15=\"\",CE14=\"\"),\"Yes\",\"\")","v":""},"",{"$f":"IF(AND(CG17=\"Yes\",CG16=\"\",CG15=\"\",CG14=\"\"),\"Yes\",\"\")","v":""},"",{"$f":"IF(AND(CI17=\"Yes\",CI16=\"\",CI15=\"\",CI14=\"\"),\"Yes\",\"\")","v":""},"",{"$f":"IF(AND(CK17=\"Yes\",CK16=\"\",CK15=\"\",CK14=\"\"),\"Yes\",\"\")","v":""},"",{"$f":"IF(AND(CM17=\"Yes\",CM16=\"\",CM15=\"\",CM14=\"\"),\"Yes\",\"\")","v":""},"",{"$f":"IF(AND(CO17=\"Yes\",CO16=\"\",CO15=\"\",CO14=\"\"),\"Yes\",\"\")","v":""},"",{"$f":"IF(AND(CQ17=\"Yes\",CQ16=\"\",CQ15=\"\",CQ14=\"\"),\"Yes\",\"\")","v":""},"",{"$f":"IF(AND(CS17=\"Yes\",CS16=\"\",CS15=\"\",CS14=\"\"),\"Yes\",\"\")","v":""},"",{"$f":"IF(AND(CU17=\"Yes\",CU16=\"\",CU15=\"\",CU14=\"\"),\"Yes\",\"\")","v":""},"",{"$f":"IF(AND(CW17=\"Yes\",CW16=\"\",CW15=\"\",CW14=\"\"),\"Yes\",\"\")","v":""},"",{"$f":"IF(AND(CY17=\"Yes\",CY16=\"\",CY15=\"\",CY14=\"\"),\"Yes\",\"\")","v":""},"",{"$f":"IF(AND(DA17=\"Yes\",DA16=\"\",DA15=\"\",DA14=\"\"),\"Yes\",\"\")","v":""},"","","",{"$f":"IF(AND(DE17=\"Yes\",DE16=\"\",DE15=\"\",DE14=\"\"),\"Yes\",\"\")","v":""},"",{"$f":"IF(AND(DG17=\"Yes\",DG16=\"\",DG15=\"\",DG14=\"\"),\"Yes\",\"\")","v":""},{"$f":"IF(AND(N17>='Warrant 7 & 8 - MUTCD'!$L$16,OR('Traffic Volume Input'!O17>='Warrant 7 & 8 - MUTCD'!$N$16,'Traffic Volume Input'!P17>='Warrant 7 & 8 - MUTCD'!$N$16)),\"Yes\",\"\")","v":""},"","",{"$f":"IF(AND(DK17=\"Yes\",DK16=\"\",DK15=\"\",DK14=\"\"),\"Yes\",\"\")","v":""},"",{"$f":"IF(AND(DM17=\"Yes\",DM16=\"\",DM15=\"\",DM14=\"\"),\"Yes\",\"\")","v":""},"",{"$f":"IF(AND(DO17=\"Yes\",DO16=\"\",DO15=\"\",DO14=\"\"),\"Yes\",\"\")","v":""},"",{"$f":"IF(AND(DQ17=\"Yes\",DQ16=\"\",DQ15=\"\",DQ14=\"\"),\"Yes\",\"\")","v":""},"",{"$f":"IF(AND(DS17=\"Yes\",DS16=\"\",DS15=\"\",DS14=\"\"),\"Yes\",\"\")","v":""},"",{"$f":"IF(AND(DU17=\"Yes\",DU16=\"\",DU15=\"\",DU14=\"\"),\"Yes\",\"\")","v":""},"",{"$f":"IF(AND(DW17=\"Yes\",DW16=\"\",DW15=\"\",DW14=\"\"),\"Yes\",\"\")","v":""},"",{"$f":"IF(AND(DY17=\"Yes\",DY16=\"\",DY15=\"\",DY14=\"\"),\"Yes\",\"\")","v":""},"",{"$f":"IF(AND(EA17=\"Yes\",EA16=\"\",EA15=\"\",EA14=\"\"),\"Yes\",\"\")","v":""},"",{"$f":"IF(AND(EC17=\"Yes\",EC16=\"\",EC15=\"\",EC14=\"\"),\"Yes\",\"\")","v":""},"",{"$f":"IF(AND(EE17=\"Yes\",EE16=\"\",EE15=\"\",EE14=\"\"),\"Yes\",\"\")","v":""},"",{"$f":"IF(AND(EG17=\"Yes\",EG16=\"\",EG15=\"\",EG14=\"\"),\"Yes\",\"\")","v":""},"",{"$f":"IF(AND(EI17=\"Yes\",EI16=\"\",EI15=\"\",EI14=\"\"),\"Yes\",\"\")","v":""},"",{"$f":"IF(AND(EK17=\"Yes\",EK16=\"\",EK15=\"\",EK14=\"\"),\"Yes\",\"\")","v":""},"",{"$f":"IF(AND(EM17=\"Yes\",EM16=\"\",EM15=\"\",EM14=\"\"),\"Yes\",\"\")","v":""},"",{"$f":"IF(AND(EO17=\"Yes\",EO16=\"\",EO15=\"\",EO14=\"\"),\"Yes\",\"\")","v":""},"",{"$f":"IF(AND(EQ17=\"Yes\",EQ16=\"\",EQ15=\"\",EQ14=\"\"),\"Yes\",\"\")","v":""},"",{"$f":"IF(AND(ES17=\"Yes\",ES16=\"\",ES15=\"\",ES14=\"\"),\"Yes\",\"\")","v":""},"",{"$f":"IF(AND(EU17=\"Yes\",EU16=\"\",EU15=\"\",EU14=\"\"),\"Yes\",\"\")","v":""},"",{"$f":"IF(AND(EW17=\"Yes\",EW16=\"\",EW15=\"\",EW14=\"\"),\"Yes\",\"\")","v":""},"","","",{"$f":"IF(AND(FA17=\"Yes\",FA16=\"\",FA15=\"\",FA14=\"\"),\"Yes\",\"\")","v":""},"","",{"$f":"IF(AND(N17>='Warrant 7 & 8 - MUTCD'!$L$25,OR('Traffic Volume Input'!O17>='Warrant 7 & 8 - MUTCD'!$N$25,'Traffic Volume Input'!P17>='Warrant 7 & 8 - MUTCD'!$N$25)),\"Yes\",\"\")","v":""},"","",{"$f":"IF(AND(FG17=\"Yes\",FG16=\"\",FG15=\"\",FG14=\"\"),\"Yes\",\"\")","v":""},"",{"$f":"IF(AND(FI17=\"Yes\",FI16=\"\",FI15=\"\",FI14=\"\"),\"Yes\",\"\")","v":""},"",{"$f":"IF(AND(FK17=\"Yes\",FK16=\"\",FK15=\"\",FK14=\"\"),\"Yes\",\"\")","v":""},"",{"$f":"IF(AND(FM17=\"Yes\",FM16=\"\",FM15=\"\",FM14=\"\"),\"Yes\",\"\")","v":""},"",{"$f":"IF(AND(FO17=\"Yes\",FO16=\"\",FO15=\"\",FO14=\"\"),\"Yes\",\"\")","v":""},"",{"$f":"IF(AND(FQ17=\"Yes\",FQ16=\"\",FQ15=\"\",FQ14=\"\"),\"Yes\",\"\")","v":""},"",{"$f":"IF(AND(FS17=\"Yes\",FS16=\"\",FS15=\"\",FS14=\"\"),\"Yes\",\"\")","v":""},"",{"$f":"IF(AND(FU17=\"Yes\",FU16=\"\",FU15=\"\",FU14=\"\"),\"Yes\",\"\")","v":""},"",{"$f":"IF(AND(FW17=\"Yes\",FW16=\"\",FW15=\"\",FW14=\"\"),\"Yes\",\"\")","v":""},"",{"$f":"IF(AND(FY17=\"Yes\",FY16=\"\",FY15=\"\",FY14=\"\"),\"Yes\",\"\")","v":""},"",{"$f":"IF(AND(GA17=\"Yes\",GA16=\"\",GA15=\"\",GA14=\"\"),\"Yes\",\"\")","v":""},"",{"$f":"IF(AND(GC17=\"Yes\",GC16=\"\",GC15=\"\",GC14=\"\"),\"Yes\",\"\")","v":""},"",{"$f":"IF(AND(GE17=\"Yes\",GE16=\"\",GE15=\"\",GE14=\"\"),\"Yes\",\"\")","v":""},"",{"$f":"IF(AND(GG17=\"Yes\",GG16=\"\",GG15=\"\",GG14=\"\"),\"Yes\",\"\")","v":""},"",{"$f":"IF(AND(GI17=\"Yes\",GI16=\"\",GI15=\"\",GI14=\"\"),\"Yes\",\"\")","v":""},"",{"$f":"IF(AND(GK17=\"Yes\",GK16=\"\",GK15=\"\",GK14=\"\"),\"Yes\",\"\")","v":""},"",{"$f":"IF(AND(GM17=\"Yes\",GM16=\"\",GM15=\"\",GM14=\"\"),\"Yes\",\"\")","v":""},"",{"$f":"IF(AND(GO17=\"Yes\",GO16=\"\",GO15=\"\",GO14=\"\"),\"Yes\",\"\")","v":""},"",{"$f":"IF(AND(GQ17=\"Yes\",GQ16=\"\",GQ15=\"\",GQ14=\"\"),\"Yes\",\"\")","v":""},"",{"$f":"IF(AND(GS17=\"Yes\",GS16=\"\",GS15=\"\",GS14=\"\"),\"Yes\",\"\")","v":""},"","","",{"$f":"IF(AND(GW17=\"Yes\",GW16=\"\",GW15=\"\",GW14=\"\"),\"Yes\",\"\")","v":""},"",""]
["03:00:00","03:14:00",null,null,0,null,null,null,null,"03:00:00","03:59:00",0,0,0,0,0,{"$f":"IF(AND(N18>='Warrant 1 - MUTCD'!$M$23,OR('Traffic Volume Input'!O18>='Warrant 1 - MUTCD'!$Q$23,'Traffic Volume Input'!P18>='Warrant 1 - MUTCD'!$Q$23)),\"Yes\",\"\")","v":""},"","","","","","",{"$f":"IF(AND(W18=\"Yes\",W17=\"\",W16=\"\",W15=\"\"),\"Yes\",\"\")","v":""},"",{"$f":"IF(AND(Y18=\"Yes\",Y17=\"\",Y16=\"\",Y15=\"\"),\"Yes\",\"\")","v":""},"",{"$f":"IF(AND(AA18=\"Yes\",AA17=\"\",AA16=\"\",AA15=\"\"),\"Yes\",\"\")","v":""},"",{"$f":"IF(AND(AC18=\"Yes\",AC17=\"\",AC16=\"\",AC15=\"\"),\"Yes\",\"\")","v":""},"",{"$f":"IF(AND(AE18=\"Yes\",AE17=\"\",AE16=\"\",AE15=\"\"),\"Yes\",\"\")","v":""},"",{"$f":"IF(AND(AG18=\"Yes\",AG17=\"\",AG16=\"\",AG15=\"\"),\"Yes\",\"\")","v":""},"",{"$f":"IF(AND(AI18=\"Yes\",AI17=\"\",AI16=\"\",AI15=\"\"),\"Yes\",\"\")","v":""},"",{"$f":"IF(AND(AK18=\"Yes\",AK17=\"\",AK16=\"\",AK15=\"\"),\"Yes\",\"\")","v":""},"",{"$f":"IF(AND(AM18=\"Yes\",AM17=\"\",AM16=\"\",AM15=\"\"),\"Yes\",\"\")","v":""},"",{"$f":"IF(AND(AO18=\"Yes\",AO17=\"\",AO16=\"\",AO15=\"\"),\"Yes\",\"\")","v":""},"",{"$f":"IF(AND(AQ18=\"Yes\",AQ17=\"\",AQ16=\"\",AQ15=\"\"),\"Yes\",\"\")","v":""},"",{"$f":"IF(AND(AS18=\"Yes\",AS17=\"\",AS16=\"\",AS15=\"\"),\"Yes\",\"\")","v":""},"",{"$f":"IF(AND(AU18=\"Yes\",AU17=\"\",AU16=\"\",AU15=\"\"),\"Yes\",\"\")","v":""},"",{"$f":"IF(AND(AW18=\"Yes\",AW17=\"\",AW16=\"\",AW15=\"\"),\"Yes\",\"\")","v":""},"",{"$f":"IF(AND(AY18=\"Yes\",AY17=\"\",AY16=\"\",AY15=\"\"),\"Yes\",\"\")","v":""},"",{"$f":"IF(AND(BA18=\"Yes\",BA17=\"\",BA16=\"\",BA15=\"\"),\"Yes\",\"\")","v":""},"",{"$f":"IF(AND(BC18=\"Yes\",BC17=\"\",BC16=\"\",BC15=\"\"),\"Yes\",\"\")","v":""},"",{"$f":"IF(AND(BE18=\"Yes\",BE17=\"\",BE16=\"\",BE15=\"\"),\"Yes\",\"\")","v":""},"",{"$f":"IF(AND(BG18=\"Yes\",BG17=\"\",BG16=\"\",BG15=\"\"),\"Yes\",\"\")","v":""},"",{"$f":"IF(AND(BI18=\"Yes\",BI17=\"\",BI16=\"\",BI15=\"\"),\"Yes\",\"\")","v":""},"","",{"$f":"IF(AND(N18>='Warrant 1 - MUTCD'!$M$32,OR('Traffic Volume Input'!O18>='Warrant 1 - MUTCD'!$Q$32,'Traffic Volume Input'!P18>='Warrant 1 - MUTCD'!$Q$32)),\"Yes\",\"\")","v":""},"","",{"$f":"IF(AND(BO18=\"Yes\",BO17=\"\",BO16=\"\",BO15=\"\"),\"Yes\",\"\")","v":""},"",{"$f":"IF(AND(BQ18=\"Yes\",BQ17=\"\",BQ16=\"\",BQ15=\"\"),\"Yes\",\"\")","v":""},"",{"$f":"IF(AND(BS18=\"Yes\",BS17=\"\",BS16=\"\",BS15=\"\"),\"Yes\",\"\")","v":""},"",{"$f":"IF(AND(BU18=\"Yes\",BU17=\"\",BU16=\"\",BU15=\"\"),\"Yes\",\"\")","v":""},"",{"$f":"IF(AND(BW18=\"Yes\",BW17=\"\",BW16=\"\",BW15=\"\"),\"Yes\",\"\")","v":""},"",{"$f":"IF(AND(BY18=\"Yes\",BY17=\"\",BY16=\"\",BY15=\"\"),\"Yes\",\"\")","v":""},"",{"$f":"IF(AND(CA18=\"Yes\",CA17=\"\",CA16=\"\",CA15=\"\"),\"Yes\",\"\")","v":""},"",{"$f":"IF(AND(CC18=\"Yes\",CC17=\"\",CC16=\"\",CC15=\"\"),\"Yes\",\"\")","v":""},"",{"$f":"IF(AND(CE18=\"Yes\",CE17=\"\",CE16=\"\",CE15=\"\"),\"Yes\",\"\")","v":""},"",{"$f":"IF(AND(CG18=\"Yes\",CG17=\"\",CG16=\"\",CG15=\"\"),\"Yes\",\"\")","v":""},"",{"$f":"IF(AND(CI18=\"Yes\",CI17=\"\",CI16=\"\",CI15=\"\"),\"Yes\",\"\")","v":""},"",{"$f":"IF(AND(CK18=\"Yes\",CK17=\"\",CK16=\"\",CK15=\"\"),\"Yes\",\"\")","v":""},"",{"$f":"IF(AND(CM18=\"Yes\",CM17=\"\",CM16=\"\",CM15=\"\"),\"Yes\",\"\")","v":""},"",{"$f":"IF(AND(CO18=\"Yes\",CO17=\"\",CO16=\"\",CO15=\"\"),\"Yes\",\"\")","v":""},"",{"$f":"IF(AND(CQ18=\"Yes\",CQ17=\"\",CQ16=\"\",CQ15=\"\"),\"Yes\",\"\")","v":""},"",{"$f":"IF(AND(CS18=\"Yes\",CS17=\"\",CS16=\"\",CS15=\"\"),\"Yes\",\"\")","v":""},"",{"$f":"IF(AND(CU18=\"Yes\",CU17=\"\",CU16=\"\",CU15=\"\"),\"Yes\",\"\")","v":""},"",{"$f":"IF(AND(CW18=\"Yes\",CW17=\"\",CW16=\"\",CW15=\"\"),\"Yes\",\"\")","v":""},"",{"$f":"IF(AND(CY18=\"Yes\",CY17=\"\",CY16=\"\",CY15=\"\"),\"Yes\",\"\")","v":""},"",{"$f":"IF(AND(DA18=\"Yes\",DA17=\"\",DA16=\"\",DA15=\"\"),\"Yes\",\"\")","v":""},"","","",{"$f":"IF(AND(DE18=\"Yes\",DE17=\"\",DE16=\"\",DE15=\"\"),\"Yes\",\"\")","v":""},"",{"$f":"IF(AND(DG18=\"Yes\",DG17=\"\",DG16=\"\",DG15=\"\"),\"Yes\",\"\")","v":""},{"$f":"IF(AND(N18>='Warrant 7 & 8 - MUTCD'!$L$16,OR('Traffic Volume Input'!O18>='Warrant 7 & 8 - MUTCD'!$N$16,'Traffic Volume Input'!P18>='Warrant 7 & 8 - MUTCD'!$N$16)),\"Yes\",\"\")","v":""},"","",{"$f":"IF(AND(DK18=\"Yes\",DK17=\"\",DK16=\"\",DK15=\"\"),\"Yes\",\"\")","v":""},"",{"$f":"IF(AND(DM18=\"Yes\",DM17=\"\",DM16=\"\",DM15=\"\"),\"Yes\",\"\")","v":""},"",{"$f":"IF(AND(DO18=\"Yes\",DO17=\"\",DO16=\"\",DO15=\"\"),\"Yes\",\"\")","v":""},"",{"$f":"IF(AND(DQ18=\"Yes\",DQ17=\"\",DQ16=\"\",DQ15=\"\"),\"Yes\",\"\")","v":""},"",{"$f":"IF(AND(DS18=\"Yes\",DS17=\"\",DS16=\"\",DS15=\"\"),\"Yes\",\"\")","v":""},"",{"$f":"IF(AND(DU18=\"Yes\",DU17=\"\",DU16=\"\",DU15=\"\"),\"Yes\",\"\")","v":""},"",{"$f":"IF(AND(DW18=\"Yes\",DW17=\"\",DW16=\"\",DW15=\"\"),\"Yes\",\"\")","v":""},"",{"$f":"IF(AND(DY18=\"Yes\",DY17=\"\",DY16=\"\",DY15=\"\"),\"Yes\",\"\")","v":""},"",{"$f":"IF(AND(EA18=\"Yes\",EA17=\"\",EA16=\"\",EA15=\"\"),\"Yes\",\"\")","v":""},"",{"$f":"IF(AND(EC18=\"Yes\",EC17=\"\",EC16=\"\",EC15=\"\"),\"Yes\",\"\")","v":""},"",{"$f":"IF(AND(EE18=\"Yes\",EE17=\"\",EE16=\"\",EE15=\"\"),\"Yes\",\"\")","v":""},"",{"$f":"IF(AND(EG18=\"Yes\",EG17=\"\",EG16=\"\",EG15=\"\"),\"Yes\",\"\")","v":""},"",{"$f":"IF(AND(EI18=\"Yes\",EI17=\"\",EI16=\"\",EI15=\"\"),\"Yes\",\"\")","v":""},"",{"$f":"IF(AND(EK18=\"Yes\",EK17=\"\",EK16=\"\",EK15=\"\"),\"Yes\",\"\")","v":""},"",{"$f":"IF(AND(EM18=\"Yes\",EM17=\"\",EM16=\"\",EM15=\"\"),\"Yes\",\"\")","v":""},"",{"$f":"IF(AND(EO18=\"Yes\",EO17=\"\",EO16=\"\",EO15=\"\"),\"Yes\",\"\")","v":""},"",{"$f":"IF(AND(EQ18=\"Yes\",EQ17=\"\",EQ16=\"\",EQ15=\"\"),\"Yes\",\"\")","v":""},"",{"$f":"IF(AND(ES18=\"Yes\",ES17=\"\",ES16=\"\",ES15=\"\"),\"Yes\",\"\")","v":""},"",{"$f":"IF(AND(EU18=\"Yes\",EU17=\"\",EU16=\"\",EU15=\"\"),\"Yes\",\"\")","v":""},"",{"$f":"IF(AND(EW18=\"Yes\",EW17=\"\",EW16=\"\",EW15=\"\"),\"Yes\",\"\")","v":""},"","","",{"$f":"IF(AND(FA18=\"Yes\",FA17=\"\",FA16=\"\",FA15=\"\"),\"Yes\",\"\")","v":""},"","",{"$f":"IF(AND(N18>='Warrant 7 & 8 - MUTCD'!$L$25,OR('Traffic Volume Input'!O18>='Warrant 7 & 8 - MUTCD'!$N$25,'Traffic Volume Input'!P18>='Warrant 7 & 8 - MUTCD'!$N$25)),\"Yes\",\"\")","v":""},"","",{"$f":"IF(AND(FG18=\"Yes\",FG17=\"\",FG16=\"\",FG15=\"\"),\"Yes\",\"\")","v":""},"",{"$f":"IF(AND(FI18=\"Yes\",FI17=\"\",FI16=\"\",FI15=\"\"),\"Yes\",\"\")","v":""},"",{"$f":"IF(AND(FK18=\"Yes\",FK17=\"\",FK16=\"\",FK15=\"\"),\"Yes\",\"\")","v":""},"",{"$f":"IF(AND(FM18=\"Yes\",FM17=\"\",FM16=\"\",FM15=\"\"),\"Yes\",\"\")","v":""},"",{"$f":"IF(AND(FO18=\"Yes\",FO17=\"\",FO16=\"\",FO15=\"\"),\"Yes\",\"\")","v":""},"",{"$f":"IF(AND(FQ18=\"Yes\",FQ17=\"\",FQ16=\"\",FQ15=\"\"),\"Yes\",\"\")","v":""},"",{"$f":"IF(AND(FS18=\"Yes\",FS17=\"\",FS16=\"\",FS15=\"\"),\"Yes\",\"\")","v":""},"",{"$f":"IF(AND(FU18=\"Yes\",FU17=\"\",FU16=\"\",FU15=\"\"),\"Yes\",\"\")","v":""},"",{"$f":"IF(AND(FW18=\"Yes\",FW17=\"\",FW16=\"\",FW15=\"\"),\"Yes\",\"\")","v":""},"",{"$f":"IF(AND(FY18=\"Yes\",FY17=\"\",FY16=\"\",FY15=\"\"),\"Yes\",\"\")","v":""},"",{"$f":"IF(AND(GA18=\"Yes\",GA17=\"\",GA16=\"\",GA15=\"\"),\"Yes\",\"\")","v":""},"",{"$f":"IF(AND(GC18=\"Yes\",GC17=\"\",GC16=\"\",GC15=\"\"),\"Yes\",\"\")","v":""},"",{"$f":"IF(AND(GE18=\"Yes\",GE17=\"\",GE16=\"\",GE15=\"\"),\"Yes\",\"\")","v":""},"",{"$f":"IF(AND(GG18=\"Yes\",GG17=\"\",GG16=\"\",GG15=\"\"),\"Yes\",\"\")","v":""},"",{"$f":"IF(AND(GI18=\"Yes\",GI17=\"\",GI16=\"\",GI15=\"\"),\"Yes\",\"\")","v":""},"",{"$f":"IF(AND(GK18=\"Yes\",GK17=\"\",GK16=\"\",GK15=\"\"),\"Yes\",\"\")","v":""},"",{"$f":"IF(AND(GM18=\"Yes\",GM17=\"\",GM16=\"\",GM15=\"\"),\"Yes\",\"\")","v":""},"",{"$f":"IF(AND(GO18=\"Yes\",GO17=\"\",GO16=\"\",GO15=\"\"),\"Yes\",\"\")","v":""},"",{"$f":"IF(AND(GQ18=\"Yes\",GQ17=\"\",GQ16=\"\",GQ15=\"\"),\"Yes\",\"\")","v":""},"",{"$f":"IF(AND(GS18=\"Yes\",GS17=\"\",GS16=\"\",GS15=\"\"),\"Yes\",\"\")","v":""},"","","",{"$f":"IF(AND(GW18=\"Yes\",GW17=\"\",GW16=\"\",GW15=\"\"),\"Yes\",\"\")","v":""},"",""]
["03:15:00","03:29:00",null,null,0,null,null,null,null,"03:15:00","04:14:00",0,0,0,0,0,{"$f":"IF(AND(N19>='Warrant 1 - MUTCD'!$M$23,OR('Traffic Volume Input'!O19>='Warrant 1 - MUTCD'!$Q$23,'Traffic Volume Input'!P19>='Warrant 1 - MUTCD'!$Q$23)),\"Yes\",\"\")","v":""},"","","","","","",{"$f":"IF(AND(W19=\"Yes\",W18=\"\",W17=\"\",W16=\"\"),\"Yes\",\"\")","v":""},"",{"$f":"IF(AND(Y19=\"Yes\",Y18=\"\",Y17=\"\",Y16=\"\"),\"Yes\",\"\")","v":""},"",{"$f":"IF(AND(AA19=\"Yes\",AA18=\"\",AA17=\"\",AA16=\"\"),\"Yes\",\"\")","v":""},"",{"$f":"IF(AND(AC19=\"Yes\",AC18=\"\",AC17=\"\",AC16=\"\"),\"Yes\",\"\")","v":""},"",{"$f":"IF(AND(AE19=\"Yes\",AE18=\"\",AE17=\"\",AE16=\"\"),\"Yes\",\"\")","v":""},"",{"$f":"IF(AND(AG19=\"Yes\",AG18=\"\",AG17=\"\",AG16=\"\"),\"Yes\",\"\")","v":""},"",{"$f":"IF(AND(AI19=\"Yes\",AI18=\"\",AI17=\"\",AI16=\"\"),\"Yes\",\"\")","v":""},"",{"$f":"IF(AND(AK19=\"Yes\",AK18=\"\",AK17=\"\",AK16=\"\"),\"Yes\",\"\")","v":""},"",{"$f":"IF(AND(AM19=\"Yes\",AM18=\"\",AM17=\"\",AM16=\"\"),\"Yes\",\"\")","v":""},"",{"$f":"IF(AND(AO19=\"Yes\",AO18=\"\",AO17=\"\",AO16=\"\"),\"Yes\",\"\")","v":""},"",{"$f":"IF(AND(AQ19=\"Yes\",AQ18=\"\",AQ17=\"\",AQ16=\"\"),\"Yes\",\"\")","v":""},"",{"$f":"IF(AND(AS19=\"Yes\",AS18=\"\",AS17=\"\",AS16=\"\"),\"Yes\",\"\")","v":""},"",{"$f":"IF(AND(AU19=\"Yes\",AU18=\"\",AU17=\"\",AU16=\"\"),\"Yes\",\"\")","v":""},"",{"$f":"IF(AND(AW19=\"Yes\",AW18=\"\",AW17=\"\",AW16=\"\"),\"Yes\",\"\")","v":""},"",{"$f":"IF(AND(AY19=\"Yes\",AY18=\"\",AY17=\"\",AY16=\"\"),\"Yes\",\"\")","v":""},"",{"$f":"IF(AND(BA19=\"Yes\",BA18=\"\",BA17=\"\",BA16=\"\"),\"Yes\",\"\")","v":""},"",{"$f":"IF(AND(BC19=\"Yes\",BC18=\"\",BC17=\"\",BC16=\"\"),\"Yes\",\"\")","v":""},"",{"$f":"IF(AND(BE19=\"Yes\",BE18=\"\",BE17=\"\",BE16=\"\"),\"Yes\",\"\")","v":""},"",{"$f":"IF(AND(BG19=\"Yes\",BG18=\"\",BG17=\"\",BG16=\"\"),\"Yes\",\"\")","v":""},"",{"$f":"IF(AND(BI19=\"Yes\",BI18=\"\",BI17=\"\",BI16=\"\"),\"Yes\",\"\")","v":""},"","",{"$f":"IF(AND(N19>='Warrant 1 - MUTCD'!$M$32,OR('Traffic Volume Input'!O19>='Warrant 1 - MUTCD'!$Q$32,'Traffic Volume Input'!P19>='Warrant 1 - MUTCD'!$Q$32)),\"Yes\",\"\")","v":""},"","",{"$f":"IF(AND(BO19=\"Yes\",BO18=\"\",BO17=\"\",BO16=\"\"),\"Yes\",\"\")","v":""},"",{"$f":"IF(AND(BQ19=\"Yes\",BQ18=\"\",BQ17=\"\",BQ16=\"\"),\"Yes\",\"\")","v":""},"",{"$f":"IF(AND(BS19=\"Yes\",BS18=\"\",BS17=\"\",BS16=\"\"),\"Yes\",\"\")","v":""},"",{"$f":"IF(AND(BU19=\"Yes\",BU18=\"\",BU17=\"\",BU16=\"\"),\"Yes\",\"\")","v":""},"",{"$f":"IF(AND(BW19=\"Yes\",BW18=\"\",BW17=\"\",BW16=\"\"),\"Yes\",\"\")","v":""},"",{"$f":"IF(AND(BY19=\"Yes\",BY18=\"\",BY17=\"\",BY16=\"\"),\"Yes\",\"\")","v":""},"",{"$f":"IF(AND(CA19=\"Yes\",CA18=\"\",CA17=\"\",CA16=\"\"),\"Yes\",\"\")","v":""},"",{"$f":"IF(AND(CC19=\"Yes\",CC18=\"\",CC17=\"\",CC16=\"\"),\"Yes\",\"\")","v":""},"",{"$f":"IF(AND(CE19=\"Yes\",CE18=\"\",CE17=\"\",CE16=\"\"),\"Yes\",\"\")","v":""},"",{"$f":"IF(AND(CG19=\"Yes\",CG18=\"\",CG17=\"\",CG16=\"\"),\"Yes\",\"\")","v":""},"",{"$f":"IF(AND(CI19=\"Yes\",CI18=\"\",CI17=\"\",CI16=\"\"),\"Yes\",\"\")","v":""},"",{"$f":"IF(AND(CK19=\"Yes\",CK18=\"\",CK17=\"\",CK16=\"\"),\"Yes\",\"\")","v":""},"",{"$f":"IF(AND(CM19=\"Yes\",CM18=\"\",CM17=\"\",CM16=\"\"),\"Yes\",\"\")","v":""},"",{"$f":"IF(AND(CO19=\"Yes\",CO18=\"\",CO17=\"\",CO16=\"\"),\"Yes\",\"\")","v":""},"",{"$f":"IF(AND(CQ19=\"Yes\",CQ18=\"\",CQ17=\"\",CQ16=\"\"),\"Yes\",\"\")","v":""},"",{"$f":"IF(AND(CS19=\"Yes\",CS18=\"\",CS17=\"\",CS16=\"\"),\"Yes\",\"\")","v":""},"",{"$f":"IF(AND(CU19=\"Yes\",CU18=\"\",CU17=\"\",CU16=\"\"),\"Yes\",\"\")","v":""},"",{"$f":"IF(AND(CW19=\"Yes\",CW18=\"\",CW17=\"\",CW16=\"\"),\"Yes\",\"\")","v":""},"",{"$f":"IF(AND(CY19=\"Yes\",CY18=\"\",CY17=\"\",CY16=\"\"),\"Yes\",\"\")","v":""},"",{"$f":"IF(AND(DA19=\"Yes\",DA18=\"\",DA17=\"\",DA16=\"\"),\"Yes\",\"\")","v":""},"","","",{"$f":"IF(AND(DE19=\"Yes\",DE18=\"\",DE17=\"\",DE16=\"\"),\"Yes\",\"\")","v":""},"",{"$f":"IF(AND(DG19=\"Yes\",DG18=\"\",DG17=\"\",DG16=\"\"),\"Yes\",\"\")","v":""},{"$f":"IF(AND(N19>='Warrant 7 & 8 - MUTCD'!$L$16,OR('Traffic Volume Input'!O19>='Warrant 7 & 8 - MUTCD'!$N$16,'Traffic Volume Input'!P19>='Warrant 7 & 8 - MUTCD'!$N$16)),\"Yes\",\"\")","v":""},"","",{"$f":"IF(AND(DK19=\"Yes\",DK18=\"\",DK17=\"\",DK16=\"\"),\"Yes\",\"\")","v":""},"",{"$f":"IF(AND(DM19=\"Yes\",DM18=\"\",DM17=\"\",DM16=\"\"),\"Yes\",\"\")","v":""},"",{"$f":"IF(AND(DO19=\"Yes\",DO18=\"\",DO17=\"\",DO16=\"\"),\"Yes\",\"\")","v":""},"",{"$f":"IF(AND(DQ19=\"Yes\",DQ18=\"\",DQ17=\"\",DQ16=\"\"),\"Yes\",\"\")","v":""},"",{"$f":"IF(AND(DS19=\"Yes\",DS18=\"\",DS17=\"\",DS16=\"\"),\"Yes\",\"\")","v":""},"",{"$f":"IF(AND(DU19=\"Yes\",DU18=\"\",DU17=\"\",DU16=\"\"),\"Yes\",\"\")","v":""},"",{"$f":"IF(AND(DW19=\"Yes\",DW18=\"\",DW17=\"\",DW16=\"\"),\"Yes\",\"\")","v":""},"",{"$f":"IF(AND(DY19=\"Yes\",DY18=\"\",DY17=\"\",DY16=\"\"),\"Yes\",\"\")","v":""},"",{"$f":"IF(AND(EA19=\"Yes\",EA18=\"\",EA17=\"\",EA16=\"\"),\"Yes\",\"\")","v":""},"",{"$f":"IF(AND(EC19=\"Yes\",EC18=\"\",EC17=\"\",EC16=\"\"),\"Yes\",\"\")","v":""},"",{"$f":"IF(AND(EE19=\"Yes\",EE18=\"\",EE17=\"\",EE16=\"\"),\"Yes\",\"\")","v":""},"",{"$f":"IF(AND(EG19=\"Yes\",EG18=\"\",EG17=\"\",EG16=\"\"),\"Yes\",\"\")","v":""},"",{"$f":"IF(AND(EI19=\"Yes\",EI18=\"\",EI17=\"\",EI16=\"\"),\"Yes\",\"\")","v":""},"",{"$f":"IF(AND(EK19=\"Yes\",EK18=\"\",EK17=\"\",EK16=\"\"),\"Yes\",\"\")","v":""},"",{"$f":"IF(AND(EM19=\"Yes\",EM18=\"\",EM17=\"\",EM16=\"\"),\"Yes\",\"\")","v":""},"",{"$f":"IF(AND(EO19=\"Yes\",EO18=\"\",EO17=\"\",EO16=\"\"),\"Yes\",\"\")","v":""},"",{"$f":"IF(AND(EQ19=\"Yes\",EQ18=\"\",EQ17=\"\",EQ16=\"\"),\"Yes\",\"\")","v":""},"",{"$f":"IF(AND(ES19=\"Yes\",ES18=\"\",ES17=\"\",ES16=\"\"),\"Yes\",\"\")","v":""},"",{"$f":"IF(AND(EU19=\"Yes\",EU18=\"\",EU17=\"\",EU16=\"\"),\"Yes\",\"\")","v":""},"",{"$f":"IF(AND(EW19=\"Yes\",EW18=\"\",EW17=\"\",EW16=\"\"),\"Yes\",\"\")","v":""},"","","",{"$f":"IF(AND(FA19=\"Yes\",FA18=\"\",FA17=\"\",FA16=\"\"),\"Yes\",\"\")","v":""},"","",{"$f":"IF(AND(N19>='Warrant 7 & 8 - MUTCD'!$L$25,OR('Traffic Volume Input'!O19>='Warrant 7 & 8 - MUTCD'!$N$25,'Traffic Volume Input'!P19>='Warrant 7 & 8 - MUTCD'!$N$25)),\"Yes\",\"\")","v":""},"","",{"$f":"IF(AND(FG19=\"Yes\",FG18=\"\",FG17=\"\",FG16=\"\"),\"Yes\",\"\")","v":""},"",{"$f":"IF(AND(FI19=\"Yes\",FI18=\"\",FI17=\"\",FI16=\"\"),\"Yes\",\"\")","v":""},"",{"$f":"IF(AND(FK19=\"Yes\",FK18=\"\",FK17=\"\",FK16=\"\"),\"Yes\",\"\")","v":""},"",{"$f":"IF(AND(FM19=\"Yes\",FM18=\"\",FM17=\"\",FM16=\"\"),\"Yes\",\"\")","v":""},"",{"$f":"IF(AND(FO19=\"Yes\",FO18=\"\",FO17=\"\",FO16=\"\"),\"Yes\",\"\")","v":""},"",{"$f":"IF(AND(FQ19=\"Yes\",FQ18=\"\",FQ17=\"\",FQ16=\"\"),\"Yes\",\"\")","v":""},"",{"$f":"IF(AND(FS19=\"Yes\",FS18=\"\",FS17=\"\",FS16=\"\"),\"Yes\",\"\")","v":""},"",{"$f":"IF(AND(FU19=\"Yes\",FU18=\"\",FU17=\"\",FU16=\"\"),\"Yes\",\"\")","v":""},"",{"$f":"IF(AND(FW19=\"Yes\",FW18=\"\",FW17=\"\",FW16=\"\"),\"Yes\",\"\")","v":""},"",{"$f":"IF(AND(FY19=\"Yes\",FY18=\"\",FY17=\"\",FY16=\"\"),\"Yes\",\"\")","v":""},"",{"$f":"IF(AND(GA19=\"Yes\",GA18=\"\",GA17=\"\",GA16=\"\"),\"Yes\",\"\")","v":""},"",{"$f":"IF(AND(GC19=\"Yes\",GC18=\"\",GC17=\"\",GC16=\"\"),\"Yes\",\"\")","v":""},"",{"$f":"IF(AND(GE19=\"Yes\",GE18=\"\",GE17=\"\",GE16=\"\"),\"Yes\",\"\")","v":""},"",{"$f":"IF(AND(GG19=\"Yes\",GG18=\"\",GG17=\"\",GG16=\"\"),\"Yes\",\"\")","v":""},"",{"$f":"IF(AND(GI19=\"Yes\",GI18=\"\",GI17=\"\",GI16=\"\"),\"Yes\",\"\")","v":""},"",{"$f":"IF(AND(GK19=\"Yes\",GK18=\"\",GK17=\"\",GK16=\"\"),\"Yes\",\"\")","v":""},"",{"$f":"IF(AND(GM19=\"Yes\",GM18=\"\",GM17=\"\",GM16=\"\"),\"Yes\",\"\")","v":""},"",{"$f":"IF(AND(GO19=\"Yes\",GO18=\"\",GO17=\"\",GO16=\"\"),\"Yes\",\"\")","v":""},"",{"$f":"IF(AND(GQ19=\"Yes\",GQ18=\"\",GQ17=\"\",GQ16=\"\"),\"Yes\",\"\")","v":""},"",{"$f":"IF(AND(GS19=\"Yes\",GS18=\"\",GS17=\"\",GS16=\"\"),\"Yes\",\"\")","v":""},"","","",{"$f":"IF(AND(GW19=\"Yes\",GW18=\"\",GW17=\"\",GW16=\"\"),\"Yes\",\"\")","v":""},"",""]
["03:30:00","03:44:00",null,null,0,null,null,null,null,"03:30:00","04:29:00",0,0,0,0,0,{"$f":"IF(AND(N20>='Warrant 1 - MUTCD'!$M$23,OR('Traffic Volume Input'!O20>='Warrant 1 - MUTCD'!$Q$23,'Traffic Volume Input'!P20>='Warrant 1 - MUTCD'!$Q$23)),\"Yes\",\"\")","v":""},"","","","","","",{"$f":"IF(AND(W20=\"Yes\",W19=\"\",W18=\"\",W17=\"\"),\"Yes\",\"\")","v":""},"",{"$f":"IF(AND(Y20=\"Yes\",Y19=\"\",Y18=\"\",Y17=\"\"),\"Yes\",\"\")","v":""},"",{"$f":"IF(AND(AA20=\"Yes\",AA19=\"\",AA18=\"\",AA17=\"\"),\"Yes\",\"\")","v":""},"",{"$f":"IF(AND(AC20=\"Yes\",AC19=\"\",AC18=\"\",AC17=\"\"),\"Yes\",\"\")","v":""},"",{"$f":"IF(AND(AE20=\"Yes\",AE19=\"\",AE18=\"\",AE17=\"\"),\"Yes\",\"\")","v":""},"",{"$f":"IF(AND(AG20=\"Yes\",AG19=\"\",AG18=\"\",AG17=\"\"),\"Yes\",\"\")","v":""},"",{"$f":"IF(AND(AI20=\"Yes\",AI19=\"\",AI18=\"\",AI17=\"\"),\"Yes\",\"\")","v":""},"",{"$f":"IF(AND(AK20=\"Yes\",AK19=\"\",AK18=\"\",AK17=\"\"),\"Yes\",\"\")","v":""},"",{"$f":"IF(AND(AM20=\"Yes\",AM19=\"\",AM18=\"\",AM17=\"\"),\"Yes\",\"\")","v":""},"",{"$f":"IF(AND(AO20=\"Yes\",AO19=\"\",AO18=\"\",AO17=\"\"),\"Yes\",\"\")","v":""},"",{"$f":"IF(AND(AQ20=\"Yes\",AQ19=\"\",AQ18=\"\",AQ17=\"\"),\"Yes\",\"\")","v":""},"",{"$f":"IF(AND(AS20=\"Yes\",AS19=\"\",AS18=\"\",AS17=\"\"),\"Yes\",\"\")","v":""},"",{"$f":"IF(AND(AU20=\"Yes\",AU19=\"\",AU18=\"\",AU17=\"\"),\"Yes\",\"\")","v":""},"",{"$f":"IF(AND(AW20=\"Yes\",AW19=\"\",AW18=\"\",AW17=\"\"),\"Yes\",\"\")","v":""},"",{"$f":"IF(AND(AY20=\"Yes\",AY19=\"\",AY18=\"\",AY17=\"\"),\"Yes\",\"\")","v":""},"",{"$f":"IF(AND(BA20=\"Yes\",BA19=\"\",BA18=\"\",BA17=\"\"),\"Yes\",\"\")","v":""},"",{"$f":"IF(AND(BC20=\"Yes\",BC19=\"\",BC18=\"\",BC17=\"\"),\"Yes\",\"\")","v":""},"",{"$f":"IF(AND(BE20=\"Yes\",BE19=\"\",BE18=\"\",BE17=\"\"),\"Yes\",\"\")","v":""},"",{"$f":"IF(AND(BG20=\"Yes\",BG19=\"\",BG18=\"\",BG17=\"\"),\"Yes\",\"\")","v":""},"",{"$f":"IF(AND(BI20=\"Yes\",BI19=\"\",BI18=\"\",BI17=\"\"),\"Yes\",\"\")","v":""},"","",{"$f":"IF(AND(N20>='Warrant 1 - MUTCD'!$M$32,OR('Traffic Volume Input'!O20>='Warrant 1 - MUTCD'!$Q$32,'Traffic Volume Input'!P20>='Warrant 1 - MUTCD'!$Q$32)),\"Yes\",\"\")","v":""},"","",{"$f":"IF(AND(BO20=\"Yes\",BO19=\"\",BO18=\"\",BO17=\"\"),\"Yes\",\"\")","v":""},"",{"$f":"IF(AND(BQ20=\"Yes\",BQ19=\"\",BQ18=\"\",BQ17=\"\"),\"Yes\",\"\")","v":""},"",{"$f":"IF(AND(BS20=\"Yes\",BS19=\"\",BS18=\"\",BS17=\"\"),\"Yes\",\"\")","v":""},"",{"$f":"IF(AND(BU20=\"Yes\",BU19=\"\",BU18=\"\",BU17=\"\"),\"Yes\",\"\")","v":""},"",{"$f":"IF(AND(BW20=\"Yes\",BW19=\"\",BW18=\"\",BW17=\"\"),\"Yes\",\"\")","v":""},"",{"$f":"IF(AND(BY20=\"Yes\",BY19=\"\",BY18=\"\",BY17=\"\"),\"Yes\",\"\")","v":""},"",{"$f":"IF(AND(CA20=\"Yes\",CA19=\"\",CA18=\"\",CA17=\"\"),\"Yes\",\"\")","v":""},"",{"$f":"IF(AND(CC20=\"Yes\",CC19=\"\",CC18=\"\",CC17=\"\"),\"Yes\",\"\")","v":""},"",{"$f":"IF(AND(CE20=\"Yes\",CE19=\"\",CE18=\"\",CE17=\"\"),\"Yes\",\"\")","v":""},"",{"$f":"IF(AND(CG20=\"Yes\",CG19=\"\",CG18=\"\",CG17=\"\"),\"Yes\",\"\")","v":""},"",{"$f":"IF(AND(CI20=\"Yes\",CI19=\"\",CI18=\"\",CI17=\"\"),\"Yes\",\"\")","v":""},"",{"$f":"IF(AND(CK20=\"Yes\",CK19=\"\",CK18=\"\",CK17=\"\"),\"Yes\",\"\")","v":""},"",{"$f":"IF(AND(CM20=\"Yes\",CM19=\"\",CM18=\"\",CM17=\"\"),\"Yes\",\"\")","v":""},"",{"$f":"IF(AND(CO20=\"Yes\",CO19=\"\",CO18=\"\",CO17=\"\"),\"Yes\",\"\")","v":""},"",{"$f":"IF(AND(CQ20=\"Yes\",CQ19=\"\",CQ18=\"\",CQ17=\"\"),\"Yes\",\"\")","v":""},"",{"$f":"IF(AND(CS20=\"Yes\",CS19=\"\",CS18=\"\",CS17=\"\"),\"Yes\",\"\")","v":""},"",{"$f":"IF(AND(CU20=\"Yes\",CU19=\"\",CU18=\"\",CU17=\"\"),\"Yes\",\"\")","v":""},"",{"$f":"IF(AND(CW20=\"Yes\",CW19=\"\",CW18=\"\",CW17=\"\"),\"Yes\",\"\")","v":""},"",{"$f":"IF(AND(CY20=\"Yes\",CY19=\"\",CY18=\"\",CY17=\"\"),\"Yes\",\"\")","v":""},"",{"$f":"IF(AND(DA20=\"Yes\",DA19=\"\",DA18=\"\",DA17=\"\"),\"Yes\",\"\")","v":""},"","","",{"$f":"IF(AND(DE20=\"Yes\",DE19=\"\",DE18=\"\",DE17=\"\"),\"Yes\",\"\")","v":""},"",{"$f":"IF(AND(DG20=\"Yes\",DG19=\"\",DG18=\"\",DG17=\"\"),\"Yes\",\"\")","v":""},{"$f":"IF(AND(N20>='Warrant 7 & 8 - MUTCD'!$L$16,OR('Traffic Volume Input'!O20>='Warrant 7 & 8 - MUTCD'!$N$16,'Traffic Volume Input'!P20>='Warrant 7 & 8 - MUTCD'!$N$16)),\"Yes\",\"\")","v":""},"","",{"$f":"IF(AND(DK20=\"Yes\",DK19=\"\",DK18=\"\",DK17=\"\"),\"Yes\",\"\")","v":""},"",{"$f":"IF(AND(DM20=\"Yes\",DM19=\"\",DM18=\"\",DM17=\"\"),\"Yes\",\"\")","v":""},"",{"$f":"IF(AND(DO20=\"Yes\",DO19=\"\",DO18=\"\",DO17=\"\"),\"Yes\",\"\")","v":""},"",{"$f":"IF(AND(DQ20=\"Yes\",DQ19=\"\",DQ18=\"\",DQ17=\"\"),\"Yes\",\"\")","v":""},"",{"$f":"IF(AND(DS20=\"Yes\",DS19=\"\",DS18=\"\",DS17=\"\"),\"Yes\",\"\")","v":""},"",{"$f":"IF(AND(DU20=\"Yes\",DU19=\"\",DU18=\"\",DU17=\"\"),\"Yes\",\"\")","v":""},"",{"$f":"IF(AND(DW20=\"Yes\",DW19=\"\",DW18=\"\",DW17=\"\"),\"Yes\",\"\")","v":""},"",{"$f":"IF(AND(DY20=\"Yes\",DY19=\"\",DY18=\"\",DY17=\"\"),\"Yes\",\"\")","v":""},"",{"$f":"IF(AND(EA20=\"Yes\",EA19=\"\",EA18=\"\",EA17=\"\"),\"Yes\",\"\")","v":""},"",{"$f":"IF(AND(EC20=\"Yes\",EC19=\"\",EC18=\"\",EC17=\"\"),\"Yes\",\"\")","v":""},"",{"$f":"IF(AND(EE20=\"Yes\",EE19=\"\",EE18=\"\",EE17=\"\"),\"Yes\",\"\")","v":""},"",{"$f":"IF(AND(EG20=\"Yes\",EG19=\"\",EG18=\"\",EG17=\"\"),\"Yes\",\"\")","v":""},"",{"$f":"IF(AND(EI20=\"Yes\",EI19=\"\",EI18=\"\",EI17=\"\"),\"Yes\",\"\")","v":""},"",{"$f":"IF(AND(EK20=\"Yes\",EK19=\"\",EK18=\"\",EK17=\"\"),\"Yes\",\"\")","v":""},"",{"$f":"IF(AND(EM20=\"Yes\",EM19=\"\",EM18=\"\",EM17=\"\"),\"Yes\",\"\")","v":""},"",{"$f":"IF(AND(EO20=\"Yes\",EO19=\"\",EO18=\"\",EO17=\"\"),\"Yes\",\"\")","v":""},"",{"$f":"IF(AND(EQ20=\"Yes\",EQ19=\"\",EQ18=\"\",EQ17=\"\"),\"Yes\",\"\")","v":""},"",{"$f":"IF(AND(ES20=\"Yes\",ES19=\"\",ES18=\"\",ES17=\"\"),\"Yes\",\"\")","v":""},"",{"$f":"IF(AND(EU20=\"Yes\",EU19=\"\",EU18=\"\",EU17=\"\"),\"Yes\",\"\")","v":""},"",{"$f":"IF(AND(EW20=\"Yes\",EW19=\"\",EW18=\"\",EW17=\"\"),\"Yes\",\"\")","v":""},"","","",{"$f":"IF(AND(FA20=\"Yes\",FA19=\"\",FA18=\"\",FA17=\"\"),\"Yes\",\"\")","v":""},"","",{"$f":"IF(AND(N20>='Warrant 7 & 8 - MUTCD'!$L$25,OR('Traffic Volume Input'!O20>='Warrant 7 & 8 - MUTCD'!$N$25,'Traffic Volume Input'!P20>='Warrant 7 & 8 - MUTCD'!$N$25)),\"Yes\",\"\")","v":""},"","",{"$f":"IF(AND(FG20=\"Yes\",FG19=\"\",FG18=\"\",FG17=\"\"),\"Yes\",\"\")","v":""},"",{"$f":"IF(AND(FI20=\"Yes\",FI19=\"\",FI18=\"\",FI17=\"\"),\"Yes\",\"\")","v":""},"",{"$f":"IF(AND(FK20=\"Yes\",FK19=\"\",FK18=\"\",FK17=\"\"),\"Yes\",\"\")","v":""},"",{"$f":"IF(AND(FM20=\"Yes\",FM19=\"\",FM18=\"\",FM17=\"\"),\"Yes\",\"\")","v":""},"",{"$f":"IF(AND(FO20=\"Yes\",FO19=\"\",FO18=\"\",FO17=\"\"),\"Yes\",\"\")","v":""},"",{"$f":"IF(AND(FQ20=\"Yes\",FQ19=\"\",FQ18=\"\",FQ17=\"\"),\"Yes\",\"\")","v":""},"",{"$f":"IF(AND(FS20=\"Yes\",FS19=\"\",FS18=\"\",FS17=\"\"),\"Yes\",\"\")","v":""},"",{"$f":"IF(AND(FU20=\"Yes\",FU19=\"\",FU18=\"\",FU17=\"\"),\"Yes\",\"\")","v":""},"",{"$f":"IF(AND(FW20=\"Yes\",FW19=\"\",FW18=\"\",FW17=\"\"),\"Yes\",\"\")","v":""},"",{"$f":"IF(AND(FY20=\"Yes\",FY19=\"\",FY18=\"\",FY17=\"\"),\"Yes\",\"\")","v":""},"",{"$f":"IF(AND(GA20=\"Yes\",GA19=\"\",GA18=\"\",GA17=\"\"),\"Yes\",\"\")","v":""},"",{"$f":"IF(AND(GC20=\"Yes\",GC19=\"\",GC18=\"\",GC17=\"\"),\"Yes\",\"\")","v":""},"",{"$f":"IF(AND(GE20=\"Yes\",GE19=\"\",GE18=\"\",GE17=\"\"),\"Yes\",\"\")","v":""},"",{"$f":"IF(AND(GG20=\"Yes\",GG19=\"\",GG18=\"\",GG17=\"\"),\"Yes\",\"\")","v":""},"",{"$f":"IF(AND(GI20=\"Yes\",GI19=\"\",GI18=\"\",GI17=\"\"),\"Yes\",\"\")","v":""},"",{"$f":"IF(AND(GK20=\"Yes\",GK19=\"\",GK18=\"\",GK17=\"\"),\"Yes\",\"\")","v":""},"",{"$f":"IF(AND(GM20=\"Yes\",GM19=\"\",GM18=\"\",GM17=\"\"),\"Yes\",\"\")","v":""},"",{"$f":"IF(AND(GO20=\"Yes\",GO19=\"\",GO18=\"\",GO17=\"\"),\"Yes\",\"\")","v":""},"",{"$f":"IF(AND(GQ20=\"Yes\",GQ19=\"\",GQ18=\"\",GQ17=\"\"),\"Yes\",\"\")","v":""},"",{"$f":"IF(AND(GS20=\"Yes\",GS19=\"\",GS18=\"\",GS17=\"\"),\"Yes\",\"\")","v":""},"","","",{"$f":"IF(AND(GW20=\"Yes\",GW19=\"\",GW18=\"\",GW17=\"\"),\"Yes\",\"\")","v":""},"",""]
["03:45:00","03:59:00",null,null,0,null,null,null,null,"03:45:00","04:44:00",0,0,0,0,0,{"$f":"IF(AND(N21>='Warrant 1 - MUTCD'!$M$23,OR('Traffic Volume Input'!O21>='Warrant 1 - MUTCD'!$Q$23,'Traffic Volume Input'!P21>='Warrant 1 - MUTCD'!$Q$23)),\"Yes\",\"\")","v":""},"","","","","","",{"$f":"IF(AND(W21=\"Yes\",W20=\"\",W19=\"\",W18=\"\"),\"Yes\",\"\")","v":""},"",{"$f":"IF(AND(Y21=\"Yes\",Y20=\"\",Y19=\"\",Y18=\"\"),\"Yes\",\"\")","v":""},"",{"$f":"IF(AND(AA21=\"Yes\",AA20=\"\",AA19=\"\",AA18=\"\"),\"Yes\",\"\")","v":""},"",{"$f":"IF(AND(AC21=\"Yes\",AC20=\"\",AC19=\"\",AC18=\"\"),\"Yes\",\"\")","v":""},"",{"$f":"IF(AND(AE21=\"Yes\",AE20=\"\",AE19=\"\",AE18=\"\"),\"Yes\",\"\")","v":""},"",{"$f":"IF(AND(AG21=\"Yes\",AG20=\"\",AG19=\"\",AG18=\"\"),\"Yes\",\"\")","v":""},"",{"$f":"IF(AND(AI21=\"Yes\",AI20=\"\",AI19=\"\",AI18=\"\"),\"Yes\",\"\")","v":""},"",{"$f":"IF(AND(AK21=\"Yes\",AK20=\"\",AK19=\"\",AK18=\"\"),\"Yes\",\"\")","v":""},"",{"$f":"IF(AND(AM21=\"Yes\",AM20=\"\",AM19=\"\",AM18=\"\"),\"Yes\",\"\")","v":""},"",{"$f":"IF(AND(AO21=\"Yes\",AO20=\"\",AO19=\"\",AO18=\"\"),\"Yes\",\"\")","v":""},"",{"$f":"IF(AND(AQ21=\"Yes\",AQ20=\"\",AQ19=\"\",AQ18=\"\"),\"Yes\",\"\")","v":""},"",{"$f":"IF(AND(AS21=\"Yes\",AS20=\"\",AS19=\"\",AS18=\"\"),\"Yes\",\"\")","v":""},"",{"$f":"IF(AND(AU21=\"Yes\",AU20=\"\",AU19=\"\",AU18=\"\"),\"Yes\",\"\")","v":""},"",{"$f":"IF(AND(AW21=\"Yes\",AW20=\"\",AW19=\"\",AW18=\"\"),\"Yes\",\"\")","v":""},"",{"$f":"IF(AND(AY21=\"Yes\",AY20=\"\",AY19=\"\",AY18=\"\"),\"Yes\",\"\")","v":""},"",{"$f":"IF(AND(BA21=\"Yes\",BA20=\"\",BA19=\"\",BA18=\"\"),\"Yes\",\"\")","v":""},"",{"$f":"IF(AND(BC21=\"Yes\",BC20=\"\",BC19=\"\",BC18=\"\"),\"Yes\",\"\")","v":""},"",{"$f":"IF(AND(BE21=\"Yes\",BE20=\"\",BE19=\"\",BE18=\"\"),\"Yes\",\"\")","v":""},"",{"$f":"IF(AND(BG21=\"Yes\",BG20=\"\",BG19=\"\",BG18=\"\"),\"Yes\",\"\")","v":""},"",{"$f":"IF(AND(BI21=\"Yes\",BI20=\"\",BI19=\"\",BI18=\"\"),\"Yes\",\"\")","v":""},"","",{"$f":"IF(AND(N21>='Warrant 1 - MUTCD'!$M$32,OR('Traffic Volume Input'!O21>='Warrant 1 - MUTCD'!$Q$32,'Traffic Volume Input'!P21>='Warrant 1 - MUTCD'!$Q$32)),\"Yes\",\"\")","v":""},"","",{"$f":"IF(AND(BO21=\"Yes\",BO20=\"\",BO19=\"\",BO18=\"\"),\"Yes\",\"\")","v":""},"",{"$f":"IF(AND(BQ21=\"Yes\",BQ20=\"\",BQ19=\"\",BQ18=\"\"),\"Yes\",\"\")","v":""},"",{"$f":"IF(AND(BS21=\"Yes\",BS20=\"\",BS19=\"\",BS18=\"\"),\"Yes\",\"\")","v":""},"",{"$f":"IF(AND(BU21=\"Yes\",BU20=\"\",BU19=\"\",BU18=\"\"),\"Yes\",\"\")","v":""},"",{"$f":"IF(AND(BW21=\"Yes\",BW20=\"\",BW19=\"\",BW18=\"\"),\"Yes\",\"\")","v":""},"",{"$f":"IF(AND(BY21=\"Yes\",BY20=\"\",BY19=\"\",BY18=\"\"),\"Yes\",\"\")","v":""},"",{"$f":"IF(AND(CA21=\"Yes\",CA20=\"\",CA19=\"\",CA18=\"\"),\"Yes\",\"\")","v":""},"",{"$f":"IF(AND(CC21=\"Yes\",CC20=\"\",CC19=\"\",CC18=\"\"),\"Yes\",\"\")","v":""},"",{"$f":"IF(AND(CE21=\"Yes\",CE20=\"\",CE19=\"\",CE18=\"\"),\"Yes\",\"\")","v":""},"",{"$f":"IF(AND(CG21=\"Yes\",CG20=\"\",CG19=\"\",CG18=\"\"),\"Yes\",\"\")","v":""},"",{"$f":"IF(AND(CI21=\"Yes\",CI20=\"\",CI19=\"\",CI18=\"\"),\"Yes\",\"\")","v":""},"",{"$f":"IF(AND(CK21=\"Yes\",CK20=\"\",CK19=\"\",CK18=\"\"),\"Yes\",\"\")","v":""},"",{"$f":"IF(AND(CM21=\"Yes\",CM20=\"\",CM19=\"\",CM18=\"\"),\"Yes\",\"\")","v":""},"",{"$f":"IF(AND(CO21=\"Yes\",CO20=\"\",CO19=\"\",CO18=\"\"),\"Yes\",\"\")","v":""},"",{"$f":"IF(AND(CQ21=\"Yes\",CQ20=\"\",CQ19=\"\",CQ18=\"\"),\"Yes\",\"\")","v":""},"",{"$f":"IF(AND(CS21=\"Yes\",CS20=\"\",CS19=\"\",CS18=\"\"),\"Yes\",\"\")","v":""},"",{"$f":"IF(AND(CU21=\"Yes\",CU20=\"\",CU19=\"\",CU18=\"\"),\"Yes\",\"\")","v":""},"",{"$f":"IF(AND(CW21=\"Yes\",CW20=\"\",CW19=\"\",CW18=\"\"),\"Yes\",\"\")","v":""},"",{"$f":"IF(AND(CY21=\"Yes\",CY20=\"\",CY19=\"\",CY18=\"\"),\"Yes\",\"\")","v":""},"",{"$f":"IF(AND(DA21=\"Yes\",DA20=\"\",DA19=\"\",DA18=\"\"),\"Yes\",\"\")","v":""},"","","",{"$f":"IF(AND(DE21=\"Yes\",DE20=\"\",DE19=\"\",DE18=\"\"),\"Yes\",\"\")","v":""},"",{"$f":"IF(AND(DG21=\"Yes\",DG20=\"\",DG19=\"\",DG18=\"\"),\"Yes\",\"\")","v":""},{"$f":"IF(AND(N21>='Warrant 7 & 8 - MUTCD'!$L$16,OR('Traffic Volume Input'!O21>='Warrant 7 & 8 - MUTCD'!$N$16,'Traffic Volume Input'!P21>='Warrant 7 & 8 - MUTCD'!$N$16)),\"Yes\",\"\")","v":""},"","",{"$f":"IF(AND(DK21=\"Yes\",DK20=\"\",DK19=\"\",DK18=\"\"),\"Yes\",\"\")","v":""},"",{"$f":"IF(AND(DM21=\"Yes\",DM20=\"\",DM19=\"\",DM18=\"\"),\"Yes\",\"\")","v":""},"",{"$f":"IF(AND(DO21=\"Yes\",DO20=\"\",DO19=\"\",DO18=\"\"),\"Yes\",\"\")","v":""},"",{"$f":"IF(AND(DQ21=\"Yes\",DQ20=\"\",DQ19=\"\",DQ18=\"\"),\"Yes\",\"\")","v":""},"",{"$f":"IF(AND(DS21=\"Yes\",DS20=\"\",DS19=\"\",DS18=\"\"),\"Yes\",\"\")","v":""},"",{"$f":"IF(AND(DU21=\"Yes\",DU20=\"\",DU19=\"\",DU18=\"\"),\"Yes\",\"\")","v":""},"",{"$f":"IF(AND(DW21=\"Yes\",DW20=\"\",DW19=\"\",DW18=\"\"),\"Yes\",\"\")","v":""},"",{"$f":"IF(AND(DY21=\"Yes\",DY20=\"\",DY19=\"\",DY18=\"\"),\"Yes\",\"\")","v":""},"",{"$f":"IF(AND(EA21=\"Yes\",EA20=\"\",EA19=\"\",EA18=\"\"),\"Yes\",\"\")","v":""},"",{"$f":"IF(AND(EC21=\"Yes\",EC20=\"\",EC19=\"\",EC18=\"\"),\"Yes\",\"\")","v":""},"",{"$f":"IF(AND(EE21=\"Yes\",EE20=\"\",EE19=\"\",EE18=\"\"),\"Yes\",\"\")","v":""},"",{"$f":"IF(AND(EG21=\"Yes\",EG20=\"\",EG19=\"\",EG18=\"\"),\"Yes\",\"\")","v":""},"",{"$f":"IF(AND(EI21=\"Yes\",EI20=\"\",EI19=\"\",EI18=\"\"),\"Yes\",\"\")","v":""},"",{"$f":"IF(AND(EK21=\"Yes\",EK20=\"\",EK19=\"\",EK18=\"\"),\"Yes\",\"\")","v":""},"",{"$f":"IF(AND(EM21=\"Yes\",EM20=\"\",EM19=\"\",EM18=\"\"),\"Yes\",\"\")","v":""},"",{"$f":"IF(AND(EO21=\"Yes\",EO20=\"\",EO19=\"\",EO18=\"\"),\"Yes\",\"\")","v":""},"",{"$f":"IF(AND(EQ21=\"Yes\",EQ20=\"\",EQ19=\"\",EQ18=\"\"),\"Yes\",\"\")","v":""},"",{"$f":"IF(AND(ES21=\"Yes\",ES20=\"\",ES19=\"\",ES18=\"\"),\"Yes\",\"\")","v":""},"",{"$f":"IF(AND(EU21=\"Yes\",EU20=\"\",EU19=\"\",EU18=\"\"),\"Yes\",\"\")","v":""},"",{"$f":"IF(AND(EW21=\"Yes\",EW20=\"\",EW19=\"\",EW18=\"\"),\"Yes\",\"\")","v":""},"","","",{"$f":"IF(AND(FA21=\"Yes\",FA20=\"\",FA19=\"\",FA18=\"\"),\"Yes\",\"\")","v":""},"","",{"$f":"IF(AND(N21>='Warrant 7 & 8 - MUTCD'!$L$25,OR('Traffic Volume Input'!O21>='Warrant 7 & 8 - MUTCD'!$N$25,'Traffic Volume Input'!P21>='Warrant 7 & 8 - MUTCD'!$N$25)),\"Yes\",\"\")","v":""},"","",{"$f":"IF(AND(FG21=\"Yes\",FG20=\"\",FG19=\"\",FG18=\"\"),\"Yes\",\"\")","v":""},"",{"$f":"IF(AND(FI21=\"Yes\",FI20=\"\",FI19=\"\",FI18=\"\"),\"Yes\",\"\")","v":""},"",{"$f":"IF(AND(FK21=\"Yes\",FK20=\"\",FK19=\"\",FK18=\"\"),\"Yes\",\"\")","v":""},"",{"$f":"IF(AND(FM21=\"Yes\",FM20=\"\",FM19=\"\",FM18=\"\"),\"Yes\",\"\")","v":""},"",{"$f":"IF(AND(FO21=\"Yes\",FO20=\"\",FO19=\"\",FO18=\"\"),\"Yes\",\"\")","v":""},"",{"$f":"IF(AND(FQ21=\"Yes\",FQ20=\"\",FQ19=\"\",FQ18=\"\"),\"Yes\",\"\")","v":""},"",{"$f":"IF(AND(FS21=\"Yes\",FS20=\"\",FS19=\"\",FS18=\"\"),\"Yes\",\"\")","v":""},"",{"$f":"IF(AND(FU21=\"Yes\",FU20=\"\",FU19=\"\",FU18=\"\"),\"Yes\",\"\")","v":""},"",{"$f":"IF(AND(FW21=\"Yes\",FW20=\"\",FW19=\"\",FW18=\"\"),\"Yes\",\"\")","v":""},"",{"$f":"IF(AND(FY21=\"Yes\",FY20=\"\",FY19=\"\",FY18=\"\"),\"Yes\",\"\")","v":""},"",{"$f":"IF(AND(GA21=\"Yes\",GA20=\"\",GA19=\"\",GA18=\"\"),\"Yes\",\"\")","v":""},"",{"$f":"IF(AND(GC21=\"Yes\",GC20=\"\",GC19=\"\",GC18=\"\"),\"Yes\",\"\")","v":""},"",{"$f":"IF(AND(GE21=\"Yes\",GE20=\"\",GE19=\"\",GE18=\"\"),\"Yes\",\"\")","v":""},"",{"$f":"IF(AND(GG21=\"Yes\",GG20=\"\",GG19=\"\",GG18=\"\"),\"Yes\",\"\")","v":""},"",{"$f":"IF(AND(GI21=\"Yes\",GI20=\"\",GI19=\"\",GI18=\"\"),\"Yes\",\"\")","v":""},"",{"$f":"IF(AND(GK21=\"Yes\",GK20=\"\",GK19=\"\",GK18=\"\"),\"Yes\",\"\")","v":""},"",{"$f":"IF(AND(GM21=\"Yes\",GM20=\"\",GM19=\"\",GM18=\"\"),\"Yes\",\"\")","v":""},"",{"$f":"IF(AND(GO21=\"Yes\",GO20=\"\",GO19=\"\",GO18=\"\"),\"Yes\",\"\")","v":""},"",{"$f":"IF(AND(GQ21=\"Yes\",GQ20=\"\",GQ19=\"\",GQ18=\"\"),\"Yes\",\"\")","v":""},"",{"$f":"IF(AND(GS21=\"Yes\",GS20=\"\",GS19=\"\",GS18=\"\"),\"Yes\",\"\")","v":""},"","","",{"$f":"IF(AND(GW21=\"Yes\",GW20=\"\",GW19=\"\",GW18=\"\"),\"Yes\",\"\")","v":""},"",""]
["04:00:00","04:14:00",null,null,0,null,null,null,null,"04:00:00","04:59:00",0,0,0,0,0,{"$f":"IF(AND(N22>='Warrant 1 - MUTCD'!$M$23,OR('Traffic Volume Input'!O22>='Warrant 1 - MUTCD'!$Q$23,'Traffic Volume Input'!P22>='Warrant 1 - MUTCD'!$Q$23)),\"Yes\",\"\")","v":""},"","","","","","",{"$f":"IF(AND(W22=\"Yes\",W21=\"\",W20=\"\",W19=\"\"),\"Yes\",\"\")","v":""},"",{"$f":"IF(AND(Y22=\"Yes\",Y21=\"\",Y20=\"\",Y19=\"\"),\"Yes\",\"\")","v":""},"",{"$f":"IF(AND(AA22=\"Yes\",AA21=\"\",AA20=\"\",AA19=\"\"),\"Yes\",\"\")","v":""},"",{"$f":"IF(AND(AC22=\"Yes\",AC21=\"\",AC20=\"\",AC19=\"\"),\"Yes\",\"\")","v":""},"",{"$f":"IF(AND(AE22=\"Yes\",AE21=\"\",AE20=\"\",AE19=\"\"),\"Yes\",\"\")","v":""},"",{"$f":"IF(AND(AG22=\"Yes\",AG21=\"\",AG20=\"\",AG19=\"\"),\"Yes\",\"\")","v":""},"",{"$f":"IF(AND(AI22=\"Yes\",AI21=\"\",AI20=\"\",AI19=\"\"),\"Yes\",\"\")","v":""},"",{"$f":"IF(AND(AK22=\"Yes\",AK21=\"\",AK20=\"\",AK19=\"\"),\"Yes\",\"\")","v":""},"",{"$f":"IF(AND(AM22=\"Yes\",AM21=\"\",AM20=\"\",AM19=\"\"),\"Yes\",\"\")","v":""},"",{"$f":"IF(AND(AO22=\"Yes\",AO21=\"\",AO20=\"\",AO19=\"\"),\"Yes\",\"\")","v":""},"",{"$f":"IF(AND(AQ22=\"Yes\",AQ21=\"\",AQ20=\"\",AQ19=\"\"),\"Yes\",\"\")","v":""},"",{"$f":"IF(AND(AS22=\"Yes\",AS21=\"\",AS20=\"\",AS19=\"\"),\"Yes\",\"\")","v":""},"",{"$f":"IF(AND(AU22=\"Yes\",AU21=\"\",AU20=\"\",AU19=\"\"),\"Yes\",\"\")","v":""},"",{"$f":"IF(AND(AW22=\"Yes\",AW21=\"\",AW20=\"\",AW19=\"\"),\"Yes\",\"\")","v":""},"",{"$f":"IF(AND(AY22=\"Yes\",AY21=\"\",AY20=\"\",AY19=\"\"),\"Yes\",\"\")","v":""},"",{"$f":"IF(AND(BA22=\"Yes\",BA21=\"\",BA20=\"\",BA19=\"\"),\"Yes\",\"\")","v":""},"",{"$f":"IF(AND(BC22=\"Yes\",BC21=\"\",BC20=\"\",BC19=\"\"),\"Yes\",\"\")","v":""},"",{"$f":"IF(AND(BE22=\"Yes\",BE21=\"\",BE20=\"\",BE19=\"\"),\"Yes\",\"\")","v":""},"",{"$f":"IF(AND(BG22=\"Yes\",BG21=\"\",BG20=\"\",BG19=\"\"),\"Yes\",\"\")","v":""},"",{"$f":"IF(AND(BI22=\"Yes\",BI21=\"\",BI20=\"\",BI19=\"\"),\"Yes\",\"\")","v":""},"","",{"$f":"IF(AND(N22>='Warrant 1 - MUTCD'!$M$32,OR('Traffic Volume Input'!O22>='Warrant 1 - MUTCD'!$Q$32,'Traffic Volume Input'!P22>='Warrant 1 - MUTCD'!$Q$32)),\"Yes\",\"\")","v":""},"","",{"$f":"IF(AND(BO22=\"Yes\",BO21=\"\",BO20=\"\",BO19=\"\"),\"Yes\",\"\")","v":""},"",{"$f":"IF(AND(BQ22=\"Yes\",BQ21=\"\",BQ20=\"\",BQ19=\"\"),\"Yes\",\"\")","v":""},"",{"$f":"IF(AND(BS22=\"Yes\",BS21=\"\",BS20=\"\",BS19=\"\"),\"Yes\",\"\")","v":""},"",{"$f":"IF(AND(BU22=\"Yes\",BU21=\"\",BU20=\"\",BU19=\"\"),\"Yes\",\"\")","v":""},"",{"$f":"IF(AND(BW22=\"Yes\",BW21=\"\",BW20=\"\",BW19=\"\"),\"Yes\",\"\")","v":""},"",{"$f":"IF(AND(BY22=\"Yes\",BY21=\"\",BY20=\"\",BY19=\"\"),\"Yes\",\"\")","v":""},"",{"$f":"IF(AND(CA22=\"Yes\",CA21=\"\",CA20=\"\",CA19=\"\"),\"Yes\",\"\")","v":""},"",{"$f":"IF(AND(CC22=\"Yes\",CC21=\"\",CC20=\"\",CC19=\"\"),\"Yes\",\"\")","v":""},"",{"$f":"IF(AND(CE22=\"Yes\",CE21=\"\",CE20=\"\",CE19=\"\"),\"Yes\",\"\")","v":""},"",{"$f":"IF(AND(CG22=\"Yes\",CG21=\"\",CG20=\"\",CG19=\"\"),\"Yes\",\"\")","v":""},"",{"$f":"IF(AND(CI22=\"Yes\",CI21=\"\",CI20=\"\",CI19=\"\"),\"Yes\",\"\")","v":""},"",{"$f":"IF(AND(CK22=\"Yes\",CK21=\"\",CK20=\"\",CK19=\"\"),\"Yes\",\"\")","v":""},"",{"$f":"IF(AND(CM22=\"Yes\",CM21=\"\",CM20=\"\",CM19=\"\"),\"Yes\",\"\")","v":""},"",{"$f":"IF(AND(CO22=\"Yes\",CO21=\"\",CO20=\"\",CO19=\"\"),\"Yes\",\"\")","v":""},"",{"$f":"IF(AND(CQ22=\"Yes\",CQ21=\"\",CQ20=\"\",CQ19=\"\"),\"Yes\",\"\")","v":""},"",{"$f":"IF(AND(CS22=\"Yes\",CS21=\"\",CS20=\"\",CS19=\"\"),\"Yes\",\"\")","v":""},"",{"$f":"IF(AND(CU22=\"Yes\",CU21=\"\",CU20=\"\",CU19=\"\"),\"Yes\",\"\")","v":""},"",{"$f":"IF(AND(CW22=\"Yes\",CW21=\"\",CW20=\"\",CW19=\"\"),\"Yes\",\"\")","v":""},"",{"$f":"IF(AND(CY22=\"Yes\",CY21=\"\",CY20=\"\",CY19=\"\"),\"Yes\",\"\")","v":""},"",{"$f":"IF(AND(DA22=\"Yes\",DA21=\"\",DA20=\"\",DA19=\"\"),\"Yes\",\"\")","v":""},"","","",{"$f":"IF(AND(DE22=\"Yes\",DE21=\"\",DE20=\"\",DE19=\"\"),\"Yes\",\"\")","v":""},"",{"$f":"IF(AND(DG22=\"Yes\",DG21=\"\",DG20=\"\",DG19=\"\"),\"Yes\",\"\")","v":""},{"$f":"IF(AND(N22>='Warrant 7 & 8 - MUTCD'!$L$16,OR('Traffic Volume Input'!O22>='Warrant 7 & 8 - MUTCD'!$N$16,'Traffic Volume Input'!P22>='Warrant 7 & 8 - MUTCD'!$N$16)),\"Yes\",\"\")","v":""},"","",{"$f":"IF(AND(DK22=\"Yes\",DK21=\"\",DK20=\"\",DK19=\"\"),\"Yes\",\"\")","v":""},"",{"$f":"IF(AND(DM22=\"Yes\",DM21=\"\",DM20=\"\",DM19=\"\"),\"Yes\",\"\")","v":""},"",{"$f":"IF(AND(DO22=\"Yes\",DO21=\"\",DO20=\"\",DO19=\"\"),\"Yes\",\"\")","v":""},"",{"$f":"IF(AND(DQ22=\"Yes\",DQ21=\"\",DQ20=\"\",DQ19=\"\"),\"Yes\",\"\")","v":""},"",{"$f":"IF(AND(DS22=\"Yes\",DS21=\"\",DS20=\"\",DS19=\"\"),\"Yes\",\"\")","v":""},"",{"$f":"IF(AND(DU22=\"Yes\",DU21=\"\",DU20=\"\",DU19=\"\"),\"Yes\",\"\")","v":""},"",{"$f":"IF(AND(DW22=\"Yes\",DW21=\"\",DW20=\"\",DW19=\"\"),\"Yes\",\"\")","v":""},"",{"$f":"IF(AND(DY22=\"Yes\",DY21=\"\",DY20=\"\",DY19=\"\"),\"Yes\",\"\")","v":""},"",{"$f":"IF(AND(EA22=\"Yes\",EA21=\"\",EA20=\"\",EA19=\"\"),\"Yes\",\"\")","v":""},"",{"$f":"IF(AND(EC22=\"Yes\",EC21=\"\",EC20=\"\",EC19=\"\"),\"Yes\",\"\")","v":""},"",{"$f":"IF(AND(EE22=\"Yes\",EE21=\"\",EE20=\"\",EE19=\"\"),\"Yes\",\"\")","v":""},"",{"$f":"IF(AND(EG22=\"Yes\",EG21=\"\",EG20=\"\",EG19=\"\"),\"Yes\",\"\")","v":""},"",{"$f":"IF(AND(EI22=\"Yes\",EI21=\"\",EI20=\"\",EI19=\"\"),\"Yes\",\"\")","v":""},"",{"$f":"IF(AND(EK22=\"Yes\",EK21=\"\",EK20=\"\",EK19=\"\"),\"Yes\",\"\")","v":""},"",{"$f":"IF(AND(EM22=\"Yes\",EM21=\"\",EM20=\"\",EM19=\"\"),\"Yes\",\"\")","v":""},"",{"$f":"IF(AND(EO22=\"Yes\",EO21=\"\",EO20=\"\",EO19=\"\"),\"Yes\",\"\")","v":""},"",{"$f":"IF(AND(EQ22=\"Yes\",EQ21=\"\",EQ20=\"\",EQ19=\"\"),\"Yes\",\"\")","v":""},"",{"$f":"IF(AND(ES22=\"Yes\",ES21=\"\",ES20=\"\",ES19=\"\"),\"Yes\",\"\")","v":""},"",{"$f":"IF(AND(EU22=\"Yes\",EU21=\"\",EU20=\"\",EU19=\"\"),\"Yes\",\"\")","v":""},"",{"$f":"IF(AND(EW22=\"Yes\",EW21=\"\",EW20=\"\",EW19=\"\"),\"Yes\",\"\")","v":""},"","","",{"$f":"IF(AND(FA22=\"Yes\",FA21=\"\",FA20=\"\",FA19=\"\"),\"Yes\",\"\")","v":""},"","",{"$f":"IF(AND(N22>='Warrant 7 & 8 - MUTCD'!$L$25,OR('Traffic Volume Input'!O22>='Warrant 7 & 8 - MUTCD'!$N$25,'Traffic Volume Input'!P22>='Warrant 7 & 8 - MUTCD'!$N$25)),\"Yes\",\"\")","v":""},"","",{"$f":"IF(AND(FG22=\"Yes\",FG21=\"\",FG20=\"\",FG19=\"\"),\"Yes\",\"\")","v":""},"",{"$f":"IF(AND(FI22=\"Yes\",FI21=\"\",FI20=\"\",FI19=\"\"),\"Yes\",\"\")","v":""},"",{"$f":"IF(AND(FK22=\"Yes\",FK21=\"\",FK20=\"\",FK19=\"\"),\"Yes\",\"\")","v":""},"",{"$f":"IF(AND(FM22=\"Yes\",FM21=\"\",FM20=\"\",FM19=\"\"),\"Yes\",\"\")","v":""},"",{"$f":"IF(AND(FO22=\"Yes\",FO21=\"\",FO20=\"\",FO19=\"\"),\"Yes\",\"\")","v":""},"",{"$f":"IF(AND(FQ22=\"Yes\",FQ21=\"\",FQ20=\"\",FQ19=\"\"),\"Yes\",\"\")","v":""},"",{"$f":"IF(AND(FS22=\"Yes\",FS21=\"\",FS20=\"\",FS19=\"\"),\"Yes\",\"\")","v":""},"",{"$f":"IF(AND(FU22=\"Yes\",FU21=\"\",FU20=\"\",FU19=\"\"),\"Yes\",\"\")","v":""},"",{"$f":"IF(AND(FW22=\"Yes\",FW21=\"\",FW20=\"\",FW19=\"\"),\"Yes\",\"\")","v":""},"",{"$f":"IF(AND(FY22=\"Yes\",FY21=\"\",FY20=\"\",FY19=\"\"),\"Yes\",\"\")","v":""},"",{"$f":"IF(AND(GA22=\"Yes\",GA21=\"\",GA20=\"\",GA19=\"\"),\"Yes\",\"\")","v":""},"",{"$f":"IF(AND(GC22=\"Yes\",GC21=\"\",GC20=\"\",GC19=\"\"),\"Yes\",\"\")","v":""},"",{"$f":"IF(AND(GE22=\"Yes\",GE21=\"\",GE20=\"\",GE19=\"\"),\"Yes\",\"\")","v":""},"",{"$f":"IF(AND(GG22=\"Yes\",GG21=\"\",GG20=\"\",GG19=\"\"),\"Yes\",\"\")","v":""},"",{"$f":"IF(AND(GI22=\"Yes\",GI21=\"\",GI20=\"\",GI19=\"\"),\"Yes\",\"\")","v":""},"",{"$f":"IF(AND(GK22=\"Yes\",GK21=\"\",GK20=\"\",GK19=\"\"),\"Yes\",\"\")","v":""},"",{"$f":"IF(AND(GM22=\"Yes\",GM21=\"\",GM20=\"\",GM19=\"\"),\"Yes\",\"\")","v":""},"",{"$f":"IF(AND(GO22=\"Yes\",GO21=\"\",GO20=\"\",GO19=\"\"),\"Yes\",\"\")","v":""},"",{"$f":"IF(AND(GQ22=\"Yes\",GQ21=\"\",GQ20=\"\",GQ19=\"\"),\"Yes\",\"\")","v":""},"",{"$f":"IF(AND(GS22=\"Yes\",GS21=\"\",GS20=\"\",GS19=\"\"),\"Yes\",\"\")","v":""},"","","",{"$f":"IF(AND(GW22=\"Yes\",GW21=\"\",GW20=\"\",GW19=\"\"),\"Yes\",\"\")","v":""},"",""]
["04:15:00","04:29:00",null,null,0,null,null,null,null,"04:15:00","05:14:00",0,0,0,0,0,{"$f":"IF(AND(N23>='Warrant 1 - MUTCD'!$M$23,OR('Traffic Volume Input'!O23>='Warrant 1 - MUTCD'!$Q$23,'Traffic Volume Input'!P23>='Warrant 1 - MUTCD'!$Q$23)),\"Yes\",\"\")","v":""},"","","","","","",{"$f":"IF(AND(W23=\"Yes\",W22=\"\",W21=\"\",W20=\"\"),\"Yes\",\"\")","v":""},"",{"$f":"IF(AND(Y23=\"Yes\",Y22=\"\",Y21=\"\",Y20=\"\"),\"Yes\",\"\")","v":""},"",{"$f":"IF(AND(AA23=\"Yes\",AA22=\"\",AA21=\"\",AA20=\"\"),\"Yes\",\"\")","v":""},"",{"$f":"IF(AND(AC23=\"Yes\",AC22=\"\",AC21=\"\",AC20=\"\"),\"Yes\",\"\")","v":""},"",{"$f":"IF(AND(AE23=\"Yes\",AE22=\"\",AE21=\"\",AE20=\"\"),\"Yes\",\"\")","v":""},"",{"$f":"IF(AND(AG23=\"Yes\",AG22=\"\",AG21=\"\",AG20=\"\"),\"Yes\",\"\")","v":""},"",{"$f":"IF(AND(AI23=\"Yes\",AI22=\"\",AI21=\"\",AI20=\"\"),\"Yes\",\"\")","v":""},"",{"$f":"IF(AND(AK23=\"Yes\",AK22=\"\",AK21=\"\",AK20=\"\"),\"Yes\",\"\")","v":""},"",{"$f":"IF(AND(AM23=\"Yes\",AM22=\"\",AM21=\"\",AM20=\"\"),\"Yes\",\"\")","v":""},"",{"$f":"IF(AND(AO23=\"Yes\",AO22=\"\",AO21=\"\",AO20=\"\"),\"Yes\",\"\")","v":""},"",{"$f":"IF(AND(AQ23=\"Yes\",AQ22=\"\",AQ21=\"\",AQ20=\"\"),\"Yes\",\"\")","v":""},"",{"$f":"IF(AND(AS23=\"Yes\",AS22=\"\",AS21=\"\",AS20=\"\"),\"Yes\",\"\")","v":""},"",{"$f":"IF(AND(AU23=\"Yes\",AU22=\"\",AU21=\"\",AU20=\"\"),\"Yes\",\"\")","v":""},"",{"$f":"IF(AND(AW23=\"Yes\",AW22=\"\",AW21=\"\",AW20=\"\"),\"Yes\",\"\")","v":""},"",{"$f":"IF(AND(AY23=\"Yes\",AY22=\"\",AY21=\"\",AY20=\"\"),\"Yes\",\"\")","v":""},"",{"$f":"IF(AND(BA23=\"Yes\",BA22=\"\",BA21=\"\",BA20=\"\"),\"Yes\",\"\")","v":""},"",{"$f":"IF(AND(BC23=\"Yes\",BC22=\"\",BC21=\"\",BC20=\"\"),\"Yes\",\"\")","v":""},"",{"$f":"IF(AND(BE23=\"Yes\",BE22=\"\",BE21=\"\",BE20=\"\"),\"Yes\",\"\")","v":""},"",{"$f":"IF(AND(BG23=\"Yes\",BG22=\"\",BG21=\"\",BG20=\"\"),\"Yes\",\"\")","v":""},"",{"$f":"IF(AND(BI23=\"Yes\",BI22=\"\",BI21=\"\",BI20=\"\"),\"Yes\",\"\")","v":""},"","",{"$f":"IF(AND(N23>='Warrant 1 - MUTCD'!$M$32,OR('Traffic Volume Input'!O23>='Warrant 1 - MUTCD'!$Q$32,'Traffic Volume Input'!P23>='Warrant 1 - MUTCD'!$Q$32)),\"Yes\",\"\")","v":""},"","",{"$f":"IF(AND(BO23=\"Yes\",BO22=\"\",BO21=\"\",BO20=\"\"),\"Yes\",\"\")","v":""},"",{"$f":"IF(AND(BQ23=\"Yes\",BQ22=\"\",BQ21=\"\",BQ20=\"\"),\"Yes\",\"\")","v":""},"",{"$f":"IF(AND(BS23=\"Yes\",BS22=\"\",BS21=\"\",BS20=\"\"),\"Yes\",\"\")","v":""},"",{"$f":"IF(AND(BU23=\"Yes\",BU22=\"\",BU21=\"\",BU20=\"\"),\"Yes\",\"\")","v":""},"",{"$f":"IF(AND(BW23=\"Yes\",BW22=\"\",BW21=\"\",BW20=\"\"),\"Yes\",\"\")","v":""},"",{"$f":"IF(AND(BY23=\"Yes\",BY22=\"\",BY21=\"\",BY20=\"\"),\"Yes\",\"\")","v":""},"",{"$f":"IF(AND(CA23=\"Yes\",CA22=\"\",CA21=\"\",CA20=\"\"),\"Yes\",\"\")","v":""},"",{"$f":"IF(AND(CC23=\"Yes\",CC22=\"\",CC21=\"\",CC20=\"\"),\"Yes\",\"\")","v":""},"",{"$f":"IF(AND(CE23=\"Yes\",CE22=\"\",CE21=\"\",CE20=\"\"),\"Yes\",\"\")","v":""},"",{"$f":"IF(AND(CG23=\"Yes\",CG22=\"\",CG21=\"\",CG20=\"\"),\"Yes\",\"\")","v":""},"",{"$f":"IF(AND(CI23=\"Yes\",CI22=\"\",CI21=\"\",CI20=\"\"),\"Yes\",\"\")","v":""},"",{"$f":"IF(AND(CK23=\"Yes\",CK22=\"\",CK21=\"\",CK20=\"\"),\"Yes\",\"\")","v":""},"",{"$f":"IF(AND(CM23=\"Yes\",CM22=\"\",CM21=\"\",CM20=\"\"),\"Yes\",\"\")","v":""},"",{"$f":"IF(AND(CO23=\"Yes\",CO22=\"\",CO21=\"\",CO20=\"\"),\"Yes\",\"\")","v":""},"",{"$f":"IF(AND(CQ23=\"Yes\",CQ22=\"\",CQ21=\"\",CQ20=\"\"),\"Yes\",\"\")","v":""},"",{"$f":"IF(AND(CS23=\"Yes\",CS22=\"\",CS21=\"\",CS20=\"\"),\"Yes\",\"\")","v":""},"",{"$f":"IF(AND(CU23=\"Yes\",CU22=\"\",CU21=\"\",CU20=\"\"),\"Yes\",\"\")","v":""},"",{"$f":"IF(AND(CW23=\"Yes\",CW22=\"\",CW21=\"\",CW20=\"\"),\"Yes\",\"\")","v":""},"",{"$f":"IF(AND(CY23=\"Yes\",CY22=\"\",CY21=\"\",CY20=\"\"),\"Yes\",\"\")","v":""},"",{"$f":"IF(AND(DA23=\"Yes\",DA22=\"\",DA21=\"\",DA20=\"\"),\"Yes\",\"\")","v":""},"","","",{"$f":"IF(AND(DE23=\"Yes\",DE22=\"\",DE21=\"\",DE20=\"\"),\"Yes\",\"\")","v":""},"",{"$f":"IF(AND(DG23=\"Yes\",DG22=\"\",DG21=\"\",DG20=\"\"),\"Yes\",\"\")","v":""},{"$f":"IF(AND(N23>='Warrant 7 & 8 - MUTCD'!$L$16,OR('Traffic Volume Input'!O23>='Warrant 7 & 8 - MUTCD'!$N$16,'Traffic Volume Input'!P23>='Warrant 7 & 8 - MUTCD'!$N$16)),\"Yes\",\"\")","v":""},"","",{"$f":"IF(AND(DK23=\"Yes\",DK22=\"\",DK21=\"\",DK20=\"\"),\"Yes\",\"\")","v":""},"",{"$f":"IF(AND(DM23=\"Yes\",DM22=\"\",DM21=\"\",DM20=\"\"),\"Yes\",\"\")","v":""},"",{"$f":"IF(AND(DO23=\"Yes\",DO22=\"\",DO21=\"\",DO20=\"\"),\"Yes\",\"\")","v":""},"",{"$f":"IF(AND(DQ23=\"Yes\",DQ22=\"\",DQ21=\"\",DQ20=\"\"),\"Yes\",\"\")","v":""},"",{"$f":"IF(AND(DS23=\"Yes\",DS22=\"\",DS21=\"\",DS20=\"\"),\"Yes\",\"\")","v":""},"",{"$f":"IF(AND(DU23=\"Yes\",DU22=\"\",DU21=\"\",DU20=\"\"),\"Yes\",\"\")","v":""},"",{"$f":"IF(AND(DW23=\"Yes\",DW22=\"\",DW21=\"\",DW20=\"\"),\"Yes\",\"\")","v":""},"",{"$f":"IF(AND(DY23=\"Yes\",DY22=\"\",DY21=\"\",DY20=\"\"),\"Yes\",\"\")","v":""},"",{"$f":"IF(AND(EA23=\"Yes\",EA22=\"\",EA21=\"\",EA20=\"\"),\"Yes\",\"\")","v":""},"",{"$f":"IF(AND(EC23=\"Yes\",EC22=\"\",EC21=\"\",EC20=\"\"),\"Yes\",\"\")","v":""},"",{"$f":"IF(AND(EE23=\"Yes\",EE22=\"\",EE21=\"\",EE20=\"\"),\"Yes\",\"\")","v":""},"",{"$f":"IF(AND(EG23=\"Yes\",EG22=\"\",EG21=\"\",EG20=\"\"),\"Yes\",\"\")","v":""},"",{"$f":"IF(AND(EI23=\"Yes\",EI22=\"\",EI21=\"\",EI20=\"\"),\"Yes\",\"\")","v":""},"",{"$f":"IF(AND(EK23=\"Yes\",EK22=\"\",EK21=\"\",EK20=\"\"),\"Yes\",\"\")","v":""},"",{"$f":"IF(AND(EM23=\"Yes\",EM22=\"\",EM21=\"\",EM20=\"\"),\"Yes\",\"\")","v":""},"",{"$f":"IF(AND(EO23=\"Yes\",EO22=\"\",EO21=\"\",EO20=\"\"),\"Yes\",\"\")","v":""},"",{"$f":"IF(AND(EQ23=\"Yes\",EQ22=\"\",EQ21=\"\",EQ20=\"\"),\"Yes\",\"\")","v":""},"",{"$f":"IF(AND(ES23=\"Yes\",ES22=\"\",ES21=\"\",ES20=\"\"),\"Yes\",\"\")","v":""},"",{"$f":"IF(AND(EU23=\"Yes\",EU22=\"\",EU21=\"\",EU20=\"\"),\"Yes\",\"\")","v":""},"",{"$f":"IF(AND(EW23=\"Yes\",EW22=\"\",EW21=\"\",EW20=\"\"),\"Yes\",\"\")","v":""},"","","",{"$f":"IF(AND(FA23=\"Yes\",FA22=\"\",FA21=\"\",FA20=\"\"),\"Yes\",\"\")","v":""},"","",{"$f":"IF(AND(N23>='Warrant 7 & 8 - MUTCD'!$L$25,OR('Traffic Volume Input'!O23>='Warrant 7 & 8 - MUTCD'!$N$25,'Traffic Volume Input'!P23>='Warrant 7 & 8 - MUTCD'!$N$25)),\"Yes\",\"\")","v":""},"","",{"$f":"IF(AND(FG23=\"Yes\",FG22=\"\",FG21=\"\",FG20=\"\"),\"Yes\",\"\")","v":""},"",{"$f":"IF(AND(FI23=\"Yes\",FI22=\"\",FI21=\"\",FI20=\"\"),\"Yes\",\"\")","v":""},"",{"$f":"IF(AND(FK23=\"Yes\",FK22=\"\",FK21=\"\",FK20=\"\"),\"Yes\",\"\")","v":""},"",{"$f":"IF(AND(FM23=\"Yes\",FM22=\"\",FM21=\"\",FM20=\"\"),\"Yes\",\"\")","v":""},"",{"$f":"IF(AND(FO23=\"Yes\",FO22=\"\",FO21=\"\",FO20=\"\"),\"Yes\",\"\")","v":""},"",{"$f":"IF(AND(FQ23=\"Yes\",FQ22=\"\",FQ21=\"\",FQ20=\"\"),\"Yes\",\"\")","v":""},"",{"$f":"IF(AND(FS23=\"Yes\",FS22=\"\",FS21=\"\",FS20=\"\"),\"Yes\",\"\")","v":""},"",{"$f":"IF(AND(FU23=\"Yes\",FU22=\"\",FU21=\"\",FU20=\"\"),\"Yes\",\"\")","v":""},"",{"$f":"IF(AND(FW23=\"Yes\",FW22=\"\",FW21=\"\",FW20=\"\"),\"Yes\",\"\")","v":""},"",{"$f":"IF(AND(FY23=\"Yes\",FY22=\"\",FY21=\"\",FY20=\"\"),\"Yes\",\"\")","v":""},"",{"$f":"IF(AND(GA23=\"Yes\",GA22=\"\",GA21=\"\",GA20=\"\"),\"Yes\",\"\")","v":""},"",{"$f":"IF(AND(GC23=\"Yes\",GC22=\"\",GC21=\"\",GC20=\"\"),\"Yes\",\"\")","v":""},"",{"$f":"IF(AND(GE23=\"Yes\",GE22=\"\",GE21=\"\",GE20=\"\"),\"Yes\",\"\")","v":""},"",{"$f":"IF(AND(GG23=\"Yes\",GG22=\"\",GG21=\"\",GG20=\"\"),\"Yes\",\"\")","v":""},"",{"$f":"IF(AND(GI23=\"Yes\",GI22=\"\",GI21=\"\",GI20=\"\"),\"Yes\",\"\")","v":""},"",{"$f":"IF(AND(GK23=\"Yes\",GK22=\"\",GK21=\"\",GK20=\"\"),\"Yes\",\"\")","v":""},"",{"$f":"IF(AND(GM23=\"Yes\",GM22=\"\",GM21=\"\",GM20=\"\"),\"Yes\",\"\")","v":""},"",{"$f":"IF(AND(GO23=\"Yes\",GO22=\"\",GO21=\"\",GO20=\"\"),\"Yes\",\"\")","v":""},"",{"$f":"IF(AND(GQ23=\"Yes\",GQ22=\"\",GQ21=\"\",GQ20=\"\"),\"Yes\",\"\")","v":""},"",{"$f":"IF(AND(GS23=\"Yes\",GS22=\"\",GS21=\"\",GS20=\"\"),\"Yes\",\"\")","v":""},"","","",{"$f":"IF(AND(GW23=\"Yes\",GW22=\"\",GW21=\"\",GW20=\"\"),\"Yes\",\"\")","v":""},"",""]
["04:30:00","04:44:00",null,null,0,null,null,null,null,"04:30:00","05:29:00",0,0,0,0,0,{"$f":"IF(AND(N24>='Warrant 1 - MUTCD'!$M$23,OR('Traffic Volume Input'!O24>='Warrant 1 - MUTCD'!$Q$23,'Traffic Volume Input'!P24>='Warrant 1 - MUTCD'!$Q$23)),\"Yes\",\"\")","v":""},"","","","","","",{"$f":"IF(AND(W24=\"Yes\",W23=\"\",W22=\"\",W21=\"\"),\"Yes\",\"\")","v":""},"",{"$f":"IF(AND(Y24=\"Yes\",Y23=\"\",Y22=\"\",Y21=\"\"),\"Yes\",\"\")","v":""},"",{"$f":"IF(AND(AA24=\"Yes\",AA23=\"\",AA22=\"\",AA21=\"\"),\"Yes\",\"\")","v":""},"",{"$f":"IF(AND(AC24=\"Yes\",AC23=\"\",AC22=\"\",AC21=\"\"),\"Yes\",\"\")","v":""},"",{"$f":"IF(AND(AE24=\"Yes\",AE23=\"\",AE22=\"\",AE21=\"\"),\"Yes\",\"\")","v":""},"",{"$f":"IF(AND(AG24=\"Yes\",AG23=\"\",AG22=\"\",AG21=\"\"),\"Yes\",\"\")","v":""},"",{"$f":"IF(AND(AI24=\"Yes\",AI23=\"\",AI22=\"\",AI21=\"\"),\"Yes\",\"\")","v":""},"",{"$f":"IF(AND(AK24=\"Yes\",AK23=\"\",AK22=\"\",AK21=\"\"),\"Yes\",\"\")","v":""},"",{"$f":"IF(AND(AM24=\"Yes\",AM23=\"\",AM22=\"\",AM21=\"\"),\"Yes\",\"\")","v":""},"",{"$f":"IF(AND(AO24=\"Yes\",AO23=\"\",AO22=\"\",AO21=\"\"),\"Yes\",\"\")","v":""},"",{"$f":"IF(AND(AQ24=\"Yes\",AQ23=\"\",AQ22=\"\",AQ21=\"\"),\"Yes\",\"\")","v":""},"",{"$f":"IF(AND(AS24=\"Yes\",AS23=\"\",AS22=\"\",AS21=\"\"),\"Yes\",\"\")","v":""},"",{"$f":"IF(AND(AU24=\"Yes\",AU23=\"\",AU22=\"\",AU21=\"\"),\"Yes\",\"\")","v":""},"",{"$f":"IF(AND(AW24=\"Yes\",AW23=\"\",AW22=\"\",AW21=\"\"),\"Yes\",\"\")","v":""},"",{"$f":"IF(AND(AY24=\"Yes\",AY23=\"\",AY22=\"\",AY21=\"\"),\"Yes\",\"\")","v":""},"",{"$f":"IF(AND(BA24=\"Yes\",BA23=\"\",BA22=\"\",BA21=\"\"),\"Yes\",\"\")","v":""},"",{"$f":"IF(AND(BC24=\"Yes\",BC23=\"\",BC22=\"\",BC21=\"\"),\"Yes\",\"\")","v":""},"",{"$f":"IF(AND(BE24=\"Yes\",BE23=\"\",BE22=\"\",BE21=\"\"),\"Yes\",\"\")","v":""},"",{"$f":"IF(AND(BG24=\"Yes\",BG23=\"\",BG22=\"\",BG21=\"\"),\"Yes\",\"\")","v":""},"",{"$f":"IF(AND(BI24=\"Yes\",BI23=\"\",BI22=\"\",BI21=\"\"),\"Yes\",\"\")","v":""},"","",{"$f":"IF(AND(N24>='Warrant 1 - MUTCD'!$M$32,OR('Traffic Volume Input'!O24>='Warrant 1 - MUTCD'!$Q$32,'Traffic Volume Input'!P24>='Warrant 1 - MUTCD'!$Q$32)),\"Yes\",\"\")","v":""},"","",{"$f":"IF(AND(BO24=\"Yes\",BO23=\"\",BO22=\"\",BO21=\"\"),\"Yes\",\"\")","v":""},"",{"$f":"IF(AND(BQ24=\"Yes\",BQ23=\"\",BQ22=\"\",BQ21=\"\"),\"Yes\",\"\")","v":""},"",{"$f":"IF(AND(BS24=\"Yes\",BS23=\"\",BS22=\"\",BS21=\"\"),\"Yes\",\"\")","v":""},"",{"$f":"IF(AND(BU24=\"Yes\",BU23=\"\",BU22=\"\",BU21=\"\"),\"Yes\",\"\")","v":""},"",{"$f":"IF(AND(BW24=\"Yes\",BW23=\"\",BW22=\"\",BW21=\"\"),\"Yes\",\"\")","v":""},"",{"$f":"IF(AND(BY24=\"Yes\",BY23=\"\",BY22=\"\",BY21=\"\"),\"Yes\",\"\")","v":""},"",{"$f":"IF(AND(CA24=\"Yes\",CA23=\"\",CA22=\"\",CA21=\"\"),\"Yes\",\"\")","v":""},"",{"$f":"IF(AND(CC24=\"Yes\",CC23=\"\",CC22=\"\",CC21=\"\"),\"Yes\",\"\")","v":""},"",{"$f":"IF(AND(CE24=\"Yes\",CE23=\"\",CE22=\"\",CE21=\"\"),\"Yes\",\"\")","v":""},"",{"$f":"IF(AND(CG24=\"Yes\",CG23=\"\",CG22=\"\",CG21=\"\"),\"Yes\",\"\")","v":""},"",{"$f":"IF(AND(CI24=\"Yes\",CI23=\"\",CI22=\"\",CI21=\"\"),\"Yes\",\"\")","v":""},"",{"$f":"IF(AND(CK24=\"Yes\",CK23=\"\",CK22=\"\",CK21=\"\"),\"Yes\",\"\")","v":""},"",{"$f":"IF(AND(CM24=\"Yes\",CM23=\"\",CM22=\"\",CM21=\"\"),\"Yes\",\"\")","v":""},"",{"$f":"IF(AND(CO24=\"Yes\",CO23=\"\",CO22=\"\",CO21=\"\"),\"Yes\",\"\")","v":""},"",{"$f":"IF(AND(CQ24=\"Yes\",CQ23=\"\",CQ22=\"\",CQ21=\"\"),\"Yes\",\"\")","v":""},"",{"$f":"IF(AND(CS24=\"Yes\",CS23=\"\",CS22=\"\",CS21=\"\"),\"Yes\",\"\")","v":""},"",{"$f":"IF(AND(CU24=\"Yes\",CU23=\"\",CU22=\"\",CU21=\"\"),\"Yes\",\"\")","v":""},"",{"$f":"IF(AND(CW24=\"Yes\",CW23=\"\",CW22=\"\",CW21=\"\"),\"Yes\",\"\")","v":""},"",{"$f":"IF(AND(CY24=\"Yes\",CY23=\"\",CY22=\"\",CY21=\"\"),\"Yes\",\"\")","v":""},"",{"$f":"IF(AND(DA24=\"Yes\",DA23=\"\",DA22=\"\",DA21=\"\"),\"Yes\",\"\")","v":""},"","","",{"$f":"IF(AND(DE24=\"Yes\",DE23=\"\",DE22=\"\",DE21=\"\"),\"Yes\",\"\")","v":""},"",{"$f":"IF(AND(DG24=\"Yes\",DG23=\"\",DG22=\"\",DG21=\"\"),\"Yes\",\"\")","v":""},{"$f":"IF(AND(N24>='Warrant 7 & 8 - MUTCD'!$L$16,OR('Traffic Volume Input'!O24>='Warrant 7 & 8 - MUTCD'!$N$16,'Traffic Volume Input'!P24>='Warrant 7 & 8 - MUTCD'!$N$16)),\"Yes\",\"\")","v":""},"","",{"$f":"IF(AND(DK24=\"Yes\",DK23=\"\",DK22=\"\",DK21=\"\"),\"Yes\",\"\")","v":""},"",{"$f":"IF(AND(DM24=\"Yes\",DM23=\"\",DM22=\"\",DM21=\"\"),\"Yes\",\"\")","v":""},"",{"$f":"IF(AND(DO24=\"Yes\",DO23=\"\",DO22=\"\",DO21=\"\"),\"Yes\",\"\")","v":""},"",{"$f":"IF(AND(DQ24=\"Yes\",DQ23=\"\",DQ22=\"\",DQ21=\"\"),\"Yes\",\"\")","v":""},"",{"$f":"IF(AND(DS24=\"Yes\",DS23=\"\",DS22=\"\",DS21=\"\"),\"Yes\",\"\")","v":""},"",{"$f":"IF(AND(DU24=\"Yes\",DU23=\"\",DU22=\"\",DU21=\"\"),\"Yes\",\"\")","v":""},"",{"$f":"IF(AND(DW24=\"Yes\",DW23=\"\",DW22=\"\",DW21=\"\"),\"Yes\",\"\")","v":""},"",{"$f":"IF(AND(DY24=\"Yes\",DY23=\"\",DY22=\"\",DY21=\"\"),\"Yes\",\"\")","v":""},"",{"$f":"IF(AND(EA24=\"Yes\",EA23=\"\",EA22=\"\",EA21=\"\"),\"Yes\",\"\")","v":""},"",{"$f":"IF(AND(EC24=\"Yes\",EC23=\"\",EC22=\"\",EC21=\"\"),\"Yes\",\"\")","v":""},"",{"$f":"IF(AND(EE24=\"Yes\",EE23=\"\",EE22=\"\",EE21=\"\"),\"Yes\",\"\")","v":""},"",{"$f":"IF(AND(EG24=\"Yes\",EG23=\"\",EG22=\"\",EG21=\"\"),\"Yes\",\"\")","v":""},"",{"$f":"IF(AND(EI24=\"Yes\",EI23=\"\",EI22=\"\",EI21=\"\"),\"Yes\",\"\")","v":""},"",{"$f":"IF(AND(EK24=\"Yes\",EK23=\"\",EK22=\"\",EK21=\"\"),\"Yes\",\"\")","v":""},"",{"$f":"IF(AND(EM24=\"Yes\",EM23=\"\",EM22=\"\",EM21=\"\"),\"Yes\",\"\")","v":""},"",{"$f":"IF(AND(EO24=\"Yes\",EO23=\"\",EO22=\"\",EO21=\"\"),\"Yes\",\"\")","v":""},"",{"$f":"IF(AND(EQ24=\"Yes\",EQ23=\"\",EQ22=\"\",EQ21=\"\"),\"Yes\",\"\")","v":""},"",{"$f":"IF(AND(ES24=\"Yes\",ES23=\"\",ES22=\"\",ES21=\"\"),\"Yes\",\"\")","v":""},"",{"$f":"IF(AND(EU24=\"Yes\",EU23=\"\",EU22=\"\",EU21=\"\"),\"Yes\",\"\")","v":""},"",{"$f":"IF(AND(EW24=\"Yes\",EW23=\"\",EW22=\"\",EW21=\"\"),\"Yes\",\"\")","v":""},"","","",{"$f":"IF(AND(FA24=\"Yes\",FA23=\"\",FA22=\"\",FA21=\"\"),\"Yes\",\"\")","v":""},"","",{"$f":"IF(AND(N24>='Warrant 7 & 8 - MUTCD'!$L$25,OR('Traffic Volume Input'!O24>='Warrant 7 & 8 - MUTCD'!$N$25,'Traffic Volume Input'!P24>='Warrant 7 & 8 - MUTCD'!$N$25)),\"Yes\",\"\")","v":""},"","",{"$f":"IF(AND(FG24=\"Yes\",FG23=\"\",FG22=\"\",FG21=\"\"),\"Yes\",\"\")","v":""},"",{"$f":"IF(AND(FI24=\"Yes\",FI23=\"\",FI22=\"\",FI21=\"\"),\"Yes\",\"\")","v":""},"",{"$f":"IF(AND(FK24=\"Yes\",FK23=\"\",FK22=\"\",FK21=\"\"),\"Yes\",\"\")","v":""},"",{"$f":"IF(AND(FM24=\"Yes\",FM23=\"\",FM22=\"\",FM21=\"\"),\"Yes\",\"\")","v":""},"",{"$f":"IF(AND(FO24=\"Yes\",FO23=\"\",FO22=\"\",FO21=\"\"),\"Yes\",\"\")","v":""},"",{"$f":"IF(AND(FQ24=\"Yes\",FQ23=\"\",FQ22=\"\",FQ21=\"\"),\"Yes\",\"\")","v":""},"",{"$f":"IF(AND(FS24=\"Yes\",FS23=\"\",FS22=\"\",FS21=\"\"),\"Yes\",\"\")","v":""},"",{"$f":"IF(AND(FU24=\"Yes\",FU23=\"\",FU22=\"\",FU21=\"\"),\"Yes\",\"\")","v":""},"",{"$f":"IF(AND(FW24=\"Yes\",FW23=\"\",FW22=\"\",FW21=\"\"),\"Yes\",\"\")","v":""},"",{"$f":"IF(AND(FY24=\"Yes\",FY23=\"\",FY22=\"\",FY21=\"\"),\"Yes\",\"\")","v":""},"",{"$f":"IF(AND(GA24=\"Yes\",GA23=\"\",GA22=\"\",GA21=\"\"),\"Yes\",\"\")","v":""},"",{"$f":"IF(AND(GC24=\"Yes\",GC23=\"\",GC22=\"\",GC21=\"\"),\"Yes\",\"\")","v":""},"",{"$f":"IF(AND(GE24=\"Yes\",GE23=\"\",GE22=\"\",GE21=\"\"),\"Yes\",\"\")","v":""},"",{"$f":"IF(AND(GG24=\"Yes\",GG23=\"\",GG22=\"\",GG21=\"\"),\"Yes\",\"\")","v":""},"",{"$f":"IF(AND(GI24=\"Yes\",GI23=\"\",GI22=\"\",GI21=\"\"),\"Yes\",\"\")","v":""},"",{"$f":"IF(AND(GK24=\"Yes\",GK23=\"\",GK22=\"\",GK21=\"\"),\"Yes\",\"\")","v":""},"",{"$f":"IF(AND(GM24=\"Yes\",GM23=\"\",GM22=\"\",GM21=\"\"),\"Yes\",\"\")","v":""},"",{"$f":"IF(AND(GO24=\"Yes\",GO23=\"\",GO22=\"\",GO21=\"\"),\"Yes\",\"\")","v":""},"",{"$f":"IF(AND(GQ24=\"Yes\",GQ23=\"\",GQ22=\"\",GQ21=\"\"),\"Yes\",\"\")","v":""},"",{"$f":"IF(AND(GS24=\"Yes\",GS23=\"\",GS22=\"\",GS21=\"\"),\"Yes\",\"\")","v":""},"","","",{"$f":"IF(AND(GW24=\"Yes\",GW23=\"\",GW22=\"\",GW21=\"\"),\"Yes\",\"\")","v":""},"",""]
["04:45:00","04:59:00",null,null,0,null,null,null,null,"04:45:00","05:44:00",0,0,0,0,0,{"$f":"IF(AND(N25>='Warrant 1 - MUTCD'!$M$23,OR('Traffic Volume Input'!O25>='Warrant 1 - MUTCD'!$Q$23,'Traffic Volume Input'!P25>='Warrant 1 - MUTCD'!$Q$23)),\"Yes\",\"\")","v":""},"","","","","","",{"$f":"IF(AND(W25=\"Yes\",W24=\"\",W23=\"\",W22=\"\"),\"Yes\",\"\")","v":""},"",{"$f":"IF(AND(Y25=\"Yes\",Y24=\"\",Y23=\"\",Y22=\"\"),\"Yes\",\"\")","v":""},"",{"$f":"IF(AND(AA25=\"Yes\",AA24=\"\",AA23=\"\",AA22=\"\"),\"Yes\",\"\")","v":""},"",{"$f":"IF(AND(AC25=\"Yes\",AC24=\"\",AC23=\"\",AC22=\"\"),\"Yes\",\"\")","v":""},"",{"$f":"IF(AND(AE25=\"Yes\",AE24=\"\",AE23=\"\",AE22=\"\"),\"Yes\",\"\")","v":""},"",{"$f":"IF(AND(AG25=\"Yes\",AG24=\"\",AG23=\"\",AG22=\"\"),\"Yes\",\"\")","v":""},"",{"$f":"IF(AND(AI25=\"Yes\",AI24=\"\",AI23=\"\",AI22=\"\"),\"Yes\",\"\")","v":""},"",{"$f":"IF(AND(AK25=\"Yes\",AK24=\"\",AK23=\"\",AK22=\"\"),\"Yes\",\"\")","v":""},"",{"$f":"IF(AND(AM25=\"Yes\",AM24=\"\",AM23=\"\",AM22=\"\"),\"Yes\",\"\")","v":""},"",{"$f":"IF(AND(AO25=\"Yes\",AO24=\"\",AO23=\"\",AO22=\"\"),\"Yes\",\"\")","v":""},"",{"$f":"IF(AND(AQ25=\"Yes\",AQ24=\"\",AQ23=\"\",AQ22=\"\"),\"Yes\",\"\")","v":""},"",{"$f":"IF(AND(AS25=\"Yes\",AS24=\"\",AS23=\"\",AS22=\"\"),\"Yes\",\"\")","v":""},"",{"$f":"IF(AND(AU25=\"Yes\",AU24=\"\",AU23=\"\",AU22=\"\"),\"Yes\",\"\")","v":""},"",{"$f":"IF(AND(AW25=\"Yes\",AW24=\"\",AW23=\"\",AW22=\"\"),\"Yes\",\"\")","v":""},"",{"$f":"IF(AND(AY25=\"Yes\",AY24=\"\",AY23=\"\",AY22=\"\"),\"Yes\",\"\")","v":""},"",{"$f":"IF(AND(BA25=\"Yes\",BA24=\"\",BA23=\"\",BA22=\"\"),\"Yes\",\"\")","v":""},"",{"$f":"IF(AND(BC25=\"Yes\",BC24=\"\",BC23=\"\",BC22=\"\"),\"Yes\",\"\")","v":""},"",{"$f":"IF(AND(BE25=\"Yes\",BE24=\"\",BE23=\"\",BE22=\"\"),\"Yes\",\"\")","v":""},"",{"$f":"IF(AND(BG25=\"Yes\",BG24=\"\",BG23=\"\",BG22=\"\"),\"Yes\",\"\")","v":""},"",{"$f":"IF(AND(BI25=\"Yes\",BI24=\"\",BI23=\"\",BI22=\"\"),\"Yes\",\"\")","v":""},"","",{"$f":"IF(AND(N25>='Warrant 1 - MUTCD'!$M$32,OR('Traffic Volume Input'!O25>='Warrant 1 - MUTCD'!$Q$32,'Traffic Volume Input'!P25>='Warrant 1 - MUTCD'!$Q$32)),\"Yes\",\"\")","v":""},"","",{"$f":"IF(AND(BO25=\"Yes\",BO24=\"\",BO23=\"\",BO22=\"\"),\"Yes\",\"\")","v":""},"",{"$f":"IF(AND(BQ25=\"Yes\",BQ24=\"\",BQ23=\"\",BQ22=\"\"),\"Yes\",\"\")","v":""},"",{"$f":"IF(AND(BS25=\"Yes\",BS24=\"\",BS23=\"\",BS22=\"\"),\"Yes\",\"\")","v":""},"",{"$f":"IF(AND(BU25=\"Yes\",BU24=\"\",BU23=\"\",BU22=\"\"),\"Yes\",\"\")","v":""},"",{"$f":"IF(AND(BW25=\"Yes\",BW24=\"\",BW23=\"\",BW22=\"\"),\"Yes\",\"\")","v":""},"",{"$f":"IF(AND(BY25=\"Yes\",BY24=\"\",BY23=\"\",BY22=\"\"),\"Yes\",\"\")","v":""},"",{"$f":"IF(AND(CA25=\"Yes\",CA24=\"\",CA23=\"\",CA22=\"\"),\"Yes\",\"\")","v":""},"",{"$f":"IF(AND(CC25=\"Yes\",CC24=\"\",CC23=\"\",CC22=\"\"),\"Yes\",\"\")","v":""},"",{"$f":"IF(AND(CE25=\"Yes\",CE24=\"\",CE23=\"\",CE22=\"\"),\"Yes\",\"\")","v":""},"",{"$f":"IF(AND(CG25=\"Yes\",CG24=\"\",CG23=\"\",CG22=\"\"),\"Yes\",\"\")","v":""},"",{"$f":"IF(AND(CI25=\"Yes\",CI24=\"\",CI23=\"\",CI22=\"\"),\"Yes\",\"\")","v":""},"",{"$f":"IF(AND(CK25=\"Yes\",CK24=\"\",CK23=\"\",CK22=\"\"),\"Yes\",\"\")","v":""},"",{"$f":"IF(AND(CM25=\"Yes\",CM24=\"\",CM23=\"\",CM22=\"\"),\"Yes\",\"\")","v":""},"",{"$f":"IF(AND(CO25=\"Yes\",CO24=\"\",CO23=\"\",CO22=\"\"),\"Yes\",\"\")","v":""},"",{"$f":"IF(AND(CQ25=\"Yes\",CQ24=\"\",CQ23=\"\",CQ22=\"\"),\"Yes\",\"\")","v":""},"",{"$f":"IF(AND(CS25=\"Yes\",CS24=\"\",CS23=\"\",CS22=\"\"),\"Yes\",\"\")","v":""},"",{"$f":"IF(AND(CU25=\"Yes\",CU24=\"\",CU23=\"\",CU22=\"\"),\"Yes\",\"\")","v":""},"",{"$f":"IF(AND(CW25=\"Yes\",CW24=\"\",CW23=\"\",CW22=\"\"),\"Yes\",\"\")","v":""},"",{"$f":"IF(AND(CY25=\"Yes\",CY24=\"\",CY23=\"\",CY22=\"\"),\"Yes\",\"\")","v":""},"",{"$f":"IF(AND(DA25=\"Yes\",DA24=\"\",DA23=\"\",DA22=\"\"),\"Yes\",\"\")","v":""},"","","",{"$f":"IF(AND(DE25=\"Yes\",DE24=\"\",DE23=\"\",DE22=\"\"),\"Yes\",\"\")","v":""},"",{"$f":"IF(AND(DG25=\"Yes\",DG24=\"\",DG23=\"\",DG22=\"\"),\"Yes\",\"\")","v":""},{"$f":"IF(AND(N25>='Warrant 7 & 8 - MUTCD'!$L$16,OR('Traffic Volume Input'!O25>='Warrant 7 & 8 - MUTCD'!$N$16,'Traffic Volume Input'!P25>='Warrant 7 & 8 - MUTCD'!$N$16)),\"Yes\",\"\")","v":""},"","",{"$f":"IF(AND(DK25=\"Yes\",DK24=\"\",DK23=\"\",DK22=\"\"),\"Yes\",\"\")","v":""},"",{"$f":"IF(AND(DM25=\"Yes\",DM24=\"\",DM23=\"\",DM22=\"\"),\"Yes\",\"\")","v":""},"",{"$f":"IF(AND(DO25=\"Yes\",DO24=\"\",DO23=\"\",DO22=\"\"),\"Yes\",\"\")","v":""},"",{"$f":"IF(AND(DQ25=\"Yes\",DQ24=\"\",DQ23=\"\",DQ22=\"\"),\"Yes\",\"\")","v":""},"",{"$f":"IF(AND(DS25=\"Yes\",DS24=\"\",DS23=\"\",DS22=\"\"),\"Yes\",\"\")","v":""},"",{"$f":"IF(AND(DU25=\"Yes\",DU24=\"\",DU23=\"\",DU22=\"\"),\"Yes\",\"\")","v":""},"",{"$f":"IF(AND(DW25=\"Yes\",DW24=\"\",DW23=\"\",DW22=\"\"),\"Yes\",\"\")","v":""},"",{"$f":"IF(AND(DY25=\"Yes\",DY24=\"\",DY23=\"\",DY22=\"\"),\"Yes\",\"\")","v":""},"",{"$f":"IF(AND(EA25=\"Yes\",EA24=\"\",EA23=\"\",EA22=\"\"),\"Yes\",\"\")","v":""},"",{"$f":"IF(AND(EC25=\"Yes\",EC24=\"\",EC23=\"\",EC22=\"\"),\"Yes\",\"\")","v":""},"",{"$f":"IF(AND(EE25=\"Yes\",EE24=\"\",EE23=\"\",EE22=\"\"),\"Yes\",\"\")","v":""},"",{"$f":"IF(AND(EG25=\"Yes\",EG24=\"\",EG23=\"\",EG22=\"\"),\"Yes\",\"\")","v":""},"",{"$f":"IF(AND(EI25=\"Yes\",EI24=\"\",EI23=\"\",EI22=\"\"),\"Yes\",\"\")","v":""},"",{"$f":"IF(AND(EK25=\"Yes\",EK24=\"\",EK23=\"\",EK22=\"\"),\"Yes\",\"\")","v":""},"",{"$f":"IF(AND(EM25=\"Yes\",EM24=\"\",EM23=\"\",EM22=\"\"),\"Yes\",\"\")","v":""},"",{"$f":"IF(AND(EO25=\"Yes\",EO24=\"\",EO23=\"\",EO22=\"\"),\"Yes\",\"\")","v":""},"",{"$f":"IF(AND(EQ25=\"Yes\",EQ24=\"\",EQ23=\"\",EQ22=\"\"),\"Yes\",\"\")","v":""},"",{"$f":"IF(AND(ES25=\"Yes\",ES24=\"\",ES23=\"\",ES22=\"\"),\"Yes\",\"\")","v":""},"",{"$f":"IF(AND(EU25=\"Yes\",EU24=\"\",EU23=\"\",EU22=\"\"),\"Yes\",\"\")","v":""},"",{"$f":"IF(AND(EW25=\"Yes\",EW24=\"\",EW23=\"\",EW22=\"\"),\"Yes\",\"\")","v":""},"","","",{"$f":"IF(AND(FA25=\"Yes\",FA24=\"\",FA23=\"\",FA22=\"\"),\"Yes\",\"\")","v":""},"","",{"$f":"IF(AND(N25>='Warrant 7 & 8 - MUTCD'!$L$25,OR('Traffic Volume Input'!O25>='Warrant 7 & 8 - MUTCD'!$N$25,'Traffic Volume Input'!P25>='Warrant 7 & 8 - MUTCD'!$N$25)),\"Yes\",\"\")","v":""},"","",{"$f":"IF(AND(FG25=\"Yes\",FG24=\"\",FG23=\"\",FG22=\"\"),\"Yes\",\"\")","v":""},"",{"$f":"IF(AND(FI25=\"Yes\",FI24=\"\",FI23=\"\",FI22=\"\"),\"Yes\",\"\")","v":""},"",{"$f":"IF(AND(FK25=\"Yes\",FK24=\"\",FK23=\"\",FK22=\"\"),\"Yes\",\"\")","v":""},"",{"$f":"IF(AND(FM25=\"Yes\",FM24=\"\",FM23=\"\",FM22=\"\"),\"Yes\",\"\")","v":""},"",{"$f":"IF(AND(FO25=\"Yes\",FO24=\"\",FO23=\"\",FO22=\"\"),\"Yes\",\"\")","v":""},"",{"$f":"IF(AND(FQ25=\"Yes\",FQ24=\"\",FQ23=\"\",FQ22=\"\"),\"Yes\",\"\")","v":""},"",{"$f":"IF(AND(FS25=\"Yes\",FS24=\"\",FS23=\"\",FS22=\"\"),\"Yes\",\"\")","v":""},"",{"$f":"IF(AND(FU25=\"Yes\",FU24=\"\",FU23=\"\",FU22=\"\"),\"Yes\",\"\")","v":""},"",{"$f":"IF(AND(FW25=\"Yes\",FW24=\"\",FW23=\"\",FW22=\"\"),\"Yes\",\"\")","v":""},"",{"$f":"IF(AND(FY25=\"Yes\",FY24=\"\",FY23=\"\",FY22=\"\"),\"Yes\",\"\")","v":""},"",{"$f":"IF(AND(GA25=\"Yes\",GA24=\"\",GA23=\"\",GA22=\"\"),\"Yes\",\"\")","v":""},"",{"$f":"IF(AND(GC25=\"Yes\",GC24=\"\",GC23=\"\",GC22=\"\"),\"Yes\",\"\")","v":""},"",{"$f":"IF(AND(GE25=\"Yes\",GE24=\"\",GE23=\"\",GE22=\"\"),\"Yes\",\"\")","v":""},"",{"$f":"IF(AND(GG25=\"Yes\",GG24=\"\",GG23=\"\",GG22=\"\"),\"Yes\",\"\")","v":""},"",{"$f":"IF(AND(GI25=\"Yes\",GI24=\"\",GI23=\"\",GI22=\"\"),\"Yes\",\"\")","v":""},"",{"$f":"IF(AND(GK25=\"Yes\",GK24=\"\",GK23=\"\",GK22=\"\"),\"Yes\",\"\")","v":""},"",{"$f":"IF(AND(GM25=\"Yes\",GM24=\"\",GM23=\"\",GM22=\"\"),\"Yes\",\"\")","v":""},"",{"$f":"IF(AND(GO25=\"Yes\",GO24=\"\",GO23=\"\",GO22=\"\"),\"Yes\",\"\")","v":""},"",{"$f":"IF(AND(GQ25=\"Yes\",GQ24=\"\",GQ23=\"\",GQ22=\"\"),\"Yes\",\"\")","v":""},"",{"$f":"IF(AND(GS25=\"Yes\",GS24=\"\",GS23=\"\",GS22=\"\"),\"Yes\",\"\")","v":""},"","","",{"$f":"IF(AND(GW25=\"Yes\",GW24=\"\",GW23=\"\",GW22=\"\"),\"Yes\",\"\")","v":""},"",""]
["05:00:00","05:14:00",null,null,0,null,null,null,null,"05:00:00","05:59:00",0,0,0,0,0,{"$f":"IF(AND(N26>='Warrant 1 - MUTCD'!$M$23,OR('Traffic Volume Input'!O26>='Warrant 1 - MUTCD'!$Q$23,'Traffic Volume Input'!P26>='Warrant 1 - MUTCD'!$Q$23)),\"Yes\",\"\")","v":""},"","","","","","",{"$f":"IF(AND(W26=\"Yes\",W25=\"\",W24=\"\",W23=\"\"),\"Yes\",\"\")","v":""},"",{"$f":"IF(AND(Y26=\"Yes\",Y25=\"\",Y24=\"\",Y23=\"\"),\"Yes\",\"\")","v":""},"",{"$f":"IF(AND(AA26=\"Yes\",AA25=\"\",AA24=\"\",AA23=\"\"),\"Yes\",\"\")","v":""},"",{"$f":"IF(AND(AC26=\"Yes\",AC25=\"\",AC24=\"\",AC23=\"\"),\"Yes\",\"\")","v":""},"",{"$f":"IF(AND(AE26=\"Yes\",AE25=\"\",AE24=\"\",AE23=\"\"),\"Yes\",\"\")","v":""},"",{"$f":"IF(AND(AG26=\"Yes\",AG25=\"\",AG24=\"\",AG23=\"\"),\"Yes\",\"\")","v":""},"",{"$f":"IF(AND(AI26=\"Yes\",AI25=\"\",AI24=\"\",AI23=\"\"),\"Yes\",\"\")","v":""},"",{"$f":"IF(AND(AK26=\"Yes\",AK25=\"\",AK24=\"\",AK23=\"\"),\"Yes\",\"\")","v":""},"",{"$f":"IF(AND(AM26=\"Yes\",AM25=\"\",AM24=\"\",AM23=\"\"),\"Yes\",\"\")","v":""},"",{"$f":"IF(AND(AO26=\"Yes\",AO25=\"\",AO24=\"\",AO23=\"\"),\"Yes\",\"\")","v":""},"",{"$f":"IF(AND(AQ26=\"Yes\",AQ25=\"\",AQ24=\"\",AQ23=\"\"),\"Yes\",\"\")","v":""},"",{"$f":"IF(AND(AS26=\"Yes\",AS25=\"\",AS24=\"\",AS23=\"\"),\"Yes\",\"\")","v":""},"",{"$f":"IF(AND(AU26=\"Yes\",AU25=\"\",AU24=\"\",AU23=\"\"),\"Yes\",\"\")","v":""},"",{"$f":"IF(AND(AW26=\"Yes\",AW25=\"\",AW24=\"\",AW23=\"\"),\"Yes\",\"\")","v":""},"",{"$f":"IF(AND(AY26=\"Yes\",AY25=\"\",AY24=\"\",AY23=\"\"),\"Yes\",\"\")","v":""},"",{"$f":"IF(AND(BA26=\"Yes\",BA25=\"\",BA24=\"\",BA23=\"\"),\"Yes\",\"\")","v":""},"",{"$f":"IF(AND(BC26=\"Yes\",BC25=\"\",BC24=\"\",BC23=\"\"),\"Yes\",\"\")","v":""},"",{"$f":"IF(AND(BE26=\"Yes\",BE25=\"\",BE24=\"\",BE23=\"\"),\"Yes\",\"\")","v":""},"",{"$f":"IF(AND(BG26=\"Yes\",BG25=\"\",BG24=\"\",BG23=\"\"),\"Yes\",\"\")","v":""},"",{"$f":"IF(AND(BI26=\"Yes\",BI25=\"\",BI24=\"\",BI23=\"\"),\"Yes\",\"\")","v":""},"","",{"$f":"IF(AND(N26>='Warrant 1 - MUTCD'!$M$32,OR('Traffic Volume Input'!O26>='Warrant 1 - MUTCD'!$Q$32,'Traffic Volume Input'!P26>='Warrant 1 - MUTCD'!$Q$32)),\"Yes\",\"\")","v":""},"","",{"$f":"IF(AND(BO26=\"Yes\",BO25=\"\",BO24=\"\",BO23=\"\"),\"Yes\",\"\")","v":""},"",{"$f":"IF(AND(BQ26=\"Yes\",BQ25=\"\",BQ24=\"\",BQ23=\"\"),\"Yes\",\"\")","v":""},"",{"$f":"IF(AND(BS26=\"Yes\",BS25=\"\",BS24=\"\",BS23=\"\"),\"Yes\",\"\")","v":""},"",{"$f":"IF(AND(BU26=\"Yes\",BU25=\"\",BU24=\"\",BU23=\"\"),\"Yes\",\"\")","v":""},"",{"$f":"IF(AND(BW26=\"Yes\",BW25=\"\",BW24=\"\",BW23=\"\"),\"Yes\",\"\")","v":""},"",{"$f":"IF(AND(BY26=\"Yes\",BY25=\"\",BY24=\"\",BY23=\"\"),\"Yes\",\"\")","v":""},"",{"$f":"IF(AND(CA26=\"Yes\",CA25=\"\",CA24=\"\",CA23=\"\"),\"Yes\",\"\")","v":""},"",{"$f":"IF(AND(CC26=\"Yes\",CC25=\"\",CC24=\"\",CC23=\"\"),\"Yes\",\"\")","v":""},"",{"$f":"IF(AND(CE26=\"Yes\",CE25=\"\",CE24=\"\",CE23=\"\"),\"Yes\",\"\")","v":""},"",{"$f":"IF(AND(CG26=\"Yes\",CG25=\"\",CG24=\"\",CG23=\"\"),\"Yes\",\"\")","v":""},"",{"$f":"IF(AND(CI26=\"Yes\",CI25=\"\",CI24=\"\",CI23=\"\"),\"Yes\",\"\")","v":""},"",{"$f":"IF(AND(CK26=\"Yes\",CK25=\"\",CK24=\"\",CK23=\"\"),\"Yes\",\"\")","v":""},"",{"$f":"IF(AND(CM26=\"Yes\",CM25=\"\",CM24=\"\",CM23=\"\"),\"Yes\",\"\")","v":""},"",{"$f":"IF(AND(CO26=\"Yes\",CO25=\"\",CO24=\"\",CO23=\"\"),\"Yes\",\"\")","v":""},"",{"$f":"IF(AND(CQ26=\"Yes\",CQ25=\"\",CQ24=\"\",CQ23=\"\"),\"Yes\",\"\")","v":""},"",{"$f":"IF(AND(CS26=\"Yes\",CS25=\"\",CS24=\"\",CS23=\"\"),\"Yes\",\"\")","v":""},"",{"$f":"IF(AND(CU26=\"Yes\",CU25=\"\",CU24=\"\",CU23=\"\"),\"Yes\",\"\")","v":""},"",{"$f":"IF(AND(CW26=\"Yes\",CW25=\"\",CW24=\"\",CW23=\"\"),\"Yes\",\"\")","v":""},"",{"$f":"IF(AND(CY26=\"Yes\",CY25=\"\",CY24=\"\",CY23=\"\"),\"Yes\",\"\")","v":""},"",{"$f":"IF(AND(DA26=\"Yes\",DA25=\"\",DA24=\"\",DA23=\"\"),\"Yes\",\"\")","v":""},"","","",{"$f":"IF(AND(DE26=\"Yes\",DE25=\"\",DE24=\"\",DE23=\"\"),\"Yes\",\"\")","v":""},"",{"$f":"IF(AND(DG26=\"Yes\",DG25=\"\",DG24=\"\",DG23=\"\"),\"Yes\",\"\")","v":""},{"$f":"IF(AND(N26>='Warrant 7 & 8 - MUTCD'!$L$16,OR('Traffic Volume Input'!O26>='Warrant 7 & 8 - MUTCD'!$N$16,'Traffic Volume Input'!P26>='Warrant 7 & 8 - MUTCD'!$N$16)),\"Yes\",\"\")","v":""},"","",{"$f":"IF(AND(DK26=\"Yes\",DK25=\"\",DK24=\"\",DK23=\"\"),\"Yes\",\"\")","v":""},"",{"$f":"IF(AND(DM26=\"Yes\",DM25=\"\",DM24=\"\",DM23=\"\"),\"Yes\",\"\")","v":""},"",{"$f":"IF(AND(DO26=\"Yes\",DO25=\"\",DO24=\"\",DO23=\"\"),\"Yes\",\"\")","v":""},"",{"$f":"IF(AND(DQ26=\"Yes\",DQ25=\"\",DQ24=\"\",DQ23=\"\"),\"Yes\",\"\")","v":""},"",{"$f":"IF(AND(DS26=\"Yes\",DS25=\"\",DS24=\"\",DS23=\"\"),\"Yes\",\"\")","v":""},"",{"$f":"IF(AND(DU26=\"Yes\",DU25=\"\",DU24=\"\",DU23=\"\"),\"Yes\",\"\")","v":""},"",{"$f":"IF(AND(DW26=\"Yes\",DW25=\"\",DW24=\"\",DW23=\"\"),\"Yes\",\"\")","v":""},"",{"$f":"IF(AND(DY26=\"Yes\",DY25=\"\",DY24=\"\",DY23=\"\"),\"Yes\",\"\")","v":""},"",{"$f":"IF(AND(EA26=\"Yes\",EA25=\"\",EA24=\"\",EA23=\"\"),\"Yes\",\"\")","v":""},"",{"$f":"IF(AND(EC26=\"Yes\",EC25=\"\",EC24=\"\",EC23=\"\"),\"Yes\",\"\")","v":""},"",{"$f":"IF(AND(EE26=\"Yes\",EE25=\"\",EE24=\"\",EE23=\"\"),\"Yes\",\"\")","v":""},"",{"$f":"IF(AND(EG26=\"Yes\",EG25=\"\",EG24=\"\",EG23=\"\"),\"Yes\",\"\")","v":""},"",{"$f":"IF(AND(EI26=\"Yes\",EI25=\"\",EI24=\"\",EI23=\"\"),\"Yes\",\"\")","v":""},"",{"$f":"IF(AND(EK26=\"Yes\",EK25=\"\",EK24=\"\",EK23=\"\"),\"Yes\",\"\")","v":""},"",{"$f":"IF(AND(EM26=\"Yes\",EM25=\"\",EM24=\"\",EM23=\"\"),\"Yes\",\"\")","v":""},"",{"$f":"IF(AND(EO26=\"Yes\",EO25=\"\",EO24=\"\",EO23=\"\"),\"Yes\",\"\")","v":""},"",{"$f":"IF(AND(EQ26=\"Yes\",EQ25=\"\",EQ24=\"\",EQ23=\"\"),\"Yes\",\"\")","v":""},"",{"$f":"IF(AND(ES26=\"Yes\",ES25=\"\",ES24=\"\",ES23=\"\"),\"Yes\",\"\")","v":""},"",{"$f":"IF(AND(EU26=\"Yes\",EU25=\"\",EU24=\"\",EU23=\"\"),\"Yes\",\"\")","v":""},"",{"$f":"IF(AND(EW26=\"Yes\",EW25=\"\",EW24=\"\",EW23=\"\"),\"Yes\",\"\")","v":""},"","","",{"$f":"IF(AND(FA26=\"Yes\",FA25=\"\",FA24=\"\",FA23=\"\"),\"Yes\",\"\")","v":""},"","",{"$f":"IF(AND(N26>='Warrant 7 & 8 - MUTCD'!$L$25,OR('Traffic Volume Input'!O26>='Warrant 7 & 8 - MUTCD'!$N$25,'Traffic Volume Input'!P26>='Warrant 7 & 8 - MUTCD'!$N$25)),\"Yes\",\"\")","v":""},"","",{"$f":"IF(AND(FG26=\"Yes\",FG25=\"\",FG24=\"\",FG23=\"\"),\"Yes\",\"\")","v":""},"",{"$f":"IF(AND(FI26=\"Yes\",FI25=\"\",FI24=\"\",FI23=\"\"),\"Yes\",\"\")","v":""},"",{"$f":"IF(AND(FK26=\"Yes\",FK25=\"\",FK24=\"\",FK23=\"\"),\"Yes\",\"\")","v":""},"",{"$f":"IF(AND(FM26=\"Yes\",FM25=\"\",FM24=\"\",FM23=\"\"),\"Yes\",\"\")","v":""},"",{"$f":"IF(AND(FO26=\"Yes\",FO25=\"\",FO24=\"\",FO23=\"\"),\"Yes\",\"\")","v":""},"",{"$f":"IF(AND(FQ26=\"Yes\",FQ25=\"\",FQ24=\"\",FQ23=\"\"),\"Yes\",\"\")","v":""},"",{"$f":"IF(AND(FS26=\"Yes\",FS25=\"\",FS24=\"\",FS23=\"\"),\"Yes\",\"\")","v":""},"",{"$f":"IF(AND(FU26=\"Yes\",FU25=\"\",FU24=\"\",FU23=\"\"),\"Yes\",\"\")","v":""},"",{"$f":"IF(AND(FW26=\"Yes\",FW25=\"\",FW24=\"\",FW23=\"\"),\"Yes\",\"\")","v":""},"",{"$f":"IF(AND(FY26=\"Yes\",FY25=\"\",FY24=\"\",FY23=\"\"),\"Yes\",\"\")","v":""},"",{"$f":"IF(AND(GA26=\"Yes\",GA25=\"\",GA24=\"\",GA23=\"\"),\"Yes\",\"\")","v":""},"",{"$f":"IF(AND(GC26=\"Yes\",GC25=\"\",GC24=\"\",GC23=\"\"),\"Yes\",\"\")","v":""},"",{"$f":"IF(AND(GE26=\"Yes\",GE25=\"\",GE24=\"\",GE23=\"\"),\"Yes\",\"\")","v":""},"",{"$f":"IF(AND(GG26=\"Yes\",GG25=\"\",GG24=\"\",GG23=\"\"),\"Yes\",\"\")","v":""},"",{"$f":"IF(AND(GI26=\"Yes\",GI25=\"\",GI24=\"\",GI23=\"\"),\"Yes\",\"\")","v":""},"",{"$f":"IF(AND(GK26=\"Yes\",GK25=\"\",GK24=\"\",GK23=\"\"),\"Yes\",\"\")","v":""},"",{"$f":"IF(AND(GM26=\"Yes\",GM25=\"\",GM24=\"\",GM23=\"\"),\"Yes\",\"\")","v":""},"",{"$f":"IF(AND(GO26=\"Yes\",GO25=\"\",GO24=\"\",GO23=\"\"),\"Yes\",\"\")","v":""},"",{"$f":"IF(AND(GQ26=\"Yes\",GQ25=\"\",GQ24=\"\",GQ23=\"\"),\"Yes\",\"\")","v":""},"",{"$f":"IF(AND(GS26=\"Yes\",GS25=\"\",GS24=\"\",GS23=\"\"),\"Yes\",\"\")","v":""},"","","",{"$f":"IF(AND(GW26=\"Yes\",GW25=\"\",GW24=\"\",GW23=\"\"),\"Yes\",\"\")","v":""},"",""]
["05:15:00","05:29:00",null,null,0,null,null,null,null,"05:15:00","06:14:00",0,0,0,0,0,{"$f":"IF(AND(N27>='Warrant 1 - MUTCD'!$M$23,OR('Traffic Volume Input'!O27>='Warrant 1 - MUTCD'!$Q$23,'Traffic Volume Input'!P27>='Warrant 1 - MUTCD'!$Q$23)),\"Yes\",\"\")","v":""},"","","","","","",{"$f":"IF(AND(W27=\"Yes\",W26=\"\",W25=\"\",W24=\"\"),\"Yes\",\"\")","v":""},"",{"$f":"IF(AND(Y27=\"Yes\",Y26=\"\",Y25=\"\",Y24=\"\"),\"Yes\",\"\")","v":""},"",{"$f":"IF(AND(AA27=\"Yes\",AA26=\"\",AA25=\"\",AA24=\"\"),\"Yes\",\"\")","v":""},"",{"$f":"IF(AND(AC27=\"Yes\",AC26=\"\",AC25=\"\",AC24=\"\"),\"Yes\",\"\")","v":""},"",{"$f":"IF(AND(AE27=\"Yes\",AE26=\"\",AE25=\"\",AE24=\"\"),\"Yes\",\"\")","v":""},"",{"$f":"IF(AND(AG27=\"Yes\",AG26=\"\",AG25=\"\",AG24=\"\"),\"Yes\",\"\")","v":""},"",{"$f":"IF(AND(AI27=\"Yes\",AI26=\"\",AI25=\"\",AI24=\"\"),\"Yes\",\"\")","v":""},"",{"$f":"IF(AND(AK27=\"Yes\",AK26=\"\",AK25=\"\",AK24=\"\"),\"Yes\",\"\")","v":""},"",{"$f":"IF(AND(AM27=\"Yes\",AM26=\"\",AM25=\"\",AM24=\"\"),\"Yes\",\"\")","v":""},"",{"$f":"IF(AND(AO27=\"Yes\",AO26=\"\",AO25=\"\",AO24=\"\"),\"Yes\",\"\")","v":""},"",{"$f":"IF(AND(AQ27=\"Yes\",AQ26=\"\",AQ25=\"\",AQ24=\"\"),\"Yes\",\"\")","v":""},"",{"$f":"IF(AND(AS27=\"Yes\",AS26=\"\",AS25=\"\",AS24=\"\"),\"Yes\",\"\")","v":""},"",{"$f":"IF(AND(AU27=\"Yes\",AU26=\"\",AU25=\"\",AU24=\"\"),\"Yes\",\"\")","v":""},"",{"$f":"IF(AND(AW27=\"Yes\",AW26=\"\",AW25=\"\",AW24=\"\"),\"Yes\",\"\")","v":""},"",{"$f":"IF(AND(AY27=\"Yes\",AY26=\"\",AY25=\"\",AY24=\"\"),\"Yes\",\"\")","v":""},"",{"$f":"IF(AND(BA27=\"Yes\",BA26=\"\",BA25=\"\",BA24=\"\"),\"Yes\",\"\")","v":""},"",{"$f":"IF(AND(BC27=\"Yes\",BC26=\"\",BC25=\"\",BC24=\"\"),\"Yes\",\"\")","v":""},"",{"$f":"IF(AND(BE27=\"Yes\",BE26=\"\",BE25=\"\",BE24=\"\"),\"Yes\",\"\")","v":""},"",{"$f":"IF(AND(BG27=\"Yes\",BG26=\"\",BG25=\"\",BG24=\"\"),\"Yes\",\"\")","v":""},"",{"$f":"IF(AND(BI27=\"Yes\",BI26=\"\",BI25=\"\",BI24=\"\"),\"Yes\",\"\")","v":""},"","",{"$f":"IF(AND(N27>='Warrant 1 - MUTCD'!$M$32,OR('Traffic Volume Input'!O27>='Warrant 1 - MUTCD'!$Q$32,'Traffic Volume Input'!P27>='Warrant 1 - MUTCD'!$Q$32)),\"Yes\",\"\")","v":""},"","",{"$f":"IF(AND(BO27=\"Yes\",BO26=\"\",BO25=\"\",BO24=\"\"),\"Yes\",\"\")","v":""},"",{"$f":"IF(AND(BQ27=\"Yes\",BQ26=\"\",BQ25=\"\",BQ24=\"\"),\"Yes\",\"\")","v":""},"",{"$f":"IF(AND(BS27=\"Yes\",BS26=\"\",BS25=\"\",BS24=\"\"),\"Yes\",\"\")","v":""},"",{"$f":"IF(AND(BU27=\"Yes\",BU26=\"\",BU25=\"\",BU24=\"\"),\"Yes\",\"\")","v":""},"",{"$f":"IF(AND(BW27=\"Yes\",BW26=\"\",BW25=\"\",BW24=\"\"),\"Yes\",\"\")","v":""},"",{"$f":"IF(AND(BY27=\"Yes\",BY26=\"\",BY25=\"\",BY24=\"\"),\"Yes\",\"\")","v":""},"",{"$f":"IF(AND(CA27=\"Yes\",CA26=\"\",CA25=\"\",CA24=\"\"),\"Yes\",\"\")","v":""},"",{"$f":"IF(AND(CC27=\"Yes\",CC26=\"\",CC25=\"\",CC24=\"\"),\"Yes\",\"\")","v":""},"",{"$f":"IF(AND(CE27=\"Yes\",CE26=\"\",CE25=\"\",CE24=\"\"),\"Yes\",\"\")","v":""},"",{"$f":"IF(AND(CG27=\"Yes\",CG26=\"\",CG25=\"\",CG24=\"\"),\"Yes\",\"\")","v":""},"",{"$f":"IF(AND(CI27=\"Yes\",CI26=\"\",CI25=\"\",CI24=\"\"),\"Yes\",\"\")","v":""},"",{"$f":"IF(AND(CK27=\"Yes\",CK26=\"\",CK25=\"\",CK24=\"\"),\"Yes\",\"\")","v":""},"",{"$f":"IF(AND(CM27=\"Yes\",CM26=\"\",CM25=\"\",CM24=\"\"),\"Yes\",\"\")","v":""},"",{"$f":"IF(AND(CO27=\"Yes\",CO26=\"\",CO25=\"\",CO24=\"\"),\"Yes\",\"\")","v":""},"",{"$f":"IF(AND(CQ27=\"Yes\",CQ26=\"\",CQ25=\"\",CQ24=\"\"),\"Yes\",\"\")","v":""},"",{"$f":"IF(AND(CS27=\"Yes\",CS26=\"\",CS25=\"\",CS24=\"\"),\"Yes\",\"\")","v":""},"",{"$f":"IF(AND(CU27=\"Yes\",CU26=\"\",CU25=\"\",CU24=\"\"),\"Yes\",\"\")","v":""},"",{"$f":"IF(AND(CW27=\"Yes\",CW26=\"\",CW25=\"\",CW24=\"\"),\"Yes\",\"\")","v":""},"",{"$f":"IF(AND(CY27=\"Yes\",CY26=\"\",CY25=\"\",CY24=\"\"),\"Yes\",\"\")","v":""},"",{"$f":"IF(AND(DA27=\"Yes\",DA26=\"\",DA25=\"\",DA24=\"\"),\"Yes\",\"\")","v":""},"","","",{"$f":"IF(AND(DE27=\"Yes\",DE26=\"\",DE25=\"\",DE24=\"\"),\"Yes\",\"\")","v":""},"",{"$f":"IF(AND(DG27=\"Yes\",DG26=\"\",DG25=\"\",DG24=\"\"),\"Yes\",\"\")","v":""},{"$f":"IF(AND(N27>='Warrant 7 & 8 - MUTCD'!$L$16,OR('Traffic Volume Input'!O27>='Warrant 7 & 8 - MUTCD'!$N$16,'Traffic Volume Input'!P27>='Warrant 7 & 8 - MUTCD'!$N$16)),\"Yes\",\"\")","v":""},"","",{"$f":"IF(AND(DK27=\"Yes\",DK26=\"\",DK25=\"\",DK24=\"\"),\"Yes\",\"\")","v":""},"",{"$f":"IF(AND(DM27=\"Yes\",DM26=\"\",DM25=\"\",DM24=\"\"),\"Yes\",\"\")","v":""},"",{"$f":"IF(AND(DO27=\"Yes\",DO26=\"\",DO25=\"\",DO24=\"\"),\"Yes\",\"\")","v":""},"",{"$f":"IF(AND(DQ27=\"Yes\",DQ26=\"\",DQ25=\"\",DQ24=\"\"),\"Yes\",\"\")","v":""},"",{"$f":"IF(AND(DS27=\"Yes\",DS26=\"\",DS25=\"\",DS24=\"\"),\"Yes\",\"\")","v":""},"",{"$f":"IF(AND(DU27=\"Yes\",DU26=\"\",DU25=\"\",DU24=\"\"),\"Yes\",\"\")","v":""},"",{"$f":"IF(AND(DW27=\"Yes\",DW26=\"\",DW25=\"\",DW24=\"\"),\"Yes\",\"\")","v":""},"",{"$f":"IF(AND(DY27=\"Yes\",DY26=\"\",DY25=\"\",DY24=\"\"),\"Yes\",\"\")","v":""},"",{"$f":"IF(AND(EA27=\"Yes\",EA26=\"\",EA25=\"\",EA24=\"\"),\"Yes\",\"\")","v":""},"",{"$f":"IF(AND(EC27=\"Yes\",EC26=\"\",EC25=\"\",EC24=\"\"),\"Yes\",\"\")","v":""},"",{"$f":"IF(AND(EE27=\"Yes\",EE26=\"\",EE25=\"\",EE24=\"\"),\"Yes\",\"\")","v":""},"",{"$f":"IF(AND(EG27=\"Yes\",EG26=\"\",EG25=\"\",EG24=\"\"),\"Yes\",\"\")","v":""},"",{"$f":"IF(AND(EI27=\"Yes\",EI26=\"\",EI25=\"\",EI24=\"\"),\"Yes\",\"\")","v":""},"",{"$f":"IF(AND(EK27=\"Yes\",EK26=\"\",EK25=\"\",EK24=\"\"),\"Yes\",\"\")","v":""},"",{"$f":"IF(AND(EM27=\"Yes\",EM26=\"\",EM25=\"\",EM24=\"\"),\"Yes\",\"\")","v":""},"",{"$f":"IF(AND(EO27=\"Yes\",EO26=\"\",EO25=\"\",EO24=\"\"),\"Yes\",\"\")","v":""},"",{"$f":"IF(AND(EQ27=\"Yes\",EQ26=\"\",EQ25=\"\",EQ24=\"\"),\"Yes\",\"\")","v":""},"",{"$f":"IF(AND(ES27=\"Yes\",ES26=\"\",ES25=\"\",ES24=\"\"),\"Yes\",\"\")","v":""},"",{"$f":"IF(AND(EU27=\"Yes\",EU26=\"\",EU25=\"\",EU24=\"\"),\"Yes\",\"\")","v":""},"",{"$f":"IF(AND(EW27=\"Yes\",EW26=\"\",EW25=\"\",EW24=\"\"),\"Yes\",\"\")","v":""},"","","",{"$f":"IF(AND(FA27=\"Yes\",FA26=\"\",FA25=\"\",FA24=\"\"),\"Yes\",\"\")","v":""},"","",{"$f":"IF(AND(N27>='Warrant 7 & 8 - MUTCD'!$L$25,OR('Traffic Volume Input'!O27>='Warrant 7 & 8 - MUTCD'!$N$25,'Traffic Volume Input'!P27>='Warrant 7 & 8 - MUTCD'!$N$25)),\"Yes\",\"\")","v":""},"","",{"$f":"IF(AND(FG27=\"Yes\",FG26=\"\",FG25=\"\",FG24=\"\"),\"Yes\",\"\")","v":""},"",{"$f":"IF(AND(FI27=\"Yes\",FI26=\"\",FI25=\"\",FI24=\"\"),\"Yes\",\"\")","v":""},"",{"$f":"IF(AND(FK27=\"Yes\",FK26=\"\",FK25=\"\",FK24=\"\"),\"Yes\",\"\")","v":""},"",{"$f":"IF(AND(FM27=\"Yes\",FM26=\"\",FM25=\"\",FM24=\"\"),\"Yes\",\"\")","v":""},"",{"$f":"IF(AND(FO27=\"Yes\",FO26=\"\",FO25=\"\",FO24=\"\"),\"Yes\",\"\")","v":""},"",{"$f":"IF(AND(FQ27=\"Yes\",FQ26=\"\",FQ25=\"\",FQ24=\"\"),\"Yes\",\"\")","v":""},"",{"$f":"IF(AND(FS27=\"Yes\",FS26=\"\",FS25=\"\",FS24=\"\"),\"Yes\",\"\")","v":""},"",{"$f":"IF(AND(FU27=\"Yes\",FU26=\"\",FU25=\"\",FU24=\"\"),\"Yes\",\"\")","v":""},"",{"$f":"IF(AND(FW27=\"Yes\",FW26=\"\",FW25=\"\",FW24=\"\"),\"Yes\",\"\")","v":""},"",{"$f":"IF(AND(FY27=\"Yes\",FY26=\"\",FY25=\"\",FY24=\"\"),\"Yes\",\"\")","v":""},"",{"$f":"IF(AND(GA27=\"Yes\",GA26=\"\",GA25=\"\",GA24=\"\"),\"Yes\",\"\")","v":""},"",{"$f":"IF(AND(GC27=\"Yes\",GC26=\"\",GC25=\"\",GC24=\"\"),\"Yes\",\"\")","v":""},"",{"$f":"IF(AND(GE27=\"Yes\",GE26=\"\",GE25=\"\",GE24=\"\"),\"Yes\",\"\")","v":""},"",{"$f":"IF(AND(GG27=\"Yes\",GG26=\"\",GG25=\"\",GG24=\"\"),\"Yes\",\"\")","v":""},"",{"$f":"IF(AND(GI27=\"Yes\",GI26=\"\",GI25=\"\",GI24=\"\"),\"Yes\",\"\")","v":""},"",{"$f":"IF(AND(GK27=\"Yes\",GK26=\"\",GK25=\"\",GK24=\"\"),\"Yes\",\"\")","v":""},"",{"$f":"IF(AND(GM27=\"Yes\",GM26=\"\",GM25=\"\",GM24=\"\"),\"Yes\",\"\")","v":""},"",{"$f":"IF(AND(GO27=\"Yes\",GO26=\"\",GO25=\"\",GO24=\"\"),\"Yes\",\"\")","v":""},"",{"$f":"IF(AND(GQ27=\"Yes\",GQ26=\"\",GQ25=\"\",GQ24=\"\"),\"Yes\",\"\")","v":""},"",{"$f":"IF(AND(GS27=\"Yes\",GS26=\"\",GS25=\"\",GS24=\"\"),\"Yes\",\"\")","v":""},"","","",{"$f":"IF(AND(GW27=\"Yes\",GW26=\"\",GW25=\"\",GW24=\"\"),\"Yes\",\"\")","v":""},"",""]
["05:30:00","05:44:00",null,null,0,null,null,null,null,"05:30:00","06:29:00",0,0,0,0,0,{"$f":"IF(AND(N28>='Warrant 1 - MUTCD'!$M$23,OR('Traffic Volume Input'!O28>='Warrant 1 - MUTCD'!$Q$23,'Traffic Volume Input'!P28>='Warrant 1 - MUTCD'!$Q$23)),\"Yes\",\"\")","v":""},{"$f":"IF(AND(Q28=\"Yes\",Q27=\"\",Q26=\"\",Q25=\"\"),\"Yes\",\"\")","v":""},"","","","","",{"$f":"IF(AND(W28=\"Yes\",W27=\"\",W26=\"\",W25=\"\"),\"Yes\",\"\")","v":""},"",{"$f":"IF(AND(Y28=\"Yes\",Y27=\"\",Y26=\"\",Y25=\"\"),\"Yes\",\"\")","v":""},"",{"$f":"IF(AND(AA28=\"Yes\",AA27=\"\",AA26=\"\",AA25=\"\"),\"Yes\",\"\")","v":""},"",{"$f":"IF(AND(AC28=\"Yes\",AC27=\"\",AC26=\"\",AC25=\"\"),\"Yes\",\"\")","v":""},"",{"$f":"IF(AND(AE28=\"Yes\",AE27=\"\",AE26=\"\",AE25=\"\"),\"Yes\",\"\")","v":""},"",{"$f":"IF(AND(AG28=\"Yes\",AG27=\"\",AG26=\"\",AG25=\"\"),\"Yes\",\"\")","v":""},"",{"$f":"IF(AND(AI28=\"Yes\",AI27=\"\",AI26=\"\",AI25=\"\"),\"Yes\",\"\")","v":""},"",{"$f":"IF(AND(AK28=\"Yes\",AK27=\"\",AK26=\"\",AK25=\"\"),\"Yes\",\"\")","v":""},"",{"$f":"IF(AND(AM28=\"Yes\",AM27=\"\",AM26=\"\",AM25=\"\"),\"Yes\",\"\")","v":""},"",{"$f":"IF(AND(AO28=\"Yes\",AO27=\"\",AO26=\"\",AO25=\"\"),\"Yes\",\"\")","v":""},"",{"$f":"IF(AND(AQ28=\"Yes\",AQ27=\"\",AQ26=\"\",AQ25=\"\"),\"Yes\",\"\")","v":""},"",{"$f":"IF(AND(AS28=\"Yes\",AS27=\"\",AS26=\"\",AS25=\"\"),\"Yes\",\"\")","v":""},"",{"$f":"IF(AND(AU28=\"Yes\",AU27=\"\",AU26=\"\",AU25=\"\"),\"Yes\",\"\")","v":""},"",{"$f":"IF(AND(AW28=\"Yes\",AW27=\"\",AW26=\"\",AW25=\"\"),\"Yes\",\"\")","v":""},"",{"$f":"IF(AND(AY28=\"Yes\",AY27=\"\",AY26=\"\",AY25=\"\"),\"Yes\",\"\")","v":""},"",{"$f":"IF(AND(BA28=\"Yes\",BA27=\"\",BA26=\"\",BA25=\"\"),\"Yes\",\"\")","v":""},"",{"$f":"IF(AND(BC28=\"Yes\",BC27=\"\",BC26=\"\",BC25=\"\"),\"Yes\",\"\")","v":""},"",{"$f":"IF(AND(BE28=\"Yes\",BE27=\"\",BE26=\"\",BE25=\"\"),\"Yes\",\"\")","v":""},"",{"$f":"IF(AND(BG28=\"Yes\",BG27=\"\",BG26=\"\",BG25=\"\"),\"Yes\",\"\")","v":""},"",{"$f":"IF(AND(BI28=\"Yes\",BI27=\"\",BI26=\"\",BI25=\"\"),\"Yes\",\"\")","v":""},"","",{"$f":"IF(AND(N28>='Warrant 1 - MUTCD'!$M$32,OR('Traffic Volume Input'!O28>='Warrant 1 - MUTCD'!$Q$32,'Traffic Volume Input'!P28>='Warrant 1 - MUTCD'!$Q$32)),\"Yes\",\"\")","v":""},{"$f":"IF(AND(BM28=\"Yes\",BM27=\"\",BM26=\"\",BM25=\"\"),\"Yes\",\"\")","v":""},"",{"$f":"IF(AND(BO28=\"Yes\",BO27=\"\",BO26=\"\",BO25=\"\"),\"Yes\",\"\")","v":""},"",{"$f":"IF(AND(BQ28=\"Yes\",BQ27=\"\",BQ26=\"\",BQ25=\"\"),\"Yes\",\"\")","v":""},"",{"$f":"IF(AND(BS28=\"Yes\",BS27=\"\",BS26=\"\",BS25=\"\"),\"Yes\",\"\")","v":""},"",{"$f":"IF(AND(BU28=\"Yes\",BU27=\"\",BU26=\"\",BU25=\"\"),\"Yes\",\"\")","v":""},"",{"$f":"IF(AND(BW28=\"Yes\",BW27=\"\",BW26=\"\",BW25=\"\"),\"Yes\",\"\")","v":""},"",{"$f":"IF(AND(BY28=\"Yes\",BY27=\"\",BY26=\"\",BY25=\"\"),\"Yes\",\"\")","v":""},"",{"$f":"IF(AND(CA28=\"Yes\",CA27=\"\",CA26=\"\",CA25=\"\"),\"Yes\",\"\")","v":""},"",{"$f":"IF(AND(CC28=\"Yes\",CC27=\"\",CC26=\"\",CC25=\"\"),\"Yes\",\"\")","v":""},"",{"$f":"IF(AND(CE28=\"Yes\",CE27=\"\",CE26=\"\",CE25=\"\"),\"Yes\",\"\")","v":""},"",{"$f":"IF(AND(CG28=\"Yes\",CG27=\"\",CG26=\"\",CG25=\"\"),\"Yes\",\"\")","v":""},"",{"$f":"IF(AND(CI28=\"Yes\",CI27=\"\",CI26=\"\",CI25=\"\"),\"Yes\",\"\")","v":""},"",{"$f":"IF(AND(CK28=\"Yes\",CK27=\"\",CK26=\"\",CK25=\"\"),\"Yes\",\"\")","v":""},"",{"$f":"IF(AND(CM28=\"Yes\",CM27=\"\",CM26=\"\",CM25=\"\"),\"Yes\",\"\")","v":""},"",{"$f":"IF(AND(CO28=\"Yes\",CO27=\"\",CO26=\"\",CO25=\"\"),\"Yes\",\"\")","v":""},"",{"$f":"IF(AND(CQ28=\"Yes\",CQ27=\"\",CQ26=\"\",CQ25=\"\"),\"Yes\",\"\")","v":""},"",{"$f":"IF(AND(CS28=\"Yes\",CS27=\"\",CS26=\"\",CS25=\"\"),\"Yes\",\"\")","v":""},"",{"$f":"IF(AND(CU28=\"Yes\",CU27=\"\",CU26=\"\",CU25=\"\"),\"Yes\",\"\")","v":""},"",{"$f":"IF(AND(CW28=\"Yes\",CW27=\"\",CW26=\"\",CW25=\"\"),\"Yes\",\"\")","v":""},"",{"$f":"IF(AND(CY28=\"Yes\",CY27=\"\",CY26=\"\",CY25=\"\"),\"Yes\",\"\")","v":""},"",{"$f":"IF(AND(DA28=\"Yes\",DA27=\"\",DA26=\"\",DA25=\"\"),\"Yes\",\"\")","v":""},"","","",{"$f":"IF(AND(DE28=\"Yes\",DE27=\"\",DE26=\"\",DE25=\"\"),\"Yes\",\"\")","v":""},"",{"$f":"IF(AND(DG28=\"Yes\",DG27=\"\",DG26=\"\",DG25=\"\"),\"Yes\",\"\")","v":""},{"$f":"IF(AND(N28>='Warrant 7 & 8 - MUTCD'!$L$16,OR('Traffic Volume Input'!O28>='Warrant 7 & 8 - MUTCD'!$N$16,'Traffic Volume Input'!P28>='Warrant 7 & 8 - MUTCD'!$N$16)),\"Yes\",\"\")","v":""},{"$f":"IF(AND(DI28=\"Yes\",DI27=\"\",DI26=\"\",DI25=\"\"),\"Yes\",\"\")","v":""},"",{"$f":"IF(AND(DK28=\"Yes\",DK27=\"\",DK26=\"\",DK25=\"\"),\"Yes\",\"\")","v":""},"",{"$f":"IF(AND(DM28=\"Yes\",DM27=\"\",DM26=\"\",DM25=\"\"),\"Yes\",\"\")","v":""},"",{"$f":"IF(AND(DO28=\"Yes\",DO27=\"\",DO26=\"\",DO25=\"\"),\"Yes\",\"\")","v":""},"",{"$f":"IF(AND(DQ28=\"Yes\",DQ27=\"\",DQ26=\"\",DQ25=\"\"),\"Yes\",\"\")","v":""},"",{"$f":"IF(AND(DS28=\"Yes\",DS27=\"\",DS26=\"\",DS25=\"\"),\"Yes\",\"\")","v":""},"",{"$f":"IF(AND(DU28=\"Yes\",DU27=\"\",DU26=\"\",DU25=\"\"),\"Yes\",\"\")","v":""},"",{"$f":"IF(AND(DW28=\"Yes\",DW27=\"\",DW26=\"\",DW25=\"\"),\"Yes\",\"\")","v":""},"",{"$f":"IF(AND(DY28=\"Yes\",DY27=\"\",DY26=\"\",DY25=\"\"),\"Yes\",\"\")","v":""},"",{"$f":"IF(AND(EA28=\"Yes\",EA27=\"\",EA26=\"\",EA25=\"\"),\"Yes\",\"\")","v":""},"",{"$f":"IF(AND(EC28=\"Yes\",EC27=\"\",EC26=\"\",EC25=\"\"),\"Yes\",\"\")","v":""},"",{"$f":"IF(AND(EE28=\"Yes\",EE27=\"\",EE26=\"\",EE25=\"\"),\"Yes\",\"\")","v":""},"",{"$f":"IF(AND(EG28=\"Yes\",EG27=\"\",EG26=\"\",EG25=\"\"),\"Yes\",\"\")","v":""},"",{"$f":"IF(AND(EI28=\"Yes\",EI27=\"\",EI26=\"\",EI25=\"\"),\"Yes\",\"\")","v":""},"",{"$f":"IF(AND(EK28=\"Yes\",EK27=\"\",EK26=\"\",EK25=\"\"),\"Yes\",\"\")","v":""},"",{"$f":"IF(AND(EM28=\"Yes\",EM27=\"\",EM26=\"\",EM25=\"\"),\"Yes\",\"\")","v":""},"",{"$f":"IF(AND(EO28=\"Yes\",EO27=\"\",EO26=\"\",EO25=\"\"),\"Yes\",\"\")","v":""},"",{"$f":"IF(AND(EQ28=\"Yes\",EQ27=\"\",EQ26=\"\",EQ25=\"\"),\"Yes\",\"\")","v":""},"",{"$f":"IF(AND(ES28=\"Yes\",ES27=\"\",ES26=\"\",ES25=\"\"),\"Yes\",\"\")","v":""},"",{"$f":"IF(AND(EU28=\"Yes\",EU27=\"\",EU26=\"\",EU25=\"\"),\"Yes\",\"\")","v":""},"",{"$f":"IF(AND(EW28=\"Yes\",EW27=\"\",EW26=\"\",EW25=\"\"),\"Yes\",\"\")","v":""},"","","",{"$f":"IF(AND(FA28=\"Yes\",FA27=\"\",FA26=\"\",FA25=\"\"),\"Yes\",\"\")","v":""},"","",{"$f":"IF(AND(N28>='Warrant 7 & 8 - MUTCD'!$L$25,OR('Traffic Volume Input'!O28>='Warrant 7 & 8 - MUTCD'!$N$25,'Traffic Volume Input'!P28>='Warrant 7 & 8 - MUTCD'!$N$25)),\"Yes\",\"\")","v":""},{"$f":"IF(AND(FE28=\"Yes\",FE27=\"\",FE26=\"\",FE25=\"\"),\"Yes\",\"\")","v":""},"",{"$f":"IF(AND(FG28=\"Yes\",FG27=\"\",FG26=\"\",FG25=\"\"),\"Yes\",\"\")","v":""},"",{"$f":"IF(AND(FI28=\"Yes\",FI27=\"\",FI26=\"\",FI25=\"\"),\"Yes\",\"\")","v":""},"",{"$f":"IF(AND(FK28=\"Yes\",FK27=\"\",FK26=\"\",FK25=\"\"),\"Yes\",\"\")","v":""},"",{"$f":"IF(AND(FM28=\"Yes\",FM27=\"\",FM26=\"\",FM25=\"\"),\"Yes\",\"\")","v":""},"",{"$f":"IF(AND(FO28=\"Yes\",FO27=\"\",FO26=\"\",FO25=\"\"),\"Yes\",\"\")","v":""},"",{"$f":"IF(AND(FQ28=\"Yes\",FQ27=\"\",FQ26=\"\",FQ25=\"\"),\"Yes\",\"\")","v":""},"",{"$f":"IF(AND(FS28=\"Yes\",FS27=\"\",FS26=\"\",FS25=\"\"),\"Yes\",\"\")","v":""},"",{"$f":"IF(AND(FU28=\"Yes\",FU27=\"\",FU26=\"\",FU25=\"\"),\"Yes\",\"\")","v":""},"",{"$f":"IF(AND(FW28=\"Yes\",FW27=\"\",FW26=\"\",FW25=\"\"),\"Yes\",\"\")","v":""},"",{"$f":"IF(AND(FY28=\"Yes\",FY27=\"\",FY26=\"\",FY25=\"\"),\"Yes\",\"\")","v":""},"",{"$f":"IF(AND(GA28=\"Yes\",GA27=\"\",GA26=\"\",GA25=\"\"),\"Yes\",\"\")","v":""},"",{"$f":"IF(AND(GC28=\"Yes\",GC27=\"\",GC26=\"\",GC25=\"\"),\"Yes\",\"\")","v":""},"",{"$f":"IF(AND(GE28=\"Yes\",GE27=\"\",GE26=\"\",GE25=\"\"),\"Yes\",\"\")","v":""},"",{"$f":"IF(AND(GG28=\"Yes\",GG27=\"\",GG26=\"\",GG25=\"\"),\"Yes\",\"\")","v":""},"",{"$f":"IF(AND(GI28=\"Yes\",GI27=\"\",GI26=\"\",GI25=\"\"),\"Yes\",\"\")","v":""},"",{"$f":"IF(AND(GK28=\"Yes\",GK27=\"\",GK26=\"\",GK25=\"\"),\"Yes\",\"\")","v":""},"",{"$f":"IF(AND(GM28=\"Yes\",GM27=\"\",GM26=\"\",GM25=\"\"),\"Yes\",\"\")","v":""},"",{"$f":"IF(AND(GO28=\"Yes\",GO27=\"\",GO26=\"\",GO25=\"\"),\"Yes\",\"\")","v":""},"",{"$f":"IF(AND(GQ28=\"Yes\",GQ27=\"\",GQ26=\"\",GQ25=\"\"),\"Yes\",\"\")","v":""},"",{"$f":"IF(AND(GS28=\"Yes\",GS27=\"\",GS26=\"\",GS25=\"\"),\"Yes\",\"\")","v":""},"","","",{"$f":"IF(AND(GW28=\"Yes\",GW27=\"\",GW26=\"\",GW25=\"\"),\"Yes\",\"\")","v":""},"",""]
["05:45:00","05:59:00",null,null,0,null,null,null,null,"05:45:00","06:44:00",0,0,0,0,0,{"$f":"IF(AND(N29>='Warrant 1 - MUTCD'!$M$23,OR('Traffic Volume Input'!O29>='Warrant 1 - MUTCD'!$Q$23,'Traffic Volume Input'!P29>='Warrant 1 - MUTCD'!$Q$23)),\"Yes\",\"\")","v":""},"","","","","","",{"$f":"IF(AND(W29=\"Yes\",W28=\"\",W27=\"\",W26=\"\"),\"Yes\",\"\")","v":""},"",{"$f":"IF(AND(Y29=\"Yes\",Y28=\"\",Y27=\"\",Y26=\"\"),\"Yes\",\"\")","v":""},"",{"$f":"IF(AND(AA29=\"Yes\",AA28=\"\",AA27=\"\",AA26=\"\"),\"Yes\",\"\")","v":""},"",{"$f":"IF(AND(AC29=\"Yes\",AC28=\"\",AC27=\"\",AC26=\"\"),\"Yes\",\"\")","v":""},"",{"$f":"IF(AND(AE29=\"Yes\",AE28=\"\",AE27=\"\",AE26=\"\"),\"Yes\",\"\")","v":""},"",{"$f":"IF(AND(AG29=\"Yes\",AG28=\"\",AG27=\"\",AG26=\"\"),\"Yes\",\"\")","v":""},"",{"$f":"IF(AND(AI29=\"Yes\",AI28=\"\",AI27=\"\",AI26=\"\"),\"Yes\",\"\")","v":""},"",{"$f":"IF(AND(AK29=\"Yes\",AK28=\"\",AK27=\"\",AK26=\"\"),\"Yes\",\"\")","v":""},"",{"$f":"IF(AND(AM29=\"Yes\",AM28=\"\",AM27=\"\",AM26=\"\"),\"Yes\",\"\")","v":""},"",{"$f":"IF(AND(AO29=\"Yes\",AO28=\"\",AO27=\"\",AO26=\"\"),\"Yes\",\"\")","v":""},"",{"$f":"IF(AND(AQ29=\"Yes\",AQ28=\"\",AQ27=\"\",AQ26=\"\"),\"Yes\",\"\")","v":""},"",{"$f":"IF(AND(AS29=\"Yes\",AS28=\"\",AS27=\"\",AS26=\"\"),\"Yes\",\"\")","v":""},"",{"$f":"IF(AND(AU29=\"Yes\",AU28=\"\",AU27=\"\",AU26=\"\"),\"Yes\",\"\")","v":""},"",{"$f":"IF(AND(AW29=\"Yes\",AW28=\"\",AW27=\"\",AW26=\"\"),\"Yes\",\"\")","v":""},"",{"$f":"IF(AND(AY29=\"Yes\",AY28=\"\",AY27=\"\",AY26=\"\"),\"Yes\",\"\")","v":""},"",{"$f":"IF(AND(BA29=\"Yes\",BA28=\"\",BA27=\"\",BA26=\"\"),\"Yes\",\"\")","v":""},"",{"$f":"IF(AND(BC29=\"Yes\",BC28=\"\",BC27=\"\",BC26=\"\"),\"Yes\",\"\")","v":""},"",{"$f":"IF(AND(BE29=\"Yes\",BE28=\"\",BE27=\"\",BE26=\"\"),\"Yes\",\"\")","v":""},"",{"$f":"IF(AND(BG29=\"Yes\",BG28=\"\",BG27=\"\",BG26=\"\"),\"Yes\",\"\")","v":""},"",{"$f":"IF(AND(BI29=\"Yes\",BI28=\"\",BI27=\"\",BI26=\"\"),\"Yes\",\"\")","v":""},"","",{"$f":"IF(AND(N29>='Warrant 1 - MUTCD'!$M$32,OR('Traffic Volume Input'!O29>='Warrant 1 - MUTCD'!$Q$32,'Traffic Volume Input'!P29>='Warrant 1 - MUTCD'!$Q$32)),\"Yes\",\"\")","v":""},"","",{"$f":"IF(AND(BO29=\"Yes\",BO28=\"\",BO27=\"\",BO26=\"\"),\"Yes\",\"\")","v":""},"",{"$f":"IF(AND(BQ29=\"Yes\",BQ28=\"\",BQ27=\"\",BQ26=\"\"),\"Yes\",\"\")","v":""},"",{"$f":"IF(AND(BS29=\"Yes\",BS28=\"\",BS27=\"\",BS26=\"\"),\"Yes\",\"\")","v":""},"",{"$f":"IF(AND(BU29=\"Yes\",BU28=\"\",BU27=\"\",BU26=\"\"),\"Yes\",\"\")","v":""},"",{"$f":"IF(AND(BW29=\"Yes\",BW28=\"\",BW27=\"\",BW26=\"\"),\"Yes\",\"\")","v":""},"",{"$f":"IF(AND(BY29=\"Yes\",BY28=\"\",BY27=\"\",BY26=\"\"),\"Yes\",\"\")","v":""},"",{"$f":"IF(AND(CA29=\"Yes\",CA28=\"\",CA27=\"\",CA26=\"\"),\"Yes\",\"\")","v":""},"",{"$f":"IF(AND(CC29=\"Yes\",CC28=\"\",CC27=\"\",CC26=\"\"),\"Yes\",\"\")","v":""},"",{"$f":"IF(AND(CE29=\"Yes\",CE28=\"\",CE27=\"\",CE26=\"\"),\"Yes\",\"\")","v":""},"",{"$f":"IF(AND(CG29=\"Yes\",CG28=\"\",CG27=\"\",CG26=\"\"),\"Yes\",\"\")","v":""},"",{"$f":"IF(AND(CI29=\"Yes\",CI28=\"\",CI27=\"\",CI26=\"\"),\"Yes\",\"\")","v":""},"",{"$f":"IF(AND(CK29=\"Yes\",CK28=\"\",CK27=\"\",CK26=\"\"),\"Yes\",\"\")","v":""},"",{"$f":"IF(AND(CM29=\"Yes\",CM28=\"\",CM27=\"\",CM26=\"\"),\"Yes\",\"\")","v":""},"",{"$f":"IF(AND(CO29=\"Yes\",CO28=\"\",CO27=\"\",CO26=\"\"),\"Yes\",\"\")","v":""},"",{"$f":"IF(AND(CQ29=\"Yes\",CQ28=\"\",CQ27=\"\",CQ26=\"\"),\"Yes\",\"\")","v":""},"",{"$f":"IF(AND(CS29=\"Yes\",CS28=\"\",CS27=\"\",CS26=\"\"),\"Yes\",\"\")","v":""},"",{"$f":"IF(AND(CU29=\"Yes\",CU28=\"\",CU27=\"\",CU26=\"\"),\"Yes\",\"\")","v":""},"",{"$f":"IF(AND(CW29=\"Yes\",CW28=\"\",CW27=\"\",CW26=\"\"),\"Yes\",\"\")","v":""},"",{"$f":"IF(AND(CY29=\"Yes\",CY28=\"\",CY27=\"\",CY26=\"\"),\"Yes\",\"\")","v":""},"",{"$f":"IF(AND(DA29=\"Yes\",DA28=\"\",DA27=\"\",DA26=\"\"),\"Yes\",\"\")","v":""},"","","",{"$f":"IF(AND(DE29=\"Yes\",DE28=\"\",DE27=\"\",DE26=\"\"),\"Yes\",\"\")","v":""},"",{"$f":"IF(AND(DG29=\"Yes\",DG28=\"\",DG27=\"\",DG26=\"\"),\"Yes\",\"\")","v":""},{"$f":"IF(AND(N29>='Warrant 7 & 8 - MUTCD'!$L$16,OR('Traffic Volume Input'!O29>='Warrant 7 & 8 - MUTCD'!$N$16,'Traffic Volume Input'!P29>='Warrant 7 & 8 - MUTCD'!$N$16)),\"Yes\",\"\")","v":""},"","",{"$f":"IF(AND(DK29=\"Yes\",DK28=\"\",DK27=\"\",DK26=\"\"),\"Yes\",\"\")","v":""},"",{"$f":"IF(AND(DM29=\"Yes\",DM28=\"\",DM27=\"\",DM26=\"\"),\"Yes\",\"\")","v":""},"",{"$f":"IF(AND(DO29=\"Yes\",DO28=\"\",DO27=\"\",DO26=\"\"),\"Yes\",\"\")","v":""},"",{"$f":"IF(AND(DQ29=\"Yes\",DQ28=\"\",DQ27=\"\",DQ26=\"\"),\"Yes\",\"\")","v":""},"",{"$f":"IF(AND(DS29=\"Yes\",DS28=\"\",DS27=\"\",DS26=\"\"),\"Yes\",\"\")","v":""},"",{"$f":"IF(AND(DU29=\"Yes\",DU28=\"\",DU27=\"\",DU26=\"\"),\"Yes\",\"\")","v":""},"",{"$f":"IF(AND(DW29=\"Yes\",DW28=\"\",DW27=\"\",DW26=\"\"),\"Yes\",\"\")","v":""},"",{"$f":"IF(AND(DY29=\"Yes\",DY28=\"\",DY27=\"\",DY26=\"\"),\"Yes\",\"\")","v":""},"",{"$f":"IF(AND(EA29=\"Yes\",EA28=\"\",EA27=\"\",EA26=\"\"),\"Yes\",\"\")","v":""},"",{"$f":"IF(AND(EC29=\"Yes\",EC28=\"\",EC27=\"\",EC26=\"\"),\"Yes\",\"\")","v":""},"",{"$f":"IF(AND(EE29=\"Yes\",EE28=\"\",EE27=\"\",EE26=\"\"),\"Yes\",\"\")","v":""},"",{"$f":"IF(AND(EG29=\"Yes\",EG28=\"\",EG27=\"\",EG26=\"\"),\"Yes\",\"\")","v":""},"",{"$f":"IF(AND(EI29=\"Yes\",EI28=\"\",EI27=\"\",EI26=\"\"),\"Yes\",\"\")","v":""},"",{"$f":"IF(AND(EK29=\"Yes\",EK28=\"\",EK27=\"\",EK26=\"\"),\"Yes\",\"\")","v":""},"",{"$f":"IF(AND(EM29=\"Yes\",EM28=\"\",EM27=\"\",EM26=\"\"),\"Yes\",\"\")","v":""},"",{"$f":"IF(AND(EO29=\"Yes\",EO28=\"\",EO27=\"\",EO26=\"\"),\"Yes\",\"\")","v":""},"",{"$f":"IF(AND(EQ29=\"Yes\",EQ28=\"\",EQ27=\"\",EQ26=\"\"),\"Yes\",\"\")","v":""},"",{"$f":"IF(AND(ES29=\"Yes\",ES28=\"\",ES27=\"\",ES26=\"\"),\"Yes\",\"\")","v":""},"",{"$f":"IF(AND(EU29=\"Yes\",EU28=\"\",EU27=\"\",EU26=\"\"),\"Yes\",\"\")","v":""},"",{"$f":"IF(AND(EW29=\"Yes\",EW28=\"\",EW27=\"\",EW26=\"\"),\"Yes\",\"\")","v":""},"","","",{"$f":"IF(AND(FA29=\"Yes\",FA28=\"\",FA27=\"\",FA26=\"\"),\"Yes\",\"\")","v":""},"","",{"$f":"IF(AND(N29>='Warrant 7 & 8 - MUTCD'!$L$25,OR('Traffic Volume Input'!O29>='Warrant 7 & 8 - MUTCD'!$N$25,'Traffic Volume Input'!P29>='Warrant 7 & 8 - MUTCD'!$N$25)),\"Yes\",\"\")","v":""},"","",{"$f":"IF(AND(FG29=\"Yes\",FG28=\"\",FG27=\"\",FG26=\"\"),\"Yes\",\"\")","v":""},"",{"$f":"IF(AND(FI29=\"Yes\",FI28=\"\",FI27=\"\",FI26=\"\"),\"Yes\",\"\")","v":""},"",{"$f":"IF(AND(FK29=\"Yes\",FK28=\"\",FK27=\"\",FK26=\"\"),\"Yes\",\"\")","v":""},"",{"$f":"IF(AND(FM29=\"Yes\",FM28=\"\",FM27=\"\",FM26=\"\"),\"Yes\",\"\")","v":""},"",{"$f":"IF(AND(FO29=\"Yes\",FO28=\"\",FO27=\"\",FO26=\"\"),\"Yes\",\"\")","v":""},"",{"$f":"IF(AND(FQ29=\"Yes\",FQ28=\"\",FQ27=\"\",FQ26=\"\"),\"Yes\",\"\")","v":""},"",{"$f":"IF(AND(FS29=\"Yes\",FS28=\"\",FS27=\"\",FS26=\"\"),\"Yes\",\"\")","v":""},"",{"$f":"IF(AND(FU29=\"Yes\",FU28=\"\",FU27=\"\",FU26=\"\"),\"Yes\",\"\")","v":""},"",{"$f":"IF(AND(FW29=\"Yes\",FW28=\"\",FW27=\"\",FW26=\"\"),\"Yes\",\"\")","v":""},"",{"$f":"IF(AND(FY29=\"Yes\",FY28=\"\",FY27=\"\",FY26=\"\"),\"Yes\",\"\")","v":""},"",{"$f":"IF(AND(GA29=\"Yes\",GA28=\"\",GA27=\"\",GA26=\"\"),\"Yes\",\"\")","v":""},"",{"$f":"IF(AND(GC29=\"Yes\",GC28=\"\",GC27=\"\",GC26=\"\"),\"Yes\",\"\")","v":""},"",{"$f":"IF(AND(GE29=\"Yes\",GE28=\"\",GE27=\"\",GE26=\"\"),\"Yes\",\"\")","v":""},"",{"$f":"IF(AND(GG29=\"Yes\",GG28=\"\",GG27=\"\",GG26=\"\"),\"Yes\",\"\")","v":""},"",{"$f":"IF(AND(GI29=\"Yes\",GI28=\"\",GI27=\"\",GI26=\"\"),\"Yes\",\"\")","v":""},"",{"$f":"IF(AND(GK29=\"Yes\",GK28=\"\",GK27=\"\",GK26=\"\"),\"Yes\",\"\")","v":""},"",{"$f":"IF(AND(GM29=\"Yes\",GM28=\"\",GM27=\"\",GM26=\"\"),\"Yes\",\"\")","v":""},"",{"$f":"IF(AND(GO29=\"Yes\",GO28=\"\",GO27=\"\",GO26=\"\"),\"Yes\",\"\")","v":""},"",{"$f":"IF(AND(GQ29=\"Yes\",GQ28=\"\",GQ27=\"\",GQ26=\"\"),\"Yes\",\"\")","v":""},"",{"$f":"IF(AND(GS29=\"Yes\",GS28=\"\",GS27=\"\",GS26=\"\"),\"Yes\",\"\")","v":""},"","","",{"$f":"IF(AND(GW29=\"Yes\",GW28=\"\",GW27=\"\",GW26=\"\"),\"Yes\",\"\")","v":""},"",""]
["06:00:00","06:14:00",null,null,0,null,null,null,null,"06:00:00","06:59:00",0,0,0,0,0,{"$f":"IF(AND(N30>='Warrant 1 - MUTCD'!$M$23,OR('Traffic Volume Input'!O30>='Warrant 1 - MUTCD'!$Q$23,'Traffic Volume Input'!P30>='Warrant 1 - MUTCD'!$Q$23)),\"Yes\",\"\")","v":""},"","","","","","",{"$f":"IF(AND(W30=\"Yes\",W29=\"\",W28=\"\",W27=\"\"),\"Yes\",\"\")","v":""},"",{"$f":"IF(AND(Y30=\"Yes\",Y29=\"\",Y28=\"\",Y27=\"\"),\"Yes\",\"\")","v":""},"",{"$f":"IF(AND(AA30=\"Yes\",AA29=\"\",AA28=\"\",AA27=\"\"),\"Yes\",\"\")","v":""},"",{"$f":"IF(AND(AC30=\"Yes\",AC29=\"\",AC28=\"\",AC27=\"\"),\"Yes\",\"\")","v":""},"",{"$f":"IF(AND(AE30=\"Yes\",AE29=\"\",AE28=\"\",AE27=\"\"),\"Yes\",\"\")","v":""},"",{"$f":"IF(AND(AG30=\"Yes\",AG29=\"\",AG28=\"\",AG27=\"\"),\"Yes\",\"\")","v":""},"",{"$f":"IF(AND(AI30=\"Yes\",AI29=\"\",AI28=\"\",AI27=\"\"),\"Yes\",\"\")","v":""},"",{"$f":"IF(AND(AK30=\"Yes\",AK29=\"\",AK28=\"\",AK27=\"\"),\"Yes\",\"\")","v":""},"",{"$f":"IF(AND(AM30=\"Yes\",AM29=\"\",AM28=\"\",AM27=\"\"),\"Yes\",\"\")","v":""},"",{"$f":"IF(AND(AO30=\"Yes\",AO29=\"\",AO28=\"\",AO27=\"\"),\"Yes\",\"\")","v":""},"",{"$f":"IF(AND(AQ30=\"Yes\",AQ29=\"\",AQ28=\"\",AQ27=\"\"),\"Yes\",\"\")","v":""},"",{"$f":"IF(AND(AS30=\"Yes\",AS29=\"\",AS28=\"\",AS27=\"\"),\"Yes\",\"\")","v":""},"",{"$f":"IF(AND(AU30=\"Yes\",AU29=\"\",AU28=\"\",AU27=\"\"),\"Yes\",\"\")","v":""},"",{"$f":"IF(AND(AW30=\"Yes\",AW29=\"\",AW28=\"\",AW27=\"\"),\"Yes\",\"\")","v":""},"",{"$f":"IF(AND(AY30=\"Yes\",AY29=\"\",AY28=\"\",AY27=\"\"),\"Yes\",\"\")","v":""},"",{"$f":"IF(AND(BA30=\"Yes\",BA29=\"\",BA28=\"\",BA27=\"\"),\"Yes\",\"\")","v":""},"",{"$f":"IF(AND(BC30=\"Yes\",BC29=\"\",BC28=\"\",BC27=\"\"),\"Yes\",\"\")","v":""},"",{"$f":"IF(AND(BE30=\"Yes\",BE29=\"\",BE28=\"\",BE27=\"\"),\"Yes\",\"\")","v":""},"",{"$f":"IF(AND(BG30=\"Yes\",BG29=\"\",BG28=\"\",BG27=\"\"),\"Yes\",\"\")","v":""},"",{"$f":"IF(AND(BI30=\"Yes\",BI29=\"\",BI28=\"\",BI27=\"\"),\"Yes\",\"\")","v":""},"","",{"$f":"IF(AND(N30>='Warrant 1 - MUTCD'!$M$32,OR('Traffic Volume Input'!O30>='Warrant 1 - MUTCD'!$Q$32,'Traffic Volume Input'!P30>='Warrant 1 - MUTCD'!$Q$32)),\"Yes\",\"\")","v":""},"","",{"$f":"IF(AND(BO30=\"Yes\",BO29=\"\",BO28=\"\",BO27=\"\"),\"Yes\",\"\")","v":""},"",{"$f":"IF(AND(BQ30=\"Yes\",BQ29=\"\",BQ28=\"\",BQ27=\"\"),\"Yes\",\"\")","v":""},"",{"$f":"IF(AND(BS30=\"Yes\",BS29=\"\",BS28=\"\",BS27=\"\"),\"Yes\",\"\")","v":""},"",{"$f":"IF(AND(BU30=\"Yes\",BU29=\"\",BU28=\"\",BU27=\"\"),\"Yes\",\"\")","v":""},"",{"$f":"IF(AND(BW30=\"Yes\",BW29=\"\",BW28=\"\",BW27=\"\"),\"Yes\",\"\")","v":""},"",{"$f":"IF(AND(BY30=\"Yes\",BY29=\"\",BY28=\"\",BY27=\"\"),\"Yes\",\"\")","v":""},"",{"$f":"IF(AND(CA30=\"Yes\",CA29=\"\",CA28=\"\",CA27=\"\"),\"Yes\",\"\")","v":""},"",{"$f":"IF(AND(CC30=\"Yes\",CC29=\"\",CC28=\"\",CC27=\"\"),\"Yes\",\"\")","v":""},"",{"$f":"IF(AND(CE30=\"Yes\",CE29=\"\",CE28=\"\",CE27=\"\"),\"Yes\",\"\")","v":""},"",{"$f":"IF(AND(CG30=\"Yes\",CG29=\"\",CG28=\"\",CG27=\"\"),\"Yes\",\"\")","v":""},"",{"$f":"IF(AND(CI30=\"Yes\",CI29=\"\",CI28=\"\",CI27=\"\"),\"Yes\",\"\")","v":""},"",{"$f":"IF(AND(CK30=\"Yes\",CK29=\"\",CK28=\"\",CK27=\"\"),\"Yes\",\"\")","v":""},"",{"$f":"IF(AND(CM30=\"Yes\",CM29=\"\",CM28=\"\",CM27=\"\"),\"Yes\",\"\")","v":""},"",{"$f":"IF(AND(CO30=\"Yes\",CO29=\"\",CO28=\"\",CO27=\"\"),\"Yes\",\"\")","v":""},"",{"$f":"IF(AND(CQ30=\"Yes\",CQ29=\"\",CQ28=\"\",CQ27=\"\"),\"Yes\",\"\")","v":""},"",{"$f":"IF(AND(CS30=\"Yes\",CS29=\"\",CS28=\"\",CS27=\"\"),\"Yes\",\"\")","v":""},"",{"$f":"IF(AND(CU30=\"Yes\",CU29=\"\",CU28=\"\",CU27=\"\"),\"Yes\",\"\")","v":""},"",{"$f":"IF(AND(CW30=\"Yes\",CW29=\"\",CW28=\"\",CW27=\"\"),\"Yes\",\"\")","v":""},"",{"$f":"IF(AND(CY30=\"Yes\",CY29=\"\",CY28=\"\",CY27=\"\"),\"Yes\",\"\")","v":""},"",{"$f":"IF(AND(DA30=\"Yes\",DA29=\"\",DA28=\"\",DA27=\"\"),\"Yes\",\"\")","v":""},"","","",{"$f":"IF(AND(DE30=\"Yes\",DE29=\"\",DE28=\"\",DE27=\"\"),\"Yes\",\"\")","v":""},"",{"$f":"IF(AND(DG30=\"Yes\",DG29=\"\",DG28=\"\",DG27=\"\"),\"Yes\",\"\")","v":""},{"$f":"IF(AND(N30>='Warrant 7 & 8 - MUTCD'!$L$16,OR('Traffic Volume Input'!O30>='Warrant 7 & 8 - MUTCD'!$N$16,'Traffic Volume Input'!P30>='Warrant 7 & 8 - MUTCD'!$N$16)),\"Yes\",\"\")","v":""},"","",{"$f":"IF(AND(DK30=\"Yes\",DK29=\"\",DK28=\"\",DK27=\"\"),\"Yes\",\"\")","v":""},"",{"$f":"IF(AND(DM30=\"Yes\",DM29=\"\",DM28=\"\",DM27=\"\"),\"Yes\",\"\")","v":""},"",{"$f":"IF(AND(DO30=\"Yes\",DO29=\"\",DO28=\"\",DO27=\"\"),\"Yes\",\"\")","v":""},"",{"$f":"IF(AND(DQ30=\"Yes\",DQ29=\"\",DQ28=\"\",DQ27=\"\"),\"Yes\",\"\")","v":""},"",{"$f":"IF(AND(DS30=\"Yes\",DS29=\"\",DS28=\"\",DS27=\"\"),\"Yes\",\"\")","v":""},"",{"$f":"IF(AND(DU30=\"Yes\",DU29=\"\",DU28=\"\",DU27=\"\"),\"Yes\",\"\")","v":""},"",{"$f":"IF(AND(DW30=\"Yes\",DW29=\"\",DW28=\"\",DW27=\"\"),\"Yes\",\"\")","v":""},"",{"$f":"IF(AND(DY30=\"Yes\",DY29=\"\",DY28=\"\",DY27=\"\"),\"Yes\",\"\")","v":""},"",{"$f":"IF(AND(EA30=\"Yes\",EA29=\"\",EA28=\"\",EA27=\"\"),\"Yes\",\"\")","v":""},"",{"$f":"IF(AND(EC30=\"Yes\",EC29=\"\",EC28=\"\",EC27=\"\"),\"Yes\",\"\")","v":""},"",{"$f":"IF(AND(EE30=\"Yes\",EE29=\"\",EE28=\"\",EE27=\"\"),\"Yes\",\"\")","v":""},"",{"$f":"IF(AND(EG30=\"Yes\",EG29=\"\",EG28=\"\",EG27=\"\"),\"Yes\",\"\")","v":""},"",{"$f":"IF(AND(EI30=\"Yes\",EI29=\"\",EI28=\"\",EI27=\"\"),\"Yes\",\"\")","v":""},"",{"$f":"IF(AND(EK30=\"Yes\",EK29=\"\",EK28=\"\",EK27=\"\"),\"Yes\",\"\")","v":""},"",{"$f":"IF(AND(EM30=\"Yes\",EM29=\"\",EM28=\"\",EM27=\"\"),\"Yes\",\"\")","v":""},"",{"$f":"IF(AND(EO30=\"Yes\",EO29=\"\",EO28=\"\",EO27=\"\"),\"Yes\",\"\")","v":""},"",{"$f":"IF(AND(EQ30=\"Yes\",EQ29=\"\",EQ28=\"\",EQ27=\"\"),\"Yes\",\"\")","v":""},"",{"$f":"IF(AND(ES30=\"Yes\",ES29=\"\",ES28=\"\",ES27=\"\"),\"Yes\",\"\")","v":""},"",{"$f":"IF(AND(EU30=\"Yes\",EU29=\"\",EU28=\"\",EU27=\"\"),\"Yes\",\"\")","v":""},"",{"$f":"IF(AND(EW30=\"Yes\",EW29=\"\",EW28=\"\",EW27=\"\"),\"Yes\",\"\")","v":""},"","","",{"$f":"IF(AND(FA30=\"Yes\",FA29=\"\",FA28=\"\",FA27=\"\"),\"Yes\",\"\")","v":""},"","",{"$f":"IF(AND(N30>='Warrant 7 & 8 - MUTCD'!$L$25,OR('Traffic Volume Input'!O30>='Warrant 7 & 8 - MUTCD'!$N$25,'Traffic Volume Input'!P30>='Warrant 7 & 8 - MUTCD'!$N$25)),\"Yes\",\"\")","v":""},"","",{"$f":"IF(AND(FG30=\"Yes\",FG29=\"\",FG28=\"\",FG27=\"\"),\"Yes\",\"\")","v":""},"",{"$f":"IF(AND(FI30=\"Yes\",FI29=\"\",FI28=\"\",FI27=\"\"),\"Yes\",\"\")","v":""},"",{"$f":"IF(AND(FK30=\"Yes\",FK29=\"\",FK28=\"\",FK27=\"\"),\"Yes\",\"\")","v":""},"",{"$f":"IF(AND(FM30=\"Yes\",FM29=\"\",FM28=\"\",FM27=\"\"),\"Yes\",\"\")","v":""},"",{"$f":"IF(AND(FO30=\"Yes\",FO29=\"\",FO28=\"\",FO27=\"\"),\"Yes\",\"\")","v":""},"",{"$f":"IF(AND(FQ30=\"Yes\",FQ29=\"\",FQ28=\"\",FQ27=\"\"),\"Yes\",\"\")","v":""},"",{"$f":"IF(AND(FS30=\"Yes\",FS29=\"\",FS28=\"\",FS27=\"\"),\"Yes\",\"\")","v":""},"",{"$f":"IF(AND(FU30=\"Yes\",FU29=\"\",FU28=\"\",FU27=\"\"),\"Yes\",\"\")","v":""},"",{"$f":"IF(AND(FW30=\"Yes\",FW29=\"\",FW28=\"\",FW27=\"\"),\"Yes\",\"\")","v":""},"",{"$f":"IF(AND(FY30=\"Yes\",FY29=\"\",FY28=\"\",FY27=\"\"),\"Yes\",\"\")","v":""},"",{"$f":"IF(AND(GA30=\"Yes\",GA29=\"\",GA28=\"\",GA27=\"\"),\"Yes\",\"\")","v":""},"",{"$f":"IF(AND(GC30=\"Yes\",GC29=\"\",GC28=\"\",GC27=\"\"),\"Yes\",\"\")","v":""},"",{"$f":"IF(AND(GE30=\"Yes\",GE29=\"\",GE28=\"\",GE27=\"\"),\"Yes\",\"\")","v":""},"",{"$f":"IF(AND(GG30=\"Yes\",GG29=\"\",GG28=\"\",GG27=\"\"),\"Yes\",\"\")","v":""},"",{"$f":"IF(AND(GI30=\"Yes\",GI29=\"\",GI28=\"\",GI27=\"\"),\"Yes\",\"\")","v":""},"",{"$f":"IF(AND(GK30=\"Yes\",GK29=\"\",GK28=\"\",GK27=\"\"),\"Yes\",\"\")","v":""},"",{"$f":"IF(AND(GM30=\"Yes\",GM29=\"\",GM28=\"\",GM27=\"\"),\"Yes\",\"\")","v":""},"",{"$f":"IF(AND(GO30=\"Yes\",GO29=\"\",GO28=\"\",GO27=\"\"),\"Yes\",\"\")","v":""},"",{"$f":"IF(AND(GQ30=\"Yes\",GQ29=\"\",GQ28=\"\",GQ27=\"\"),\"Yes\",\"\")","v":""},"",{"$f":"IF(AND(GS30=\"Yes\",GS29=\"\",GS28=\"\",GS27=\"\"),\"Yes\",\"\")","v":""},"","","",{"$f":"IF(AND(GW30=\"Yes\",GW29=\"\",GW28=\"\",GW27=\"\"),\"Yes\",\"\")","v":""},"",""]
["06:15:00","06:29:00",null,null,0,null,null,null,null,"06:15:00","07:14:00",0,0,0,0,0,{"$f":"IF(AND(N31>='Warrant 1 - MUTCD'!$M$23,OR('Traffic Volume Input'!O31>='Warrant 1 - MUTCD'!$Q$23,'Traffic Volume Input'!P31>='Warrant 1 - MUTCD'!$Q$23)),\"Yes\",\"\")","v":""},"","","","","","",{"$f":"IF(AND(W31=\"Yes\",W30=\"\",W29=\"\",W28=\"\"),\"Yes\",\"\")","v":""},"",{"$f":"IF(AND(Y31=\"Yes\",Y30=\"\",Y29=\"\",Y28=\"\"),\"Yes\",\"\")","v":""},"",{"$f":"IF(AND(AA31=\"Yes\",AA30=\"\",AA29=\"\",AA28=\"\"),\"Yes\",\"\")","v":""},"",{"$f":"IF(AND(AC31=\"Yes\",AC30=\"\",AC29=\"\",AC28=\"\"),\"Yes\",\"\")","v":""},"",{"$f":"IF(AND(AE31=\"Yes\",AE30=\"\",AE29=\"\",AE28=\"\"),\"Yes\",\"\")","v":""},"",{"$f":"IF(AND(AG31=\"Yes\",AG30=\"\",AG29=\"\",AG28=\"\"),\"Yes\",\"\")","v":""},"",{"$f":"IF(AND(AI31=\"Yes\",AI30=\"\",AI29=\"\",AI28=\"\"),\"Yes\",\"\")","v":""},"",{"$f":"IF(AND(AK31=\"Yes\",AK30=\"\",AK29=\"\",AK28=\"\"),\"Yes\",\"\")","v":""},"",{"$f":"IF(AND(AM31=\"Yes\",AM30=\"\",AM29=\"\",AM28=\"\"),\"Yes\",\"\")","v":""},"",{"$f":"IF(AND(AO31=\"Yes\",AO30=\"\",AO29=\"\",AO28=\"\"),\"Yes\",\"\")","v":""},"",{"$f":"IF(AND(AQ31=\"Yes\",AQ30=\"\",AQ29=\"\",AQ28=\"\"),\"Yes\",\"\")","v":""},"",{"$f":"IF(AND(AS31=\"Yes\",AS30=\"\",AS29=\"\",AS28=\"\"),\"Yes\",\"\")","v":""},"",{"$f":"IF(AND(AU31=\"Yes\",AU30=\"\",AU29=\"\",AU28=\"\"),\"Yes\",\"\")","v":""},"",{"$f":"IF(AND(AW31=\"Yes\",AW30=\"\",AW29=\"\",AW28=\"\"),\"Yes\",\"\")","v":""},"",{"$f":"IF(AND(AY31=\"Yes\",AY30=\"\",AY29=\"\",AY28=\"\"),\"Yes\",\"\")","v":""},"",{"$f":"IF(AND(BA31=\"Yes\",BA30=\"\",BA29=\"\",BA28=\"\"),\"Yes\",\"\")","v":""},"",{"$f":"IF(AND(BC31=\"Yes\",BC30=\"\",BC29=\"\",BC28=\"\"),\"Yes\",\"\")","v":""},"",{"$f":"IF(AND(BE31=\"Yes\",BE30=\"\",BE29=\"\",BE28=\"\"),\"Yes\",\"\")","v":""},"",{"$f":"IF(AND(BG31=\"Yes\",BG30=\"\",BG29=\"\",BG28=\"\"),\"Yes\",\"\")","v":""},"",{"$f":"IF(AND(BI31=\"Yes\",BI30=\"\",BI29=\"\",BI28=\"\"),\"Yes\",\"\")","v":""},"","",{"$f":"IF(AND(N31>='Warrant 1 - MUTCD'!$M$32,OR('Traffic Volume Input'!O31>='Warrant 1 - MUTCD'!$Q$32,'Traffic Volume Input'!P31>='Warrant 1 - MUTCD'!$Q$32)),\"Yes\",\"\")","v":""},"","",{"$f":"IF(AND(BO31=\"Yes\",BO30=\"\",BO29=\"\",BO28=\"\"),\"Yes\",\"\")","v":""},"",{"$f":"IF(AND(BQ31=\"Yes\",BQ30=\"\",BQ29=\"\",BQ28=\"\"),\"Yes\",\"\")","v":""},"",{"$f":"IF(AND(BS31=\"Yes\",BS30=\"\",BS29=\"\",BS28=\"\"),\"Yes\",\"\")","v":""},"",{"$f":"IF(AND(BU31=\"Yes\",BU30=\"\",BU29=\"\",BU28=\"\"),\"Yes\",\"\")","v":""},"",{"$f":"IF(AND(BW31=\"Yes\",BW30=\"\",BW29=\"\",BW28=\"\"),\"Yes\",\"\")","v":""},"",{"$f":"IF(AND(BY31=\"Yes\",BY30=\"\",BY29=\"\",BY28=\"\"),\"Yes\",\"\")","v":""},"",{"$f":"IF(AND(CA31=\"Yes\",CA30=\"\",CA29=\"\",CA28=\"\"),\"Yes\",\"\")","v":""},"",{"$f":"IF(AND(CC31=\"Yes\",CC30=\"\",CC29=\"\",CC28=\"\"),\"Yes\",\"\")","v":""},"",{"$f":"IF(AND(CE31=\"Yes\",CE30=\"\",CE29=\"\",CE28=\"\"),\"Yes\",\"\")","v":""},"",{"$f":"IF(AND(CG31=\"Yes\",CG30=\"\",CG29=\"\",CG28=\"\"),\"Yes\",\"\")","v":""},"",{"$f":"IF(AND(CI31=\"Yes\",CI30=\"\",CI29=\"\",CI28=\"\"),\"Yes\",\"\")","v":""},"",{"$f":"IF(AND(CK31=\"Yes\",CK30=\"\",CK29=\"\",CK28=\"\"),\"Yes\",\"\")","v":""},"",{"$f":"IF(AND(CM31=\"Yes\",CM30=\"\",CM29=\"\",CM28=\"\"),\"Yes\",\"\")","v":""},"",{"$f":"IF(AND(CO31=\"Yes\",CO30=\"\",CO29=\"\",CO28=\"\"),\"Yes\",\"\")","v":""},"",{"$f":"IF(AND(CQ31=\"Yes\",CQ30=\"\",CQ29=\"\",CQ28=\"\"),\"Yes\",\"\")","v":""},"",{"$f":"IF(AND(CS31=\"Yes\",CS30=\"\",CS29=\"\",CS28=\"\"),\"Yes\",\"\")","v":""},"",{"$f":"IF(AND(CU31=\"Yes\",CU30=\"\",CU29=\"\",CU28=\"\"),\"Yes\",\"\")","v":""},"",{"$f":"IF(AND(CW31=\"Yes\",CW30=\"\",CW29=\"\",CW28=\"\"),\"Yes\",\"\")","v":""},"",{"$f":"IF(AND(CY31=\"Yes\",CY30=\"\",CY29=\"\",CY28=\"\"),\"Yes\",\"\")","v":""},"",{"$f":"IF(AND(DA31=\"Yes\",DA30=\"\",DA29=\"\",DA28=\"\"),\"Yes\",\"\")","v":""},"","","",{"$f":"IF(AND(DE31=\"Yes\",DE30=\"\",DE29=\"\",DE28=\"\"),\"Yes\",\"\")","v":""},"",{"$f":"IF(AND(DG31=\"Yes\",DG30=\"\",DG29=\"\",DG28=\"\"),\"Yes\",\"\")","v":""},{"$f":"IF(AND(N31>='Warrant 7 & 8 - MUTCD'!$L$16,OR('Traffic Volume Input'!O31>='Warrant 7 & 8 - MUTCD'!$N$16,'Traffic Volume Input'!P31>='Warrant 7 & 8 - MUTCD'!$N$16)),\"Yes\",\"\")","v":""},"","",{"$f":"IF(AND(DK31=\"Yes\",DK30=\"\",DK29=\"\",DK28=\"\"),\"Yes\",\"\")","v":""},"",{"$f":"IF(AND(DM31=\"Yes\",DM30=\"\",DM29=\"\",DM28=\"\"),\"Yes\",\"\")","v":""},"",{"$f":"IF(AND(DO31=\"Yes\",DO30=\"\",DO29=\"\",DO28=\"\"),\"Yes\",\"\")","v":""},"",{"$f":"IF(AND(DQ31=\"Yes\",DQ30=\"\",DQ29=\"\",DQ28=\"\"),\"Yes\",\"\")","v":""},"",{"$f":"IF(AND(DS31=\"Yes\",DS30=\"\",DS29=\"\",DS28=\"\"),\"Yes\",\"\")","v":""},"",{"$f":"IF(AND(DU31=\"Yes\",DU30=\"\",DU29=\"\",DU28=\"\"),\"Yes\",\"\")","v":""},"",{"$f":"IF(AND(DW31=\"Yes\",DW30=\"\",DW29=\"\",DW28=\"\"),\"Yes\",\"\")","v":""},"",{"$f":"IF(AND(DY31=\"Yes\",DY30=\"\",DY29=\"\",DY28=\"\"),\"Yes\",\"\")","v":""},"",{"$f":"IF(AND(EA31=\"Yes\",EA30=\"\",EA29=\"\",EA28=\"\"),\"Yes\",\"\")","v":""},"",{"$f":"IF(AND(EC31=\"Yes\",EC30=\"\",EC29=\"\",EC28=\"\"),\"Yes\",\"\")","v":""},"",{"$f":"IF(AND(EE31=\"Yes\",EE30=\"\",EE29=\"\",EE28=\"\"),\"Yes\",\"\")","v":""},"",{"$f":"IF(AND(EG31=\"Yes\",EG30=\"\",EG29=\"\",EG28=\"\"),\"Yes\",\"\")","v":""},"",{"$f":"IF(AND(EI31=\"Yes\",EI30=\"\",EI29=\"\",EI28=\"\"),\"Yes\",\"\")","v":""},"",{"$f":"IF(AND(EK31=\"Yes\",EK30=\"\",EK29=\"\",EK28=\"\"),\"Yes\",\"\")","v":""},"",{"$f":"IF(AND(EM31=\"Yes\",EM30=\"\",EM29=\"\",EM28=\"\"),\"Yes\",\"\")","v":""},"",{"$f":"IF(AND(EO31=\"Yes\",EO30=\"\",EO29=\"\",EO28=\"\"),\"Yes\",\"\")","v":""},"",{"$f":"IF(AND(EQ31=\"Yes\",EQ30=\"\",EQ29=\"\",EQ28=\"\"),\"Yes\",\"\")","v":""},"",{"$f":"IF(AND(ES31=\"Yes\",ES30=\"\",ES29=\"\",ES28=\"\"),\"Yes\",\"\")","v":""},"",{"$f":"IF(AND(EU31=\"Yes\",EU30=\"\",EU29=\"\",EU28=\"\"),\"Yes\",\"\")","v":""},"",{"$f":"IF(AND(EW31=\"Yes\",EW30=\"\",EW29=\"\",EW28=\"\"),\"Yes\",\"\")","v":""},"","","",{"$f":"IF(AND(FA31=\"Yes\",FA30=\"\",FA29=\"\",FA28=\"\"),\"Yes\",\"\")","v":""},"","",{"$f":"IF(AND(N31>='Warrant 7 & 8 - MUTCD'!$L$25,OR('Traffic Volume Input'!O31>='Warrant 7 & 8 - MUTCD'!$N$25,'Traffic Volume Input'!P31>='Warrant 7 & 8 - MUTCD'!$N$25)),\"Yes\",\"\")","v":""},"","",{"$f":"IF(AND(FG31=\"Yes\",FG30=\"\",FG29=\"\",FG28=\"\"),\"Yes\",\"\")","v":""},"",{"$f":"IF(AND(FI31=\"Yes\",FI30=\"\",FI29=\"\",FI28=\"\"),\"Yes\",\"\")","v":""},"",{"$f":"IF(AND(FK31=\"Yes\",FK30=\"\",FK29=\"\",FK28=\"\"),\"Yes\",\"\")","v":""},"",{"$f":"IF(AND(FM31=\"Yes\",FM30=\"\",FM29=\"\",FM28=\"\"),\"Yes\",\"\")","v":""},"",{"$f":"IF(AND(FO31=\"Yes\",FO30=\"\",FO29=\"\",FO28=\"\"),\"Yes\",\"\")","v":""},"",{"$f":"IF(AND(FQ31=\"Yes\",FQ30=\"\",FQ29=\"\",FQ28=\"\"),\"Yes\",\"\")","v":""},"",{"$f":"IF(AND(FS31=\"Yes\",FS30=\"\",FS29=\"\",FS28=\"\"),\"Yes\",\"\")","v":""},"",{"$f":"IF(AND(FU31=\"Yes\",FU30=\"\",FU29=\"\",FU28=\"\"),\"Yes\",\"\")","v":""},"",{"$f":"IF(AND(FW31=\"Yes\",FW30=\"\",FW29=\"\",FW28=\"\"),\"Yes\",\"\")","v":""},"",{"$f":"IF(AND(FY31=\"Yes\",FY30=\"\",FY29=\"\",FY28=\"\"),\"Yes\",\"\")","v":""},"",{"$f":"IF(AND(GA31=\"Yes\",GA30=\"\",GA29=\"\",GA28=\"\"),\"Yes\",\"\")","v":""},"",{"$f":"IF(AND(GC31=\"Yes\",GC30=\"\",GC29=\"\",GC28=\"\"),\"Yes\",\"\")","v":""},"",{"$f":"IF(AND(GE31=\"Yes\",GE30=\"\",GE29=\"\",GE28=\"\"),\"Yes\",\"\")","v":""},"",{"$f":"IF(AND(GG31=\"Yes\",GG30=\"\",GG29=\"\",GG28=\"\"),\"Yes\",\"\")","v":""},"",{"$f":"IF(AND(GI31=\"Yes\",GI30=\"\",GI29=\"\",GI28=\"\"),\"Yes\",\"\")","v":""},"",{"$f":"IF(AND(GK31=\"Yes\",GK30=\"\",GK29=\"\",GK28=\"\"),\"Yes\",\"\")","v":""},"",{"$f":"IF(AND(GM31=\"Yes\",GM30=\"\",GM29=\"\",GM28=\"\"),\"Yes\",\"\")","v":""},"",{"$f":"IF(AND(GO31=\"Yes\",GO30=\"\",GO29=\"\",GO28=\"\"),\"Yes\",\"\")","v":""},"",{"$f":"IF(AND(GQ31=\"Yes\",GQ30=\"\",GQ29=\"\",GQ28=\"\"),\"Yes\",\"\")","v":""},"",{"$f":"IF(AND(GS31=\"Yes\",GS30=\"\",GS29=\"\",GS28=\"\"),\"Yes\",\"\")","v":""},"","","",{"$f":"IF(AND(GW31=\"Yes\",GW30=\"\",GW29=\"\",GW28=\"\"),\"Yes\",\"\")","v":""},"",""]
["06:30:00","06:44:00",null,null,0,null,null,null,null,"06:30:00","07:29:00",0,0,0,0,0,{"$f":"IF(AND(N32>='Warrant 1 - MUTCD'!$M$23,OR('Traffic Volume Input'!O32>='Warrant 1 - MUTCD'!$Q$23,'Traffic Volume Input'!P32>='Warrant 1 - MUTCD'!$Q$23)),\"Yes\",\"\")","v":""},"","","","","","",{"$f":"IF(AND(W32=\"Yes\",W31=\"\",W30=\"\",W29=\"\"),\"Yes\",\"\")","v":""},"",{"$f":"IF(AND(Y32=\"Yes\",Y31=\"\",Y30=\"\",Y29=\"\"),\"Yes\",\"\")","v":""},"",{"$f":"IF(AND(AA32=\"Yes\",AA31=\"\",AA30=\"\",AA29=\"\"),\"Yes\",\"\")","v":""},"",{"$f":"IF(AND(AC32=\"Yes\",AC31=\"\",AC30=\"\",AC29=\"\"),\"Yes\",\"\")","v":""},"",{"$f":"IF(AND(AE32=\"Yes\",AE31=\"\",AE30=\"\",AE29=\"\"),\"Yes\",\"\")","v":""},"",{"$f":"IF(AND(AG32=\"Yes\",AG31=\"\",AG30=\"\",AG29=\"\"),\"Yes\",\"\")","v":""},"",{"$f":"IF(AND(AI32=\"Yes\",AI31=\"\",AI30=\"\",AI29=\"\"),\"Yes\",\"\")","v":""},"",{"$f":"IF(AND(AK32=\"Yes\",AK31=\"\",AK30=\"\",AK29=\"\"),\"Yes\",\"\")","v":""},"",{"$f":"IF(AND(AM32=\"Yes\",AM31=\"\",AM30=\"\",AM29=\"\"),\"Yes\",\"\")","v":""},"",{"$f":"IF(AND(AO32=\"Yes\",AO31=\"\",AO30=\"\",AO29=\"\"),\"Yes\",\"\")","v":""},"",{"$f":"IF(AND(AQ32=\"Yes\",AQ31=\"\",AQ30=\"\",AQ29=\"\"),\"Yes\",\"\")","v":""},"",{"$f":"IF(AND(AS32=\"Yes\",AS31=\"\",AS30=\"\",AS29=\"\"),\"Yes\",\"\")","v":""},"",{"$f":"IF(AND(AU32=\"Yes\",AU31=\"\",AU30=\"\",AU29=\"\"),\"Yes\",\"\")","v":""},"",{"$f":"IF(AND(AW32=\"Yes\",AW31=\"\",AW30=\"\",AW29=\"\"),\"Yes\",\"\")","v":""},"",{"$f":"IF(AND(AY32=\"Yes\",AY31=\"\",AY30=\"\",AY29=\"\"),\"Yes\",\"\")","v":""},"",{"$f":"IF(AND(BA32=\"Yes\",BA31=\"\",BA30=\"\",BA29=\"\"),\"Yes\",\"\")","v":""},"",{"$f":"IF(AND(BC32=\"Yes\",BC31=\"\",BC30=\"\",BC29=\"\"),\"Yes\",\"\")","v":""},"",{"$f":"IF(AND(BE32=\"Yes\",BE31=\"\",BE30=\"\",BE29=\"\"),\"Yes\",\"\")","v":""},"",{"$f":"IF(AND(BG32=\"Yes\",BG31=\"\",BG30=\"\",BG29=\"\"),\"Yes\",\"\")","v":""},"",{"$f":"IF(AND(BI32=\"Yes\",BI31=\"\",BI30=\"\",BI29=\"\"),\"Yes\",\"\")","v":""},"","",{"$f":"IF(AND(N32>='Warrant 1 - MUTCD'!$M$32,OR('Traffic Volume Input'!O32>='Warrant 1 - MUTCD'!$Q$32,'Traffic Volume Input'!P32>='Warrant 1 - MUTCD'!$Q$32)),\"Yes\",\"\")","v":""},"","",{"$f":"IF(AND(BO32=\"Yes\",BO31=\"\",BO30=\"\",BO29=\"\"),\"Yes\",\"\")","v":""},"",{"$f":"IF(AND(BQ32=\"Yes\",BQ31=\"\",BQ30=\"\",BQ29=\"\"),\"Yes\",\"\")","v":""},"",{"$f":"IF(AND(BS32=\"Yes\",BS31=\"\",BS30=\"\",BS29=\"\"),\"Yes\",\"\")","v":""},"",{"$f":"IF(AND(BU32=\"Yes\",BU31=\"\",BU30=\"\",BU29=\"\"),\"Yes\",\"\")","v":""},"",{"$f":"IF(AND(BW32=\"Yes\",BW31=\"\",BW30=\"\",BW29=\"\"),\"Yes\",\"\")","v":""},"",{"$f":"IF(AND(BY32=\"Yes\",BY31=\"\",BY30=\"\",BY29=\"\"),\"Yes\",\"\")","v":""},"",{"$f":"IF(AND(CA32=\"Yes\",CA31=\"\",CA30=\"\",CA29=\"\"),\"Yes\",\"\")","v":""},"",{"$f":"IF(AND(CC32=\"Yes\",CC31=\"\",CC30=\"\",CC29=\"\"),\"Yes\",\"\")","v":""},"",{"$f":"IF(AND(CE32=\"Yes\",CE31=\"\",CE30=\"\",CE29=\"\"),\"Yes\",\"\")","v":""},"",{"$f":"IF(AND(CG32=\"Yes\",CG31=\"\",CG30=\"\",CG29=\"\"),\"Yes\",\"\")","v":""},"",{"$f":"IF(AND(CI32=\"Yes\",CI31=\"\",CI30=\"\",CI29=\"\"),\"Yes\",\"\")","v":""},"",{"$f":"IF(AND(CK32=\"Yes\",CK31=\"\",CK30=\"\",CK29=\"\"),\"Yes\",\"\")","v":""},"",{"$f":"IF(AND(CM32=\"Yes\",CM31=\"\",CM30=\"\",CM29=\"\"),\"Yes\",\"\")","v":""},"",{"$f":"IF(AND(CO32=\"Yes\",CO31=\"\",CO30=\"\",CO29=\"\"),\"Yes\",\"\")","v":""},"",{"$f":"IF(AND(CQ32=\"Yes\",CQ31=\"\",CQ30=\"\",CQ29=\"\"),\"Yes\",\"\")","v":""},"",{"$f":"IF(AND(CS32=\"Yes\",CS31=\"\",CS30=\"\",CS29=\"\"),\"Yes\",\"\")","v":""},"",{"$f":"IF(AND(CU32=\"Yes\",CU31=\"\",CU30=\"\",CU29=\"\"),\"Yes\",\"\")","v":""},"",{"$f":"IF(AND(CW32=\"Yes\",CW31=\"\",CW30=\"\",CW29=\"\"),\"Yes\",\"\")","v":""},"",{"$f":"IF(AND(CY32=\"Yes\",CY31=\"\",CY30=\"\",CY29=\"\"),\"Yes\",\"\")","v":""},"",{"$f":"IF(AND(DA32=\"Yes\",DA31=\"\",DA30=\"\",DA29=\"\"),\"Yes\",\"\")","v":""},"","","",{"$f":"IF(AND(DE32=\"Yes\",DE31=\"\",DE30=\"\",DE29=\"\"),\"Yes\",\"\")","v":""},"",{"$f":"IF(AND(DG32=\"Yes\",DG31=\"\",DG30=\"\",DG29=\"\"),\"Yes\",\"\")","v":""},{"$f":"IF(AND(N32>='Warrant 7 & 8 - MUTCD'!$L$16,OR('Traffic Volume Input'!O32>='Warrant 7 & 8 - MUTCD'!$N$16,'Traffic Volume Input'!P32>='Warrant 7 & 8 - MUTCD'!$N$16)),\"Yes\",\"\")","v":""},"","",{"$f":"IF(AND(DK32=\"Yes\",DK31=\"\",DK30=\"\",DK29=\"\"),\"Yes\",\"\")","v":""},"",{"$f":"IF(AND(DM32=\"Yes\",DM31=\"\",DM30=\"\",DM29=\"\"),\"Yes\",\"\")","v":""},"",{"$f":"IF(AND(DO32=\"Yes\",DO31=\"\",DO30=\"\",DO29=\"\"),\"Yes\",\"\")","v":""},"",{"$f":"IF(AND(DQ32=\"Yes\",DQ31=\"\",DQ30=\"\",DQ29=\"\"),\"Yes\",\"\")","v":""},"",{"$f":"IF(AND(DS32=\"Yes\",DS31=\"\",DS30=\"\",DS29=\"\"),\"Yes\",\"\")","v":""},"",{"$f":"IF(AND(DU32=\"Yes\",DU31=\"\",DU30=\"\",DU29=\"\"),\"Yes\",\"\")","v":""},"",{"$f":"IF(AND(DW32=\"Yes\",DW31=\"\",DW30=\"\",DW29=\"\"),\"Yes\",\"\")","v":""},"",{"$f":"IF(AND(DY32=\"Yes\",DY31=\"\",DY30=\"\",DY29=\"\"),\"Yes\",\"\")","v":""},"",{"$f":"IF(AND(EA32=\"Yes\",EA31=\"\",EA30=\"\",EA29=\"\"),\"Yes\",\"\")","v":""},"",{"$f":"IF(AND(EC32=\"Yes\",EC31=\"\",EC30=\"\",EC29=\"\"),\"Yes\",\"\")","v":""},"",{"$f":"IF(AND(EE32=\"Yes\",EE31=\"\",EE30=\"\",EE29=\"\"),\"Yes\",\"\")","v":""},"",{"$f":"IF(AND(EG32=\"Yes\",EG31=\"\",EG30=\"\",EG29=\"\"),\"Yes\",\"\")","v":""},"",{"$f":"IF(AND(EI32=\"Yes\",EI31=\"\",EI30=\"\",EI29=\"\"),\"Yes\",\"\")","v":""},"",{"$f":"IF(AND(EK32=\"Yes\",EK31=\"\",EK30=\"\",EK29=\"\"),\"Yes\",\"\")","v":""},"",{"$f":"IF(AND(EM32=\"Yes\",EM31=\"\",EM30=\"\",EM29=\"\"),\"Yes\",\"\")","v":""},"",{"$f":"IF(AND(EO32=\"Yes\",EO31=\"\",EO30=\"\",EO29=\"\"),\"Yes\",\"\")","v":""},"",{"$f":"IF(AND(EQ32=\"Yes\",EQ31=\"\",EQ30=\"\",EQ29=\"\"),\"Yes\",\"\")","v":""},"",{"$f":"IF(AND(ES32=\"Yes\",ES31=\"\",ES30=\"\",ES29=\"\"),\"Yes\",\"\")","v":""},"",{"$f":"IF(AND(EU32=\"Yes\",EU31=\"\",EU30=\"\",EU29=\"\"),\"Yes\",\"\")","v":""},"",{"$f":"IF(AND(EW32=\"Yes\",EW31=\"\",EW30=\"\",EW29=\"\"),\"Yes\",\"\")","v":""},"","","",{"$f":"IF(AND(FA32=\"Yes\",FA31=\"\",FA30=\"\",FA29=\"\"),\"Yes\",\"\")","v":""},"","",{"$f":"IF(AND(N32>='Warrant 7 & 8 - MUTCD'!$L$25,OR('Traffic Volume Input'!O32>='Warrant 7 & 8 - MUTCD'!$N$25,'Traffic Volume Input'!P32>='Warrant 7 & 8 - MUTCD'!$N$25)),\"Yes\",\"\")","v":""},"","",{"$f":"IF(AND(FG32=\"Yes\",FG31=\"\",FG30=\"\",FG29=\"\"),\"Yes\",\"\")","v":""},"",{"$f":"IF(AND(FI32=\"Yes\",FI31=\"\",FI30=\"\",FI29=\"\"),\"Yes\",\"\")","v":""},"",{"$f":"IF(AND(FK32=\"Yes\",FK31=\"\",FK30=\"\",FK29=\"\"),\"Yes\",\"\")","v":""},"",{"$f":"IF(AND(FM32=\"Yes\",FM31=\"\",FM30=\"\",FM29=\"\"),\"Yes\",\"\")","v":""},"",{"$f":"IF(AND(FO32=\"Yes\",FO31=\"\",FO30=\"\",FO29=\"\"),\"Yes\",\"\")","v":""},"",{"$f":"IF(AND(FQ32=\"Yes\",FQ31=\"\",FQ30=\"\",FQ29=\"\"),\"Yes\",\"\")","v":""},"",{"$f":"IF(AND(FS32=\"Yes\",FS31=\"\",FS30=\"\",FS29=\"\"),\"Yes\",\"\")","v":""},"",{"$f":"IF(AND(FU32=\"Yes\",FU31=\"\",FU30=\"\",FU29=\"\"),\"Yes\",\"\")","v":""},"",{"$f":"IF(AND(FW32=\"Yes\",FW31=\"\",FW30=\"\",FW29=\"\"),\"Yes\",\"\")","v":""},"",{"$f":"IF(AND(FY32=\"Yes\",FY31=\"\",FY30=\"\",FY29=\"\"),\"Yes\",\"\")","v":""},"",{"$f":"IF(AND(GA32=\"Yes\",GA31=\"\",GA30=\"\",GA29=\"\"),\"Yes\",\"\")","v":""},"",{"$f":"IF(AND(GC32=\"Yes\",GC31=\"\",GC30=\"\",GC29=\"\"),\"Yes\",\"\")","v":""},"",{"$f":"IF(AND(GE32=\"Yes\",GE31=\"\",GE30=\"\",GE29=\"\"),\"Yes\",\"\")","v":""},"",{"$f":"IF(AND(GG32=\"Yes\",GG31=\"\",GG30=\"\",GG29=\"\"),\"Yes\",\"\")","v":""},"",{"$f":"IF(AND(GI32=\"Yes\",GI31=\"\",GI30=\"\",GI29=\"\"),\"Yes\",\"\")","v":""},"",{"$f":"IF(AND(GK32=\"Yes\",GK31=\"\",GK30=\"\",GK29=\"\"),\"Yes\",\"\")","v":""},"",{"$f":"IF(AND(GM32=\"Yes\",GM31=\"\",GM30=\"\",GM29=\"\"),\"Yes\",\"\")","v":""},"",{"$f":"IF(AND(GO32=\"Yes\",GO31=\"\",GO30=\"\",GO29=\"\"),\"Yes\",\"\")","v":""},"",{"$f":"IF(AND(GQ32=\"Yes\",GQ31=\"\",GQ30=\"\",GQ29=\"\"),\"Yes\",\"\")","v":""},"",{"$f":"IF(AND(GS32=\"Yes\",GS31=\"\",GS30=\"\",GS29=\"\"),\"Yes\",\"\")","v":""},"","","",{"$f":"IF(AND(GW32=\"Yes\",GW31=\"\",GW30=\"\",GW29=\"\"),\"Yes\",\"\")","v":""},"",""]
["06:45:00","06:59:00",null,null,0,null,null,null,null,"06:45:00","07:44:00",0,0,0,0,0,{"$f":"IF(AND(N33>='Warrant 1 - MUTCD'!$M$23,OR('Traffic Volume Input'!O33>='Warrant 1 - MUTCD'!$Q$23,'Traffic Volume Input'!P33>='Warrant 1 - MUTCD'!$Q$23)),\"Yes\",\"\")","v":""},"","","","","","",{"$f":"IF(AND(W33=\"Yes\",W32=\"\",W31=\"\",W30=\"\"),\"Yes\",\"\")","v":""},"",{"$f":"IF(AND(Y33=\"Yes\",Y32=\"\",Y31=\"\",Y30=\"\"),\"Yes\",\"\")","v":""},"",{"$f":"IF(AND(AA33=\"Yes\",AA32=\"\",AA31=\"\",AA30=\"\"),\"Yes\",\"\")","v":""},"",{"$f":"IF(AND(AC33=\"Yes\",AC32=\"\",AC31=\"\",AC30=\"\"),\"Yes\",\"\")","v":""},"",{"$f":"IF(AND(AE33=\"Yes\",AE32=\"\",AE31=\"\",AE30=\"\"),\"Yes\",\"\")","v":""},"",{"$f":"IF(AND(AG33=\"Yes\",AG32=\"\",AG31=\"\",AG30=\"\"),\"Yes\",\"\")","v":""},"",{"$f":"IF(AND(AI33=\"Yes\",AI32=\"\",AI31=\"\",AI30=\"\"),\"Yes\",\"\")","v":""},"",{"$f":"IF(AND(AK33=\"Yes\",AK32=\"\",AK31=\"\",AK30=\"\"),\"Yes\",\"\")","v":""},"",{"$f":"IF(AND(AM33=\"Yes\",AM32=\"\",AM31=\"\",AM30=\"\"),\"Yes\",\"\")","v":""},"",{"$f":"IF(AND(AO33=\"Yes\",AO32=\"\",AO31=\"\",AO30=\"\"),\"Yes\",\"\")","v":""},"",{"$f":"IF(AND(AQ33=\"Yes\",AQ32=\"\",AQ31=\"\",AQ30=\"\"),\"Yes\",\"\")","v":""},"",{"$f":"IF(AND(AS33=\"Yes\",AS32=\"\",AS31=\"\",AS30=\"\"),\"Yes\",\"\")","v":""},"",{"$f":"IF(AND(AU33=\"Yes\",AU32=\"\",AU31=\"\",AU30=\"\"),\"Yes\",\"\")","v":""},"",{"$f":"IF(AND(AW33=\"Yes\",AW32=\"\",AW31=\"\",AW30=\"\"),\"Yes\",\"\")","v":""},"",{"$f":"IF(AND(AY33=\"Yes\",AY32=\"\",AY31=\"\",AY30=\"\"),\"Yes\",\"\")","v":""},"",{"$f":"IF(AND(BA33=\"Yes\",BA32=\"\",BA31=\"\",BA30=\"\"),\"Yes\",\"\")","v":""},"",{"$f":"IF(AND(BC33=\"Yes\",BC32=\"\",BC31=\"\",BC30=\"\"),\"Yes\",\"\")","v":""},"",{"$f":"IF(AND(BE33=\"Yes\",BE32=\"\",BE31=\"\",BE30=\"\"),\"Yes\",\"\")","v":""},"",{"$f":"IF(AND(BG33=\"Yes\",BG32=\"\",BG31=\"\",BG30=\"\"),\"Yes\",\"\")","v":""},"",{"$f":"IF(AND(BI33=\"Yes\",BI32=\"\",BI31=\"\",BI30=\"\"),\"Yes\",\"\")","v":""},"","",{"$f":"IF(AND(N33>='Warrant 1 - MUTCD'!$M$32,OR('Traffic Volume Input'!O33>='Warrant 1 - MUTCD'!$Q$32,'Traffic Volume Input'!P33>='Warrant 1 - MUTCD'!$Q$32)),\"Yes\",\"\")","v":""},"","",{"$f":"IF(AND(BO33=\"Yes\",BO32=\"\",BO31=\"\",BO30=\"\"),\"Yes\",\"\")","v":""},"",{"$f":"IF(AND(BQ33=\"Yes\",BQ32=\"\",BQ31=\"\",BQ30=\"\"),\"Yes\",\"\")","v":""},"",{"$f":"IF(AND(BS33=\"Yes\",BS32=\"\",BS31=\"\",BS30=\"\"),\"Yes\",\"\")","v":""},"",{"$f":"IF(AND(BU33=\"Yes\",BU32=\"\",BU31=\"\",BU30=\"\"),\"Yes\",\"\")","v":""},"",{"$f":"IF(AND(BW33=\"Yes\",BW32=\"\",BW31=\"\",BW30=\"\"),\"Yes\",\"\")","v":""},"",{"$f":"IF(AND(BY33=\"Yes\",BY32=\"\",BY31=\"\",BY30=\"\"),\"Yes\",\"\")","v":""},"",{"$f":"IF(AND(CA33=\"Yes\",CA32=\"\",CA31=\"\",CA30=\"\"),\"Yes\",\"\")","v":""},"",{"$f":"IF(AND(CC33=\"Yes\",CC32=\"\",CC31=\"\",CC30=\"\"),\"Yes\",\"\")","v":""},"",{"$f":"IF(AND(CE33=\"Yes\",CE32=\"\",CE31=\"\",CE30=\"\"),\"Yes\",\"\")","v":""},"",{"$f":"IF(AND(CG33=\"Yes\",CG32=\"\",CG31=\"\",CG30=\"\"),\"Yes\",\"\")","v":""},"",{"$f":"IF(AND(CI33=\"Yes\",CI32=\"\",CI31=\"\",CI30=\"\"),\"Yes\",\"\")","v":""},"",{"$f":"IF(AND(CK33=\"Yes\",CK32=\"\",CK31=\"\",CK30=\"\"),\"Yes\",\"\")","v":""},"",{"$f":"IF(AND(CM33=\"Yes\",CM32=\"\",CM31=\"\",CM30=\"\"),\"Yes\",\"\")","v":""},"",{"$f":"IF(AND(CO33=\"Yes\",CO32=\"\",CO31=\"\",CO30=\"\"),\"Yes\",\"\")","v":""},"",{"$f":"IF(AND(CQ33=\"Yes\",CQ32=\"\",CQ31=\"\",CQ30=\"\"),\"Yes\",\"\")","v":""},"",{"$f":"IF(AND(CS33=\"Yes\",CS32=\"\",CS31=\"\",CS30=\"\"),\"Yes\",\"\")","v":""},"",{"$f":"IF(AND(CU33=\"Yes\",CU32=\"\",CU31=\"\",CU30=\"\"),\"Yes\",\"\")","v":""},"",{"$f":"IF(AND(CW33=\"Yes\",CW32=\"\",CW31=\"\",CW30=\"\"),\"Yes\",\"\")","v":""},"",{"$f":"IF(AND(CY33=\"Yes\",CY32=\"\",CY31=\"\",CY30=\"\"),\"Yes\",\"\")","v":""},"",{"$f":"IF(AND(DA33=\"Yes\",DA32=\"\",DA31=\"\",DA30=\"\"),\"Yes\",\"\")","v":""},"","","",{"$f":"IF(AND(DE33=\"Yes\",DE32=\"\",DE31=\"\",DE30=\"\"),\"Yes\",\"\")","v":""},"",{"$f":"IF(AND(DG33=\"Yes\",DG32=\"\",DG31=\"\",DG30=\"\"),\"Yes\",\"\")","v":""},{"$f":"IF(AND(N33>='Warrant 7 & 8 - MUTCD'!$L$16,OR('Traffic Volume Input'!O33>='Warrant 7 & 8 - MUTCD'!$N$16,'Traffic Volume Input'!P33>='Warrant 7 & 8 - MUTCD'!$N$16)),\"Yes\",\"\")","v":""},"","",{"$f":"IF(AND(DK33=\"Yes\",DK32=\"\",DK31=\"\",DK30=\"\"),\"Yes\",\"\")","v":""},"",{"$f":"IF(AND(DM33=\"Yes\",DM32=\"\",DM31=\"\",DM30=\"\"),\"Yes\",\"\")","v":""},"",{"$f":"IF(AND(DO33=\"Yes\",DO32=\"\",DO31=\"\",DO30=\"\"),\"Yes\",\"\")","v":""},"",{"$f":"IF(AND(DQ33=\"Yes\",DQ32=\"\",DQ31=\"\",DQ30=\"\"),\"Yes\",\"\")","v":""},"",{"$f":"IF(AND(DS33=\"Yes\",DS32=\"\",DS31=\"\",DS30=\"\"),\"Yes\",\"\")","v":""},"",{"$f":"IF(AND(DU33=\"Yes\",DU32=\"\",DU31=\"\",DU30=\"\"),\"Yes\",\"\")","v":""},"",{"$f":"IF(AND(DW33=\"Yes\",DW32=\"\",DW31=\"\",DW30=\"\"),\"Yes\",\"\")","v":""},"",{"$f":"IF(AND(DY33=\"Yes\",DY32=\"\",DY31=\"\",DY30=\"\"),\"Yes\",\"\")","v":""},"",{"$f":"IF(AND(EA33=\"Yes\",EA32=\"\",EA31=\"\",EA30=\"\"),\"Yes\",\"\")","v":""},"",{"$f":"IF(AND(EC33=\"Yes\",EC32=\"\",EC31=\"\",EC30=\"\"),\"Yes\",\"\")","v":""},"",{"$f":"IF(AND(EE33=\"Yes\",EE32=\"\",EE31=\"\",EE30=\"\"),\"Yes\",\"\")","v":""},"",{"$f":"IF(AND(EG33=\"Yes\",EG32=\"\",EG31=\"\",EG30=\"\"),\"Yes\",\"\")","v":""},"",{"$f":"IF(AND(EI33=\"Yes\",EI32=\"\",EI31=\"\",EI30=\"\"),\"Yes\",\"\")","v":""},"",{"$f":"IF(AND(EK33=\"Yes\",EK32=\"\",EK31=\"\",EK30=\"\"),\"Yes\",\"\")","v":""},"",{"$f":"IF(AND(EM33=\"Yes\",EM32=\"\",EM31=\"\",EM30=\"\"),\"Yes\",\"\")","v":""},"",{"$f":"IF(AND(EO33=\"Yes\",EO32=\"\",EO31=\"\",EO30=\"\"),\"Yes\",\"\")","v":""},"",{"$f":"IF(AND(EQ33=\"Yes\",EQ32=\"\",EQ31=\"\",EQ30=\"\"),\"Yes\",\"\")","v":""},"",{"$f":"IF(AND(ES33=\"Yes\",ES32=\"\",ES31=\"\",ES30=\"\"),\"Yes\",\"\")","v":""},"",{"$f":"IF(AND(EU33=\"Yes\",EU32=\"\",EU31=\"\",EU30=\"\"),\"Yes\",\"\")","v":""},"",{"$f":"IF(AND(EW33=\"Yes\",EW32=\"\",EW31=\"\",EW30=\"\"),\"Yes\",\"\")","v":""},"","","",{"$f":"IF(AND(FA33=\"Yes\",FA32=\"\",FA31=\"\",FA30=\"\"),\"Yes\",\"\")","v":""},"","",{"$f":"IF(AND(N33>='Warrant 7 & 8 - MUTCD'!$L$25,OR('Traffic Volume Input'!O33>='Warrant 7 & 8 - MUTCD'!$N$25,'Traffic Volume Input'!P33>='Warrant 7 & 8 - MUTCD'!$N$25)),\"Yes\",\"\")","v":""},"","",{"$f":"IF(AND(FG33=\"Yes\",FG32=\"\",FG31=\"\",FG30=\"\"),\"Yes\",\"\")","v":""},"",{"$f":"IF(AND(FI33=\"Yes\",FI32=\"\",FI31=\"\",FI30=\"\"),\"Yes\",\"\")","v":""},"",{"$f":"IF(AND(FK33=\"Yes\",FK32=\"\",FK31=\"\",FK30=\"\"),\"Yes\",\"\")","v":""},"",{"$f":"IF(AND(FM33=\"Yes\",FM32=\"\",FM31=\"\",FM30=\"\"),\"Yes\",\"\")","v":""},"",{"$f":"IF(AND(FO33=\"Yes\",FO32=\"\",FO31=\"\",FO30=\"\"),\"Yes\",\"\")","v":""},"",{"$f":"IF(AND(FQ33=\"Yes\",FQ32=\"\",FQ31=\"\",FQ30=\"\"),\"Yes\",\"\")","v":""},"",{"$f":"IF(AND(FS33=\"Yes\",FS32=\"\",FS31=\"\",FS30=\"\"),\"Yes\",\"\")","v":""},"",{"$f":"IF(AND(FU33=\"Yes\",FU32=\"\",FU31=\"\",FU30=\"\"),\"Yes\",\"\")","v":""},"",{"$f":"IF(AND(FW33=\"Yes\",FW32=\"\",FW31=\"\",FW30=\"\"),\"Yes\",\"\")","v":""},"",{"$f":"IF(AND(FY33=\"Yes\",FY32=\"\",FY31=\"\",FY30=\"\"),\"Yes\",\"\")","v":""},"",{"$f":"IF(AND(GA33=\"Yes\",GA32=\"\",GA31=\"\",GA30=\"\"),\"Yes\",\"\")","v":""},"",{"$f":"IF(AND(GC33=\"Yes\",GC32=\"\",GC31=\"\",GC30=\"\"),\"Yes\",\"\")","v":""},"",{"$f":"IF(AND(GE33=\"Yes\",GE32=\"\",GE31=\"\",GE30=\"\"),\"Yes\",\"\")","v":""},"",{"$f":"IF(AND(GG33=\"Yes\",GG32=\"\",GG31=\"\",GG30=\"\"),\"Yes\",\"\")","v":""},"",{"$f":"IF(AND(GI33=\"Yes\",GI32=\"\",GI31=\"\",GI30=\"\"),\"Yes\",\"\")","v":""},"",{"$f":"IF(AND(GK33=\"Yes\",GK32=\"\",GK31=\"\",GK30=\"\"),\"Yes\",\"\")","v":""},"",{"$f":"IF(AND(GM33=\"Yes\",GM32=\"\",GM31=\"\",GM30=\"\"),\"Yes\",\"\")","v":""},"",{"$f":"IF(AND(GO33=\"Yes\",GO32=\"\",GO31=\"\",GO30=\"\"),\"Yes\",\"\")","v":""},"",{"$f":"IF(AND(GQ33=\"Yes\",GQ32=\"\",GQ31=\"\",GQ30=\"\"),\"Yes\",\"\")","v":""},"",{"$f":"IF(AND(GS33=\"Yes\",GS32=\"\",GS31=\"\",GS30=\"\"),\"Yes\",\"\")","v":""},"","","",{"$f":"IF(AND(GW33=\"Yes\",GW32=\"\",GW31=\"\",GW30=\"\"),\"Yes\",\"\")","v":""},"",""]
["07:00:00","07:14:00",null,null,0,null,null,null,null,"07:00:00","07:59:00",0,0,0,0,0,{"$f":"IF(AND(N34>='Warrant 1 - MUTCD'!$M$23,OR('Traffic Volume Input'!O34>='Warrant 1 - MUTCD'!$Q$23,'Traffic Volume Input'!P34>='Warrant 1 - MUTCD'!$Q$23)),\"Yes\",\"\")","v":""},"","","","","","",{"$f":"IF(AND(W34=\"Yes\",W33=\"\",W32=\"\",W31=\"\"),\"Yes\",\"\")","v":""},"",{"$f":"IF(AND(Y34=\"Yes\",Y33=\"\",Y32=\"\",Y31=\"\"),\"Yes\",\"\")","v":""},"",{"$f":"IF(AND(AA34=\"Yes\",AA33=\"\",AA32=\"\",AA31=\"\"),\"Yes\",\"\")","v":""},"",{"$f":"IF(AND(AC34=\"Yes\",AC33=\"\",AC32=\"\",AC31=\"\"),\"Yes\",\"\")","v":""},"",{"$f":"IF(AND(AE34=\"Yes\",AE33=\"\",AE32=\"\",AE31=\"\"),\"Yes\",\"\")","v":""},"",{"$f":"IF(AND(AG34=\"Yes\",AG33=\"\",AG32=\"\",AG31=\"\"),\"Yes\",\"\")","v":""},"",{"$f":"IF(AND(AI34=\"Yes\",AI33=\"\",AI32=\"\",AI31=\"\"),\"Yes\",\"\")","v":""},"",{"$f":"IF(AND(AK34=\"Yes\",AK33=\"\",AK32=\"\",AK31=\"\"),\"Yes\",\"\")","v":""},"",{"$f":"IF(AND(AM34=\"Yes\",AM33=\"\",AM32=\"\",AM31=\"\"),\"Yes\",\"\")","v":""},"",{"$f":"IF(AND(AO34=\"Yes\",AO33=\"\",AO32=\"\",AO31=\"\"),\"Yes\",\"\")","v":""},"",{"$f":"IF(AND(AQ34=\"Yes\",AQ33=\"\",AQ32=\"\",AQ31=\"\"),\"Yes\",\"\")","v":""},"",{"$f":"IF(AND(AS34=\"Yes\",AS33=\"\",AS32=\"\",AS31=\"\"),\"Yes\",\"\")","v":""},"",{"$f":"IF(AND(AU34=\"Yes\",AU33=\"\",AU32=\"\",AU31=\"\"),\"Yes\",\"\")","v":""},"",{"$f":"IF(AND(AW34=\"Yes\",AW33=\"\",AW32=\"\",AW31=\"\"),\"Yes\",\"\")","v":""},"",{"$f":"IF(AND(AY34=\"Yes\",AY33=\"\",AY32=\"\",AY31=\"\"),\"Yes\",\"\")","v":""},"",{"$f":"IF(AND(BA34=\"Yes\",BA33=\"\",BA32=\"\",BA31=\"\"),\"Yes\",\"\")","v":""},"",{"$f":"IF(AND(BC34=\"Yes\",BC33=\"\",BC32=\"\",BC31=\"\"),\"Yes\",\"\")","v":""},"",{"$f":"IF(AND(BE34=\"Yes\",BE33=\"\",BE32=\"\",BE31=\"\"),\"Yes\",\"\")","v":""},"",{"$f":"IF(AND(BG34=\"Yes\",BG33=\"\",BG32=\"\",BG31=\"\"),\"Yes\",\"\")","v":""},"",{"$f":"IF(AND(BI34=\"Yes\",BI33=\"\",BI32=\"\",BI31=\"\"),\"Yes\",\"\")","v":""},"","",{"$f":"IF(AND(N34>='Warrant 1 - MUTCD'!$M$32,OR('Traffic Volume Input'!O34>='Warrant 1 - MUTCD'!$Q$32,'Traffic Volume Input'!P34>='Warrant 1 - MUTCD'!$Q$32)),\"Yes\",\"\")","v":""},"","",{"$f":"IF(AND(BO34=\"Yes\",BO33=\"\",BO32=\"\",BO31=\"\"),\"Yes\",\"\")","v":""},"",{"$f":"IF(AND(BQ34=\"Yes\",BQ33=\"\",BQ32=\"\",BQ31=\"\"),\"Yes\",\"\")","v":""},"",{"$f":"IF(AND(BS34=\"Yes\",BS33=\"\",BS32=\"\",BS31=\"\"),\"Yes\",\"\")","v":""},"",{"$f":"IF(AND(BU34=\"Yes\",BU33=\"\",BU32=\"\",BU31=\"\"),\"Yes\",\"\")","v":""},"",{"$f":"IF(AND(BW34=\"Yes\",BW33=\"\",BW32=\"\",BW31=\"\"),\"Yes\",\"\")","v":""},"",{"$f":"IF(AND(BY34=\"Yes\",BY33=\"\",BY32=\"\",BY31=\"\"),\"Yes\",\"\")","v":""},"",{"$f":"IF(AND(CA34=\"Yes\",CA33=\"\",CA32=\"\",CA31=\"\"),\"Yes\",\"\")","v":""},"",{"$f":"IF(AND(CC34=\"Yes\",CC33=\"\",CC32=\"\",CC31=\"\"),\"Yes\",\"\")","v":""},"",{"$f":"IF(AND(CE34=\"Yes\",CE33=\"\",CE32=\"\",CE31=\"\"),\"Yes\",\"\")","v":""},"",{"$f":"IF(AND(CG34=\"Yes\",CG33=\"\",CG32=\"\",CG31=\"\"),\"Yes\",\"\")","v":""},"",{"$f":"IF(AND(CI34=\"Yes\",CI33=\"\",CI32=\"\",CI31=\"\"),\"Yes\",\"\")","v":""},"",{"$f":"IF(AND(CK34=\"Yes\",CK33=\"\",CK32=\"\",CK31=\"\"),\"Yes\",\"\")","v":""},"",{"$f":"IF(AND(CM34=\"Yes\",CM33=\"\",CM32=\"\",CM31=\"\"),\"Yes\",\"\")","v":""},"",{"$f":"IF(AND(CO34=\"Yes\",CO33=\"\",CO32=\"\",CO31=\"\"),\"Yes\",\"\")","v":""},"",{"$f":"IF(AND(CQ34=\"Yes\",CQ33=\"\",CQ32=\"\",CQ31=\"\"),\"Yes\",\"\")","v":""},"",{"$f":"IF(AND(CS34=\"Yes\",CS33=\"\",CS32=\"\",CS31=\"\"),\"Yes\",\"\")","v":""},"",{"$f":"IF(AND(CU34=\"Yes\",CU33=\"\",CU32=\"\",CU31=\"\"),\"Yes\",\"\")","v":""},"",{"$f":"IF(AND(CW34=\"Yes\",CW33=\"\",CW32=\"\",CW31=\"\"),\"Yes\",\"\")","v":""},"",{"$f":"IF(AND(CY34=\"Yes\",CY33=\"\",CY32=\"\",CY31=\"\"),\"Yes\",\"\")","v":""},"",{"$f":"IF(AND(DA34=\"Yes\",DA33=\"\",DA32=\"\",DA31=\"\"),\"Yes\",\"\")","v":""},"","","",{"$f":"IF(AND(DE34=\"Yes\",DE33=\"\",DE32=\"\",DE31=\"\"),\"Yes\",\"\")","v":""},"",{"$f":"IF(AND(DG34=\"Yes\",DG33=\"\",DG32=\"\",DG31=\"\"),\"Yes\",\"\")","v":""},{"$f":"IF(AND(N34>='Warrant 7 & 8 - MUTCD'!$L$16,OR('Traffic Volume Input'!O34>='Warrant 7 & 8 - MUTCD'!$N$16,'Traffic Volume Input'!P34>='Warrant 7 & 8 - MUTCD'!$N$16)),\"Yes\",\"\")","v":""},"","",{"$f":"IF(AND(DK34=\"Yes\",DK33=\"\",DK32=\"\",DK31=\"\"),\"Yes\",\"\")","v":""},"",{"$f":"IF(AND(DM34=\"Yes\",DM33=\"\",DM32=\"\",DM31=\"\"),\"Yes\",\"\")","v":""},"",{"$f":"IF(AND(DO34=\"Yes\",DO33=\"\",DO32=\"\",DO31=\"\"),\"Yes\",\"\")","v":""},"",{"$f":"IF(AND(DQ34=\"Yes\",DQ33=\"\",DQ32=\"\",DQ31=\"\"),\"Yes\",\"\")","v":""},"",{"$f":"IF(AND(DS34=\"Yes\",DS33=\"\",DS32=\"\",DS31=\"\"),\"Yes\",\"\")","v":""},"",{"$f":"IF(AND(DU34=\"Yes\",DU33=\"\",DU32=\"\",DU31=\"\"),\"Yes\",\"\")","v":""},"",{"$f":"IF(AND(DW34=\"Yes\",DW33=\"\",DW32=\"\",DW31=\"\"),\"Yes\",\"\")","v":""},"",{"$f":"IF(AND(DY34=\"Yes\",DY33=\"\",DY32=\"\",DY31=\"\"),\"Yes\",\"\")","v":""},"",{"$f":"IF(AND(EA34=\"Yes\",EA33=\"\",EA32=\"\",EA31=\"\"),\"Yes\",\"\")","v":""},"",{"$f":"IF(AND(EC34=\"Yes\",EC33=\"\",EC32=\"\",EC31=\"\"),\"Yes\",\"\")","v":""},"",{"$f":"IF(AND(EE34=\"Yes\",EE33=\"\",EE32=\"\",EE31=\"\"),\"Yes\",\"\")","v":""},"",{"$f":"IF(AND(EG34=\"Yes\",EG33=\"\",EG32=\"\",EG31=\"\"),\"Yes\",\"\")","v":""},"",{"$f":"IF(AND(EI34=\"Yes\",EI33=\"\",EI32=\"\",EI31=\"\"),\"Yes\",\"\")","v":""},"",{"$f":"IF(AND(EK34=\"Yes\",EK33=\"\",EK32=\"\",EK31=\"\"),\"Yes\",\"\")","v":""},"",{"$f":"IF(AND(EM34=\"Yes\",EM33=\"\",EM32=\"\",EM31=\"\"),\"Yes\",\"\")","v":""},"",{"$f":"IF(AND(EO34=\"Yes\",EO33=\"\",EO32=\"\",EO31=\"\"),\"Yes\",\"\")","v":""},"",{"$f":"IF(AND(EQ34=\"Yes\",EQ33=\"\",EQ32=\"\",EQ31=\"\"),\"Yes\",\"\")","v":""},"",{"$f":"IF(AND(ES34=\"Yes\",ES33=\"\",ES32=\"\",ES31=\"\"),\"Yes\",\"\")","v":""},"",{"$f":"IF(AND(EU34=\"Yes\",EU33=\"\",EU32=\"\",EU31=\"\"),\"Yes\",\"\")","v":""},"",{"$f":"IF(AND(EW34=\"Yes\",EW33=\"\",EW32=\"\",EW31=\"\"),\"Yes\",\"\")","v":""},"","","",{"$f":"IF(AND(FA34=\"Yes\",FA33=\"\",FA32=\"\",FA31=\"\"),\"Yes\",\"\")","v":""},"","",{"$f":"IF(AND(N34>='Warrant 7 & 8 - MUTCD'!$L$25,OR('Traffic Volume Input'!O34>='Warrant 7 & 8 - MUTCD'!$N$25,'Traffic Volume Input'!P34>='Warrant 7 & 8 - MUTCD'!$N$25)),\"Yes\",\"\")","v":""},"","",{"$f":"IF(AND(FG34=\"Yes\",FG33=\"\",FG32=\"\",FG31=\"\"),\"Yes\",\"\")","v":""},"",{"$f":"IF(AND(FI34=\"Yes\",FI33=\"\",FI32=\"\",FI31=\"\"),\"Yes\",\"\")","v":""},"",{"$f":"IF(AND(FK34=\"Yes\",FK33=\"\",FK32=\"\",FK31=\"\"),\"Yes\",\"\")","v":""},"",{"$f":"IF(AND(FM34=\"Yes\",FM33=\"\",FM32=\"\",FM31=\"\"),\"Yes\",\"\")","v":""},"",{"$f":"IF(AND(FO34=\"Yes\",FO33=\"\",FO32=\"\",FO31=\"\"),\"Yes\",\"\")","v":""},"",{"$f":"IF(AND(FQ34=\"Yes\",FQ33=\"\",FQ32=\"\",FQ31=\"\"),\"Yes\",\"\")","v":""},"",{"$f":"IF(AND(FS34=\"Yes\",FS33=\"\",FS32=\"\",FS31=\"\"),\"Yes\",\"\")","v":""},"",{"$f":"IF(AND(FU34=\"Yes\",FU33=\"\",FU32=\"\",FU31=\"\"),\"Yes\",\"\")","v":""},"",{"$f":"IF(AND(FW34=\"Yes\",FW33=\"\",FW32=\"\",FW31=\"\"),\"Yes\",\"\")","v":""},"",{"$f":"IF(AND(FY34=\"Yes\",FY33=\"\",FY32=\"\",FY31=\"\"),\"Yes\",\"\")","v":""},"",{"$f":"IF(AND(GA34=\"Yes\",GA33=\"\",GA32=\"\",GA31=\"\"),\"Yes\",\"\")","v":""},"",{"$f":"IF(AND(GC34=\"Yes\",GC33=\"\",GC32=\"\",GC31=\"\"),\"Yes\",\"\")","v":""},"",{"$f":"IF(AND(GE34=\"Yes\",GE33=\"\",GE32=\"\",GE31=\"\"),\"Yes\",\"\")","v":""},"",{"$f":"IF(AND(GG34=\"Yes\",GG33=\"\",GG32=\"\",GG31=\"\"),\"Yes\",\"\")","v":""},"",{"$f":"IF(AND(GI34=\"Yes\",GI33=\"\",GI32=\"\",GI31=\"\"),\"Yes\",\"\")","v":""},"",{"$f":"IF(AND(GK34=\"Yes\",GK33=\"\",GK32=\"\",GK31=\"\"),\"Yes\",\"\")","v":""},"",{"$f":"IF(AND(GM34=\"Yes\",GM33=\"\",GM32=\"\",GM31=\"\"),\"Yes\",\"\")","v":""},"",{"$f":"IF(AND(GO34=\"Yes\",GO33=\"\",GO32=\"\",GO31=\"\"),\"Yes\",\"\")","v":""},"",{"$f":"IF(AND(GQ34=\"Yes\",GQ33=\"\",GQ32=\"\",GQ31=\"\"),\"Yes\",\"\")","v":""},"",{"$f":"IF(AND(GS34=\"Yes\",GS33=\"\",GS32=\"\",GS31=\"\"),\"Yes\",\"\")","v":""},"","","",{"$f":"IF(AND(GW34=\"Yes\",GW33=\"\",GW32=\"\",GW31=\"\"),\"Yes\",\"\")","v":""},"",""]
["07:15:00","07:29:00",null,null,0,null,null,null,null,"07:15:00","08:14:00",0,{"$f":"SUM(D35:D38)","v":0},0,0,0,{"$f":"IF(AND(N35>='Warrant 1 - MUTCD'!$M$23,OR('Traffic Volume Input'!O35>='Warrant 1 - MUTCD'!$Q$23,'Traffic Volume Input'!P35>='Warrant 1 - MUTCD'!$Q$23)),\"Yes\",\"\")","v":""},"","","","","","",{"$f":"IF(AND(W35=\"Yes\",W34=\"\",W33=\"\",W32=\"\"),\"Yes\",\"\")","v":""},"",{"$f":"IF(AND(Y35=\"Yes\",Y34=\"\",Y33=\"\",Y32=\"\"),\"Yes\",\"\")","v":""},"",{"$f":"IF(AND(AA35=\"Yes\",AA34=\"\",AA33=\"\",AA32=\"\"),\"Yes\",\"\")","v":""},"",{"$f":"IF(AND(AC35=\"Yes\",AC34=\"\",AC33=\"\",AC32=\"\"),\"Yes\",\"\")","v":""},"",{"$f":"IF(AND(AE35=\"Yes\",AE34=\"\",AE33=\"\",AE32=\"\"),\"Yes\",\"\")","v":""},"",{"$f":"IF(AND(AG35=\"Yes\",AG34=\"\",AG33=\"\",AG32=\"\"),\"Yes\",\"\")","v":""},"",{"$f":"IF(AND(AI35=\"Yes\",AI34=\"\",AI33=\"\",AI32=\"\"),\"Yes\",\"\")","v":""},"",{"$f":"IF(AND(AK35=\"Yes\",AK34=\"\",AK33=\"\",AK32=\"\"),\"Yes\",\"\")","v":""},"",{"$f":"IF(AND(AM35=\"Yes\",AM34=\"\",AM33=\"\",AM32=\"\"),\"Yes\",\"\")","v":""},"",{"$f":"IF(AND(AO35=\"Yes\",AO34=\"\",AO33=\"\",AO32=\"\"),\"Yes\",\"\")","v":""},"",{"$f":"IF(AND(AQ35=\"Yes\",AQ34=\"\",AQ33=\"\",AQ32=\"\"),\"Yes\",\"\")","v":""},"",{"$f":"IF(AND(AS35=\"Yes\",AS34=\"\",AS33=\"\",AS32=\"\"),\"Yes\",\"\")","v":""},"",{"$f":"IF(AND(AU35=\"Yes\",AU34=\"\",AU33=\"\",AU32=\"\"),\"Yes\",\"\")","v":""},"",{"$f":"IF(AND(AW35=\"Yes\",AW34=\"\",AW33=\"\",AW32=\"\"),\"Yes\",\"\")","v":""},"",{"$f":"IF(AND(AY35=\"Yes\",AY34=\"\",AY33=\"\",AY32=\"\"),\"Yes\",\"\")","v":""},"",{"$f":"IF(AND(BA35=\"Yes\",BA34=\"\",BA33=\"\",BA32=\"\"),\"Yes\",\"\")","v":""},"",{"$f":"IF(AND(BC35=\"Yes\",BC34=\"\",BC33=\"\",BC32=\"\"),\"Yes\",\"\")","v":""},"",{"$f":"IF(AND(BE35=\"Yes\",BE34=\"\",BE33=\"\",BE32=\"\"),\"Yes\",\"\")","v":""},"",{"$f":"IF(AND(BG35=\"Yes\",BG34=\"\",BG33=\"\",BG32=\"\"),\"Yes\",\"\")","v":""},"",{"$f":"IF(AND(BI35=\"Yes\",BI34=\"\",BI33=\"\",BI32=\"\"),\"Yes\",\"\")","v":""},"","",{"$f":"IF(AND(N35>='Warrant 1 - MUTCD'!$M$32,OR('Traffic Volume Input'!O35>='Warrant 1 - MUTCD'!$Q$32,'Traffic Volume Input'!P35>='Warrant 1 - MUTCD'!$Q$32)),\"Yes\",\"\")","v":""},"","",{"$f":"IF(AND(BO35=\"Yes\",BO34=\"\",BO33=\"\",BO32=\"\"),\"Yes\",\"\")","v":""},"",{"$f":"IF(AND(BQ35=\"Yes\",BQ34=\"\",BQ33=\"\",BQ32=\"\"),\"Yes\",\"\")","v":""},"",{"$f":"IF(AND(BS35=\"Yes\",BS34=\"\",BS33=\"\",BS32=\"\"),\"Yes\",\"\")","v":""},"",{"$f":"IF(AND(BU35=\"Yes\",BU34=\"\",BU33=\"\",BU32=\"\"),\"Yes\",\"\")","v":""},"",{"$f":"IF(AND(BW35=\"Yes\",BW34=\"\",BW33=\"\",BW32=\"\"),\"Yes\",\"\")","v":""},"",{"$f":"IF(AND(BY35=\"Yes\",BY34=\"\",BY33=\"\",BY32=\"\"),\"Yes\",\"\")","v":""},"",{"$f":"IF(AND(CA35=\"Yes\",CA34=\"\",CA33=\"\",CA32=\"\"),\"Yes\",\"\")","v":""},"",{"$f":"IF(AND(CC35=\"Yes\",CC34=\"\",CC33=\"\",CC32=\"\"),\"Yes\",\"\")","v":""},"",{"$f":"IF(AND(CE35=\"Yes\",CE34=\"\",CE33=\"\",CE32=\"\"),\"Yes\",\"\")","v":""},"",{"$f":"IF(AND(CG35=\"Yes\",CG34=\"\",CG33=\"\",CG32=\"\"),\"Yes\",\"\")","v":""},"",{"$f":"IF(AND(CI35=\"Yes\",CI34=\"\",CI33=\"\",CI32=\"\"),\"Yes\",\"\")","v":""},"",{"$f":"IF(AND(CK35=\"Yes\",CK34=\"\",CK33=\"\",CK32=\"\"),\"Yes\",\"\")","v":""},"",{"$f":"IF(AND(CM35=\"Yes\",CM34=\"\",CM33=\"\",CM32=\"\"),\"Yes\",\"\")","v":""},"",{"$f":"IF(AND(CO35=\"Yes\",CO34=\"\",CO33=\"\",CO32=\"\"),\"Yes\",\"\")","v":""},"",{"$f":"IF(AND(CQ35=\"Yes\",CQ34=\"\",CQ33=\"\",CQ32=\"\"),\"Yes\",\"\")","v":""},"",{"$f":"IF(AND(CS35=\"Yes\",CS34=\"\",CS33=\"\",CS32=\"\"),\"Yes\",\"\")","v":""},"",{"$f":"IF(AND(CU35=\"Yes\",CU34=\"\",CU33=\"\",CU32=\"\"),\"Yes\",\"\")","v":""},"",{"$f":"IF(AND(CW35=\"Yes\",CW34=\"\",CW33=\"\",CW32=\"\"),\"Yes\",\"\")","v":""},"",{"$f":"IF(AND(CY35=\"Yes\",CY34=\"\",CY33=\"\",CY32=\"\"),\"Yes\",\"\")","v":""},"",{"$f":"IF(AND(DA35=\"Yes\",DA34=\"\",DA33=\"\",DA32=\"\"),\"Yes\",\"\")","v":""},"","","",{"$f":"IF(AND(DE35=\"Yes\",DE34=\"\",DE33=\"\",DE32=\"\"),\"Yes\",\"\")","v":""},"",{"$f":"IF(AND(DG35=\"Yes\",DG34=\"\",DG33=\"\",DG32=\"\"),\"Yes\",\"\")","v":""},{"$f":"IF(AND(N35>='Warrant 7 & 8 - MUTCD'!$L$16,OR('Traffic Volume Input'!O35>='Warrant 7 & 8 - MUTCD'!$N$16,'Traffic Volume Input'!P35>='Warrant 7 & 8 - MUTCD'!$N$16)),\"Yes\",\"\")","v":""},"","",{"$f":"IF(AND(DK35=\"Yes\",DK34=\"\",DK33=\"\",DK32=\"\"),\"Yes\",\"\")","v":""},"",{"$f":"IF(AND(DM35=\"Yes\",DM34=\"\",DM33=\"\",DM32=\"\"),\"Yes\",\"\")","v":""},"",{"$f":"IF(AND(DO35=\"Yes\",DO34=\"\",DO33=\"\",DO32=\"\"),\"Yes\",\"\")","v":""},"",{"$f":"IF(AND(DQ35=\"Yes\",DQ34=\"\",DQ33=\"\",DQ32=\"\"),\"Yes\",\"\")","v":""},"",{"$f":"IF(AND(DS35=\"Yes\",DS34=\"\",DS33=\"\",DS32=\"\"),\"Yes\",\"\")","v":""},"",{"$f":"IF(AND(DU35=\"Yes\",DU34=\"\",DU33=\"\",DU32=\"\"),\"Yes\",\"\")","v":""},"",{"$f":"IF(AND(DW35=\"Yes\",DW34=\"\",DW33=\"\",DW32=\"\"),\"Yes\",\"\")","v":""},"",{"$f":"IF(AND(DY35=\"Yes\",DY34=\"\",DY33=\"\",DY32=\"\"),\"Yes\",\"\")","v":""},"",{"$f":"IF(AND(EA35=\"Yes\",EA34=\"\",EA33=\"\",EA32=\"\"),\"Yes\",\"\")","v":""},"",{"$f":"IF(AND(EC35=\"Yes\",EC34=\"\",EC33=\"\",EC32=\"\"),\"Yes\",\"\")","v":""},"",{"$f":"IF(AND(EE35=\"Yes\",EE34=\"\",EE33=\"\",EE32=\"\"),\"Yes\",\"\")","v":""},"",{"$f":"IF(AND(EG35=\"Yes\",EG34=\"\",EG33=\"\",EG32=\"\"),\"Yes\",\"\")","v":""},"",{"$f":"IF(AND(EI35=\"Yes\",EI34=\"\",EI33=\"\",EI32=\"\"),\"Yes\",\"\")","v":""},"",{"$f":"IF(AND(EK35=\"Yes\",EK34=\"\",EK33=\"\",EK32=\"\"),\"Yes\",\"\")","v":""},"",{"$f":"IF(AND(EM35=\"Yes\",EM34=\"\",EM33=\"\",EM32=\"\"),\"Yes\",\"\")","v":""},"",{"$f":"IF(AND(EO35=\"Yes\",EO34=\"\",EO33=\"\",EO32=\"\"),\"Yes\",\"\")","v":""},"",{"$f":"IF(AND(EQ35=\"Yes\",EQ34=\"\",EQ33=\"\",EQ32=\"\"),\"Yes\",\"\")","v":""},"",{"$f":"IF(AND(ES35=\"Yes\",ES34=\"\",ES33=\"\",ES32=\"\"),\"Yes\",\"\")","v":""},"",{"$f":"IF(AND(EU35=\"Yes\",EU34=\"\",EU33=\"\",EU32=\"\"),\"Yes\",\"\")","v":""},"",{"$f":"IF(AND(EW35=\"Yes\",EW34=\"\",EW33=\"\",EW32=\"\"),\"Yes\",\"\")","v":""},"","","",{"$f":"IF(AND(FA35=\"Yes\",FA34=\"\",FA33=\"\",FA32=\"\"),\"Yes\",\"\")","v":""},"","",{"$f":"IF(AND(N35>='Warrant 7 & 8 - MUTCD'!$L$25,OR('Traffic Volume Input'!O35>='Warrant 7 & 8 - MUTCD'!$N$25,'Traffic Volume Input'!P35>='Warrant 7 & 8 - MUTCD'!$N$25)),\"Yes\",\"\")","v":""},"","",{"$f":"IF(AND(FG35=\"Yes\",FG34=\"\",FG33=\"\",FG32=\"\"),\"Yes\",\"\")","v":""},"",{"$f":"IF(AND(FI35=\"Yes\",FI34=\"\",FI33=\"\",FI32=\"\"),\"Yes\",\"\")","v":""},"",{"$f":"IF(AND(FK35=\"Yes\",FK34=\"\",FK33=\"\",FK32=\"\"),\"Yes\",\"\")","v":""},"",{"$f":"IF(AND(FM35=\"Yes\",FM34=\"\",FM33=\"\",FM32=\"\"),\"Yes\",\"\")","v":""},"",{"$f":"IF(AND(FO35=\"Yes\",FO34=\"\",FO33=\"\",FO32=\"\"),\"Yes\",\"\")","v":""},"",{"$f":"IF(AND(FQ35=\"Yes\",FQ34=\"\",FQ33=\"\",FQ32=\"\"),\"Yes\",\"\")","v":""},"",{"$f":"IF(AND(FS35=\"Yes\",FS34=\"\",FS33=\"\",FS32=\"\"),\"Yes\",\"\")","v":""},"",{"$f":"IF(AND(FU35=\"Yes\",FU34=\"\",FU33=\"\",FU32=\"\"),\"Yes\",\"\")","v":""},"",{"$f":"IF(AND(FW35=\"Yes\",FW34=\"\",FW33=\"\",FW32=\"\"),\"Yes\",\"\")","v":""},"",{"$f":"IF(AND(FY35=\"Yes\",FY34=\"\",FY33=\"\",FY32=\"\"),\"Yes\",\"\")","v":""},"",{"$f":"IF(AND(GA35=\"Yes\",GA34=\"\",GA33=\"\",GA32=\"\"),\"Yes\",\"\")","v":""},"",{"$f":"IF(AND(GC35=\"Yes\",GC34=\"\",GC33=\"\",GC32=\"\"),\"Yes\",\"\")","v":""},"",{"$f":"IF(AND(GE35=\"Yes\",GE34=\"\",GE33=\"\",GE32=\"\"),\"Yes\",\"\")","v":""},"",{"$f":"IF(AND(GG35=\"Yes\",GG34=\"\",GG33=\"\",GG32=\"\"),\"Yes\",\"\")","v":""},"",{"$f":"IF(AND(GI35=\"Yes\",GI34=\"\",GI33=\"\",GI32=\"\"),\"Yes\",\"\")","v":""},"",{"$f":"IF(AND(GK35=\"Yes\",GK34=\"\",GK33=\"\",GK32=\"\"),\"Yes\",\"\")","v":""},"",{"$f":"IF(AND(GM35=\"Yes\",GM34=\"\",GM33=\"\",GM32=\"\"),\"Yes\",\"\")","v":""},"",{"$f":"IF(AND(GO35=\"Yes\",GO34=\"\",GO33=\"\",GO32=\"\"),\"Yes\",\"\")","v":""},"",{"$f":"IF(AND(GQ35=\"Yes\",GQ34=\"\",GQ33=\"\",GQ32=\"\"),\"Yes\",\"\")","v":""},"",{"$f":"IF(AND(GS35=\"Yes\",GS34=\"\",GS33=\"\",GS32=\"\"),\"Yes\",\"\")","v":""},"","","",{"$f":"IF(AND(GW35=\"Yes\",GW34=\"\",GW33=\"\",GW32=\"\"),\"Yes\",\"\")","v":""},"",""]
["07:30:00","07:44:00",null,null,0,null,null,null,null,"07:30:00","08:29:00",0,0,0,0,0,{"$f":"IF(AND(N36>='Warrant 1 - MUTCD'!$M$23,OR('Traffic Volume Input'!O36>='Warrant 1 - MUTCD'!$Q$23,'Traffic Volume Input'!P36>='Warrant 1 - MUTCD'!$Q$23)),\"Yes\",\"\")","v":""},"","","","","","",{"$f":"IF(AND(W36=\"Yes\",W35=\"\",W34=\"\",W33=\"\"),\"Yes\",\"\")","v":""},"",{"$f":"IF(AND(Y36=\"Yes\",Y35=\"\",Y34=\"\",Y33=\"\"),\"Yes\",\"\")","v":""},"",{"$f":"IF(AND(AA36=\"Yes\",AA35=\"\",AA34=\"\",AA33=\"\"),\"Yes\",\"\")","v":""},"",{"$f":"IF(AND(AC36=\"Yes\",AC35=\"\",AC34=\"\",AC33=\"\"),\"Yes\",\"\")","v":""},"",{"$f":"IF(AND(AE36=\"Yes\",AE35=\"\",AE34=\"\",AE33=\"\"),\"Yes\",\"\")","v":""},"",{"$f":"IF(AND(AG36=\"Yes\",AG35=\"\",AG34=\"\",AG33=\"\"),\"Yes\",\"\")","v":""},"",{"$f":"IF(AND(AI36=\"Yes\",AI35=\"\",AI34=\"\",AI33=\"\"),\"Yes\",\"\")","v":""},"",{"$f":"IF(AND(AK36=\"Yes\",AK35=\"\",AK34=\"\",AK33=\"\"),\"Yes\",\"\")","v":""},"",{"$f":"IF(AND(AM36=\"Yes\",AM35=\"\",AM34=\"\",AM33=\"\"),\"Yes\",\"\")","v":""},"",{"$f":"IF(AND(AO36=\"Yes\",AO35=\"\",AO34=\"\",AO33=\"\"),\"Yes\",\"\")","v":""},"",{"$f":"IF(AND(AQ36=\"Yes\",AQ35=\"\",AQ34=\"\",AQ33=\"\"),\"Yes\",\"\")","v":""},"",{"$f":"IF(AND(AS36=\"Yes\",AS35=\"\",AS34=\"\",AS33=\"\"),\"Yes\",\"\")","v":""},"",{"$f":"IF(AND(AU36=\"Yes\",AU35=\"\",AU34=\"\",AU33=\"\"),\"Yes\",\"\")","v":""},"",{"$f":"IF(AND(AW36=\"Yes\",AW35=\"\",AW34=\"\",AW33=\"\"),\"Yes\",\"\")","v":""},"",{"$f":"IF(AND(AY36=\"Yes\",AY35=\"\",AY34=\"\",AY33=\"\"),\"Yes\",\"\")","v":""},"",{"$f":"IF(AND(BA36=\"Yes\",BA35=\"\",BA34=\"\",BA33=\"\"),\"Yes\",\"\")","v":""},"",{"$f":"IF(AND(BC36=\"Yes\",BC35=\"\",BC34=\"\",BC33=\"\"),\"Yes\",\"\")","v":""},"",{"$f":"IF(AND(BE36=\"Yes\",BE35=\"\",BE34=\"\",BE33=\"\"),\"Yes\",\"\")","v":""},"",{"$f":"IF(AND(BG36=\"Yes\",BG35=\"\",BG34=\"\",BG33=\"\"),\"Yes\",\"\")","v":""},"",{"$f":"IF(AND(BI36=\"Yes\",BI35=\"\",BI34=\"\",BI33=\"\"),\"Yes\",\"\")","v":""},"","",{"$f":"IF(AND(N36>='Warrant 1 - MUTCD'!$M$32,OR('Traffic Volume Input'!O36>='Warrant 1 - MUTCD'!$Q$32,'Traffic Volume Input'!P36>='Warrant 1 - MUTCD'!$Q$32)),\"Yes\",\"\")","v":""},"","",{"$f":"IF(AND(BO36=\"Yes\",BO35=\"\",BO34=\"\",BO33=\"\"),\"Yes\",\"\")","v":""},"",{"$f":"IF(AND(BQ36=\"Yes\",BQ35=\"\",BQ34=\"\",BQ33=\"\"),\"Yes\",\"\")","v":""},"",{"$f":"IF(AND(BS36=\"Yes\",BS35=\"\",BS34=\"\",BS33=\"\"),\"Yes\",\"\")","v":""},"",{"$f":"IF(AND(BU36=\"Yes\",BU35=\"\",BU34=\"\",BU33=\"\"),\"Yes\",\"\")","v":""},"",{"$f":"IF(AND(BW36=\"Yes\",BW35=\"\",BW34=\"\",BW33=\"\"),\"Yes\",\"\")","v":""},"",{"$f":"IF(AND(BY36=\"Yes\",BY35=\"\",BY34=\"\",BY33=\"\"),\"Yes\",\"\")","v":""},"",{"$f":"IF(AND(CA36=\"Yes\",CA35=\"\",CA34=\"\",CA33=\"\"),\"Yes\",\"\")","v":""},"",{"$f":"IF(AND(CC36=\"Yes\",CC35=\"\",CC34=\"\",CC33=\"\"),\"Yes\",\"\")","v":""},"",{"$f":"IF(AND(CE36=\"Yes\",CE35=\"\",CE34=\"\",CE33=\"\"),\"Yes\",\"\")","v":""},"",{"$f":"IF(AND(CG36=\"Yes\",CG35=\"\",CG34=\"\",CG33=\"\"),\"Yes\",\"\")","v":""},"",{"$f":"IF(AND(CI36=\"Yes\",CI35=\"\",CI34=\"\",CI33=\"\"),\"Yes\",\"\")","v":""},"",{"$f":"IF(AND(CK36=\"Yes\",CK35=\"\",CK34=\"\",CK33=\"\"),\"Yes\",\"\")","v":""},"",{"$f":"IF(AND(CM36=\"Yes\",CM35=\"\",CM34=\"\",CM33=\"\"),\"Yes\",\"\")","v":""},"",{"$f":"IF(AND(CO36=\"Yes\",CO35=\"\",CO34=\"\",CO33=\"\"),\"Yes\",\"\")","v":""},"",{"$f":"IF(AND(CQ36=\"Yes\",CQ35=\"\",CQ34=\"\",CQ33=\"\"),\"Yes\",\"\")","v":""},"",{"$f":"IF(AND(CS36=\"Yes\",CS35=\"\",CS34=\"\",CS33=\"\"),\"Yes\",\"\")","v":""},"",{"$f":"IF(AND(CU36=\"Yes\",CU35=\"\",CU34=\"\",CU33=\"\"),\"Yes\",\"\")","v":""},"",{"$f":"IF(AND(CW36=\"Yes\",CW35=\"\",CW34=\"\",CW33=\"\"),\"Yes\",\"\")","v":""},"",{"$f":"IF(AND(CY36=\"Yes\",CY35=\"\",CY34=\"\",CY33=\"\"),\"Yes\",\"\")","v":""},"",{"$f":"IF(AND(DA36=\"Yes\",DA35=\"\",DA34=\"\",DA33=\"\"),\"Yes\",\"\")","v":""},"","","",{"$f":"IF(AND(DE36=\"Yes\",DE35=\"\",DE34=\"\",DE33=\"\"),\"Yes\",\"\")","v":""},"",{"$f":"IF(AND(DG36=\"Yes\",DG35=\"\",DG34=\"\",DG33=\"\"),\"Yes\",\"\")","v":""},{"$f":"IF(AND(N36>='Warrant 7 & 8 - MUTCD'!$L$16,OR('Traffic Volume Input'!O36>='Warrant 7 & 8 - MUTCD'!$N$16,'Traffic Volume Input'!P36>='Warrant 7 & 8 - MUTCD'!$N$16)),\"Yes\",\"\")","v":""},"","",{"$f":"IF(AND(DK36=\"Yes\",DK35=\"\",DK34=\"\",DK33=\"\"),\"Yes\",\"\")","v":""},"",{"$f":"IF(AND(DM36=\"Yes\",DM35=\"\",DM34=\"\",DM33=\"\"),\"Yes\",\"\")","v":""},"",{"$f":"IF(AND(DO36=\"Yes\",DO35=\"\",DO34=\"\",DO33=\"\"),\"Yes\",\"\")","v":""},"",{"$f":"IF(AND(DQ36=\"Yes\",DQ35=\"\",DQ34=\"\",DQ33=\"\"),\"Yes\",\"\")","v":""},"",{"$f":"IF(AND(DS36=\"Yes\",DS35=\"\",DS34=\"\",DS33=\"\"),\"Yes\",\"\")","v":""},"",{"$f":"IF(AND(DU36=\"Yes\",DU35=\"\",DU34=\"\",DU33=\"\"),\"Yes\",\"\")","v":""},"",{"$f":"IF(AND(DW36=\"Yes\",DW35=\"\",DW34=\"\",DW33=\"\"),\"Yes\",\"\")","v":""},"",{"$f":"IF(AND(DY36=\"Yes\",DY35=\"\",DY34=\"\",DY33=\"\"),\"Yes\",\"\")","v":""},"",{"$f":"IF(AND(EA36=\"Yes\",EA35=\"\",EA34=\"\",EA33=\"\"),\"Yes\",\"\")","v":""},"",{"$f":"IF(AND(EC36=\"Yes\",EC35=\"\",EC34=\"\",EC33=\"\"),\"Yes\",\"\")","v":""},"",{"$f":"IF(AND(EE36=\"Yes\",EE35=\"\",EE34=\"\",EE33=\"\"),\"Yes\",\"\")","v":""},"",{"$f":"IF(AND(EG36=\"Yes\",EG35=\"\",EG34=\"\",EG33=\"\"),\"Yes\",\"\")","v":""},"",{"$f":"IF(AND(EI36=\"Yes\",EI35=\"\",EI34=\"\",EI33=\"\"),\"Yes\",\"\")","v":""},"",{"$f":"IF(AND(EK36=\"Yes\",EK35=\"\",EK34=\"\",EK33=\"\"),\"Yes\",\"\")","v":""},"",{"$f":"IF(AND(EM36=\"Yes\",EM35=\"\",EM34=\"\",EM33=\"\"),\"Yes\",\"\")","v":""},"",{"$f":"IF(AND(EO36=\"Yes\",EO35=\"\",EO34=\"\",EO33=\"\"),\"Yes\",\"\")","v":""},"",{"$f":"IF(AND(EQ36=\"Yes\",EQ35=\"\",EQ34=\"\",EQ33=\"\"),\"Yes\",\"\")","v":""},"",{"$f":"IF(AND(ES36=\"Yes\",ES35=\"\",ES34=\"\",ES33=\"\"),\"Yes\",\"\")","v":""},"",{"$f":"IF(AND(EU36=\"Yes\",EU35=\"\",EU34=\"\",EU33=\"\"),\"Yes\",\"\")","v":""},"",{"$f":"IF(AND(EW36=\"Yes\",EW35=\"\",EW34=\"\",EW33=\"\"),\"Yes\",\"\")","v":""},"","","",{"$f":"IF(AND(FA36=\"Yes\",FA35=\"\",FA34=\"\",FA33=\"\"),\"Yes\",\"\")","v":""},"","",{"$f":"IF(AND(N36>='Warrant 7 & 8 - MUTCD'!$L$25,OR('Traffic Volume Input'!O36>='Warrant 7 & 8 - MUTCD'!$N$25,'Traffic Volume Input'!P36>='Warrant 7 & 8 - MUTCD'!$N$25)),\"Yes\",\"\")","v":""},"","",{"$f":"IF(AND(FG36=\"Yes\",FG35=\"\",FG34=\"\",FG33=\"\"),\"Yes\",\"\")","v":""},"",{"$f":"IF(AND(FI36=\"Yes\",FI35=\"\",FI34=\"\",FI33=\"\"),\"Yes\",\"\")","v":""},"",{"$f":"IF(AND(FK36=\"Yes\",FK35=\"\",FK34=\"\",FK33=\"\"),\"Yes\",\"\")","v":""},"",{"$f":"IF(AND(FM36=\"Yes\",FM35=\"\",FM34=\"\",FM33=\"\"),\"Yes\",\"\")","v":""},"",{"$f":"IF(AND(FO36=\"Yes\",FO35=\"\",FO34=\"\",FO33=\"\"),\"Yes\",\"\")","v":""},"",{"$f":"IF(AND(FQ36=\"Yes\",FQ35=\"\",FQ34=\"\",FQ33=\"\"),\"Yes\",\"\")","v":""},"",{"$f":"IF(AND(FS36=\"Yes\",FS35=\"\",FS34=\"\",FS33=\"\"),\"Yes\",\"\")","v":""},"",{"$f":"IF(AND(FU36=\"Yes\",FU35=\"\",FU34=\"\",FU33=\"\"),\"Yes\",\"\")","v":""},"",{"$f":"IF(AND(FW36=\"Yes\",FW35=\"\",FW34=\"\",FW33=\"\"),\"Yes\",\"\")","v":""},"",{"$f":"IF(AND(FY36=\"Yes\",FY35=\"\",FY34=\"\",FY33=\"\"),\"Yes\",\"\")","v":""},"",{"$f":"IF(AND(GA36=\"Yes\",GA35=\"\",GA34=\"\",GA33=\"\"),\"Yes\",\"\")","v":""},"",{"$f":"IF(AND(GC36=\"Yes\",GC35=\"\",GC34=\"\",GC33=\"\"),\"Yes\",\"\")","v":""},"",{"$f":"IF(AND(GE36=\"Yes\",GE35=\"\",GE34=\"\",GE33=\"\"),\"Yes\",\"\")","v":""},"",{"$f":"IF(AND(GG36=\"Yes\",GG35=\"\",GG34=\"\",GG33=\"\"),\"Yes\",\"\")","v":""},"",{"$f":"IF(AND(GI36=\"Yes\",GI35=\"\",GI34=\"\",GI33=\"\"),\"Yes\",\"\")","v":""},"",{"$f":"IF(AND(GK36=\"Yes\",GK35=\"\",GK34=\"\",GK33=\"\"),\"Yes\",\"\")","v":""},"",{"$f":"IF(AND(GM36=\"Yes\",GM35=\"\",GM34=\"\",GM33=\"\"),\"Yes\",\"\")","v":""},"",{"$f":"IF(AND(GO36=\"Yes\",GO35=\"\",GO34=\"\",GO33=\"\"),\"Yes\",\"\")","v":""},"",{"$f":"IF(AND(GQ36=\"Yes\",GQ35=\"\",GQ34=\"\",GQ33=\"\"),\"Yes\",\"\")","v":""},"",{"$f":"IF(AND(GS36=\"Yes\",GS35=\"\",GS34=\"\",GS33=\"\"),\"Yes\",\"\")","v":""},"","","",{"$f":"IF(AND(GW36=\"Yes\",GW35=\"\",GW34=\"\",GW33=\"\"),\"Yes\",\"\")","v":""},"",""]
["07:45:00","07:59:00",null,null,0,null,null,null,null,"07:45:00","08:44:00",0,0,{"$f":"L37+M37","v":0},0,0,{"$f":"IF(AND(N37>='Warrant 1 - MUTCD'!$M$23,OR('Traffic Volume Input'!O37>='Warrant 1 - MUTCD'!$Q$23,'Traffic Volume Input'!P37>='Warrant 1 - MUTCD'!$Q$23)),\"Yes\",\"\")","v":""},"","","","","","",{"$f":"IF(AND(W37=\"Yes\",W36=\"\",W35=\"\",W34=\"\"),\"Yes\",\"\")","v":""},"",{"$f":"IF(AND(Y37=\"Yes\",Y36=\"\",Y35=\"\",Y34=\"\"),\"Yes\",\"\")","v":""},"",{"$f":"IF(AND(AA37=\"Yes\",AA36=\"\",AA35=\"\",AA34=\"\"),\"Yes\",\"\")","v":""},"",{"$f":"IF(AND(AC37=\"Yes\",AC36=\"\",AC35=\"\",AC34=\"\"),\"Yes\",\"\")","v":""},"",{"$f":"IF(AND(AE37=\"Yes\",AE36=\"\",AE35=\"\",AE34=\"\"),\"Yes\",\"\")","v":""},"",{"$f":"IF(AND(AG37=\"Yes\",AG36=\"\",AG35=\"\",AG34=\"\"),\"Yes\",\"\")","v":""},"",{"$f":"IF(AND(AI37=\"Yes\",AI36=\"\",AI35=\"\",AI34=\"\"),\"Yes\",\"\")","v":""},"",{"$f":"IF(AND(AK37=\"Yes\",AK36=\"\",AK35=\"\",AK34=\"\"),\"Yes\",\"\")","v":""},"",{"$f":"IF(AND(AM37=\"Yes\",AM36=\"\",AM35=\"\",AM34=\"\"),\"Yes\",\"\")","v":""},"",{"$f":"IF(AND(AO37=\"Yes\",AO36=\"\",AO35=\"\",AO34=\"\"),\"Yes\",\"\")","v":""},"",{"$f":"IF(AND(AQ37=\"Yes\",AQ36=\"\",AQ35=\"\",AQ34=\"\"),\"Yes\",\"\")","v":""},"",{"$f":"IF(AND(AS37=\"Yes\",AS36=\"\",AS35=\"\",AS34=\"\"),\"Yes\",\"\")","v":""},"",{"$f":"IF(AND(AU37=\"Yes\",AU36=\"\",AU35=\"\",AU34=\"\"),\"Yes\",\"\")","v":""},"",{"$f":"IF(AND(AW37=\"Yes\",AW36=\"\",AW35=\"\",AW34=\"\"),\"Yes\",\"\")","v":""},"",{"$f":"IF(AND(AY37=\"Yes\",AY36=\"\",AY35=\"\",AY34=\"\"),\"Yes\",\"\")","v":""},"",{"$f":"IF(AND(BA37=\"Yes\",BA36=\"\",BA35=\"\",BA34=\"\"),\"Yes\",\"\")","v":""},"",{"$f":"IF(AND(BC37=\"Yes\",BC36=\"\",BC35=\"\",BC34=\"\"),\"Yes\",\"\")","v":""},"",{"$f":"IF(AND(BE37=\"Yes\",BE36=\"\",BE35=\"\",BE34=\"\"),\"Yes\",\"\")","v":""},"",{"$f":"IF(AND(BG37=\"Yes\",BG36=\"\",BG35=\"\",BG34=\"\"),\"Yes\",\"\")","v":""},"",{"$f":"IF(AND(BI37=\"Yes\",BI36=\"\",BI35=\"\",BI34=\"\"),\"Yes\",\"\")","v":""},"","",{"$f":"IF(AND(N37>='Warrant 1 - MUTCD'!$M$32,OR('Traffic Volume Input'!O37>='Warrant 1 - MUTCD'!$Q$32,'Traffic Volume Input'!P37>='Warrant 1 - MUTCD'!$Q$32)),\"Yes\",\"\")","v":""},"","",{"$f":"IF(AND(BO37=\"Yes\",BO36=\"\",BO35=\"\",BO34=\"\"),\"Yes\",\"\")","v":""},"",{"$f":"IF(AND(BQ37=\"Yes\",BQ36=\"\",BQ35=\"\",BQ34=\"\"),\"Yes\",\"\")","v":""},"",{"$f":"IF(AND(BS37=\"Yes\",BS36=\"\",BS35=\"\",BS34=\"\"),\"Yes\",\"\")","v":""},"",{"$f":"IF(AND(BU37=\"Yes\",BU36=\"\",BU35=\"\",BU34=\"\"),\"Yes\",\"\")","v":""},"",{"$f":"IF(AND(BW37=\"Yes\",BW36=\"\",BW35=\"\",BW34=\"\"),\"Yes\",\"\")","v":""},"",{"$f":"IF(AND(BY37=\"Yes\",BY36=\"\",BY35=\"\",BY34=\"\"),\"Yes\",\"\")","v":""},"",{"$f":"IF(AND(CA37=\"Yes\",CA36=\"\",CA35=\"\",CA34=\"\"),\"Yes\",\"\")","v":""},"",{"$f":"IF(AND(CC37=\"Yes\",CC36=\"\",CC35=\"\",CC34=\"\"),\"Yes\",\"\")","v":""},"",{"$f":"IF(AND(CE37=\"Yes\",CE36=\"\",CE35=\"\",CE34=\"\"),\"Yes\",\"\")","v":""},"",{"$f":"IF(AND(CG37=\"Yes\",CG36=\"\",CG35=\"\",CG34=\"\"),\"Yes\",\"\")","v":""},"",{"$f":"IF(AND(CI37=\"Yes\",CI36=\"\",CI35=\"\",CI34=\"\"),\"Yes\",\"\")","v":""},"",{"$f":"IF(AND(CK37=\"Yes\",CK36=\"\",CK35=\"\",CK34=\"\"),\"Yes\",\"\")","v":""},"",{"$f":"IF(AND(CM37=\"Yes\",CM36=\"\",CM35=\"\",CM34=\"\"),\"Yes\",\"\")","v":""},"",{"$f":"IF(AND(CO37=\"Yes\",CO36=\"\",CO35=\"\",CO34=\"\"),\"Yes\",\"\")","v":""},"",{"$f":"IF(AND(CQ37=\"Yes\",CQ36=\"\",CQ35=\"\",CQ34=\"\"),\"Yes\",\"\")","v":""},"",{"$f":"IF(AND(CS37=\"Yes\",CS36=\"\",CS35=\"\",CS34=\"\"),\"Yes\",\"\")","v":""},"",{"$f":"IF(AND(CU37=\"Yes\",CU36=\"\",CU35=\"\",CU34=\"\"),\"Yes\",\"\")","v":""},"",{"$f":"IF(AND(CW37=\"Yes\",CW36=\"\",CW35=\"\",CW34=\"\"),\"Yes\",\"\")","v":""},"",{"$f":"IF(AND(CY37=\"Yes\",CY36=\"\",CY35=\"\",CY34=\"\"),\"Yes\",\"\")","v":""},"",{"$f":"IF(AND(DA37=\"Yes\",DA36=\"\",DA35=\"\",DA34=\"\"),\"Yes\",\"\")","v":""},"","","",{"$f":"IF(AND(DE37=\"Yes\",DE36=\"\",DE35=\"\",DE34=\"\"),\"Yes\",\"\")","v":""},"",{"$f":"IF(AND(DG37=\"Yes\",DG36=\"\",DG35=\"\",DG34=\"\"),\"Yes\",\"\")","v":""},{"$f":"IF(AND(N37>='Warrant 7 & 8 - MUTCD'!$L$16,OR('Traffic Volume Input'!O37>='Warrant 7 & 8 - MUTCD'!$N$16,'Traffic Volume Input'!P37>='Warrant 7 & 8 - MUTCD'!$N$16)),\"Yes\",\"\")","v":""},"","",{"$f":"IF(AND(DK37=\"Yes\",DK36=\"\",DK35=\"\",DK34=\"\"),\"Yes\",\"\")","v":""},"",{"$f":"IF(AND(DM37=\"Yes\",DM36=\"\",DM35=\"\",DM34=\"\"),\"Yes\",\"\")","v":""},"",{"$f":"IF(AND(DO37=\"Yes\",DO36=\"\",DO35=\"\",DO34=\"\"),\"Yes\",\"\")","v":""},"",{"$f":"IF(AND(DQ37=\"Yes\",DQ36=\"\",DQ35=\"\",DQ34=\"\"),\"Yes\",\"\")","v":""},"",{"$f":"IF(AND(DS37=\"Yes\",DS36=\"\",DS35=\"\",DS34=\"\"),\"Yes\",\"\")","v":""},"",{"$f":"IF(AND(DU37=\"Yes\",DU36=\"\",DU35=\"\",DU34=\"\"),\"Yes\",\"\")","v":""},"",{"$f":"IF(AND(DW37=\"Yes\",DW36=\"\",DW35=\"\",DW34=\"\"),\"Yes\",\"\")","v":""},"",{"$f":"IF(AND(DY37=\"Yes\",DY36=\"\",DY35=\"\",DY34=\"\"),\"Yes\",\"\")","v":""},"",{"$f":"IF(AND(EA37=\"Yes\",EA36=\"\",EA35=\"\",EA34=\"\"),\"Yes\",\"\")","v":""},"",{"$f":"IF(AND(EC37=\"Yes\",EC36=\"\",EC35=\"\",EC34=\"\"),\"Yes\",\"\")","v":""},"",{"$f":"IF(AND(EE37=\"Yes\",EE36=\"\",EE35=\"\",EE34=\"\"),\"Yes\",\"\")","v":""},"",{"$f":"IF(AND(EG37=\"Yes\",EG36=\"\",EG35=\"\",EG34=\"\"),\"Yes\",\"\")","v":""},"",{"$f":"IF(AND(EI37=\"Yes\",EI36=\"\",EI35=\"\",EI34=\"\"),\"Yes\",\"\")","v":""},"",{"$f":"IF(AND(EK37=\"Yes\",EK36=\"\",EK35=\"\",EK34=\"\"),\"Yes\",\"\")","v":""},"",{"$f":"IF(AND(EM37=\"Yes\",EM36=\"\",EM35=\"\",EM34=\"\"),\"Yes\",\"\")","v":""},"",{"$f":"IF(AND(EO37=\"Yes\",EO36=\"\",EO35=\"\",EO34=\"\"),\"Yes\",\"\")","v":""},"",{"$f":"IF(AND(EQ37=\"Yes\",EQ36=\"\",EQ35=\"\",EQ34=\"\"),\"Yes\",\"\")","v":""},"",{"$f":"IF(AND(ES37=\"Yes\",ES36=\"\",ES35=\"\",ES34=\"\"),\"Yes\",\"\")","v":""},"",{"$f":"IF(AND(EU37=\"Yes\",EU36=\"\",EU35=\"\",EU34=\"\"),\"Yes\",\"\")","v":""},"",{"$f":"IF(AND(EW37=\"Yes\",EW36=\"\",EW35=\"\",EW34=\"\"),\"Yes\",\"\")","v":""},"","","",{"$f":"IF(AND(FA37=\"Yes\",FA36=\"\",FA35=\"\",FA34=\"\"),\"Yes\",\"\")","v":""},"","",{"$f":"IF(AND(N37>='Warrant 7 & 8 - MUTCD'!$L$25,OR('Traffic Volume Input'!O37>='Warrant 7 & 8 - MUTCD'!$N$25,'Traffic Volume Input'!P37>='Warrant 7 & 8 - MUTCD'!$N$25)),\"Yes\",\"\")","v":""},"","",{"$f":"IF(AND(FG37=\"Yes\",FG36=\"\",FG35=\"\",FG34=\"\"),\"Yes\",\"\")","v":""},"",{"$f":"IF(AND(FI37=\"Yes\",FI36=\"\",FI35=\"\",FI34=\"\"),\"Yes\",\"\")","v":""},"",{"$f":"IF(AND(FK37=\"Yes\",FK36=\"\",FK35=\"\",FK34=\"\"),\"Yes\",\"\")","v":""},"",{"$f":"IF(AND(FM37=\"Yes\",FM36=\"\",FM35=\"\",FM34=\"\"),\"Yes\",\"\")","v":""},"",{"$f":"IF(AND(FO37=\"Yes\",FO36=\"\",FO35=\"\",FO34=\"\"),\"Yes\",\"\")","v":""},"",{"$f":"IF(AND(FQ37=\"Yes\",FQ36=\"\",FQ35=\"\",FQ34=\"\"),\"Yes\",\"\")","v":""},"",{"$f":"IF(AND(FS37=\"Yes\",FS36=\"\",FS35=\"\",FS34=\"\"),\"Yes\",\"\")","v":""},"",{"$f":"IF(AND(FU37=\"Yes\",FU36=\"\",FU35=\"\",FU34=\"\"),\"Yes\",\"\")","v":""},"",{"$f":"IF(AND(FW37=\"Yes\",FW36=\"\",FW35=\"\",FW34=\"\"),\"Yes\",\"\")","v":""},"",{"$f":"IF(AND(FY37=\"Yes\",FY36=\"\",FY35=\"\",FY34=\"\"),\"Yes\",\"\")","v":""},"",{"$f":"IF(AND(GA37=\"Yes\",GA36=\"\",GA35=\"\",GA34=\"\"),\"Yes\",\"\")","v":""},"",{"$f":"IF(AND(GC37=\"Yes\",GC36=\"\",GC35=\"\",GC34=\"\"),\"Yes\",\"\")","v":""},"",{"$f":"IF(AND(GE37=\"Yes\",GE36=\"\",GE35=\"\",GE34=\"\"),\"Yes\",\"\")","v":""},"",{"$f":"IF(AND(GG37=\"Yes\",GG36=\"\",GG35=\"\",GG34=\"\"),\"Yes\",\"\")","v":""},"",{"$f":"IF(AND(GI37=\"Yes\",GI36=\"\",GI35=\"\",GI34=\"\"),\"Yes\",\"\")","v":""},"",{"$f":"IF(AND(GK37=\"Yes\",GK36=\"\",GK35=\"\",GK34=\"\"),\"Yes\",\"\")","v":""},"",{"$f":"IF(AND(GM37=\"Yes\",GM36=\"\",GM35=\"\",GM34=\"\"),\"Yes\",\"\")","v":""},"",{"$f":"IF(AND(GO37=\"Yes\",GO36=\"\",GO35=\"\",GO34=\"\"),\"Yes\",\"\")","v":""},"",{"$f":"IF(AND(GQ37=\"Yes\",GQ36=\"\",GQ35=\"\",GQ34=\"\"),\"Yes\",\"\")","v":""},"",{"$f":"IF(AND(GS37=\"Yes\",GS36=\"\",GS35=\"\",GS34=\"\"),\"Yes\",\"\")","v":""},"","","",{"$f":"IF(AND(GW37=\"Yes\",GW36=\"\",GW35=\"\",GW34=\"\"),\"Yes\",\"\")","v":""},"",""]
["08:00:00","08:14:00",null,null,0,null,null,null,null,"08:00:00","08:59:00",{"$f":"SUM(C38:C41)","v":0},{"$f":"SUM(D38:D41)","v":0},{"$f":"L38+M38","v":0},0,0,{"$f":"IF(AND(N38>='Warrant 1 - MUTCD'!$M$23,OR('Traffic Volume Input'!O38>='Warrant 1 - MUTCD'!$Q$23,'Traffic Volume Input'!P38>='Warrant 1 - MUTCD'!$Q$23)),\"Yes\",\"\")","v":""},"","","","","","",{"$f":"IF(AND(W38=\"Yes\",W37=\"\",W36=\"\",W35=\"\"),\"Yes\",\"\")","v":""},"",{"$f":"IF(AND(Y38=\"Yes\",Y37=\"\",Y36=\"\",Y35=\"\"),\"Yes\",\"\")","v":""},"",{"$f":"IF(AND(AA38=\"Yes\",AA37=\"\",AA36=\"\",AA35=\"\"),\"Yes\",\"\")","v":""},"",{"$f":"IF(AND(AC38=\"Yes\",AC37=\"\",AC36=\"\",AC35=\"\"),\"Yes\",\"\")","v":""},"",{"$f":"IF(AND(AE38=\"Yes\",AE37=\"\",AE36=\"\",AE35=\"\"),\"Yes\",\"\")","v":""},"",{"$f":"IF(AND(AG38=\"Yes\",AG37=\"\",AG36=\"\",AG35=\"\"),\"Yes\",\"\")","v":""},"",{"$f":"IF(AND(AI38=\"Yes\",AI37=\"\",AI36=\"\",AI35=\"\"),\"Yes\",\"\")","v":""},"",{"$f":"IF(AND(AK38=\"Yes\",AK37=\"\",AK36=\"\",AK35=\"\"),\"Yes\",\"\")","v":""},"",{"$f":"IF(AND(AM38=\"Yes\",AM37=\"\",AM36=\"\",AM35=\"\"),\"Yes\",\"\")","v":""},"",{"$f":"IF(AND(AO38=\"Yes\",AO37=\"\",AO36=\"\",AO35=\"\"),\"Yes\",\"\")","v":""},"",{"$f":"IF(AND(AQ38=\"Yes\",AQ37=\"\",AQ36=\"\",AQ35=\"\"),\"Yes\",\"\")","v":""},"",{"$f":"IF(AND(AS38=\"Yes\",AS37=\"\",AS36=\"\",AS35=\"\"),\"Yes\",\"\")","v":""},"",{"$f":"IF(AND(AU38=\"Yes\",AU37=\"\",AU36=\"\",AU35=\"\"),\"Yes\",\"\")","v":""},"",{"$f":"IF(AND(AW38=\"Yes\",AW37=\"\",AW36=\"\",AW35=\"\"),\"Yes\",\"\")","v":""},"",{"$f":"IF(AND(AY38=\"Yes\",AY37=\"\",AY36=\"\",AY35=\"\"),\"Yes\",\"\")","v":""},"",{"$f":"IF(AND(BA38=\"Yes\",BA37=\"\",BA36=\"\",BA35=\"\"),\"Yes\",\"\")","v":""},"",{"$f":"IF(AND(BC38=\"Yes\",BC37=\"\",BC36=\"\",BC35=\"\"),\"Yes\",\"\")","v":""},"",{"$f":"IF(AND(BE38=\"Yes\",BE37=\"\",BE36=\"\",BE35=\"\"),\"Yes\",\"\")","v":""},"",{"$f":"IF(AND(BG38=\"Yes\",BG37=\"\",BG36=\"\",BG35=\"\"),\"Yes\",\"\")","v":""},"",{"$f":"IF(AND(BI38=\"Yes\",BI37=\"\",BI36=\"\",BI35=\"\"),\"Yes\",\"\")","v":""},"","",{"$f":"IF(AND(N38>='Warrant 1 - MUTCD'!$M$32,OR('Traffic Volume Input'!O38>='Warrant 1 - MUTCD'!$Q$32,'Traffic Volume Input'!P38>='Warrant 1 - MUTCD'!$Q$32)),\"Yes\",\"\")","v":""},"","",{"$f":"IF(AND(BO38=\"Yes\",BO37=\"\",BO36=\"\",BO35=\"\"),\"Yes\",\"\")","v":""},"",{"$f":"IF(AND(BQ38=\"Yes\",BQ37=\"\",BQ36=\"\",BQ35=\"\"),\"Yes\",\"\")","v":""},"",{"$f":"IF(AND(BS38=\"Yes\",BS37=\"\",BS36=\"\",BS35=\"\"),\"Yes\",\"\")","v":""},"",{"$f":"IF(AND(BU38=\"Yes\",BU37=\"\",BU36=\"\",BU35=\"\"),\"Yes\",\"\")","v":""},"",{"$f":"IF(AND(BW38=\"Yes\",BW37=\"\",BW36=\"\",BW35=\"\"),\"Yes\",\"\")","v":""},"",{"$f":"IF(AND(BY38=\"Yes\",BY37=\"\",BY36=\"\",BY35=\"\"),\"Yes\",\"\")","v":""},"",{"$f":"IF(AND(CA38=\"Yes\",CA37=\"\",CA36=\"\",CA35=\"\"),\"Yes\",\"\")","v":""},"",{"$f":"IF(AND(CC38=\"Yes\",CC37=\"\",CC36=\"\",CC35=\"\"),\"Yes\",\"\")","v":""},"",{"$f":"IF(AND(CE38=\"Yes\",CE37=\"\",CE36=\"\",CE35=\"\"),\"Yes\",\"\")","v":""},"",{"$f":"IF(AND(CG38=\"Yes\",CG37=\"\",CG36=\"\",CG35=\"\"),\"Yes\",\"\")","v":""},"",{"$f":"IF(AND(CI38=\"Yes\",CI37=\"\",CI36=\"\",CI35=\"\"),\"Yes\",\"\")","v":""},"",{"$f":"IF(AND(CK38=\"Yes\",CK37=\"\",CK36=\"\",CK35=\"\"),\"Yes\",\"\")","v":""},"",{"$f":"IF(AND(CM38=\"Yes\",CM37=\"\",CM36=\"\",CM35=\"\"),\"Yes\",\"\")","v":""},"",{"$f":"IF(AND(CO38=\"Yes\",CO37=\"\",CO36=\"\",CO35=\"\"),\"Yes\",\"\")","v":""},"",{"$f":"IF(AND(CQ38=\"Yes\",CQ37=\"\",CQ36=\"\",CQ35=\"\"),\"Yes\",\"\")","v":""},"",{"$f":"IF(AND(CS38=\"Yes\",CS37=\"\",CS36=\"\",CS35=\"\"),\"Yes\",\"\")","v":""},"",{"$f":"IF(AND(CU38=\"Yes\",CU37=\"\",CU36=\"\",CU35=\"\"),\"Yes\",\"\")","v":""},"",{"$f":"IF(AND(CW38=\"Yes\",CW37=\"\",CW36=\"\",CW35=\"\"),\"Yes\",\"\")","v":""},"",{"$f":"IF(AND(CY38=\"Yes\",CY37=\"\",CY36=\"\",CY35=\"\"),\"Yes\",\"\")","v":""},"",{"$f":"IF(AND(DA38=\"Yes\",DA37=\"\",DA36=\"\",DA35=\"\"),\"Yes\",\"\")","v":""},"","","",{"$f":"IF(AND(DE38=\"Yes\",DE37=\"\",DE36=\"\",DE35=\"\"),\"Yes\",\"\")","v":""},"",{"$f":"IF(AND(DG38=\"Yes\",DG37=\"\",DG36=\"\",DG35=\"\"),\"Yes\",\"\")","v":""},{"$f":"IF(AND(N38>='Warrant 7 & 8 - MUTCD'!$L$16,OR('Traffic Volume Input'!O38>='Warrant 7 & 8 - MUTCD'!$N$16,'Traffic Volume Input'!P38>='Warrant 7 & 8 - MUTCD'!$N$16)),\"Yes\",\"\")","v":""},"","",{"$f":"IF(AND(DK38=\"Yes\",DK37=\"\",DK36=\"\",DK35=\"\"),\"Yes\",\"\")","v":""},"",{"$f":"IF(AND(DM38=\"Yes\",DM37=\"\",DM36=\"\",DM35=\"\"),\"Yes\",\"\")","v":""},"",{"$f":"IF(AND(DO38=\"Yes\",DO37=\"\",DO36=\"\",DO35=\"\"),\"Yes\",\"\")","v":""},"",{"$f":"IF(AND(DQ38=\"Yes\",DQ37=\"\",DQ36=\"\",DQ35=\"\"),\"Yes\",\"\")","v":""},"",{"$f":"IF(AND(DS38=\"Yes\",DS37=\"\",DS36=\"\",DS35=\"\"),\"Yes\",\"\")","v":""},"",{"$f":"IF(AND(DU38=\"Yes\",DU37=\"\",DU36=\"\",DU35=\"\"),\"Yes\",\"\")","v":""},"",{"$f":"IF(AND(DW38=\"Yes\",DW37=\"\",DW36=\"\",DW35=\"\"),\"Yes\",\"\")","v":""},"",{"$f":"IF(AND(DY38=\"Yes\",DY37=\"\",DY36=\"\",DY35=\"\"),\"Yes\",\"\")","v":""},"",{"$f":"IF(AND(EA38=\"Yes\",EA37=\"\",EA36=\"\",EA35=\"\"),\"Yes\",\"\")","v":""},"",{"$f":"IF(AND(EC38=\"Yes\",EC37=\"\",EC36=\"\",EC35=\"\"),\"Yes\",\"\")","v":""},"",{"$f":"IF(AND(EE38=\"Yes\",EE37=\"\",EE36=\"\",EE35=\"\"),\"Yes\",\"\")","v":""},"",{"$f":"IF(AND(EG38=\"Yes\",EG37=\"\",EG36=\"\",EG35=\"\"),\"Yes\",\"\")","v":""},"",{"$f":"IF(AND(EI38=\"Yes\",EI37=\"\",EI36=\"\",EI35=\"\"),\"Yes\",\"\")","v":""},"",{"$f":"IF(AND(EK38=\"Yes\",EK37=\"\",EK36=\"\",EK35=\"\"),\"Yes\",\"\")","v":""},"",{"$f":"IF(AND(EM38=\"Yes\",EM37=\"\",EM36=\"\",EM35=\"\"),\"Yes\",\"\")","v":""},"",{"$f":"IF(AND(EO38=\"Yes\",EO37=\"\",EO36=\"\",EO35=\"\"),\"Yes\",\"\")","v":""},"",{"$f":"IF(AND(EQ38=\"Yes\",EQ37=\"\",EQ36=\"\",EQ35=\"\"),\"Yes\",\"\")","v":""},"",{"$f":"IF(AND(ES38=\"Yes\",ES37=\"\",ES36=\"\",ES35=\"\"),\"Yes\",\"\")","v":""},"",{"$f":"IF(AND(EU38=\"Yes\",EU37=\"\",EU36=\"\",EU35=\"\"),\"Yes\",\"\")","v":""},"",{"$f":"IF(AND(EW38=\"Yes\",EW37=\"\",EW36=\"\",EW35=\"\"),\"Yes\",\"\")","v":""},"","","",{"$f":"IF(AND(FA38=\"Yes\",FA37=\"\",FA36=\"\",FA35=\"\"),\"Yes\",\"\")","v":""},"","",{"$f":"IF(AND(N38>='Warrant 7 & 8 - MUTCD'!$L$25,OR('Traffic Volume Input'!O38>='Warrant 7 & 8 - MUTCD'!$N$25,'Traffic Volume Input'!P38>='Warrant 7 & 8 - MUTCD'!$N$25)),\"Yes\",\"\")","v":""},"","",{"$f":"IF(AND(FG38=\"Yes\",FG37=\"\",FG36=\"\",FG35=\"\"),\"Yes\",\"\")","v":""},"",{"$f":"IF(AND(FI38=\"Yes\",FI37=\"\",FI36=\"\",FI35=\"\"),\"Yes\",\"\")","v":""},"",{"$f":"IF(AND(FK38=\"Yes\",FK37=\"\",FK36=\"\",FK35=\"\"),\"Yes\",\"\")","v":""},"",{"$f":"IF(AND(FM38=\"Yes\",FM37=\"\",FM36=\"\",FM35=\"\"),\"Yes\",\"\")","v":""},"",{"$f":"IF(AND(FO38=\"Yes\",FO37=\"\",FO36=\"\",FO35=\"\"),\"Yes\",\"\")","v":""},"",{"$f":"IF(AND(FQ38=\"Yes\",FQ37=\"\",FQ36=\"\",FQ35=\"\"),\"Yes\",\"\")","v":""},"",{"$f":"IF(AND(FS38=\"Yes\",FS37=\"\",FS36=\"\",FS35=\"\"),\"Yes\",\"\")","v":""},"",{"$f":"IF(AND(FU38=\"Yes\",FU37=\"\",FU36=\"\",FU35=\"\"),\"Yes\",\"\")","v":""},"",{"$f":"IF(AND(FW38=\"Yes\",FW37=\"\",FW36=\"\",FW35=\"\"),\"Yes\",\"\")","v":""},"",{"$f":"IF(AND(FY38=\"Yes\",FY37=\"\",FY36=\"\",FY35=\"\"),\"Yes\",\"\")","v":""},"",{"$f":"IF(AND(GA38=\"Yes\",GA37=\"\",GA36=\"\",GA35=\"\"),\"Yes\",\"\")","v":""},"",{"$f":"IF(AND(GC38=\"Yes\",GC37=\"\",GC36=\"\",GC35=\"\"),\"Yes\",\"\")","v":""},"",{"$f":"IF(AND(GE38=\"Yes\",GE37=\"\",GE36=\"\",GE35=\"\"),\"Yes\",\"\")","v":""},"",{"$f":"IF(AND(GG38=\"Yes\",GG37=\"\",GG36=\"\",GG35=\"\"),\"Yes\",\"\")","v":""},"",{"$f":"IF(AND(GI38=\"Yes\",GI37=\"\",GI36=\"\",GI35=\"\"),\"Yes\",\"\")","v":""},"",{"$f":"IF(AND(GK38=\"Yes\",GK37=\"\",GK36=\"\",GK35=\"\"),\"Yes\",\"\")","v":""},"",{"$f":"IF(AND(GM38=\"Yes\",GM37=\"\",GM36=\"\",GM35=\"\"),\"Yes\",\"\")","v":""},"",{"$f":"IF(AND(GO38=\"Yes\",GO37=\"\",GO36=\"\",GO35=\"\"),\"Yes\",\"\")","v":""},"",{"$f":"IF(AND(GQ38=\"Yes\",GQ37=\"\",GQ36=\"\",GQ35=\"\"),\"Yes\",\"\")","v":""},"",{"$f":"IF(AND(GS38=\"Yes\",GS37=\"\",GS36=\"\",GS35=\"\"),\"Yes\",\"\")","v":""},"","","",{"$f":"IF(AND(GW38=\"Yes\",GW37=\"\",GW36=\"\",GW35=\"\"),\"Yes\",\"\")","v":""},"",""]
["08:15:00","08:29:00",null,null,0,null,null,null,null,"08:15:00","09:14:00",0,0,0,0,0,{"$f":"IF(AND(N39>='Warrant 1 - MUTCD'!$M$23,OR('Traffic Volume Input'!O39>='Warrant 1 - MUTCD'!$Q$23,'Traffic Volume Input'!P39>='Warrant 1 - MUTCD'!$Q$23)),\"Yes\",\"\")","v":""},"","","","","","",{"$f":"IF(AND(W39=\"Yes\",W38=\"\",W37=\"\",W36=\"\"),\"Yes\",\"\")","v":""},"",{"$f":"IF(AND(Y39=\"Yes\",Y38=\"\",Y37=\"\",Y36=\"\"),\"Yes\",\"\")","v":""},"",{"$f":"IF(AND(AA39=\"Yes\",AA38=\"\",AA37=\"\",AA36=\"\"),\"Yes\",\"\")","v":""},"",{"$f":"IF(AND(AC39=\"Yes\",AC38=\"\",AC37=\"\",AC36=\"\"),\"Yes\",\"\")","v":""},"",{"$f":"IF(AND(AE39=\"Yes\",AE38=\"\",AE37=\"\",AE36=\"\"),\"Yes\",\"\")","v":""},"",{"$f":"IF(AND(AG39=\"Yes\",AG38=\"\",AG37=\"\",AG36=\"\"),\"Yes\",\"\")","v":""},"",{"$f":"IF(AND(AI39=\"Yes\",AI38=\"\",AI37=\"\",AI36=\"\"),\"Yes\",\"\")","v":""},"",{"$f":"IF(AND(AK39=\"Yes\",AK38=\"\",AK37=\"\",AK36=\"\"),\"Yes\",\"\")","v":""},"",{"$f":"IF(AND(AM39=\"Yes\",AM38=\"\",AM37=\"\",AM36=\"\"),\"Yes\",\"\")","v":""},"",{"$f":"IF(AND(AO39=\"Yes\",AO38=\"\",AO37=\"\",AO36=\"\"),\"Yes\",\"\")","v":""},"",{"$f":"IF(AND(AQ39=\"Yes\",AQ38=\"\",AQ37=\"\",AQ36=\"\"),\"Yes\",\"\")","v":""},"",{"$f":"IF(AND(AS39=\"Yes\",AS38=\"\",AS37=\"\",AS36=\"\"),\"Yes\",\"\")","v":""},"",{"$f":"IF(AND(AU39=\"Yes\",AU38=\"\",AU37=\"\",AU36=\"\"),\"Yes\",\"\")","v":""},"",{"$f":"IF(AND(AW39=\"Yes\",AW38=\"\",AW37=\"\",AW36=\"\"),\"Yes\",\"\")","v":""},"",{"$f":"IF(AND(AY39=\"Yes\",AY38=\"\",AY37=\"\",AY36=\"\"),\"Yes\",\"\")","v":""},"",{"$f":"IF(AND(BA39=\"Yes\",BA38=\"\",BA37=\"\",BA36=\"\"),\"Yes\",\"\")","v":""},"",{"$f":"IF(AND(BC39=\"Yes\",BC38=\"\",BC37=\"\",BC36=\"\"),\"Yes\",\"\")","v":""},"",{"$f":"IF(AND(BE39=\"Yes\",BE38=\"\",BE37=\"\",BE36=\"\"),\"Yes\",\"\")","v":""},"",{"$f":"IF(AND(BG39=\"Yes\",BG38=\"\",BG37=\"\",BG36=\"\"),\"Yes\",\"\")","v":""},"",{"$f":"IF(AND(BI39=\"Yes\",BI38=\"\",BI37=\"\",BI36=\"\"),\"Yes\",\"\")","v":""},"","",{"$f":"IF(AND(N39>='Warrant 1 - MUTCD'!$M$32,OR('Traffic Volume Input'!O39>='Warrant 1 - MUTCD'!$Q$32,'Traffic Volume Input'!P39>='Warrant 1 - MUTCD'!$Q$32)),\"Yes\",\"\")","v":""},"","",{"$f":"IF(AND(BO39=\"Yes\",BO38=\"\",BO37=\"\",BO36=\"\"),\"Yes\",\"\")","v":""},"",{"$f":"IF(AND(BQ39=\"Yes\",BQ38=\"\",BQ37=\"\",BQ36=\"\"),\"Yes\",\"\")","v":""},"",{"$f":"IF(AND(BS39=\"Yes\",BS38=\"\",BS37=\"\",BS36=\"\"),\"Yes\",\"\")","v":""},"",{"$f":"IF(AND(BU39=\"Yes\",BU38=\"\",BU37=\"\",BU36=\"\"),\"Yes\",\"\")","v":""},"",{"$f":"IF(AND(BW39=\"Yes\",BW38=\"\",BW37=\"\",BW36=\"\"),\"Yes\",\"\")","v":""},"",{"$f":"IF(AND(BY39=\"Yes\",BY38=\"\",BY37=\"\",BY36=\"\"),\"Yes\",\"\")","v":""},"",{"$f":"IF(AND(CA39=\"Yes\",CA38=\"\",CA37=\"\",CA36=\"\"),\"Yes\",\"\")","v":""},"",{"$f":"IF(AND(CC39=\"Yes\",CC38=\"\",CC37=\"\",CC36=\"\"),\"Yes\",\"\")","v":""},"",{"$f":"IF(AND(CE39=\"Yes\",CE38=\"\",CE37=\"\",CE36=\"\"),\"Yes\",\"\")","v":""},"",{"$f":"IF(AND(CG39=\"Yes\",CG38=\"\",CG37=\"\",CG36=\"\"),\"Yes\",\"\")","v":""},"",{"$f":"IF(AND(CI39=\"Yes\",CI38=\"\",CI37=\"\",CI36=\"\"),\"Yes\",\"\")","v":""},"",{"$f":"IF(AND(CK39=\"Yes\",CK38=\"\",CK37=\"\",CK36=\"\"),\"Yes\",\"\")","v":""},"",{"$f":"IF(AND(CM39=\"Yes\",CM38=\"\",CM37=\"\",CM36=\"\"),\"Yes\",\"\")","v":""},"",{"$f":"IF(AND(CO39=\"Yes\",CO38=\"\",CO37=\"\",CO36=\"\"),\"Yes\",\"\")","v":""},"",{"$f":"IF(AND(CQ39=\"Yes\",CQ38=\"\",CQ37=\"\",CQ36=\"\"),\"Yes\",\"\")","v":""},"",{"$f":"IF(AND(CS39=\"Yes\",CS38=\"\",CS37=\"\",CS36=\"\"),\"Yes\",\"\")","v":""},"",{"$f":"IF(AND(CU39=\"Yes\",CU38=\"\",CU37=\"\",CU36=\"\"),\"Yes\",\"\")","v":""},"",{"$f":"IF(AND(CW39=\"Yes\",CW38=\"\",CW37=\"\",CW36=\"\"),\"Yes\",\"\")","v":""},"",{"$f":"IF(AND(CY39=\"Yes\",CY38=\"\",CY37=\"\",CY36=\"\"),\"Yes\",\"\")","v":""},"",{"$f":"IF(AND(DA39=\"Yes\",DA38=\"\",DA37=\"\",DA36=\"\"),\"Yes\",\"\")","v":""},"","","",{"$f":"IF(AND(DE39=\"Yes\",DE38=\"\",DE37=\"\",DE36=\"\"),\"Yes\",\"\")","v":""},"",{"$f":"IF(AND(DG39=\"Yes\",DG38=\"\",DG37=\"\",DG36=\"\"),\"Yes\",\"\")","v":""},{"$f":"IF(AND(N39>='Warrant 7 & 8 - MUTCD'!$L$16,OR('Traffic Volume Input'!O39>='Warrant 7 & 8 - MUTCD'!$N$16,'Traffic Volume Input'!P39>='Warrant 7 & 8 - MUTCD'!$N$16)),\"Yes\",\"\")","v":""},"","",{"$f":"IF(AND(DK39=\"Yes\",DK38=\"\",DK37=\"\",DK36=\"\"),\"Yes\",\"\")","v":""},"",{"$f":"IF(AND(DM39=\"Yes\",DM38=\"\",DM37=\"\",DM36=\"\"),\"Yes\",\"\")","v":""},"",{"$f":"IF(AND(DO39=\"Yes\",DO38=\"\",DO37=\"\",DO36=\"\"),\"Yes\",\"\")","v":""},"",{"$f":"IF(AND(DQ39=\"Yes\",DQ38=\"\",DQ37=\"\",DQ36=\"\"),\"Yes\",\"\")","v":""},"",{"$f":"IF(AND(DS39=\"Yes\",DS38=\"\",DS37=\"\",DS36=\"\"),\"Yes\",\"\")","v":""},"",{"$f":"IF(AND(DU39=\"Yes\",DU38=\"\",DU37=\"\",DU36=\"\"),\"Yes\",\"\")","v":""},"",{"$f":"IF(AND(DW39=\"Yes\",DW38=\"\",DW37=\"\",DW36=\"\"),\"Yes\",\"\")","v":""},"",{"$f":"IF(AND(DY39=\"Yes\",DY38=\"\",DY37=\"\",DY36=\"\"),\"Yes\",\"\")","v":""},"",{"$f":"IF(AND(EA39=\"Yes\",EA38=\"\",EA37=\"\",EA36=\"\"),\"Yes\",\"\")","v":""},"",{"$f":"IF(AND(EC39=\"Yes\",EC38=\"\",EC37=\"\",EC36=\"\"),\"Yes\",\"\")","v":""},"",{"$f":"IF(AND(EE39=\"Yes\",EE38=\"\",EE37=\"\",EE36=\"\"),\"Yes\",\"\")","v":""},"",{"$f":"IF(AND(EG39=\"Yes\",EG38=\"\",EG37=\"\",EG36=\"\"),\"Yes\",\"\")","v":""},"",{"$f":"IF(AND(EI39=\"Yes\",EI38=\"\",EI37=\"\",EI36=\"\"),\"Yes\",\"\")","v":""},"",{"$f":"IF(AND(EK39=\"Yes\",EK38=\"\",EK37=\"\",EK36=\"\"),\"Yes\",\"\")","v":""},"",{"$f":"IF(AND(EM39=\"Yes\",EM38=\"\",EM37=\"\",EM36=\"\"),\"Yes\",\"\")","v":""},"",{"$f":"IF(AND(EO39=\"Yes\",EO38=\"\",EO37=\"\",EO36=\"\"),\"Yes\",\"\")","v":""},"",{"$f":"IF(AND(EQ39=\"Yes\",EQ38=\"\",EQ37=\"\",EQ36=\"\"),\"Yes\",\"\")","v":""},"",{"$f":"IF(AND(ES39=\"Yes\",ES38=\"\",ES37=\"\",ES36=\"\"),\"Yes\",\"\")","v":""},"",{"$f":"IF(AND(EU39=\"Yes\",EU38=\"\",EU37=\"\",EU36=\"\"),\"Yes\",\"\")","v":""},"",{"$f":"IF(AND(EW39=\"Yes\",EW38=\"\",EW37=\"\",EW36=\"\"),\"Yes\",\"\")","v":""},"","","",{"$f":"IF(AND(FA39=\"Yes\",FA38=\"\",FA37=\"\",FA36=\"\"),\"Yes\",\"\")","v":""},"","",{"$f":"IF(AND(N39>='Warrant 7 & 8 - MUTCD'!$L$25,OR('Traffic Volume Input'!O39>='Warrant 7 & 8 - MUTCD'!$N$25,'Traffic Volume Input'!P39>='Warrant 7 & 8 - MUTCD'!$N$25)),\"Yes\",\"\")","v":""},"","",{"$f":"IF(AND(FG39=\"Yes\",FG38=\"\",FG37=\"\",FG36=\"\"),\"Yes\",\"\")","v":""},"",{"$f":"IF(AND(FI39=\"Yes\",FI38=\"\",FI37=\"\",FI36=\"\"),\"Yes\",\"\")","v":""},"",{"$f":"IF(AND(FK39=\"Yes\",FK38=\"\",FK37=\"\",FK36=\"\"),\"Yes\",\"\")","v":""},"",{"$f":"IF(AND(FM39=\"Yes\",FM38=\"\",FM37=\"\",FM36=\"\"),\"Yes\",\"\")","v":""},"",{"$f":"IF(AND(FO39=\"Yes\",FO38=\"\",FO37=\"\",FO36=\"\"),\"Yes\",\"\")","v":""},"",{"$f":"IF(AND(FQ39=\"Yes\",FQ38=\"\",FQ37=\"\",FQ36=\"\"),\"Yes\",\"\")","v":""},"",{"$f":"IF(AND(FS39=\"Yes\",FS38=\"\",FS37=\"\",FS36=\"\"),\"Yes\",\"\")","v":""},"",{"$f":"IF(AND(FU39=\"Yes\",FU38=\"\",FU37=\"\",FU36=\"\"),\"Yes\",\"\")","v":""},"",{"$f":"IF(AND(FW39=\"Yes\",FW38=\"\",FW37=\"\",FW36=\"\"),\"Yes\",\"\")","v":""},"",{"$f":"IF(AND(FY39=\"Yes\",FY38=\"\",FY37=\"\",FY36=\"\"),\"Yes\",\"\")","v":""},"",{"$f":"IF(AND(GA39=\"Yes\",GA38=\"\",GA37=\"\",GA36=\"\"),\"Yes\",\"\")","v":""},"",{"$f":"IF(AND(GC39=\"Yes\",GC38=\"\",GC37=\"\",GC36=\"\"),\"Yes\",\"\")","v":""},"",{"$f":"IF(AND(GE39=\"Yes\",GE38=\"\",GE37=\"\",GE36=\"\"),\"Yes\",\"\")","v":""},"",{"$f":"IF(AND(GG39=\"Yes\",GG38=\"\",GG37=\"\",GG36=\"\"),\"Yes\",\"\")","v":""},"",{"$f":"IF(AND(GI39=\"Yes\",GI38=\"\",GI37=\"\",GI36=\"\"),\"Yes\",\"\")","v":""},"",{"$f":"IF(AND(GK39=\"Yes\",GK38=\"\",GK37=\"\",GK36=\"\"),\"Yes\",\"\")","v":""},"",{"$f":"IF(AND(GM39=\"Yes\",GM38=\"\",GM37=\"\",GM36=\"\"),\"Yes\",\"\")","v":""},"",{"$f":"IF(AND(GO39=\"Yes\",GO38=\"\",GO37=\"\",GO36=\"\"),\"Yes\",\"\")","v":""},"",{"$f":"IF(AND(GQ39=\"Yes\",GQ38=\"\",GQ37=\"\",GQ36=\"\"),\"Yes\",\"\")","v":""},"",{"$f":"IF(AND(GS39=\"Yes\",GS38=\"\",GS37=\"\",GS36=\"\"),\"Yes\",\"\")","v":""},"","","",{"$f":"IF(AND(GW39=\"Yes\",GW38=\"\",GW37=\"\",GW36=\"\"),\"Yes\",\"\")","v":""},"",""]
["08:30:00","08:44:00",null,null,0,null,null,null,null,"08:30:00","09:29:00",0,0,0,0,0,{"$f":"IF(AND(N40>='Warrant 1 - MUTCD'!$M$23,OR('Traffic Volume Input'!O40>='Warrant 1 - MUTCD'!$Q$23,'Traffic Volume Input'!P40>='Warrant 1 - MUTCD'!$Q$23)),\"Yes\",\"\")","v":""},"","","","","","",{"$f":"IF(AND(W40=\"Yes\",W39=\"\",W38=\"\",W37=\"\"),\"Yes\",\"\")","v":""},"",{"$f":"IF(AND(Y40=\"Yes\",Y39=\"\",Y38=\"\",Y37=\"\"),\"Yes\",\"\")","v":""},"",{"$f":"IF(AND(AA40=\"Yes\",AA39=\"\",AA38=\"\",AA37=\"\"),\"Yes\",\"\")","v":""},"",{"$f":"IF(AND(AC40=\"Yes\",AC39=\"\",AC38=\"\",AC37=\"\"),\"Yes\",\"\")","v":""},"",{"$f":"IF(AND(AE40=\"Yes\",AE39=\"\",AE38=\"\",AE37=\"\"),\"Yes\",\"\")","v":""},"",{"$f":"IF(AND(AG40=\"Yes\",AG39=\"\",AG38=\"\",AG37=\"\"),\"Yes\",\"\")","v":""},"",{"$f":"IF(AND(AI40=\"Yes\",AI39=\"\",AI38=\"\",AI37=\"\"),\"Yes\",\"\")","v":""},"",{"$f":"IF(AND(AK40=\"Yes\",AK39=\"\",AK38=\"\",AK37=\"\"),\"Yes\",\"\")","v":""},"",{"$f":"IF(AND(AM40=\"Yes\",AM39=\"\",AM38=\"\",AM37=\"\"),\"Yes\",\"\")","v":""},"",{"$f":"IF(AND(AO40=\"Yes\",AO39=\"\",AO38=\"\",AO37=\"\"),\"Yes\",\"\")","v":""},"",{"$f":"IF(AND(AQ40=\"Yes\",AQ39=\"\",AQ38=\"\",AQ37=\"\"),\"Yes\",\"\")","v":""},"",{"$f":"IF(AND(AS40=\"Yes\",AS39=\"\",AS38=\"\",AS37=\"\"),\"Yes\",\"\")","v":""},"",{"$f":"IF(AND(AU40=\"Yes\",AU39=\"\",AU38=\"\",AU37=\"\"),\"Yes\",\"\")","v":""},"",{"$f":"IF(AND(AW40=\"Yes\",AW39=\"\",AW38=\"\",AW37=\"\"),\"Yes\",\"\")","v":""},"",{"$f":"IF(AND(AY40=\"Yes\",AY39=\"\",AY38=\"\",AY37=\"\"),\"Yes\",\"\")","v":""},"",{"$f":"IF(AND(BA40=\"Yes\",BA39=\"\",BA38=\"\",BA37=\"\"),\"Yes\",\"\")","v":""},"",{"$f":"IF(AND(BC40=\"Yes\",BC39=\"\",BC38=\"\",BC37=\"\"),\"Yes\",\"\")","v":""},"",{"$f":"IF(AND(BE40=\"Yes\",BE39=\"\",BE38=\"\",BE37=\"\"),\"Yes\",\"\")","v":""},"",{"$f":"IF(AND(BG40=\"Yes\",BG39=\"\",BG38=\"\",BG37=\"\"),\"Yes\",\"\")","v":""},"",{"$f":"IF(AND(BI40=\"Yes\",BI39=\"\",BI38=\"\",BI37=\"\"),\"Yes\",\"\")","v":""},"","",{"$f":"IF(AND(N40>='Warrant 1 - MUTCD'!$M$32,OR('Traffic Volume Input'!O40>='Warrant 1 - MUTCD'!$Q$32,'Traffic Volume Input'!P40>='Warrant 1 - MUTCD'!$Q$32)),\"Yes\",\"\")","v":""},"","",{"$f":"IF(AND(BO40=\"Yes\",BO39=\"\",BO38=\"\",BO37=\"\"),\"Yes\",\"\")","v":""},"",{"$f":"IF(AND(BQ40=\"Yes\",BQ39=\"\",BQ38=\"\",BQ37=\"\"),\"Yes\",\"\")","v":""},"",{"$f":"IF(AND(BS40=\"Yes\",BS39=\"\",BS38=\"\",BS37=\"\"),\"Yes\",\"\")","v":""},"",{"$f":"IF(AND(BU40=\"Yes\",BU39=\"\",BU38=\"\",BU37=\"\"),\"Yes\",\"\")","v":""},"",{"$f":"IF(AND(BW40=\"Yes\",BW39=\"\",BW38=\"\",BW37=\"\"),\"Yes\",\"\")","v":""},"",{"$f":"IF(AND(BY40=\"Yes\",BY39=\"\",BY38=\"\",BY37=\"\"),\"Yes\",\"\")","v":""},"",{"$f":"IF(AND(CA40=\"Yes\",CA39=\"\",CA38=\"\",CA37=\"\"),\"Yes\",\"\")","v":""},"",{"$f":"IF(AND(CC40=\"Yes\",CC39=\"\",CC38=\"\",CC37=\"\"),\"Yes\",\"\")","v":""},"",{"$f":"IF(AND(CE40=\"Yes\",CE39=\"\",CE38=\"\",CE37=\"\"),\"Yes\",\"\")","v":""},"",{"$f":"IF(AND(CG40=\"Yes\",CG39=\"\",CG38=\"\",CG37=\"\"),\"Yes\",\"\")","v":""},"",{"$f":"IF(AND(CI40=\"Yes\",CI39=\"\",CI38=\"\",CI37=\"\"),\"Yes\",\"\")","v":""},"",{"$f":"IF(AND(CK40=\"Yes\",CK39=\"\",CK38=\"\",CK37=\"\"),\"Yes\",\"\")","v":""},"",{"$f":"IF(AND(CM40=\"Yes\",CM39=\"\",CM38=\"\",CM37=\"\"),\"Yes\",\"\")","v":""},"",{"$f":"IF(AND(CO40=\"Yes\",CO39=\"\",CO38=\"\",CO37=\"\"),\"Yes\",\"\")","v":""},"",{"$f":"IF(AND(CQ40=\"Yes\",CQ39=\"\",CQ38=\"\",CQ37=\"\"),\"Yes\",\"\")","v":""},"",{"$f":"IF(AND(CS40=\"Yes\",CS39=\"\",CS38=\"\",CS37=\"\"),\"Yes\",\"\")","v":""},"",{"$f":"IF(AND(CU40=\"Yes\",CU39=\"\",CU38=\"\",CU37=\"\"),\"Yes\",\"\")","v":""},"",{"$f":"IF(AND(CW40=\"Yes\",CW39=\"\",CW38=\"\",CW37=\"\"),\"Yes\",\"\")","v":""},"",{"$f":"IF(AND(CY40=\"Yes\",CY39=\"\",CY38=\"\",CY37=\"\"),\"Yes\",\"\")","v":""},"",{"$f":"IF(AND(DA40=\"Yes\",DA39=\"\",DA38=\"\",DA37=\"\"),\"Yes\",\"\")","v":""},"","","",{"$f":"IF(AND(DE40=\"Yes\",DE39=\"\",DE38=\"\",DE37=\"\"),\"Yes\",\"\")","v":""},"",{"$f":"IF(AND(DG40=\"Yes\",DG39=\"\",DG38=\"\",DG37=\"\"),\"Yes\",\"\")","v":""},{"$f":"IF(AND(N40>='Warrant 7 & 8 - MUTCD'!$L$16,OR('Traffic Volume Input'!O40>='Warrant 7 & 8 - MUTCD'!$N$16,'Traffic Volume Input'!P40>='Warrant 7 & 8 - MUTCD'!$N$16)),\"Yes\",\"\")","v":""},"","",{"$f":"IF(AND(DK40=\"Yes\",DK39=\"\",DK38=\"\",DK37=\"\"),\"Yes\",\"\")","v":""},"",{"$f":"IF(AND(DM40=\"Yes\",DM39=\"\",DM38=\"\",DM37=\"\"),\"Yes\",\"\")","v":""},"",{"$f":"IF(AND(DO40=\"Yes\",DO39=\"\",DO38=\"\",DO37=\"\"),\"Yes\",\"\")","v":""},"",{"$f":"IF(AND(DQ40=\"Yes\",DQ39=\"\",DQ38=\"\",DQ37=\"\"),\"Yes\",\"\")","v":""},"",{"$f":"IF(AND(DS40=\"Yes\",DS39=\"\",DS38=\"\",DS37=\"\"),\"Yes\",\"\")","v":""},"",{"$f":"IF(AND(DU40=\"Yes\",DU39=\"\",DU38=\"\",DU37=\"\"),\"Yes\",\"\")","v":""},"",{"$f":"IF(AND(DW40=\"Yes\",DW39=\"\",DW38=\"\",DW37=\"\"),\"Yes\",\"\")","v":""},"",{"$f":"IF(AND(DY40=\"Yes\",DY39=\"\",DY38=\"\",DY37=\"\"),\"Yes\",\"\")","v":""},"",{"$f":"IF(AND(EA40=\"Yes\",EA39=\"\",EA38=\"\",EA37=\"\"),\"Yes\",\"\")","v":""},"",{"$f":"IF(AND(EC40=\"Yes\",EC39=\"\",EC38=\"\",EC37=\"\"),\"Yes\",\"\")","v":""},"",{"$f":"IF(AND(EE40=\"Yes\",EE39=\"\",EE38=\"\",EE37=\"\"),\"Yes\",\"\")","v":""},"",{"$f":"IF(AND(EG40=\"Yes\",EG39=\"\",EG38=\"\",EG37=\"\"),\"Yes\",\"\")","v":""},"",{"$f":"IF(AND(EI40=\"Yes\",EI39=\"\",EI38=\"\",EI37=\"\"),\"Yes\",\"\")","v":""},"",{"$f":"IF(AND(EK40=\"Yes\",EK39=\"\",EK38=\"\",EK37=\"\"),\"Yes\",\"\")","v":""},"",{"$f":"IF(AND(EM40=\"Yes\",EM39=\"\",EM38=\"\",EM37=\"\"),\"Yes\",\"\")","v":""},"",{"$f":"IF(AND(EO40=\"Yes\",EO39=\"\",EO38=\"\",EO37=\"\"),\"Yes\",\"\")","v":""},"",{"$f":"IF(AND(EQ40=\"Yes\",EQ39=\"\",EQ38=\"\",EQ37=\"\"),\"Yes\",\"\")","v":""},"",{"$f":"IF(AND(ES40=\"Yes\",ES39=\"\",ES38=\"\",ES37=\"\"),\"Yes\",\"\")","v":""},"",{"$f":"IF(AND(EU40=\"Yes\",EU39=\"\",EU38=\"\",EU37=\"\"),\"Yes\",\"\")","v":""},"",{"$f":"IF(AND(EW40=\"Yes\",EW39=\"\",EW38=\"\",EW37=\"\"),\"Yes\",\"\")","v":""},"","","",{"$f":"IF(AND(FA40=\"Yes\",FA39=\"\",FA38=\"\",FA37=\"\"),\"Yes\",\"\")","v":""},"","",{"$f":"IF(AND(N40>='Warrant 7 & 8 - MUTCD'!$L$25,OR('Traffic Volume Input'!O40>='Warrant 7 & 8 - MUTCD'!$N$25,'Traffic Volume Input'!P40>='Warrant 7 & 8 - MUTCD'!$N$25)),\"Yes\",\"\")","v":""},"","",{"$f":"IF(AND(FG40=\"Yes\",FG39=\"\",FG38=\"\",FG37=\"\"),\"Yes\",\"\")","v":""},"",{"$f":"IF(AND(FI40=\"Yes\",FI39=\"\",FI38=\"\",FI37=\"\"),\"Yes\",\"\")","v":""},"",{"$f":"IF(AND(FK40=\"Yes\",FK39=\"\",FK38=\"\",FK37=\"\"),\"Yes\",\"\")","v":""},"",{"$f":"IF(AND(FM40=\"Yes\",FM39=\"\",FM38=\"\",FM37=\"\"),\"Yes\",\"\")","v":""},"",{"$f":"IF(AND(FO40=\"Yes\",FO39=\"\",FO38=\"\",FO37=\"\"),\"Yes\",\"\")","v":""},"",{"$f":"IF(AND(FQ40=\"Yes\",FQ39=\"\",FQ38=\"\",FQ37=\"\"),\"Yes\",\"\")","v":""},"",{"$f":"IF(AND(FS40=\"Yes\",FS39=\"\",FS38=\"\",FS37=\"\"),\"Yes\",\"\")","v":""},"",{"$f":"IF(AND(FU40=\"Yes\",FU39=\"\",FU38=\"\",FU37=\"\"),\"Yes\",\"\")","v":""},"",{"$f":"IF(AND(FW40=\"Yes\",FW39=\"\",FW38=\"\",FW37=\"\"),\"Yes\",\"\")","v":""},"",{"$f":"IF(AND(FY40=\"Yes\",FY39=\"\",FY38=\"\",FY37=\"\"),\"Yes\",\"\")","v":""},"",{"$f":"IF(AND(GA40=\"Yes\",GA39=\"\",GA38=\"\",GA37=\"\"),\"Yes\",\"\")","v":""},"",{"$f":"IF(AND(GC40=\"Yes\",GC39=\"\",GC38=\"\",GC37=\"\"),\"Yes\",\"\")","v":""},"",{"$f":"IF(AND(GE40=\"Yes\",GE39=\"\",GE38=\"\",GE37=\"\"),\"Yes\",\"\")","v":""},"",{"$f":"IF(AND(GG40=\"Yes\",GG39=\"\",GG38=\"\",GG37=\"\"),\"Yes\",\"\")","v":""},"",{"$f":"IF(AND(GI40=\"Yes\",GI39=\"\",GI38=\"\",GI37=\"\"),\"Yes\",\"\")","v":""},"",{"$f":"IF(AND(GK40=\"Yes\",GK39=\"\",GK38=\"\",GK37=\"\"),\"Yes\",\"\")","v":""},"",{"$f":"IF(AND(GM40=\"Yes\",GM39=\"\",GM38=\"\",GM37=\"\"),\"Yes\",\"\")","v":""},"",{"$f":"IF(AND(GO40=\"Yes\",GO39=\"\",GO38=\"\",GO37=\"\"),\"Yes\",\"\")","v":""},"",{"$f":"IF(AND(GQ40=\"Yes\",GQ39=\"\",GQ38=\"\",GQ37=\"\"),\"Yes\",\"\")","v":""},"",{"$f":"IF(AND(GS40=\"Yes\",GS39=\"\",GS38=\"\",GS37=\"\"),\"Yes\",\"\")","v":""},"","","",{"$f":"IF(AND(GW40=\"Yes\",GW39=\"\",GW38=\"\",GW37=\"\"),\"Yes\",\"\")","v":""},"",""]
["08:45:00","08:59:00",null,null,0,null,null,null,null,"08:45:00","09:44:00",0,0,0,0,0,{"$f":"IF(AND(N41>='Warrant 1 - MUTCD'!$M$23,OR('Traffic Volume Input'!O41>='Warrant 1 - MUTCD'!$Q$23,'Traffic Volume Input'!P41>='Warrant 1 - MUTCD'!$Q$23)),\"Yes\",\"\")","v":""},"","","","","","",{"$f":"IF(AND(W41=\"Yes\",W40=\"\",W39=\"\",W38=\"\"),\"Yes\",\"\")","v":""},"",{"$f":"IF(AND(Y41=\"Yes\",Y40=\"\",Y39=\"\",Y38=\"\"),\"Yes\",\"\")","v":""},"",{"$f":"IF(AND(AA41=\"Yes\",AA40=\"\",AA39=\"\",AA38=\"\"),\"Yes\",\"\")","v":""},"",{"$f":"IF(AND(AC41=\"Yes\",AC40=\"\",AC39=\"\",AC38=\"\"),\"Yes\",\"\")","v":""},"",{"$f":"IF(AND(AE41=\"Yes\",AE40=\"\",AE39=\"\",AE38=\"\"),\"Yes\",\"\")","v":""},"",{"$f":"IF(AND(AG41=\"Yes\",AG40=\"\",AG39=\"\",AG38=\"\"),\"Yes\",\"\")","v":""},"",{"$f":"IF(AND(AI41=\"Yes\",AI40=\"\",AI39=\"\",AI38=\"\"),\"Yes\",\"\")","v":""},"",{"$f":"IF(AND(AK41=\"Yes\",AK40=\"\",AK39=\"\",AK38=\"\"),\"Yes\",\"\")","v":""},"",{"$f":"IF(AND(AM41=\"Yes\",AM40=\"\",AM39=\"\",AM38=\"\"),\"Yes\",\"\")","v":""},"",{"$f":"IF(AND(AO41=\"Yes\",AO40=\"\",AO39=\"\",AO38=\"\"),\"Yes\",\"\")","v":""},"",{"$f":"IF(AND(AQ41=\"Yes\",AQ40=\"\",AQ39=\"\",AQ38=\"\"),\"Yes\",\"\")","v":""},"",{"$f":"IF(AND(AS41=\"Yes\",AS40=\"\",AS39=\"\",AS38=\"\"),\"Yes\",\"\")","v":""},"",{"$f":"IF(AND(AU41=\"Yes\",AU40=\"\",AU39=\"\",AU38=\"\"),\"Yes\",\"\")","v":""},"",{"$f":"IF(AND(AW41=\"Yes\",AW40=\"\",AW39=\"\",AW38=\"\"),\"Yes\",\"\")","v":""},"",{"$f":"IF(AND(AY41=\"Yes\",AY40=\"\",AY39=\"\",AY38=\"\"),\"Yes\",\"\")","v":""},"",{"$f":"IF(AND(BA41=\"Yes\",BA40=\"\",BA39=\"\",BA38=\"\"),\"Yes\",\"\")","v":""},"",{"$f":"IF(AND(BC41=\"Yes\",BC40=\"\",BC39=\"\",BC38=\"\"),\"Yes\",\"\")","v":""},"",{"$f":"IF(AND(BE41=\"Yes\",BE40=\"\",BE39=\"\",BE38=\"\"),\"Yes\",\"\")","v":""},"",{"$f":"IF(AND(BG41=\"Yes\",BG40=\"\",BG39=\"\",BG38=\"\"),\"Yes\",\"\")","v":""},"",{"$f":"IF(AND(BI41=\"Yes\",BI40=\"\",BI39=\"\",BI38=\"\"),\"Yes\",\"\")","v":""},"","",{"$f":"IF(AND(N41>='Warrant 1 - MUTCD'!$M$32,OR('Traffic Volume Input'!O41>='Warrant 1 - MUTCD'!$Q$32,'Traffic Volume Input'!P41>='Warrant 1 - MUTCD'!$Q$32)),\"Yes\",\"\")","v":""},"","",{"$f":"IF(AND(BO41=\"Yes\",BO40=\"\",BO39=\"\",BO38=\"\"),\"Yes\",\"\")","v":""},"",{"$f":"IF(AND(BQ41=\"Yes\",BQ40=\"\",BQ39=\"\",BQ38=\"\"),\"Yes\",\"\")","v":""},"",{"$f":"IF(AND(BS41=\"Yes\",BS40=\"\",BS39=\"\",BS38=\"\"),\"Yes\",\"\")","v":""},"",{"$f":"IF(AND(BU41=\"Yes\",BU40=\"\",BU39=\"\",BU38=\"\"),\"Yes\",\"\")","v":""},"",{"$f":"IF(AND(BW41=\"Yes\",BW40=\"\",BW39=\"\",BW38=\"\"),\"Yes\",\"\")","v":""},"",{"$f":"IF(AND(BY41=\"Yes\",BY40=\"\",BY39=\"\",BY38=\"\"),\"Yes\",\"\")","v":""},"",{"$f":"IF(AND(CA41=\"Yes\",CA40=\"\",CA39=\"\",CA38=\"\"),\"Yes\",\"\")","v":""},"",{"$f":"IF(AND(CC41=\"Yes\",CC40=\"\",CC39=\"\",CC38=\"\"),\"Yes\",\"\")","v":""},"",{"$f":"IF(AND(CE41=\"Yes\",CE40=\"\",CE39=\"\",CE38=\"\"),\"Yes\",\"\")","v":""},"",{"$f":"IF(AND(CG41=\"Yes\",CG40=\"\",CG39=\"\",CG38=\"\"),\"Yes\",\"\")","v":""},"",{"$f":"IF(AND(CI41=\"Yes\",CI40=\"\",CI39=\"\",CI38=\"\"),\"Yes\",\"\")","v":""},"",{"$f":"IF(AND(CK41=\"Yes\",CK40=\"\",CK39=\"\",CK38=\"\"),\"Yes\",\"\")","v":""},"",{"$f":"IF(AND(CM41=\"Yes\",CM40=\"\",CM39=\"\",CM38=\"\"),\"Yes\",\"\")","v":""},"",{"$f":"IF(AND(CO41=\"Yes\",CO40=\"\",CO39=\"\",CO38=\"\"),\"Yes\",\"\")","v":""},"",{"$f":"IF(AND(CQ41=\"Yes\",CQ40=\"\",CQ39=\"\",CQ38=\"\"),\"Yes\",\"\")","v":""},"",{"$f":"IF(AND(CS41=\"Yes\",CS40=\"\",CS39=\"\",CS38=\"\"),\"Yes\",\"\")","v":""},"",{"$f":"IF(AND(CU41=\"Yes\",CU40=\"\",CU39=\"\",CU38=\"\"),\"Yes\",\"\")","v":""},"",{"$f":"IF(AND(CW41=\"Yes\",CW40=\"\",CW39=\"\",CW38=\"\"),\"Yes\",\"\")","v":""},"",{"$f":"IF(AND(CY41=\"Yes\",CY40=\"\",CY39=\"\",CY38=\"\"),\"Yes\",\"\")","v":""},"",{"$f":"IF(AND(DA41=\"Yes\",DA40=\"\",DA39=\"\",DA38=\"\"),\"Yes\",\"\")","v":""},"","","",{"$f":"IF(AND(DE41=\"Yes\",DE40=\"\",DE39=\"\",DE38=\"\"),\"Yes\",\"\")","v":""},"",{"$f":"IF(AND(DG41=\"Yes\",DG40=\"\",DG39=\"\",DG38=\"\"),\"Yes\",\"\")","v":""},{"$f":"IF(AND(N41>='Warrant 7 & 8 - MUTCD'!$L$16,OR('Traffic Volume Input'!O41>='Warrant 7 & 8 - MUTCD'!$N$16,'Traffic Volume Input'!P41>='Warrant 7 & 8 - MUTCD'!$N$16)),\"Yes\",\"\")","v":""},"","",{"$f":"IF(AND(DK41=\"Yes\",DK40=\"\",DK39=\"\",DK38=\"\"),\"Yes\",\"\")","v":""},"",{"$f":"IF(AND(DM41=\"Yes\",DM40=\"\",DM39=\"\",DM38=\"\"),\"Yes\",\"\")","v":""},"",{"$f":"IF(AND(DO41=\"Yes\",DO40=\"\",DO39=\"\",DO38=\"\"),\"Yes\",\"\")","v":""},"",{"$f":"IF(AND(DQ41=\"Yes\",DQ40=\"\",DQ39=\"\",DQ38=\"\"),\"Yes\",\"\")","v":""},"",{"$f":"IF(AND(DS41=\"Yes\",DS40=\"\",DS39=\"\",DS38=\"\"),\"Yes\",\"\")","v":""},"",{"$f":"IF(AND(DU41=\"Yes\",DU40=\"\",DU39=\"\",DU38=\"\"),\"Yes\",\"\")","v":""},"",{"$f":"IF(AND(DW41=\"Yes\",DW40=\"\",DW39=\"\",DW38=\"\"),\"Yes\",\"\")","v":""},"",{"$f":"IF(AND(DY41=\"Yes\",DY40=\"\",DY39=\"\",DY38=\"\"),\"Yes\",\"\")","v":""},"",{"$f":"IF(AND(EA41=\"Yes\",EA40=\"\",EA39=\"\",EA38=\"\"),\"Yes\",\"\")","v":""},"",{"$f":"IF(AND(EC41=\"Yes\",EC40=\"\",EC39=\"\",EC38=\"\"),\"Yes\",\"\")","v":""},"",{"$f":"IF(AND(EE41=\"Yes\",EE40=\"\",EE39=\"\",EE38=\"\"),\"Yes\",\"\")","v":""},"",{"$f":"IF(AND(EG41=\"Yes\",EG40=\"\",EG39=\"\",EG38=\"\"),\"Yes\",\"\")","v":""},"",{"$f":"IF(AND(EI41=\"Yes\",EI40=\"\",EI39=\"\",EI38=\"\"),\"Yes\",\"\")","v":""},"",{"$f":"IF(AND(EK41=\"Yes\",EK40=\"\",EK39=\"\",EK38=\"\"),\"Yes\",\"\")","v":""},"",{"$f":"IF(AND(EM41=\"Yes\",EM40=\"\",EM39=\"\",EM38=\"\"),\"Yes\",\"\")","v":""},"",{"$f":"IF(AND(EO41=\"Yes\",EO40=\"\",EO39=\"\",EO38=\"\"),\"Yes\",\"\")","v":""},"",{"$f":"IF(AND(EQ41=\"Yes\",EQ40=\"\",EQ39=\"\",EQ38=\"\"),\"Yes\",\"\")","v":""},"",{"$f":"IF(AND(ES41=\"Yes\",ES40=\"\",ES39=\"\",ES38=\"\"),\"Yes\",\"\")","v":""},"",{"$f":"IF(AND(EU41=\"Yes\",EU40=\"\",EU39=\"\",EU38=\"\"),\"Yes\",\"\")","v":""},"",{"$f":"IF(AND(EW41=\"Yes\",EW40=\"\",EW39=\"\",EW38=\"\"),\"Yes\",\"\")","v":""},"","","",{"$f":"IF(AND(FA41=\"Yes\",FA40=\"\",FA39=\"\",FA38=\"\"),\"Yes\",\"\")","v":""},"","",{"$f":"IF(AND(N41>='Warrant 7 & 8 - MUTCD'!$L$25,OR('Traffic Volume Input'!O41>='Warrant 7 & 8 - MUTCD'!$N$25,'Traffic Volume Input'!P41>='Warrant 7 & 8 - MUTCD'!$N$25)),\"Yes\",\"\")","v":""},"","",{"$f":"IF(AND(FG41=\"Yes\",FG40=\"\",FG39=\"\",FG38=\"\"),\"Yes\",\"\")","v":""},"",{"$f":"IF(AND(FI41=\"Yes\",FI40=\"\",FI39=\"\",FI38=\"\"),\"Yes\",\"\")","v":""},"",{"$f":"IF(AND(FK41=\"Yes\",FK40=\"\",FK39=\"\",FK38=\"\"),\"Yes\",\"\")","v":""},"",{"$f":"IF(AND(FM41=\"Yes\",FM40=\"\",FM39=\"\",FM38=\"\"),\"Yes\",\"\")","v":""},"",{"$f":"IF(AND(FO41=\"Yes\",FO40=\"\",FO39=\"\",FO38=\"\"),\"Yes\",\"\")","v":""},"",{"$f":"IF(AND(FQ41=\"Yes\",FQ40=\"\",FQ39=\"\",FQ38=\"\"),\"Yes\",\"\")","v":""},"",{"$f":"IF(AND(FS41=\"Yes\",FS40=\"\",FS39=\"\",FS38=\"\"),\"Yes\",\"\")","v":""},"",{"$f":"IF(AND(FU41=\"Yes\",FU40=\"\",FU39=\"\",FU38=\"\"),\"Yes\",\"\")","v":""},"",{"$f":"IF(AND(FW41=\"Yes\",FW40=\"\",FW39=\"\",FW38=\"\"),\"Yes\",\"\")","v":""},"",{"$f":"IF(AND(FY41=\"Yes\",FY40=\"\",FY39=\"\",FY38=\"\"),\"Yes\",\"\")","v":""},"",{"$f":"IF(AND(GA41=\"Yes\",GA40=\"\",GA39=\"\",GA38=\"\"),\"Yes\",\"\")","v":""},"",{"$f":"IF(AND(GC41=\"Yes\",GC40=\"\",GC39=\"\",GC38=\"\"),\"Yes\",\"\")","v":""},"",{"$f":"IF(AND(GE41=\"Yes\",GE40=\"\",GE39=\"\",GE38=\"\"),\"Yes\",\"\")","v":""},"",{"$f":"IF(AND(GG41=\"Yes\",GG40=\"\",GG39=\"\",GG38=\"\"),\"Yes\",\"\")","v":""},"",{"$f":"IF(AND(GI41=\"Yes\",GI40=\"\",GI39=\"\",GI38=\"\"),\"Yes\",\"\")","v":""},"",{"$f":"IF(AND(GK41=\"Yes\",GK40=\"\",GK39=\"\",GK38=\"\"),\"Yes\",\"\")","v":""},"",{"$f":"IF(AND(GM41=\"Yes\",GM40=\"\",GM39=\"\",GM38=\"\"),\"Yes\",\"\")","v":""},"",{"$f":"IF(AND(GO41=\"Yes\",GO40=\"\",GO39=\"\",GO38=\"\"),\"Yes\",\"\")","v":""},"",{"$f":"IF(AND(GQ41=\"Yes\",GQ40=\"\",GQ39=\"\",GQ38=\"\"),\"Yes\",\"\")","v":""},"",{"$f":"IF(AND(GS41=\"Yes\",GS40=\"\",GS39=\"\",GS38=\"\"),\"Yes\",\"\")","v":""},"","","",{"$f":"IF(AND(GW41=\"Yes\",GW40=\"\",GW39=\"\",GW38=\"\"),\"Yes\",\"\")","v":""},"",""]
["09:00:00","09:14:00",null,null,0,null,null,null,null,"09:00:00","09:59:00",0,0,0,0,0,{"$f":"IF(AND(N42>='Warrant 1 - MUTCD'!$M$23,OR('Traffic Volume Input'!O42>='Warrant 1 - MUTCD'!$Q$23,'Traffic Volume Input'!P42>='Warrant 1 - MUTCD'!$Q$23)),\"Yes\",\"\")","v":""},"","","","","","",{"$f":"IF(AND(W42=\"Yes\",W41=\"\",W40=\"\",W39=\"\"),\"Yes\",\"\")","v":""},"",{"$f":"IF(AND(Y42=\"Yes\",Y41=\"\",Y40=\"\",Y39=\"\"),\"Yes\",\"\")","v":""},"",{"$f":"IF(AND(AA42=\"Yes\",AA41=\"\",AA40=\"\",AA39=\"\"),\"Yes\",\"\")","v":""},"",{"$f":"IF(AND(AC42=\"Yes\",AC41=\"\",AC40=\"\",AC39=\"\"),\"Yes\",\"\")","v":""},"",{"$f":"IF(AND(AE42=\"Yes\",AE41=\"\",AE40=\"\",AE39=\"\"),\"Yes\",\"\")","v":""},"",{"$f":"IF(AND(AG42=\"Yes\",AG41=\"\",AG40=\"\",AG39=\"\"),\"Yes\",\"\")","v":""},"",{"$f":"IF(AND(AI42=\"Yes\",AI41=\"\",AI40=\"\",AI39=\"\"),\"Yes\",\"\")","v":""},"",{"$f":"IF(AND(AK42=\"Yes\",AK41=\"\",AK40=\"\",AK39=\"\"),\"Yes\",\"\")","v":""},"",{"$f":"IF(AND(AM42=\"Yes\",AM41=\"\",AM40=\"\",AM39=\"\"),\"Yes\",\"\")","v":""},"",{"$f":"IF(AND(AO42=\"Yes\",AO41=\"\",AO40=\"\",AO39=\"\"),\"Yes\",\"\")","v":""},"",{"$f":"IF(AND(AQ42=\"Yes\",AQ41=\"\",AQ40=\"\",AQ39=\"\"),\"Yes\",\"\")","v":""},"",{"$f":"IF(AND(AS42=\"Yes\",AS41=\"\",AS40=\"\",AS39=\"\"),\"Yes\",\"\")","v":""},"",{"$f":"IF(AND(AU42=\"Yes\",AU41=\"\",AU40=\"\",AU39=\"\"),\"Yes\",\"\")","v":""},"",{"$f":"IF(AND(AW42=\"Yes\",AW41=\"\",AW40=\"\",AW39=\"\"),\"Yes\",\"\")","v":""},"",{"$f":"IF(AND(AY42=\"Yes\",AY41=\"\",AY40=\"\",AY39=\"\"),\"Yes\",\"\")","v":""},"",{"$f":"IF(AND(BA42=\"Yes\",BA41=\"\",BA40=\"\",BA39=\"\"),\"Yes\",\"\")","v":""},"",{"$f":"IF(AND(BC42=\"Yes\",BC41=\"\",BC40=\"\",BC39=\"\"),\"Yes\",\"\")","v":""},"",{"$f":"IF(AND(BE42=\"Yes\",BE41=\"\",BE40=\"\",BE39=\"\"),\"Yes\",\"\")","v":""},"",{"$f":"IF(AND(BG42=\"Yes\",BG41=\"\",BG40=\"\",BG39=\"\"),\"Yes\",\"\")","v":""},"",{"$f":"IF(AND(BI42=\"Yes\",BI41=\"\",BI40=\"\",BI39=\"\"),\"Yes\",\"\")","v":""},"","",{"$f":"IF(AND(N42>='Warrant 1 - MUTCD'!$M$32,OR('Traffic Volume Input'!O42>='Warrant 1 - MUTCD'!$Q$32,'Traffic Volume Input'!P42>='Warrant 1 - MUTCD'!$Q$32)),\"Yes\",\"\")","v":""},"","",{"$f":"IF(AND(BO42=\"Yes\",BO41=\"\",BO40=\"\",BO39=\"\"),\"Yes\",\"\")","v":""},"",{"$f":"IF(AND(BQ42=\"Yes\",BQ41=\"\",BQ40=\"\",BQ39=\"\"),\"Yes\",\"\")","v":""},"",{"$f":"IF(AND(BS42=\"Yes\",BS41=\"\",BS40=\"\",BS39=\"\"),\"Yes\",\"\")","v":""},"",{"$f":"IF(AND(BU42=\"Yes\",BU41=\"\",BU40=\"\",BU39=\"\"),\"Yes\",\"\")","v":""},"",{"$f":"IF(AND(BW42=\"Yes\",BW41=\"\",BW40=\"\",BW39=\"\"),\"Yes\",\"\")","v":""},"",{"$f":"IF(AND(BY42=\"Yes\",BY41=\"\",BY40=\"\",BY39=\"\"),\"Yes\",\"\")","v":""},"",{"$f":"IF(AND(CA42=\"Yes\",CA41=\"\",CA40=\"\",CA39=\"\"),\"Yes\",\"\")","v":""},"",{"$f":"IF(AND(CC42=\"Yes\",CC41=\"\",CC40=\"\",CC39=\"\"),\"Yes\",\"\")","v":""},"",{"$f":"IF(AND(CE42=\"Yes\",CE41=\"\",CE40=\"\",CE39=\"\"),\"Yes\",\"\")","v":""},"",{"$f":"IF(AND(CG42=\"Yes\",CG41=\"\",CG40=\"\",CG39=\"\"),\"Yes\",\"\")","v":""},"",{"$f":"IF(AND(CI42=\"Yes\",CI41=\"\",CI40=\"\",CI39=\"\"),\"Yes\",\"\")","v":""},"",{"$f":"IF(AND(CK42=\"Yes\",CK41=\"\",CK40=\"\",CK39=\"\"),\"Yes\",\"\")","v":""},"",{"$f":"IF(AND(CM42=\"Yes\",CM41=\"\",CM40=\"\",CM39=\"\"),\"Yes\",\"\")","v":""},"",{"$f":"IF(AND(CO42=\"Yes\",CO41=\"\",CO40=\"\",CO39=\"\"),\"Yes\",\"\")","v":""},"",{"$f":"IF(AND(CQ42=\"Yes\",CQ41=\"\",CQ40=\"\",CQ39=\"\"),\"Yes\",\"\")","v":""},"",{"$f":"IF(AND(CS42=\"Yes\",CS41=\"\",CS40=\"\",CS39=\"\"),\"Yes\",\"\")","v":""},"",{"$f":"IF(AND(CU42=\"Yes\",CU41=\"\",CU40=\"\",CU39=\"\"),\"Yes\",\"\")","v":""},"",{"$f":"IF(AND(CW42=\"Yes\",CW41=\"\",CW40=\"\",CW39=\"\"),\"Yes\",\"\")","v":""},"",{"$f":"IF(AND(CY42=\"Yes\",CY41=\"\",CY40=\"\",CY39=\"\"),\"Yes\",\"\")","v":""},"",{"$f":"IF(AND(DA42=\"Yes\",DA41=\"\",DA40=\"\",DA39=\"\"),\"Yes\",\"\")","v":""},"","","",{"$f":"IF(AND(DE42=\"Yes\",DE41=\"\",DE40=\"\",DE39=\"\"),\"Yes\",\"\")","v":""},"",{"$f":"IF(AND(DG42=\"Yes\",DG41=\"\",DG40=\"\",DG39=\"\"),\"Yes\",\"\")","v":""},{"$f":"IF(AND(N42>='Warrant 7 & 8 - MUTCD'!$L$16,OR('Traffic Volume Input'!O42>='Warrant 7 & 8 - MUTCD'!$N$16,'Traffic Volume Input'!P42>='Warrant 7 & 8 - MUTCD'!$N$16)),\"Yes\",\"\")","v":""},"","",{"$f":"IF(AND(DK42=\"Yes\",DK41=\"\",DK40=\"\",DK39=\"\"),\"Yes\",\"\")","v":""},"",{"$f":"IF(AND(DM42=\"Yes\",DM41=\"\",DM40=\"\",DM39=\"\"),\"Yes\",\"\")","v":""},"",{"$f":"IF(AND(DO42=\"Yes\",DO41=\"\",DO40=\"\",DO39=\"\"),\"Yes\",\"\")","v":""},"",{"$f":"IF(AND(DQ42=\"Yes\",DQ41=\"\",DQ40=\"\",DQ39=\"\"),\"Yes\",\"\")","v":""},"",{"$f":"IF(AND(DS42=\"Yes\",DS41=\"\",DS40=\"\",DS39=\"\"),\"Yes\",\"\")","v":""},"",{"$f":"IF(AND(DU42=\"Yes\",DU41=\"\",DU40=\"\",DU39=\"\"),\"Yes\",\"\")","v":""},"",{"$f":"IF(AND(DW42=\"Yes\",DW41=\"\",DW40=\"\",DW39=\"\"),\"Yes\",\"\")","v":""},"",{"$f":"IF(AND(DY42=\"Yes\",DY41=\"\",DY40=\"\",DY39=\"\"),\"Yes\",\"\")","v":""},"",{"$f":"IF(AND(EA42=\"Yes\",EA41=\"\",EA40=\"\",EA39=\"\"),\"Yes\",\"\")","v":""},"",{"$f":"IF(AND(EC42=\"Yes\",EC41=\"\",EC40=\"\",EC39=\"\"),\"Yes\",\"\")","v":""},"",{"$f":"IF(AND(EE42=\"Yes\",EE41=\"\",EE40=\"\",EE39=\"\"),\"Yes\",\"\")","v":""},"",{"$f":"IF(AND(EG42=\"Yes\",EG41=\"\",EG40=\"\",EG39=\"\"),\"Yes\",\"\")","v":""},"",{"$f":"IF(AND(EI42=\"Yes\",EI41=\"\",EI40=\"\",EI39=\"\"),\"Yes\",\"\")","v":""},"",{"$f":"IF(AND(EK42=\"Yes\",EK41=\"\",EK40=\"\",EK39=\"\"),\"Yes\",\"\")","v":""},"",{"$f":"IF(AND(EM42=\"Yes\",EM41=\"\",EM40=\"\",EM39=\"\"),\"Yes\",\"\")","v":""},"",{"$f":"IF(AND(EO42=\"Yes\",EO41=\"\",EO40=\"\",EO39=\"\"),\"Yes\",\"\")","v":""},"",{"$f":"IF(AND(EQ42=\"Yes\",EQ41=\"\",EQ40=\"\",EQ39=\"\"),\"Yes\",\"\")","v":""},"",{"$f":"IF(AND(ES42=\"Yes\",ES41=\"\",ES40=\"\",ES39=\"\"),\"Yes\",\"\")","v":""},"",{"$f":"IF(AND(EU42=\"Yes\",EU41=\"\",EU40=\"\",EU39=\"\"),\"Yes\",\"\")","v":""},"",{"$f":"IF(AND(EW42=\"Yes\",EW41=\"\",EW40=\"\",EW39=\"\"),\"Yes\",\"\")","v":""},"","","",{"$f":"IF(AND(FA42=\"Yes\",FA41=\"\",FA40=\"\",FA39=\"\"),\"Yes\",\"\")","v":""},"","",{"$f":"IF(AND(N42>='Warrant 7 & 8 - MUTCD'!$L$25,OR('Traffic Volume Input'!O42>='Warrant 7 & 8 - MUTCD'!$N$25,'Traffic Volume Input'!P42>='Warrant 7 & 8 - MUTCD'!$N$25)),\"Yes\",\"\")","v":""},"","",{"$f":"IF(AND(FG42=\"Yes\",FG41=\"\",FG40=\"\",FG39=\"\"),\"Yes\",\"\")","v":""},"",{"$f":"IF(AND(FI42=\"Yes\",FI41=\"\",FI40=\"\",FI39=\"\"),\"Yes\",\"\")","v":""},"",{"$f":"IF(AND(FK42=\"Yes\",FK41=\"\",FK40=\"\",FK39=\"\"),\"Yes\",\"\")","v":""},"",{"$f":"IF(AND(FM42=\"Yes\",FM41=\"\",FM40=\"\",FM39=\"\"),\"Yes\",\"\")","v":""},"",{"$f":"IF(AND(FO42=\"Yes\",FO41=\"\",FO40=\"\",FO39=\"\"),\"Yes\",\"\")","v":""},"",{"$f":"IF(AND(FQ42=\"Yes\",FQ41=\"\",FQ40=\"\",FQ39=\"\"),\"Yes\",\"\")","v":""},"",{"$f":"IF(AND(FS42=\"Yes\",FS41=\"\",FS40=\"\",FS39=\"\"),\"Yes\",\"\")","v":""},"",{"$f":"IF(AND(FU42=\"Yes\",FU41=\"\",FU40=\"\",FU39=\"\"),\"Yes\",\"\")","v":""},"",{"$f":"IF(AND(FW42=\"Yes\",FW41=\"\",FW40=\"\",FW39=\"\"),\"Yes\",\"\")","v":""},"",{"$f":"IF(AND(FY42=\"Yes\",FY41=\"\",FY40=\"\",FY39=\"\"),\"Yes\",\"\")","v":""},"",{"$f":"IF(AND(GA42=\"Yes\",GA41=\"\",GA40=\"\",GA39=\"\"),\"Yes\",\"\")","v":""},"",{"$f":"IF(AND(GC42=\"Yes\",GC41=\"\",GC40=\"\",GC39=\"\"),\"Yes\",\"\")","v":""},"",{"$f":"IF(AND(GE42=\"Yes\",GE41=\"\",GE40=\"\",GE39=\"\"),\"Yes\",\"\")","v":""},"",{"$f":"IF(AND(GG42=\"Yes\",GG41=\"\",GG40=\"\",GG39=\"\"),\"Yes\",\"\")","v":""},"",{"$f":"IF(AND(GI42=\"Yes\",GI41=\"\",GI40=\"\",GI39=\"\"),\"Yes\",\"\")","v":""},"",{"$f":"IF(AND(GK42=\"Yes\",GK41=\"\",GK40=\"\",GK39=\"\"),\"Yes\",\"\")","v":""},"",{"$f":"IF(AND(GM42=\"Yes\",GM41=\"\",GM40=\"\",GM39=\"\"),\"Yes\",\"\")","v":""},"",{"$f":"IF(AND(GO42=\"Yes\",GO41=\"\",GO40=\"\",GO39=\"\"),\"Yes\",\"\")","v":""},"",{"$f":"IF(AND(GQ42=\"Yes\",GQ41=\"\",GQ40=\"\",GQ39=\"\"),\"Yes\",\"\")","v":""},"",{"$f":"IF(AND(GS42=\"Yes\",GS41=\"\",GS40=\"\",GS39=\"\"),\"Yes\",\"\")","v":""},"","","",{"$f":"IF(AND(GW42=\"Yes\",GW41=\"\",GW40=\"\",GW39=\"\"),\"Yes\",\"\")","v":""},"",""]
["09:15:00","09:29:00",null,null,0,null,null,null,null,"09:15:00","10:14:00",0,0,0,0,0,{"$f":"IF(AND(N43>='Warrant 1 - MUTCD'!$M$23,OR('Traffic Volume Input'!O43>='Warrant 1 - MUTCD'!$Q$23,'Traffic Volume Input'!P43>='Warrant 1 - MUTCD'!$Q$23)),\"Yes\",\"\")","v":""},"","","","","","",{"$f":"IF(AND(W43=\"Yes\",W42=\"\",W41=\"\",W40=\"\"),\"Yes\",\"\")","v":""},"",{"$f":"IF(AND(Y43=\"Yes\",Y42=\"\",Y41=\"\",Y40=\"\"),\"Yes\",\"\")","v":""},"",{"$f":"IF(AND(AA43=\"Yes\",AA42=\"\",AA41=\"\",AA40=\"\"),\"Yes\",\"\")","v":""},"",{"$f":"IF(AND(AC43=\"Yes\",AC42=\"\",AC41=\"\",AC40=\"\"),\"Yes\",\"\")","v":""},"",{"$f":"IF(AND(AE43=\"Yes\",AE42=\"\",AE41=\"\",AE40=\"\"),\"Yes\",\"\")","v":""},"",{"$f":"IF(AND(AG43=\"Yes\",AG42=\"\",AG41=\"\",AG40=\"\"),\"Yes\",\"\")","v":""},"",{"$f":"IF(AND(AI43=\"Yes\",AI42=\"\",AI41=\"\",AI40=\"\"),\"Yes\",\"\")","v":""},"",{"$f":"IF(AND(AK43=\"Yes\",AK42=\"\",AK41=\"\",AK40=\"\"),\"Yes\",\"\")","v":""},"",{"$f":"IF(AND(AM43=\"Yes\",AM42=\"\",AM41=\"\",AM40=\"\"),\"Yes\",\"\")","v":""},"",{"$f":"IF(AND(AO43=\"Yes\",AO42=\"\",AO41=\"\",AO40=\"\"),\"Yes\",\"\")","v":""},"",{"$f":"IF(AND(AQ43=\"Yes\",AQ42=\"\",AQ41=\"\",AQ40=\"\"),\"Yes\",\"\")","v":""},"",{"$f":"IF(AND(AS43=\"Yes\",AS42=\"\",AS41=\"\",AS40=\"\"),\"Yes\",\"\")","v":""},"",{"$f":"IF(AND(AU43=\"Yes\",AU42=\"\",AU41=\"\",AU40=\"\"),\"Yes\",\"\")","v":""},"",{"$f":"IF(AND(AW43=\"Yes\",AW42=\"\",AW41=\"\",AW40=\"\"),\"Yes\",\"\")","v":""},"",{"$f":"IF(AND(AY43=\"Yes\",AY42=\"\",AY41=\"\",AY40=\"\"),\"Yes\",\"\")","v":""},"",{"$f":"IF(AND(BA43=\"Yes\",BA42=\"\",BA41=\"\",BA40=\"\"),\"Yes\",\"\")","v":""},"",{"$f":"IF(AND(BC43=\"Yes\",BC42=\"\",BC41=\"\",BC40=\"\"),\"Yes\",\"\")","v":""},"",{"$f":"IF(AND(BE43=\"Yes\",BE42=\"\",BE41=\"\",BE40=\"\"),\"Yes\",\"\")","v":""},"",{"$f":"IF(AND(BG43=\"Yes\",BG42=\"\",BG41=\"\",BG40=\"\"),\"Yes\",\"\")","v":""},"",{"$f":"IF(AND(BI43=\"Yes\",BI42=\"\",BI41=\"\",BI40=\"\"),\"Yes\",\"\")","v":""},"","",{"$f":"IF(AND(N43>='Warrant 1 - MUTCD'!$M$32,OR('Traffic Volume Input'!O43>='Warrant 1 - MUTCD'!$Q$32,'Traffic Volume Input'!P43>='Warrant 1 - MUTCD'!$Q$32)),\"Yes\",\"\")","v":""},"","",{"$f":"IF(AND(BO43=\"Yes\",BO42=\"\",BO41=\"\",BO40=\"\"),\"Yes\",\"\")","v":""},"",{"$f":"IF(AND(BQ43=\"Yes\",BQ42=\"\",BQ41=\"\",BQ40=\"\"),\"Yes\",\"\")","v":""},"",{"$f":"IF(AND(BS43=\"Yes\",BS42=\"\",BS41=\"\",BS40=\"\"),\"Yes\",\"\")","v":""},"",{"$f":"IF(AND(BU43=\"Yes\",BU42=\"\",BU41=\"\",BU40=\"\"),\"Yes\",\"\")","v":""},"",{"$f":"IF(AND(BW43=\"Yes\",BW42=\"\",BW41=\"\",BW40=\"\"),\"Yes\",\"\")","v":""},"",{"$f":"IF(AND(BY43=\"Yes\",BY42=\"\",BY41=\"\",BY40=\"\"),\"Yes\",\"\")","v":""},"",{"$f":"IF(AND(CA43=\"Yes\",CA42=\"\",CA41=\"\",CA40=\"\"),\"Yes\",\"\")","v":""},"",{"$f":"IF(AND(CC43=\"Yes\",CC42=\"\",CC41=\"\",CC40=\"\"),\"Yes\",\"\")","v":""},"",{"$f":"IF(AND(CE43=\"Yes\",CE42=\"\",CE41=\"\",CE40=\"\"),\"Yes\",\"\")","v":""},"",{"$f":"IF(AND(CG43=\"Yes\",CG42=\"\",CG41=\"\",CG40=\"\"),\"Yes\",\"\")","v":""},"",{"$f":"IF(AND(CI43=\"Yes\",CI42=\"\",CI41=\"\",CI40=\"\"),\"Yes\",\"\")","v":""},"",{"$f":"IF(AND(CK43=\"Yes\",CK42=\"\",CK41=\"\",CK40=\"\"),\"Yes\",\"\")","v":""},"",{"$f":"IF(AND(CM43=\"Yes\",CM42=\"\",CM41=\"\",CM40=\"\"),\"Yes\",\"\")","v":""},"",{"$f":"IF(AND(CO43=\"Yes\",CO42=\"\",CO41=\"\",CO40=\"\"),\"Yes\",\"\")","v":""},"",{"$f":"IF(AND(CQ43=\"Yes\",CQ42=\"\",CQ41=\"\",CQ40=\"\"),\"Yes\",\"\")","v":""},"",{"$f":"IF(AND(CS43=\"Yes\",CS42=\"\",CS41=\"\",CS40=\"\"),\"Yes\",\"\")","v":""},"",{"$f":"IF(AND(CU43=\"Yes\",CU42=\"\",CU41=\"\",CU40=\"\"),\"Yes\",\"\")","v":""},"",{"$f":"IF(AND(CW43=\"Yes\",CW42=\"\",CW41=\"\",CW40=\"\"),\"Yes\",\"\")","v":""},"",{"$f":"IF(AND(CY43=\"Yes\",CY42=\"\",CY41=\"\",CY40=\"\"),\"Yes\",\"\")","v":""},"",{"$f":"IF(AND(DA43=\"Yes\",DA42=\"\",DA41=\"\",DA40=\"\"),\"Yes\",\"\")","v":""},"","","",{"$f":"IF(AND(DE43=\"Yes\",DE42=\"\",DE41=\"\",DE40=\"\"),\"Yes\",\"\")","v":""},"",{"$f":"IF(AND(DG43=\"Yes\",DG42=\"\",DG41=\"\",DG40=\"\"),\"Yes\",\"\")","v":""},{"$f":"IF(AND(N43>='Warrant 7 & 8 - MUTCD'!$L$16,OR('Traffic Volume Input'!O43>='Warrant 7 & 8 - MUTCD'!$N$16,'Traffic Volume Input'!P43>='Warrant 7 & 8 - MUTCD'!$N$16)),\"Yes\",\"\")","v":""},"","",{"$f":"IF(AND(DK43=\"Yes\",DK42=\"\",DK41=\"\",DK40=\"\"),\"Yes\",\"\")","v":""},"",{"$f":"IF(AND(DM43=\"Yes\",DM42=\"\",DM41=\"\",DM40=\"\"),\"Yes\",\"\")","v":""},"",{"$f":"IF(AND(DO43=\"Yes\",DO42=\"\",DO41=\"\",DO40=\"\"),\"Yes\",\"\")","v":""},"",{"$f":"IF(AND(DQ43=\"Yes\",DQ42=\"\",DQ41=\"\",DQ40=\"\"),\"Yes\",\"\")","v":""},"",{"$f":"IF(AND(DS43=\"Yes\",DS42=\"\",DS41=\"\",DS40=\"\"),\"Yes\",\"\")","v":""},"",{"$f":"IF(AND(DU43=\"Yes\",DU42=\"\",DU41=\"\",DU40=\"\"),\"Yes\",\"\")","v":""},"",{"$f":"IF(AND(DW43=\"Yes\",DW42=\"\",DW41=\"\",DW40=\"\"),\"Yes\",\"\")","v":""},"",{"$f":"IF(AND(DY43=\"Yes\",DY42=\"\",DY41=\"\",DY40=\"\"),\"Yes\",\"\")","v":""},"",{"$f":"IF(AND(EA43=\"Yes\",EA42=\"\",EA41=\"\",EA40=\"\"),\"Yes\",\"\")","v":""},"",{"$f":"IF(AND(EC43=\"Yes\",EC42=\"\",EC41=\"\",EC40=\"\"),\"Yes\",\"\")","v":""},"",{"$f":"IF(AND(EE43=\"Yes\",EE42=\"\",EE41=\"\",EE40=\"\"),\"Yes\",\"\")","v":""},"",{"$f":"IF(AND(EG43=\"Yes\",EG42=\"\",EG41=\"\",EG40=\"\"),\"Yes\",\"\")","v":""},"",{"$f":"IF(AND(EI43=\"Yes\",EI42=\"\",EI41=\"\",EI40=\"\"),\"Yes\",\"\")","v":""},"",{"$f":"IF(AND(EK43=\"Yes\",EK42=\"\",EK41=\"\",EK40=\"\"),\"Yes\",\"\")","v":""},"",{"$f":"IF(AND(EM43=\"Yes\",EM42=\"\",EM41=\"\",EM40=\"\"),\"Yes\",\"\")","v":""},"",{"$f":"IF(AND(EO43=\"Yes\",EO42=\"\",EO41=\"\",EO40=\"\"),\"Yes\",\"\")","v":""},"",{"$f":"IF(AND(EQ43=\"Yes\",EQ42=\"\",EQ41=\"\",EQ40=\"\"),\"Yes\",\"\")","v":""},"",{"$f":"IF(AND(ES43=\"Yes\",ES42=\"\",ES41=\"\",ES40=\"\"),\"Yes\",\"\")","v":""},"",{"$f":"IF(AND(EU43=\"Yes\",EU42=\"\",EU41=\"\",EU40=\"\"),\"Yes\",\"\")","v":""},"",{"$f":"IF(AND(EW43=\"Yes\",EW42=\"\",EW41=\"\",EW40=\"\"),\"Yes\",\"\")","v":""},"","","",{"$f":"IF(AND(FA43=\"Yes\",FA42=\"\",FA41=\"\",FA40=\"\"),\"Yes\",\"\")","v":""},"","",{"$f":"IF(AND(N43>='Warrant 7 & 8 - MUTCD'!$L$25,OR('Traffic Volume Input'!O43>='Warrant 7 & 8 - MUTCD'!$N$25,'Traffic Volume Input'!P43>='Warrant 7 & 8 - MUTCD'!$N$25)),\"Yes\",\"\")","v":""},"","",{"$f":"IF(AND(FG43=\"Yes\",FG42=\"\",FG41=\"\",FG40=\"\"),\"Yes\",\"\")","v":""},"",{"$f":"IF(AND(FI43=\"Yes\",FI42=\"\",FI41=\"\",FI40=\"\"),\"Yes\",\"\")","v":""},"",{"$f":"IF(AND(FK43=\"Yes\",FK42=\"\",FK41=\"\",FK40=\"\"),\"Yes\",\"\")","v":""},"",{"$f":"IF(AND(FM43=\"Yes\",FM42=\"\",FM41=\"\",FM40=\"\"),\"Yes\",\"\")","v":""},"",{"$f":"IF(AND(FO43=\"Yes\",FO42=\"\",FO41=\"\",FO40=\"\"),\"Yes\",\"\")","v":""},"",{"$f":"IF(AND(FQ43=\"Yes\",FQ42=\"\",FQ41=\"\",FQ40=\"\"),\"Yes\",\"\")","v":""},"",{"$f":"IF(AND(FS43=\"Yes\",FS42=\"\",FS41=\"\",FS40=\"\"),\"Yes\",\"\")","v":""},"",{"$f":"IF(AND(FU43=\"Yes\",FU42=\"\",FU41=\"\",FU40=\"\"),\"Yes\",\"\")","v":""},"",{"$f":"IF(AND(FW43=\"Yes\",FW42=\"\",FW41=\"\",FW40=\"\"),\"Yes\",\"\")","v":""},"",{"$f":"IF(AND(FY43=\"Yes\",FY42=\"\",FY41=\"\",FY40=\"\"),\"Yes\",\"\")","v":""},"",{"$f":"IF(AND(GA43=\"Yes\",GA42=\"\",GA41=\"\",GA40=\"\"),\"Yes\",\"\")","v":""},"",{"$f":"IF(AND(GC43=\"Yes\",GC42=\"\",GC41=\"\",GC40=\"\"),\"Yes\",\"\")","v":""},"",{"$f":"IF(AND(GE43=\"Yes\",GE42=\"\",GE41=\"\",GE40=\"\"),\"Yes\",\"\")","v":""},"",{"$f":"IF(AND(GG43=\"Yes\",GG42=\"\",GG41=\"\",GG40=\"\"),\"Yes\",\"\")","v":""},"",{"$f":"IF(AND(GI43=\"Yes\",GI42=\"\",GI41=\"\",GI40=\"\"),\"Yes\",\"\")","v":""},"",{"$f":"IF(AND(GK43=\"Yes\",GK42=\"\",GK41=\"\",GK40=\"\"),\"Yes\",\"\")","v":""},"",{"$f":"IF(AND(GM43=\"Yes\",GM42=\"\",GM41=\"\",GM40=\"\"),\"Yes\",\"\")","v":""},"",{"$f":"IF(AND(GO43=\"Yes\",GO42=\"\",GO41=\"\",GO40=\"\"),\"Yes\",\"\")","v":""},"",{"$f":"IF(AND(GQ43=\"Yes\",GQ42=\"\",GQ41=\"\",GQ40=\"\"),\"Yes\",\"\")","v":""},"",{"$f":"IF(AND(GS43=\"Yes\",GS42=\"\",GS41=\"\",GS40=\"\"),\"Yes\",\"\")","v":""},"","","",{"$f":"IF(AND(GW43=\"Yes\",GW42=\"\",GW41=\"\",GW40=\"\"),\"Yes\",\"\")","v":""},"",""]
["09:30:00","09:44:00",null,null,0,null,null,null,null,"09:30:00","10:29:00",0,0,0,0,0,{"$f":"IF(AND(N44>='Warrant 1 - MUTCD'!$M$23,OR('Traffic Volume Input'!O44>='Warrant 1 - MUTCD'!$Q$23,'Traffic Volume Input'!P44>='Warrant 1 - MUTCD'!$Q$23)),\"Yes\",\"\")","v":""},"","","","","","",{"$f":"IF(AND(W44=\"Yes\",W43=\"\",W42=\"\",W41=\"\"),\"Yes\",\"\")","v":""},"",{"$f":"IF(AND(Y44=\"Yes\",Y43=\"\",Y42=\"\",Y41=\"\"),\"Yes\",\"\")","v":""},"",{"$f":"IF(AND(AA44=\"Yes\",AA43=\"\",AA42=\"\",AA41=\"\"),\"Yes\",\"\")","v":""},"",{"$f":"IF(AND(AC44=\"Yes\",AC43=\"\",AC42=\"\",AC41=\"\"),\"Yes\",\"\")","v":""},"",{"$f":"IF(AND(AE44=\"Yes\",AE43=\"\",AE42=\"\",AE41=\"\"),\"Yes\",\"\")","v":""},"",{"$f":"IF(AND(AG44=\"Yes\",AG43=\"\",AG42=\"\",AG41=\"\"),\"Yes\",\"\")","v":""},"",{"$f":"IF(AND(AI44=\"Yes\",AI43=\"\",AI42=\"\",AI41=\"\"),\"Yes\",\"\")","v":""},"",{"$f":"IF(AND(AK44=\"Yes\",AK43=\"\",AK42=\"\",AK41=\"\"),\"Yes\",\"\")","v":""},"",{"$f":"IF(AND(AM44=\"Yes\",AM43=\"\",AM42=\"\",AM41=\"\"),\"Yes\",\"\")","v":""},"",{"$f":"IF(AND(AO44=\"Yes\",AO43=\"\",AO42=\"\",AO41=\"\"),\"Yes\",\"\")","v":""},"",{"$f":"IF(AND(AQ44=\"Yes\",AQ43=\"\",AQ42=\"\",AQ41=\"\"),\"Yes\",\"\")","v":""},"",{"$f":"IF(AND(AS44=\"Yes\",AS43=\"\",AS42=\"\",AS41=\"\"),\"Yes\",\"\")","v":""},"",{"$f":"IF(AND(AU44=\"Yes\",AU43=\"\",AU42=\"\",AU41=\"\"),\"Yes\",\"\")","v":""},"",{"$f":"IF(AND(AW44=\"Yes\",AW43=\"\",AW42=\"\",AW41=\"\"),\"Yes\",\"\")","v":""},"",{"$f":"IF(AND(AY44=\"Yes\",AY43=\"\",AY42=\"\",AY41=\"\"),\"Yes\",\"\")","v":""},"",{"$f":"IF(AND(BA44=\"Yes\",BA43=\"\",BA42=\"\",BA41=\"\"),\"Yes\",\"\")","v":""},"",{"$f":"IF(AND(BC44=\"Yes\",BC43=\"\",BC42=\"\",BC41=\"\"),\"Yes\",\"\")","v":""},"",{"$f":"IF(AND(BE44=\"Yes\",BE43=\"\",BE42=\"\",BE41=\"\"),\"Yes\",\"\")","v":""},"",{"$f":"IF(AND(BG44=\"Yes\",BG43=\"\",BG42=\"\",BG41=\"\"),\"Yes\",\"\")","v":""},"",{"$f":"IF(AND(BI44=\"Yes\",BI43=\"\",BI42=\"\",BI41=\"\"),\"Yes\",\"\")","v":""},"","",{"$f":"IF(AND(N44>='Warrant 1 - MUTCD'!$M$32,OR('Traffic Volume Input'!O44>='Warrant 1 - MUTCD'!$Q$32,'Traffic Volume Input'!P44>='Warrant 1 - MUTCD'!$Q$32)),\"Yes\",\"\")","v":""},"","",{"$f":"IF(AND(BO44=\"Yes\",BO43=\"\",BO42=\"\",BO41=\"\"),\"Yes\",\"\")","v":""},"",{"$f":"IF(AND(BQ44=\"Yes\",BQ43=\"\",BQ42=\"\",BQ41=\"\"),\"Yes\",\"\")","v":""},"",{"$f":"IF(AND(BS44=\"Yes\",BS43=\"\",BS42=\"\",BS41=\"\"),\"Yes\",\"\")","v":""},"",{"$f":"IF(AND(BU44=\"Yes\",BU43=\"\",BU42=\"\",BU41=\"\"),\"Yes\",\"\")","v":""},"",{"$f":"IF(AND(BW44=\"Yes\",BW43=\"\",BW42=\"\",BW41=\"\"),\"Yes\",\"\")","v":""},"",{"$f":"IF(AND(BY44=\"Yes\",BY43=\"\",BY42=\"\",BY41=\"\"),\"Yes\",\"\")","v":""},"",{"$f":"IF(AND(CA44=\"Yes\",CA43=\"\",CA42=\"\",CA41=\"\"),\"Yes\",\"\")","v":""},"",{"$f":"IF(AND(CC44=\"Yes\",CC43=\"\",CC42=\"\",CC41=\"\"),\"Yes\",\"\")","v":""},"",{"$f":"IF(AND(CE44=\"Yes\",CE43=\"\",CE42=\"\",CE41=\"\"),\"Yes\",\"\")","v":""},"",{"$f":"IF(AND(CG44=\"Yes\",CG43=\"\",CG42=\"\",CG41=\"\"),\"Yes\",\"\")","v":""},"",{"$f":"IF(AND(CI44=\"Yes\",CI43=\"\",CI42=\"\",CI41=\"\"),\"Yes\",\"\")","v":""},"",{"$f":"IF(AND(CK44=\"Yes\",CK43=\"\",CK42=\"\",CK41=\"\"),\"Yes\",\"\")","v":""},"",{"$f":"IF(AND(CM44=\"Yes\",CM43=\"\",CM42=\"\",CM41=\"\"),\"Yes\",\"\")","v":""},"",{"$f":"IF(AND(CO44=\"Yes\",CO43=\"\",CO42=\"\",CO41=\"\"),\"Yes\",\"\")","v":""},"",{"$f":"IF(AND(CQ44=\"Yes\",CQ43=\"\",CQ42=\"\",CQ41=\"\"),\"Yes\",\"\")","v":""},"",{"$f":"IF(AND(CS44=\"Yes\",CS43=\"\",CS42=\"\",CS41=\"\"),\"Yes\",\"\")","v":""},"",{"$f":"IF(AND(CU44=\"Yes\",CU43=\"\",CU42=\"\",CU41=\"\"),\"Yes\",\"\")","v":""},"",{"$f":"IF(AND(CW44=\"Yes\",CW43=\"\",CW42=\"\",CW41=\"\"),\"Yes\",\"\")","v":""},"",{"$f":"IF(AND(CY44=\"Yes\",CY43=\"\",CY42=\"\",CY41=\"\"),\"Yes\",\"\")","v":""},"",{"$f":"IF(AND(DA44=\"Yes\",DA43=\"\",DA42=\"\",DA41=\"\"),\"Yes\",\"\")","v":""},"","","",{"$f":"IF(AND(DE44=\"Yes\",DE43=\"\",DE42=\"\",DE41=\"\"),\"Yes\",\"\")","v":""},"",{"$f":"IF(AND(DG44=\"Yes\",DG43=\"\",DG42=\"\",DG41=\"\"),\"Yes\",\"\")","v":""},{"$f":"IF(AND(N44>='Warrant 7 & 8 - MUTCD'!$L$16,OR('Traffic Volume Input'!O44>='Warrant 7 & 8 - MUTCD'!$N$16,'Traffic Volume Input'!P44>='Warrant 7 & 8 - MUTCD'!$N$16)),\"Yes\",\"\")","v":""},"","",{"$f":"IF(AND(DK44=\"Yes\",DK43=\"\",DK42=\"\",DK41=\"\"),\"Yes\",\"\")","v":""},"",{"$f":"IF(AND(DM44=\"Yes\",DM43=\"\",DM42=\"\",DM41=\"\"),\"Yes\",\"\")","v":""},"",{"$f":"IF(AND(DO44=\"Yes\",DO43=\"\",DO42=\"\",DO41=\"\"),\"Yes\",\"\")","v":""},"",{"$f":"IF(AND(DQ44=\"Yes\",DQ43=\"\",DQ42=\"\",DQ41=\"\"),\"Yes\",\"\")","v":""},"",{"$f":"IF(AND(DS44=\"Yes\",DS43=\"\",DS42=\"\",DS41=\"\"),\"Yes\",\"\")","v":""},"",{"$f":"IF(AND(DU44=\"Yes\",DU43=\"\",DU42=\"\",DU41=\"\"),\"Yes\",\"\")","v":""},"",{"$f":"IF(AND(DW44=\"Yes\",DW43=\"\",DW42=\"\",DW41=\"\"),\"Yes\",\"\")","v":""},"",{"$f":"IF(AND(DY44=\"Yes\",DY43=\"\",DY42=\"\",DY41=\"\"),\"Yes\",\"\")","v":""},"",{"$f":"IF(AND(EA44=\"Yes\",EA43=\"\",EA42=\"\",EA41=\"\"),\"Yes\",\"\")","v":""},"",{"$f":"IF(AND(EC44=\"Yes\",EC43=\"\",EC42=\"\",EC41=\"\"),\"Yes\",\"\")","v":""},"",{"$f":"IF(AND(EE44=\"Yes\",EE43=\"\",EE42=\"\",EE41=\"\"),\"Yes\",\"\")","v":""},"",{"$f":"IF(AND(EG44=\"Yes\",EG43=\"\",EG42=\"\",EG41=\"\"),\"Yes\",\"\")","v":""},"",{"$f":"IF(AND(EI44=\"Yes\",EI43=\"\",EI42=\"\",EI41=\"\"),\"Yes\",\"\")","v":""},"",{"$f":"IF(AND(EK44=\"Yes\",EK43=\"\",EK42=\"\",EK41=\"\"),\"Yes\",\"\")","v":""},"",{"$f":"IF(AND(EM44=\"Yes\",EM43=\"\",EM42=\"\",EM41=\"\"),\"Yes\",\"\")","v":""},"",{"$f":"IF(AND(EO44=\"Yes\",EO43=\"\",EO42=\"\",EO41=\"\"),\"Yes\",\"\")","v":""},"",{"$f":"IF(AND(EQ44=\"Yes\",EQ43=\"\",EQ42=\"\",EQ41=\"\"),\"Yes\",\"\")","v":""},"",{"$f":"IF(AND(ES44=\"Yes\",ES43=\"\",ES42=\"\",ES41=\"\"),\"Yes\",\"\")","v":""},"",{"$f":"IF(AND(EU44=\"Yes\",EU43=\"\",EU42=\"\",EU41=\"\"),\"Yes\",\"\")","v":""},"",{"$f":"IF(AND(EW44=\"Yes\",EW43=\"\",EW42=\"\",EW41=\"\"),\"Yes\",\"\")","v":""},"","","",{"$f":"IF(AND(FA44=\"Yes\",FA43=\"\",FA42=\"\",FA41=\"\"),\"Yes\",\"\")","v":""},"","",{"$f":"IF(AND(N44>='Warrant 7 & 8 - MUTCD'!$L$25,OR('Traffic Volume Input'!O44>='Warrant 7 & 8 - MUTCD'!$N$25,'Traffic Volume Input'!P44>='Warrant 7 & 8 - MUTCD'!$N$25)),\"Yes\",\"\")","v":""},"","",{"$f":"IF(AND(FG44=\"Yes\",FG43=\"\",FG42=\"\",FG41=\"\"),\"Yes\",\"\")","v":""},"",{"$f":"IF(AND(FI44=\"Yes\",FI43=\"\",FI42=\"\",FI41=\"\"),\"Yes\",\"\")","v":""},"",{"$f":"IF(AND(FK44=\"Yes\",FK43=\"\",FK42=\"\",FK41=\"\"),\"Yes\",\"\")","v":""},"",{"$f":"IF(AND(FM44=\"Yes\",FM43=\"\",FM42=\"\",FM41=\"\"),\"Yes\",\"\")","v":""},"",{"$f":"IF(AND(FO44=\"Yes\",FO43=\"\",FO42=\"\",FO41=\"\"),\"Yes\",\"\")","v":""},"",{"$f":"IF(AND(FQ44=\"Yes\",FQ43=\"\",FQ42=\"\",FQ41=\"\"),\"Yes\",\"\")","v":""},"",{"$f":"IF(AND(FS44=\"Yes\",FS43=\"\",FS42=\"\",FS41=\"\"),\"Yes\",\"\")","v":""},"",{"$f":"IF(AND(FU44=\"Yes\",FU43=\"\",FU42=\"\",FU41=\"\"),\"Yes\",\"\")","v":""},"",{"$f":"IF(AND(FW44=\"Yes\",FW43=\"\",FW42=\"\",FW41=\"\"),\"Yes\",\"\")","v":""},"",{"$f":"IF(AND(FY44=\"Yes\",FY43=\"\",FY42=\"\",FY41=\"\"),\"Yes\",\"\")","v":""},"",{"$f":"IF(AND(GA44=\"Yes\",GA43=\"\",GA42=\"\",GA41=\"\"),\"Yes\",\"\")","v":""},"",{"$f":"IF(AND(GC44=\"Yes\",GC43=\"\",GC42=\"\",GC41=\"\"),\"Yes\",\"\")","v":""},"",{"$f":"IF(AND(GE44=\"Yes\",GE43=\"\",GE42=\"\",GE41=\"\"),\"Yes\",\"\")","v":""},"",{"$f":"IF(AND(GG44=\"Yes\",GG43=\"\",GG42=\"\",GG41=\"\"),\"Yes\",\"\")","v":""},"",{"$f":"IF(AND(GI44=\"Yes\",GI43=\"\",GI42=\"\",GI41=\"\"),\"Yes\",\"\")","v":""},"",{"$f":"IF(AND(GK44=\"Yes\",GK43=\"\",GK42=\"\",GK41=\"\"),\"Yes\",\"\")","v":""},"",{"$f":"IF(AND(GM44=\"Yes\",GM43=\"\",GM42=\"\",GM41=\"\"),\"Yes\",\"\")","v":""},"",{"$f":"IF(AND(GO44=\"Yes\",GO43=\"\",GO42=\"\",GO41=\"\"),\"Yes\",\"\")","v":""},"",{"$f":"IF(AND(GQ44=\"Yes\",GQ43=\"\",GQ42=\"\",GQ41=\"\"),\"Yes\",\"\")","v":""},"",{"$f":"IF(AND(GS44=\"Yes\",GS43=\"\",GS42=\"\",GS41=\"\"),\"Yes\",\"\")","v":""},"","","",{"$f":"IF(AND(GW44=\"Yes\",GW43=\"\",GW42=\"\",GW41=\"\"),\"Yes\",\"\")","v":""},"",""]
["09:45:00","09:59:00",null,null,0,null,null,null,null,"09:45:00","10:44:00",0,0,0,0,0,{"$f":"IF(AND(N45>='Warrant 1 - MUTCD'!$M$23,OR('Traffic Volume Input'!O45>='Warrant 1 - MUTCD'!$Q$23,'Traffic Volume Input'!P45>='Warrant 1 - MUTCD'!$Q$23)),\"Yes\",\"\")","v":""},"","","","","","",{"$f":"IF(AND(W45=\"Yes\",W44=\"\",W43=\"\",W42=\"\"),\"Yes\",\"\")","v":""},"",{"$f":"IF(AND(Y45=\"Yes\",Y44=\"\",Y43=\"\",Y42=\"\"),\"Yes\",\"\")","v":""},"",{"$f":"IF(AND(AA45=\"Yes\",AA44=\"\",AA43=\"\",AA42=\"\"),\"Yes\",\"\")","v":""},"",{"$f":"IF(AND(AC45=\"Yes\",AC44=\"\",AC43=\"\",AC42=\"\"),\"Yes\",\"\")","v":""},"",{"$f":"IF(AND(AE45=\"Yes\",AE44=\"\",AE43=\"\",AE42=\"\"),\"Yes\",\"\")","v":""},"",{"$f":"IF(AND(AG45=\"Yes\",AG44=\"\",AG43=\"\",AG42=\"\"),\"Yes\",\"\")","v":""},"",{"$f":"IF(AND(AI45=\"Yes\",AI44=\"\",AI43=\"\",AI42=\"\"),\"Yes\",\"\")","v":""},"",{"$f":"IF(AND(AK45=\"Yes\",AK44=\"\",AK43=\"\",AK42=\"\"),\"Yes\",\"\")","v":""},"",{"$f":"IF(AND(AM45=\"Yes\",AM44=\"\",AM43=\"\",AM42=\"\"),\"Yes\",\"\")","v":""},"",{"$f":"IF(AND(AO45=\"Yes\",AO44=\"\",AO43=\"\",AO42=\"\"),\"Yes\",\"\")","v":""},"",{"$f":"IF(AND(AQ45=\"Yes\",AQ44=\"\",AQ43=\"\",AQ42=\"\"),\"Yes\",\"\")","v":""},"",{"$f":"IF(AND(AS45=\"Yes\",AS44=\"\",AS43=\"\",AS42=\"\"),\"Yes\",\"\")","v":""},"",{"$f":"IF(AND(AU45=\"Yes\",AU44=\"\",AU43=\"\",AU42=\"\"),\"Yes\",\"\")","v":""},"",{"$f":"IF(AND(AW45=\"Yes\",AW44=\"\",AW43=\"\",AW42=\"\"),\"Yes\",\"\")","v":""},"",{"$f":"IF(AND(AY45=\"Yes\",AY44=\"\",AY43=\"\",AY42=\"\"),\"Yes\",\"\")","v":""},"",{"$f":"IF(AND(BA45=\"Yes\",BA44=\"\",BA43=\"\",BA42=\"\"),\"Yes\",\"\")","v":""},"",{"$f":"IF(AND(BC45=\"Yes\",BC44=\"\",BC43=\"\",BC42=\"\"),\"Yes\",\"\")","v":""},"",{"$f":"IF(AND(BE45=\"Yes\",BE44=\"\",BE43=\"\",BE42=\"\"),\"Yes\",\"\")","v":""},"",{"$f":"IF(AND(BG45=\"Yes\",BG44=\"\",BG43=\"\",BG42=\"\"),\"Yes\",\"\")","v":""},"",{"$f":"IF(AND(BI45=\"Yes\",BI44=\"\",BI43=\"\",BI42=\"\"),\"Yes\",\"\")","v":""},"","",{"$f":"IF(AND(N45>='Warrant 1 - MUTCD'!$M$32,OR('Traffic Volume Input'!O45>='Warrant 1 - MUTCD'!$Q$32,'Traffic Volume Input'!P45>='Warrant 1 - MUTCD'!$Q$32)),\"Yes\",\"\")","v":""},"","",{"$f":"IF(AND(BO45=\"Yes\",BO44=\"\",BO43=\"\",BO42=\"\"),\"Yes\",\"\")","v":""},"",{"$f":"IF(AND(BQ45=\"Yes\",BQ44=\"\",BQ43=\"\",BQ42=\"\"),\"Yes\",\"\")","v":""},"",{"$f":"IF(AND(BS45=\"Yes\",BS44=\"\",BS43=\"\",BS42=\"\"),\"Yes\",\"\")","v":""},"",{"$f":"IF(AND(BU45=\"Yes\",BU44=\"\",BU43=\"\",BU42=\"\"),\"Yes\",\"\")","v":""},"",{"$f":"IF(AND(BW45=\"Yes\",BW44=\"\",BW43=\"\",BW42=\"\"),\"Yes\",\"\")","v":""},"",{"$f":"IF(AND(BY45=\"Yes\",BY44=\"\",BY43=\"\",BY42=\"\"),\"Yes\",\"\")","v":""},"",{"$f":"IF(AND(CA45=\"Yes\",CA44=\"\",CA43=\"\",CA42=\"\"),\"Yes\",\"\")","v":""},"",{"$f":"IF(AND(CC45=\"Yes\",CC44=\"\",CC43=\"\",CC42=\"\"),\"Yes\",\"\")","v":""},"",{"$f":"IF(AND(CE45=\"Yes\",CE44=\"\",CE43=\"\",CE42=\"\"),\"Yes\",\"\")","v":""},"",{"$f":"IF(AND(CG45=\"Yes\",CG44=\"\",CG43=\"\",CG42=\"\"),\"Yes\",\"\")","v":""},"",{"$f":"IF(AND(CI45=\"Yes\",CI44=\"\",CI43=\"\",CI42=\"\"),\"Yes\",\"\")","v":""},"",{"$f":"IF(AND(CK45=\"Yes\",CK44=\"\",CK43=\"\",CK42=\"\"),\"Yes\",\"\")","v":""},"",{"$f":"IF(AND(CM45=\"Yes\",CM44=\"\",CM43=\"\",CM42=\"\"),\"Yes\",\"\")","v":""},"",{"$f":"IF(AND(CO45=\"Yes\",CO44=\"\",CO43=\"\",CO42=\"\"),\"Yes\",\"\")","v":""},"",{"$f":"IF(AND(CQ45=\"Yes\",CQ44=\"\",CQ43=\"\",CQ42=\"\"),\"Yes\",\"\")","v":""},"",{"$f":"IF(AND(CS45=\"Yes\",CS44=\"\",CS43=\"\",CS42=\"\"),\"Yes\",\"\")","v":""},"",{"$f":"IF(AND(CU45=\"Yes\",CU44=\"\",CU43=\"\",CU42=\"\"),\"Yes\",\"\")","v":""},"",{"$f":"IF(AND(CW45=\"Yes\",CW44=\"\",CW43=\"\",CW42=\"\"),\"Yes\",\"\")","v":""},"",{"$f":"IF(AND(CY45=\"Yes\",CY44=\"\",CY43=\"\",CY42=\"\"),\"Yes\",\"\")","v":""},"",{"$f":"IF(AND(DA45=\"Yes\",DA44=\"\",DA43=\"\",DA42=\"\"),\"Yes\",\"\")","v":""},"","","",{"$f":"IF(AND(DE45=\"Yes\",DE44=\"\",DE43=\"\",DE42=\"\"),\"Yes\",\"\")","v":""},"",{"$f":"IF(AND(DG45=\"Yes\",DG44=\"\",DG43=\"\",DG42=\"\"),\"Yes\",\"\")","v":""},{"$f":"IF(AND(N45>='Warrant 7 & 8 - MUTCD'!$L$16,OR('Traffic Volume Input'!O45>='Warrant 7 & 8 - MUTCD'!$N$16,'Traffic Volume Input'!P45>='Warrant 7 & 8 - MUTCD'!$N$16)),\"Yes\",\"\")","v":""},"","",{"$f":"IF(AND(DK45=\"Yes\",DK44=\"\",DK43=\"\",DK42=\"\"),\"Yes\",\"\")","v":""},"",{"$f":"IF(AND(DM45=\"Yes\",DM44=\"\",DM43=\"\",DM42=\"\"),\"Yes\",\"\")","v":""},"",{"$f":"IF(AND(DO45=\"Yes\",DO44=\"\",DO43=\"\",DO42=\"\"),\"Yes\",\"\")","v":""},"",{"$f":"IF(AND(DQ45=\"Yes\",DQ44=\"\",DQ43=\"\",DQ42=\"\"),\"Yes\",\"\")","v":""},"",{"$f":"IF(AND(DS45=\"Yes\",DS44=\"\",DS43=\"\",DS42=\"\"),\"Yes\",\"\")","v":""},"",{"$f":"IF(AND(DU45=\"Yes\",DU44=\"\",DU43=\"\",DU42=\"\"),\"Yes\",\"\")","v":""},"",{"$f":"IF(AND(DW45=\"Yes\",DW44=\"\",DW43=\"\",DW42=\"\"),\"Yes\",\"\")","v":""},"",{"$f":"IF(AND(DY45=\"Yes\",DY44=\"\",DY43=\"\",DY42=\"\"),\"Yes\",\"\")","v":""},"",{"$f":"IF(AND(EA45=\"Yes\",EA44=\"\",EA43=\"\",EA42=\"\"),\"Yes\",\"\")","v":""},"",{"$f":"IF(AND(EC45=\"Yes\",EC44=\"\",EC43=\"\",EC42=\"\"),\"Yes\",\"\")","v":""},"",{"$f":"IF(AND(EE45=\"Yes\",EE44=\"\",EE43=\"\",EE42=\"\"),\"Yes\",\"\")","v":""},"",{"$f":"IF(AND(EG45=\"Yes\",EG44=\"\",EG43=\"\",EG42=\"\"),\"Yes\",\"\")","v":""},"",{"$f":"IF(AND(EI45=\"Yes\",EI44=\"\",EI43=\"\",EI42=\"\"),\"Yes\",\"\")","v":""},"",{"$f":"IF(AND(EK45=\"Yes\",EK44=\"\",EK43=\"\",EK42=\"\"),\"Yes\",\"\")","v":""},"",{"$f":"IF(AND(EM45=\"Yes\",EM44=\"\",EM43=\"\",EM42=\"\"),\"Yes\",\"\")","v":""},"",{"$f":"IF(AND(EO45=\"Yes\",EO44=\"\",EO43=\"\",EO42=\"\"),\"Yes\",\"\")","v":""},"",{"$f":"IF(AND(EQ45=\"Yes\",EQ44=\"\",EQ43=\"\",EQ42=\"\"),\"Yes\",\"\")","v":""},"",{"$f":"IF(AND(ES45=\"Yes\",ES44=\"\",ES43=\"\",ES42=\"\"),\"Yes\",\"\")","v":""},"",{"$f":"IF(AND(EU45=\"Yes\",EU44=\"\",EU43=\"\",EU42=\"\"),\"Yes\",\"\")","v":""},"",{"$f":"IF(AND(EW45=\"Yes\",EW44=\"\",EW43=\"\",EW42=\"\"),\"Yes\",\"\")","v":""},"","","",{"$f":"IF(AND(FA45=\"Yes\",FA44=\"\",FA43=\"\",FA42=\"\"),\"Yes\",\"\")","v":""},"","",{"$f":"IF(AND(N45>='Warrant 7 & 8 - MUTCD'!$L$25,OR('Traffic Volume Input'!O45>='Warrant 7 & 8 - MUTCD'!$N$25,'Traffic Volume Input'!P45>='Warrant 7 & 8 - MUTCD'!$N$25)),\"Yes\",\"\")","v":""},"","",{"$f":"IF(AND(FG45=\"Yes\",FG44=\"\",FG43=\"\",FG42=\"\"),\"Yes\",\"\")","v":""},"",{"$f":"IF(AND(FI45=\"Yes\",FI44=\"\",FI43=\"\",FI42=\"\"),\"Yes\",\"\")","v":""},"",{"$f":"IF(AND(FK45=\"Yes\",FK44=\"\",FK43=\"\",FK42=\"\"),\"Yes\",\"\")","v":""},"",{"$f":"IF(AND(FM45=\"Yes\",FM44=\"\",FM43=\"\",FM42=\"\"),\"Yes\",\"\")","v":""},"",{"$f":"IF(AND(FO45=\"Yes\",FO44=\"\",FO43=\"\",FO42=\"\"),\"Yes\",\"\")","v":""},"",{"$f":"IF(AND(FQ45=\"Yes\",FQ44=\"\",FQ43=\"\",FQ42=\"\"),\"Yes\",\"\")","v":""},"",{"$f":"IF(AND(FS45=\"Yes\",FS44=\"\",FS43=\"\",FS42=\"\"),\"Yes\",\"\")","v":""},"",{"$f":"IF(AND(FU45=\"Yes\",FU44=\"\",FU43=\"\",FU42=\"\"),\"Yes\",\"\")","v":""},"",{"$f":"IF(AND(FW45=\"Yes\",FW44=\"\",FW43=\"\",FW42=\"\"),\"Yes\",\"\")","v":""},"",{"$f":"IF(AND(FY45=\"Yes\",FY44=\"\",FY43=\"\",FY42=\"\"),\"Yes\",\"\")","v":""},"",{"$f":"IF(AND(GA45=\"Yes\",GA44=\"\",GA43=\"\",GA42=\"\"),\"Yes\",\"\")","v":""},"",{"$f":"IF(AND(GC45=\"Yes\",GC44=\"\",GC43=\"\",GC42=\"\"),\"Yes\",\"\")","v":""},"",{"$f":"IF(AND(GE45=\"Yes\",GE44=\"\",GE43=\"\",GE42=\"\"),\"Yes\",\"\")","v":""},"",{"$f":"IF(AND(GG45=\"Yes\",GG44=\"\",GG43=\"\",GG42=\"\"),\"Yes\",\"\")","v":""},"",{"$f":"IF(AND(GI45=\"Yes\",GI44=\"\",GI43=\"\",GI42=\"\"),\"Yes\",\"\")","v":""},"",{"$f":"IF(AND(GK45=\"Yes\",GK44=\"\",GK43=\"\",GK42=\"\"),\"Yes\",\"\")","v":""},"",{"$f":"IF(AND(GM45=\"Yes\",GM44=\"\",GM43=\"\",GM42=\"\"),\"Yes\",\"\")","v":""},"",{"$f":"IF(AND(GO45=\"Yes\",GO44=\"\",GO43=\"\",GO42=\"\"),\"Yes\",\"\")","v":""},"",{"$f":"IF(AND(GQ45=\"Yes\",GQ44=\"\",GQ43=\"\",GQ42=\"\"),\"Yes\",\"\")","v":""},"",{"$f":"IF(AND(GS45=\"Yes\",GS44=\"\",GS43=\"\",GS42=\"\"),\"Yes\",\"\")","v":""},"","","",{"$f":"IF(AND(GW45=\"Yes\",GW44=\"\",GW43=\"\",GW42=\"\"),\"Yes\",\"\")","v":""},"",""]
["10:00:00","10:14:00",null,null,0,null,null,null,null,"10:00:00","10:59:00",0,0,0,0,0,{"$f":"IF(AND(N46>='Warrant 1 - MUTCD'!$M$23,OR('Traffic Volume Input'!O46>='Warrant 1 - MUTCD'!$Q$23,'Traffic Volume Input'!P46>='Warrant 1 - MUTCD'!$Q$23)),\"Yes\",\"\")","v":""},"","","","","","",{"$f":"IF(AND(W46=\"Yes\",W45=\"\",W44=\"\",W43=\"\"),\"Yes\",\"\")","v":""},"",{"$f":"IF(AND(Y46=\"Yes\",Y45=\"\",Y44=\"\",Y43=\"\"),\"Yes\",\"\")","v":""},"",{"$f":"IF(AND(AA46=\"Yes\",AA45=\"\",AA44=\"\",AA43=\"\"),\"Yes\",\"\")","v":""},"",{"$f":"IF(AND(AC46=\"Yes\",AC45=\"\",AC44=\"\",AC43=\"\"),\"Yes\",\"\")","v":""},"",{"$f":"IF(AND(AE46=\"Yes\",AE45=\"\",AE44=\"\",AE43=\"\"),\"Yes\",\"\")","v":""},"",{"$f":"IF(AND(AG46=\"Yes\",AG45=\"\",AG44=\"\",AG43=\"\"),\"Yes\",\"\")","v":""},"",{"$f":"IF(AND(AI46=\"Yes\",AI45=\"\",AI44=\"\",AI43=\"\"),\"Yes\",\"\")","v":""},"",{"$f":"IF(AND(AK46=\"Yes\",AK45=\"\",AK44=\"\",AK43=\"\"),\"Yes\",\"\")","v":""},"",{"$f":"IF(AND(AM46=\"Yes\",AM45=\"\",AM44=\"\",AM43=\"\"),\"Yes\",\"\")","v":""},"",{"$f":"IF(AND(AO46=\"Yes\",AO45=\"\",AO44=\"\",AO43=\"\"),\"Yes\",\"\")","v":""},"",{"$f":"IF(AND(AQ46=\"Yes\",AQ45=\"\",AQ44=\"\",AQ43=\"\"),\"Yes\",\"\")","v":""},"",{"$f":"IF(AND(AS46=\"Yes\",AS45=\"\",AS44=\"\",AS43=\"\"),\"Yes\",\"\")","v":""},"",{"$f":"IF(AND(AU46=\"Yes\",AU45=\"\",AU44=\"\",AU43=\"\"),\"Yes\",\"\")","v":""},"",{"$f":"IF(AND(AW46=\"Yes\",AW45=\"\",AW44=\"\",AW43=\"\"),\"Yes\",\"\")","v":""},"",{"$f":"IF(AND(AY46=\"Yes\",AY45=\"\",AY44=\"\",AY43=\"\"),\"Yes\",\"\")","v":""},"",{"$f":"IF(AND(BA46=\"Yes\",BA45=\"\",BA44=\"\",BA43=\"\"),\"Yes\",\"\")","v":""},"",{"$f":"IF(AND(BC46=\"Yes\",BC45=\"\",BC44=\"\",BC43=\"\"),\"Yes\",\"\")","v":""},"",{"$f":"IF(AND(BE46=\"Yes\",BE45=\"\",BE44=\"\",BE43=\"\"),\"Yes\",\"\")","v":""},"",{"$f":"IF(AND(BG46=\"Yes\",BG45=\"\",BG44=\"\",BG43=\"\"),\"Yes\",\"\")","v":""},"",{"$f":"IF(AND(BI46=\"Yes\",BI45=\"\",BI44=\"\",BI43=\"\"),\"Yes\",\"\")","v":""},"","",{"$f":"IF(AND(N46>='Warrant 1 - MUTCD'!$M$32,OR('Traffic Volume Input'!O46>='Warrant 1 - MUTCD'!$Q$32,'Traffic Volume Input'!P46>='Warrant 1 - MUTCD'!$Q$32)),\"Yes\",\"\")","v":""},"","",{"$f":"IF(AND(BO46=\"Yes\",BO45=\"\",BO44=\"\",BO43=\"\"),\"Yes\",\"\")","v":""},"",{"$f":"IF(AND(BQ46=\"Yes\",BQ45=\"\",BQ44=\"\",BQ43=\"\"),\"Yes\",\"\")","v":""},"",{"$f":"IF(AND(BS46=\"Yes\",BS45=\"\",BS44=\"\",BS43=\"\"),\"Yes\",\"\")","v":""},"",{"$f":"IF(AND(BU46=\"Yes\",BU45=\"\",BU44=\"\",BU43=\"\"),\"Yes\",\"\")","v":""},"",{"$f":"IF(AND(BW46=\"Yes\",BW45=\"\",BW44=\"\",BW43=\"\"),\"Yes\",\"\")","v":""},"",{"$f":"IF(AND(BY46=\"Yes\",BY45=\"\",BY44=\"\",BY43=\"\"),\"Yes\",\"\")","v":""},"",{"$f":"IF(AND(CA46=\"Yes\",CA45=\"\",CA44=\"\",CA43=\"\"),\"Yes\",\"\")","v":""},"",{"$f":"IF(AND(CC46=\"Yes\",CC45=\"\",CC44=\"\",CC43=\"\"),\"Yes\",\"\")","v":""},"",{"$f":"IF(AND(CE46=\"Yes\",CE45=\"\",CE44=\"\",CE43=\"\"),\"Yes\",\"\")","v":""},"",{"$f":"IF(AND(CG46=\"Yes\",CG45=\"\",CG44=\"\",CG43=\"\"),\"Yes\",\"\")","v":""},"",{"$f":"IF(AND(CI46=\"Yes\",CI45=\"\",CI44=\"\",CI43=\"\"),\"Yes\",\"\")","v":""},"",{"$f":"IF(AND(CK46=\"Yes\",CK45=\"\",CK44=\"\",CK43=\"\"),\"Yes\",\"\")","v":""},"",{"$f":"IF(AND(CM46=\"Yes\",CM45=\"\",CM44=\"\",CM43=\"\"),\"Yes\",\"\")","v":""},"",{"$f":"IF(AND(CO46=\"Yes\",CO45=\"\",CO44=\"\",CO43=\"\"),\"Yes\",\"\")","v":""},"",{"$f":"IF(AND(CQ46=\"Yes\",CQ45=\"\",CQ44=\"\",CQ43=\"\"),\"Yes\",\"\")","v":""},"",{"$f":"IF(AND(CS46=\"Yes\",CS45=\"\",CS44=\"\",CS43=\"\"),\"Yes\",\"\")","v":""},"",{"$f":"IF(AND(CU46=\"Yes\",CU45=\"\",CU44=\"\",CU43=\"\"),\"Yes\",\"\")","v":""},"",{"$f":"IF(AND(CW46=\"Yes\",CW45=\"\",CW44=\"\",CW43=\"\"),\"Yes\",\"\")","v":""},"",{"$f":"IF(AND(CY46=\"Yes\",CY45=\"\",CY44=\"\",CY43=\"\"),\"Yes\",\"\")","v":""},"",{"$f":"IF(AND(DA46=\"Yes\",DA45=\"\",DA44=\"\",DA43=\"\"),\"Yes\",\"\")","v":""},"","","",{"$f":"IF(AND(DE46=\"Yes\",DE45=\"\",DE44=\"\",DE43=\"\"),\"Yes\",\"\")","v":""},"",{"$f":"IF(AND(DG46=\"Yes\",DG45=\"\",DG44=\"\",DG43=\"\"),\"Yes\",\"\")","v":""},{"$f":"IF(AND(N46>='Warrant 7 & 8 - MUTCD'!$L$16,OR('Traffic Volume Input'!O46>='Warrant 7 & 8 - MUTCD'!$N$16,'Traffic Volume Input'!P46>='Warrant 7 & 8 - MUTCD'!$N$16)),\"Yes\",\"\")","v":""},"","",{"$f":"IF(AND(DK46=\"Yes\",DK45=\"\",DK44=\"\",DK43=\"\"),\"Yes\",\"\")","v":""},"",{"$f":"IF(AND(DM46=\"Yes\",DM45=\"\",DM44=\"\",DM43=\"\"),\"Yes\",\"\")","v":""},"",{"$f":"IF(AND(DO46=\"Yes\",DO45=\"\",DO44=\"\",DO43=\"\"),\"Yes\",\"\")","v":""},"",{"$f":"IF(AND(DQ46=\"Yes\",DQ45=\"\",DQ44=\"\",DQ43=\"\"),\"Yes\",\"\")","v":""},"",{"$f":"IF(AND(DS46=\"Yes\",DS45=\"\",DS44=\"\",DS43=\"\"),\"Yes\",\"\")","v":""},"",{"$f":"IF(AND(DU46=\"Yes\",DU45=\"\",DU44=\"\",DU43=\"\"),\"Yes\",\"\")","v":""},"",{"$f":"IF(AND(DW46=\"Yes\",DW45=\"\",DW44=\"\",DW43=\"\"),\"Yes\",\"\")","v":""},"",{"$f":"IF(AND(DY46=\"Yes\",DY45=\"\",DY44=\"\",DY43=\"\"),\"Yes\",\"\")","v":""},"",{"$f":"IF(AND(EA46=\"Yes\",EA45=\"\",EA44=\"\",EA43=\"\"),\"Yes\",\"\")","v":""},"",{"$f":"IF(AND(EC46=\"Yes\",EC45=\"\",EC44=\"\",EC43=\"\"),\"Yes\",\"\")","v":""},"",{"$f":"IF(AND(EE46=\"Yes\",EE45=\"\",EE44=\"\",EE43=\"\"),\"Yes\",\"\")","v":""},"",{"$f":"IF(AND(EG46=\"Yes\",EG45=\"\",EG44=\"\",EG43=\"\"),\"Yes\",\"\")","v":""},"",{"$f":"IF(AND(EI46=\"Yes\",EI45=\"\",EI44=\"\",EI43=\"\"),\"Yes\",\"\")","v":""},"",{"$f":"IF(AND(EK46=\"Yes\",EK45=\"\",EK44=\"\",EK43=\"\"),\"Yes\",\"\")","v":""},"",{"$f":"IF(AND(EM46=\"Yes\",EM45=\"\",EM44=\"\",EM43=\"\"),\"Yes\",\"\")","v":""},"",{"$f":"IF(AND(EO46=\"Yes\",EO45=\"\",EO44=\"\",EO43=\"\"),\"Yes\",\"\")","v":""},"",{"$f":"IF(AND(EQ46=\"Yes\",EQ45=\"\",EQ44=\"\",EQ43=\"\"),\"Yes\",\"\")","v":""},"",{"$f":"IF(AND(ES46=\"Yes\",ES45=\"\",ES44=\"\",ES43=\"\"),\"Yes\",\"\")","v":""},"",{"$f":"IF(AND(EU46=\"Yes\",EU45=\"\",EU44=\"\",EU43=\"\"),\"Yes\",\"\")","v":""},"",{"$f":"IF(AND(EW46=\"Yes\",EW45=\"\",EW44=\"\",EW43=\"\"),\"Yes\",\"\")","v":""},"","","",{"$f":"IF(AND(FA46=\"Yes\",FA45=\"\",FA44=\"\",FA43=\"\"),\"Yes\",\"\")","v":""},"","",{"$f":"IF(AND(N46>='Warrant 7 & 8 - MUTCD'!$L$25,OR('Traffic Volume Input'!O46>='Warrant 7 & 8 - MUTCD'!$N$25,'Traffic Volume Input'!P46>='Warrant 7 & 8 - MUTCD'!$N$25)),\"Yes\",\"\")","v":""},"","",{"$f":"IF(AND(FG46=\"Yes\",FG45=\"\",FG44=\"\",FG43=\"\"),\"Yes\",\"\")","v":""},"",{"$f":"IF(AND(FI46=\"Yes\",FI45=\"\",FI44=\"\",FI43=\"\"),\"Yes\",\"\")","v":""},"",{"$f":"IF(AND(FK46=\"Yes\",FK45=\"\",FK44=\"\",FK43=\"\"),\"Yes\",\"\")","v":""},"",{"$f":"IF(AND(FM46=\"Yes\",FM45=\"\",FM44=\"\",FM43=\"\"),\"Yes\",\"\")","v":""},"",{"$f":"IF(AND(FO46=\"Yes\",FO45=\"\",FO44=\"\",FO43=\"\"),\"Yes\",\"\")","v":""},"",{"$f":"IF(AND(FQ46=\"Yes\",FQ45=\"\",FQ44=\"\",FQ43=\"\"),\"Yes\",\"\")","v":""},"",{"$f":"IF(AND(FS46=\"Yes\",FS45=\"\",FS44=\"\",FS43=\"\"),\"Yes\",\"\")","v":""},"",{"$f":"IF(AND(FU46=\"Yes\",FU45=\"\",FU44=\"\",FU43=\"\"),\"Yes\",\"\")","v":""},"",{"$f":"IF(AND(FW46=\"Yes\",FW45=\"\",FW44=\"\",FW43=\"\"),\"Yes\",\"\")","v":""},"",{"$f":"IF(AND(FY46=\"Yes\",FY45=\"\",FY44=\"\",FY43=\"\"),\"Yes\",\"\")","v":""},"",{"$f":"IF(AND(GA46=\"Yes\",GA45=\"\",GA44=\"\",GA43=\"\"),\"Yes\",\"\")","v":""},"",{"$f":"IF(AND(GC46=\"Yes\",GC45=\"\",GC44=\"\",GC43=\"\"),\"Yes\",\"\")","v":""},"",{"$f":"IF(AND(GE46=\"Yes\",GE45=\"\",GE44=\"\",GE43=\"\"),\"Yes\",\"\")","v":""},"",{"$f":"IF(AND(GG46=\"Yes\",GG45=\"\",GG44=\"\",GG43=\"\"),\"Yes\",\"\")","v":""},"",{"$f":"IF(AND(GI46=\"Yes\",GI45=\"\",GI44=\"\",GI43=\"\"),\"Yes\",\"\")","v":""},"",{"$f":"IF(AND(GK46=\"Yes\",GK45=\"\",GK44=\"\",GK43=\"\"),\"Yes\",\"\")","v":""},"",{"$f":"IF(AND(GM46=\"Yes\",GM45=\"\",GM44=\"\",GM43=\"\"),\"Yes\",\"\")","v":""},"",{"$f":"IF(AND(GO46=\"Yes\",GO45=\"\",GO44=\"\",GO43=\"\"),\"Yes\",\"\")","v":""},"",{"$f":"IF(AND(GQ46=\"Yes\",GQ45=\"\",GQ44=\"\",GQ43=\"\"),\"Yes\",\"\")","v":""},"",{"$f":"IF(AND(GS46=\"Yes\",GS45=\"\",GS44=\"\",GS43=\"\"),\"Yes\",\"\")","v":""},"","","",{"$f":"IF(AND(GW46=\"Yes\",GW45=\"\",GW44=\"\",GW43=\"\"),\"Yes\",\"\")","v":""},"",""]
["10:15:00","10:29:00",null,null,0,null,null,null,null,"10:15:00","11:14:00",0,0,0,0,0,{"$f":"IF(AND(N47>='Warrant 1 - MUTCD'!$M$23,OR('Traffic Volume Input'!O47>='Warrant 1 - MUTCD'!$Q$23,'Traffic Volume Input'!P47>='Warrant 1 - MUTCD'!$Q$23)),\"Yes\",\"\")","v":""},"","","","","","",{"$f":"IF(AND(W47=\"Yes\",W46=\"\",W45=\"\",W44=\"\"),\"Yes\",\"\")","v":""},"",{"$f":"IF(AND(Y47=\"Yes\",Y46=\"\",Y45=\"\",Y44=\"\"),\"Yes\",\"\")","v":""},"",{"$f":"IF(AND(AA47=\"Yes\",AA46=\"\",AA45=\"\",AA44=\"\"),\"Yes\",\"\")","v":""},"",{"$f":"IF(AND(AC47=\"Yes\",AC46=\"\",AC45=\"\",AC44=\"\"),\"Yes\",\"\")","v":""},"",{"$f":"IF(AND(AE47=\"Yes\",AE46=\"\",AE45=\"\",AE44=\"\"),\"Yes\",\"\")","v":""},"",{"$f":"IF(AND(AG47=\"Yes\",AG46=\"\",AG45=\"\",AG44=\"\"),\"Yes\",\"\")","v":""},"",{"$f":"IF(AND(AI47=\"Yes\",AI46=\"\",AI45=\"\",AI44=\"\"),\"Yes\",\"\")","v":""},"",{"$f":"IF(AND(AK47=\"Yes\",AK46=\"\",AK45=\"\",AK44=\"\"),\"Yes\",\"\")","v":""},"",{"$f":"IF(AND(AM47=\"Yes\",AM46=\"\",AM45=\"\",AM44=\"\"),\"Yes\",\"\")","v":""},"",{"$f":"IF(AND(AO47=\"Yes\",AO46=\"\",AO45=\"\",AO44=\"\"),\"Yes\",\"\")","v":""},"",{"$f":"IF(AND(AQ47=\"Yes\",AQ46=\"\",AQ45=\"\",AQ44=\"\"),\"Yes\",\"\")","v":""},"",{"$f":"IF(AND(AS47=\"Yes\",AS46=\"\",AS45=\"\",AS44=\"\"),\"Yes\",\"\")","v":""},"",{"$f":"IF(AND(AU47=\"Yes\",AU46=\"\",AU45=\"\",AU44=\"\"),\"Yes\",\"\")","v":""},"",{"$f":"IF(AND(AW47=\"Yes\",AW46=\"\",AW45=\"\",AW44=\"\"),\"Yes\",\"\")","v":""},"",{"$f":"IF(AND(AY47=\"Yes\",AY46=\"\",AY45=\"\",AY44=\"\"),\"Yes\",\"\")","v":""},"",{"$f":"IF(AND(BA47=\"Yes\",BA46=\"\",BA45=\"\",BA44=\"\"),\"Yes\",\"\")","v":""},"",{"$f":"IF(AND(BC47=\"Yes\",BC46=\"\",BC45=\"\",BC44=\"\"),\"Yes\",\"\")","v":""},"",{"$f":"IF(AND(BE47=\"Yes\",BE46=\"\",BE45=\"\",BE44=\"\"),\"Yes\",\"\")","v":""},"",{"$f":"IF(AND(BG47=\"Yes\",BG46=\"\",BG45=\"\",BG44=\"\"),\"Yes\",\"\")","v":""},"",{"$f":"IF(AND(BI47=\"Yes\",BI46=\"\",BI45=\"\",BI44=\"\"),\"Yes\",\"\")","v":""},"","",{"$f":"IF(AND(N47>='Warrant 1 - MUTCD'!$M$32,OR('Traffic Volume Input'!O47>='Warrant 1 - MUTCD'!$Q$32,'Traffic Volume Input'!P47>='Warrant 1 - MUTCD'!$Q$32)),\"Yes\",\"\")","v":""},"","",{"$f":"IF(AND(BO47=\"Yes\",BO46=\"\",BO45=\"\",BO44=\"\"),\"Yes\",\"\")","v":""},"",{"$f":"IF(AND(BQ47=\"Yes\",BQ46=\"\",BQ45=\"\",BQ44=\"\"),\"Yes\",\"\")","v":""},"",{"$f":"IF(AND(BS47=\"Yes\",BS46=\"\",BS45=\"\",BS44=\"\"),\"Yes\",\"\")","v":""},"",{"$f":"IF(AND(BU47=\"Yes\",BU46=\"\",BU45=\"\",BU44=\"\"),\"Yes\",\"\")","v":""},"",{"$f":"IF(AND(BW47=\"Yes\",BW46=\"\",BW45=\"\",BW44=\"\"),\"Yes\",\"\")","v":""},"",{"$f":"IF(AND(BY47=\"Yes\",BY46=\"\",BY45=\"\",BY44=\"\"),\"Yes\",\"\")","v":""},"",{"$f":"IF(AND(CA47=\"Yes\",CA46=\"\",CA45=\"\",CA44=\"\"),\"Yes\",\"\")","v":""},"",{"$f":"IF(AND(CC47=\"Yes\",CC46=\"\",CC45=\"\",CC44=\"\"),\"Yes\",\"\")","v":""},"",{"$f":"IF(AND(CE47=\"Yes\",CE46=\"\",CE45=\"\",CE44=\"\"),\"Yes\",\"\")","v":""},"",{"$f":"IF(AND(CG47=\"Yes\",CG46=\"\",CG45=\"\",CG44=\"\"),\"Yes\",\"\")","v":""},"",{"$f":"IF(AND(CI47=\"Yes\",CI46=\"\",CI45=\"\",CI44=\"\"),\"Yes\",\"\")","v":""},"",{"$f":"IF(AND(CK47=\"Yes\",CK46=\"\",CK45=\"\",CK44=\"\"),\"Yes\",\"\")","v":""},"",{"$f":"IF(AND(CM47=\"Yes\",CM46=\"\",CM45=\"\",CM44=\"\"),\"Yes\",\"\")","v":""},"",{"$f":"IF(AND(CO47=\"Yes\",CO46=\"\",CO45=\"\",CO44=\"\"),\"Yes\",\"\")","v":""},"",{"$f":"IF(AND(CQ47=\"Yes\",CQ46=\"\",CQ45=\"\",CQ44=\"\"),\"Yes\",\"\")","v":""},"",{"$f":"IF(AND(CS47=\"Yes\",CS46=\"\",CS45=\"\",CS44=\"\"),\"Yes\",\"\")","v":""},"",{"$f":"IF(AND(CU47=\"Yes\",CU46=\"\",CU45=\"\",CU44=\"\"),\"Yes\",\"\")","v":""},"",{"$f":"IF(AND(CW47=\"Yes\",CW46=\"\",CW45=\"\",CW44=\"\"),\"Yes\",\"\")","v":""},"",{"$f":"IF(AND(CY47=\"Yes\",CY46=\"\",CY45=\"\",CY44=\"\"),\"Yes\",\"\")","v":""},"",{"$f":"IF(AND(DA47=\"Yes\",DA46=\"\",DA45=\"\",DA44=\"\"),\"Yes\",\"\")","v":""},"","","",{"$f":"IF(AND(DE47=\"Yes\",DE46=\"\",DE45=\"\",DE44=\"\"),\"Yes\",\"\")","v":""},"",{"$f":"IF(AND(DG47=\"Yes\",DG46=\"\",DG45=\"\",DG44=\"\"),\"Yes\",\"\")","v":""},{"$f":"IF(AND(N47>='Warrant 7 & 8 - MUTCD'!$L$16,OR('Traffic Volume Input'!O47>='Warrant 7 & 8 - MUTCD'!$N$16,'Traffic Volume Input'!P47>='Warrant 7 & 8 - MUTCD'!$N$16)),\"Yes\",\"\")","v":""},"","",{"$f":"IF(AND(DK47=\"Yes\",DK46=\"\",DK45=\"\",DK44=\"\"),\"Yes\",\"\")","v":""},"",{"$f":"IF(AND(DM47=\"Yes\",DM46=\"\",DM45=\"\",DM44=\"\"),\"Yes\",\"\")","v":""},"",{"$f":"IF(AND(DO47=\"Yes\",DO46=\"\",DO45=\"\",DO44=\"\"),\"Yes\",\"\")","v":""},"",{"$f":"IF(AND(DQ47=\"Yes\",DQ46=\"\",DQ45=\"\",DQ44=\"\"),\"Yes\",\"\")","v":""},"",{"$f":"IF(AND(DS47=\"Yes\",DS46=\"\",DS45=\"\",DS44=\"\"),\"Yes\",\"\")","v":""},"",{"$f":"IF(AND(DU47=\"Yes\",DU46=\"\",DU45=\"\",DU44=\"\"),\"Yes\",\"\")","v":""},"",{"$f":"IF(AND(DW47=\"Yes\",DW46=\"\",DW45=\"\",DW44=\"\"),\"Yes\",\"\")","v":""},"",{"$f":"IF(AND(DY47=\"Yes\",DY46=\"\",DY45=\"\",DY44=\"\"),\"Yes\",\"\")","v":""},"",{"$f":"IF(AND(EA47=\"Yes\",EA46=\"\",EA45=\"\",EA44=\"\"),\"Yes\",\"\")","v":""},"",{"$f":"IF(AND(EC47=\"Yes\",EC46=\"\",EC45=\"\",EC44=\"\"),\"Yes\",\"\")","v":""},"",{"$f":"IF(AND(EE47=\"Yes\",EE46=\"\",EE45=\"\",EE44=\"\"),\"Yes\",\"\")","v":""},"",{"$f":"IF(AND(EG47=\"Yes\",EG46=\"\",EG45=\"\",EG44=\"\"),\"Yes\",\"\")","v":""},"",{"$f":"IF(AND(EI47=\"Yes\",EI46=\"\",EI45=\"\",EI44=\"\"),\"Yes\",\"\")","v":""},"",{"$f":"IF(AND(EK47=\"Yes\",EK46=\"\",EK45=\"\",EK44=\"\"),\"Yes\",\"\")","v":""},"",{"$f":"IF(AND(EM47=\"Yes\",EM46=\"\",EM45=\"\",EM44=\"\"),\"Yes\",\"\")","v":""},"",{"$f":"IF(AND(EO47=\"Yes\",EO46=\"\",EO45=\"\",EO44=\"\"),\"Yes\",\"\")","v":""},"",{"$f":"IF(AND(EQ47=\"Yes\",EQ46=\"\",EQ45=\"\",EQ44=\"\"),\"Yes\",\"\")","v":""},"",{"$f":"IF(AND(ES47=\"Yes\",ES46=\"\",ES45=\"\",ES44=\"\"),\"Yes\",\"\")","v":""},"",{"$f":"IF(AND(EU47=\"Yes\",EU46=\"\",EU45=\"\",EU44=\"\"),\"Yes\",\"\")","v":""},"",{"$f":"IF(AND(EW47=\"Yes\",EW46=\"\",EW45=\"\",EW44=\"\"),\"Yes\",\"\")","v":""},"","","",{"$f":"IF(AND(FA47=\"Yes\",FA46=\"\",FA45=\"\",FA44=\"\"),\"Yes\",\"\")","v":""},"","",{"$f":"IF(AND(N47>='Warrant 7 & 8 - MUTCD'!$L$25,OR('Traffic Volume Input'!O47>='Warrant 7 & 8 - MUTCD'!$N$25,'Traffic Volume Input'!P47>='Warrant 7 & 8 - MUTCD'!$N$25)),\"Yes\",\"\")","v":""},"","",{"$f":"IF(AND(FG47=\"Yes\",FG46=\"\",FG45=\"\",FG44=\"\"),\"Yes\",\"\")","v":""},"",{"$f":"IF(AND(FI47=\"Yes\",FI46=\"\",FI45=\"\",FI44=\"\"),\"Yes\",\"\")","v":""},"",{"$f":"IF(AND(FK47=\"Yes\",FK46=\"\",FK45=\"\",FK44=\"\"),\"Yes\",\"\")","v":""},"",{"$f":"IF(AND(FM47=\"Yes\",FM46=\"\",FM45=\"\",FM44=\"\"),\"Yes\",\"\")","v":""},"",{"$f":"IF(AND(FO47=\"Yes\",FO46=\"\",FO45=\"\",FO44=\"\"),\"Yes\",\"\")","v":""},"",{"$f":"IF(AND(FQ47=\"Yes\",FQ46=\"\",FQ45=\"\",FQ44=\"\"),\"Yes\",\"\")","v":""},"",{"$f":"IF(AND(FS47=\"Yes\",FS46=\"\",FS45=\"\",FS44=\"\"),\"Yes\",\"\")","v":""},"",{"$f":"IF(AND(FU47=\"Yes\",FU46=\"\",FU45=\"\",FU44=\"\"),\"Yes\",\"\")","v":""},"",{"$f":"IF(AND(FW47=\"Yes\",FW46=\"\",FW45=\"\",FW44=\"\"),\"Yes\",\"\")","v":""},"",{"$f":"IF(AND(FY47=\"Yes\",FY46=\"\",FY45=\"\",FY44=\"\"),\"Yes\",\"\")","v":""},"",{"$f":"IF(AND(GA47=\"Yes\",GA46=\"\",GA45=\"\",GA44=\"\"),\"Yes\",\"\")","v":""},"",{"$f":"IF(AND(GC47=\"Yes\",GC46=\"\",GC45=\"\",GC44=\"\"),\"Yes\",\"\")","v":""},"",{"$f":"IF(AND(GE47=\"Yes\",GE46=\"\",GE45=\"\",GE44=\"\"),\"Yes\",\"\")","v":""},"",{"$f":"IF(AND(GG47=\"Yes\",GG46=\"\",GG45=\"\",GG44=\"\"),\"Yes\",\"\")","v":""},"",{"$f":"IF(AND(GI47=\"Yes\",GI46=\"\",GI45=\"\",GI44=\"\"),\"Yes\",\"\")","v":""},"",{"$f":"IF(AND(GK47=\"Yes\",GK46=\"\",GK45=\"\",GK44=\"\"),\"Yes\",\"\")","v":""},"",{"$f":"IF(AND(GM47=\"Yes\",GM46=\"\",GM45=\"\",GM44=\"\"),\"Yes\",\"\")","v":""},"",{"$f":"IF(AND(GO47=\"Yes\",GO46=\"\",GO45=\"\",GO44=\"\"),\"Yes\",\"\")","v":""},"",{"$f":"IF(AND(GQ47=\"Yes\",GQ46=\"\",GQ45=\"\",GQ44=\"\"),\"Yes\",\"\")","v":""},"",{"$f":"IF(AND(GS47=\"Yes\",GS46=\"\",GS45=\"\",GS44=\"\"),\"Yes\",\"\")","v":""},"","","",{"$f":"IF(AND(GW47=\"Yes\",GW46=\"\",GW45=\"\",GW44=\"\"),\"Yes\",\"\")","v":""},"",""]
["10:30:00","10:44:00",null,null,0,null,null,null,null,"10:30:00","11:29:00",0,0,{"$f":"L48+M48","v":0},0,0,{"$f":"IF(AND(N48>='Warrant 1 - MUTCD'!$M$23,OR('Traffic Volume Input'!O48>='Warrant 1 - MUTCD'!$Q$23,'Traffic Volume Input'!P48>='Warrant 1 - MUTCD'!$Q$23)),\"Yes\",\"\")","v":""},"","","","","","",{"$f":"IF(AND(W48=\"Yes\",W47=\"\",W46=\"\",W45=\"\"),\"Yes\",\"\")","v":""},"",{"$f":"IF(AND(Y48=\"Yes\",Y47=\"\",Y46=\"\",Y45=\"\"),\"Yes\",\"\")","v":""},"",{"$f":"IF(AND(AA48=\"Yes\",AA47=\"\",AA46=\"\",AA45=\"\"),\"Yes\",\"\")","v":""},"",{"$f":"IF(AND(AC48=\"Yes\",AC47=\"\",AC46=\"\",AC45=\"\"),\"Yes\",\"\")","v":""},"",{"$f":"IF(AND(AE48=\"Yes\",AE47=\"\",AE46=\"\",AE45=\"\"),\"Yes\",\"\")","v":""},"",{"$f":"IF(AND(AG48=\"Yes\",AG47=\"\",AG46=\"\",AG45=\"\"),\"Yes\",\"\")","v":""},"",{"$f":"IF(AND(AI48=\"Yes\",AI47=\"\",AI46=\"\",AI45=\"\"),\"Yes\",\"\")","v":""},"",{"$f":"IF(AND(AK48=\"Yes\",AK47=\"\",AK46=\"\",AK45=\"\"),\"Yes\",\"\")","v":""},"",{"$f":"IF(AND(AM48=\"Yes\",AM47=\"\",AM46=\"\",AM45=\"\"),\"Yes\",\"\")","v":""},"",{"$f":"IF(AND(AO48=\"Yes\",AO47=\"\",AO46=\"\",AO45=\"\"),\"Yes\",\"\")","v":""},"",{"$f":"IF(AND(AQ48=\"Yes\",AQ47=\"\",AQ46=\"\",AQ45=\"\"),\"Yes\",\"\")","v":""},"",{"$f":"IF(AND(AS48=\"Yes\",AS47=\"\",AS46=\"\",AS45=\"\"),\"Yes\",\"\")","v":""},"",{"$f":"IF(AND(AU48=\"Yes\",AU47=\"\",AU46=\"\",AU45=\"\"),\"Yes\",\"\")","v":""},"",{"$f":"IF(AND(AW48=\"Yes\",AW47=\"\",AW46=\"\",AW45=\"\"),\"Yes\",\"\")","v":""},"",{"$f":"IF(AND(AY48=\"Yes\",AY47=\"\",AY46=\"\",AY45=\"\"),\"Yes\",\"\")","v":""},"",{"$f":"IF(AND(BA48=\"Yes\",BA47=\"\",BA46=\"\",BA45=\"\"),\"Yes\",\"\")","v":""},"",{"$f":"IF(AND(BC48=\"Yes\",BC47=\"\",BC46=\"\",BC45=\"\"),\"Yes\",\"\")","v":""},"",{"$f":"IF(AND(BE48=\"Yes\",BE47=\"\",BE46=\"\",BE45=\"\"),\"Yes\",\"\")","v":""},"",{"$f":"IF(AND(BG48=\"Yes\",BG47=\"\",BG46=\"\",BG45=\"\"),\"Yes\",\"\")","v":""},"",{"$f":"IF(AND(BI48=\"Yes\",BI47=\"\",BI46=\"\",BI45=\"\"),\"Yes\",\"\")","v":""},"","",{"$f":"IF(AND(N48>='Warrant 1 - MUTCD'!$M$32,OR('Traffic Volume Input'!O48>='Warrant 1 - MUTCD'!$Q$32,'Traffic Volume Input'!P48>='Warrant 1 - MUTCD'!$Q$32)),\"Yes\",\"\")","v":""},"","",{"$f":"IF(AND(BO48=\"Yes\",BO47=\"\",BO46=\"\",BO45=\"\"),\"Yes\",\"\")","v":""},"",{"$f":"IF(AND(BQ48=\"Yes\",BQ47=\"\",BQ46=\"\",BQ45=\"\"),\"Yes\",\"\")","v":""},"",{"$f":"IF(AND(BS48=\"Yes\",BS47=\"\",BS46=\"\",BS45=\"\"),\"Yes\",\"\")","v":""},"",{"$f":"IF(AND(BU48=\"Yes\",BU47=\"\",BU46=\"\",BU45=\"\"),\"Yes\",\"\")","v":""},"",{"$f":"IF(AND(BW48=\"Yes\",BW47=\"\",BW46=\"\",BW45=\"\"),\"Yes\",\"\")","v":""},"",{"$f":"IF(AND(BY48=\"Yes\",BY47=\"\",BY46=\"\",BY45=\"\"),\"Yes\",\"\")","v":""},"",{"$f":"IF(AND(CA48=\"Yes\",CA47=\"\",CA46=\"\",CA45=\"\"),\"Yes\",\"\")","v":""},"",{"$f":"IF(AND(CC48=\"Yes\",CC47=\"\",CC46=\"\",CC45=\"\"),\"Yes\",\"\")","v":""},"",{"$f":"IF(AND(CE48=\"Yes\",CE47=\"\",CE46=\"\",CE45=\"\"),\"Yes\",\"\")","v":""},"",{"$f":"IF(AND(CG48=\"Yes\",CG47=\"\",CG46=\"\",CG45=\"\"),\"Yes\",\"\")","v":""},"",{"$f":"IF(AND(CI48=\"Yes\",CI47=\"\",CI46=\"\",CI45=\"\"),\"Yes\",\"\")","v":""},"",{"$f":"IF(AND(CK48=\"Yes\",CK47=\"\",CK46=\"\",CK45=\"\"),\"Yes\",\"\")","v":""},"",{"$f":"IF(AND(CM48=\"Yes\",CM47=\"\",CM46=\"\",CM45=\"\"),\"Yes\",\"\")","v":""},"",{"$f":"IF(AND(CO48=\"Yes\",CO47=\"\",CO46=\"\",CO45=\"\"),\"Yes\",\"\")","v":""},"",{"$f":"IF(AND(CQ48=\"Yes\",CQ47=\"\",CQ46=\"\",CQ45=\"\"),\"Yes\",\"\")","v":""},"",{"$f":"IF(AND(CS48=\"Yes\",CS47=\"\",CS46=\"\",CS45=\"\"),\"Yes\",\"\")","v":""},"",{"$f":"IF(AND(CU48=\"Yes\",CU47=\"\",CU46=\"\",CU45=\"\"),\"Yes\",\"\")","v":""},"",{"$f":"IF(AND(CW48=\"Yes\",CW47=\"\",CW46=\"\",CW45=\"\"),\"Yes\",\"\")","v":""},"",{"$f":"IF(AND(CY48=\"Yes\",CY47=\"\",CY46=\"\",CY45=\"\"),\"Yes\",\"\")","v":""},"",{"$f":"IF(AND(DA48=\"Yes\",DA47=\"\",DA46=\"\",DA45=\"\"),\"Yes\",\"\")","v":""},"","","",{"$f":"IF(AND(DE48=\"Yes\",DE47=\"\",DE46=\"\",DE45=\"\"),\"Yes\",\"\")","v":""},"",{"$f":"IF(AND(DG48=\"Yes\",DG47=\"\",DG46=\"\",DG45=\"\"),\"Yes\",\"\")","v":""},{"$f":"IF(AND(N48>='Warrant 7 & 8 - MUTCD'!$L$16,OR('Traffic Volume Input'!O48>='Warrant 7 & 8 - MUTCD'!$N$16,'Traffic Volume Input'!P48>='Warrant 7 & 8 - MUTCD'!$N$16)),\"Yes\",\"\")","v":""},"","",{"$f":"IF(AND(DK48=\"Yes\",DK47=\"\",DK46=\"\",DK45=\"\"),\"Yes\",\"\")","v":""},"",{"$f":"IF(AND(DM48=\"Yes\",DM47=\"\",DM46=\"\",DM45=\"\"),\"Yes\",\"\")","v":""},"",{"$f":"IF(AND(DO48=\"Yes\",DO47=\"\",DO46=\"\",DO45=\"\"),\"Yes\",\"\")","v":""},"",{"$f":"IF(AND(DQ48=\"Yes\",DQ47=\"\",DQ46=\"\",DQ45=\"\"),\"Yes\",\"\")","v":""},"",{"$f":"IF(AND(DS48=\"Yes\",DS47=\"\",DS46=\"\",DS45=\"\"),\"Yes\",\"\")","v":""},"",{"$f":"IF(AND(DU48=\"Yes\",DU47=\"\",DU46=\"\",DU45=\"\"),\"Yes\",\"\")","v":""},"",{"$f":"IF(AND(DW48=\"Yes\",DW47=\"\",DW46=\"\",DW45=\"\"),\"Yes\",\"\")","v":""},"",{"$f":"IF(AND(DY48=\"Yes\",DY47=\"\",DY46=\"\",DY45=\"\"),\"Yes\",\"\")","v":""},"",{"$f":"IF(AND(EA48=\"Yes\",EA47=\"\",EA46=\"\",EA45=\"\"),\"Yes\",\"\")","v":""},"",{"$f":"IF(AND(EC48=\"Yes\",EC47=\"\",EC46=\"\",EC45=\"\"),\"Yes\",\"\")","v":""},"",{"$f":"IF(AND(EE48=\"Yes\",EE47=\"\",EE46=\"\",EE45=\"\"),\"Yes\",\"\")","v":""},"",{"$f":"IF(AND(EG48=\"Yes\",EG47=\"\",EG46=\"\",EG45=\"\"),\"Yes\",\"\")","v":""},"",{"$f":"IF(AND(EI48=\"Yes\",EI47=\"\",EI46=\"\",EI45=\"\"),\"Yes\",\"\")","v":""},"",{"$f":"IF(AND(EK48=\"Yes\",EK47=\"\",EK46=\"\",EK45=\"\"),\"Yes\",\"\")","v":""},"",{"$f":"IF(AND(EM48=\"Yes\",EM47=\"\",EM46=\"\",EM45=\"\"),\"Yes\",\"\")","v":""},"",{"$f":"IF(AND(EO48=\"Yes\",EO47=\"\",EO46=\"\",EO45=\"\"),\"Yes\",\"\")","v":""},"",{"$f":"IF(AND(EQ48=\"Yes\",EQ47=\"\",EQ46=\"\",EQ45=\"\"),\"Yes\",\"\")","v":""},"",{"$f":"IF(AND(ES48=\"Yes\",ES47=\"\",ES46=\"\",ES45=\"\"),\"Yes\",\"\")","v":""},"",{"$f":"IF(AND(EU48=\"Yes\",EU47=\"\",EU46=\"\",EU45=\"\"),\"Yes\",\"\")","v":""},"",{"$f":"IF(AND(EW48=\"Yes\",EW47=\"\",EW46=\"\",EW45=\"\"),\"Yes\",\"\")","v":""},"","","",{"$f":"IF(AND(FA48=\"Yes\",FA47=\"\",FA46=\"\",FA45=\"\"),\"Yes\",\"\")","v":""},"","",{"$f":"IF(AND(N48>='Warrant 7 & 8 - MUTCD'!$L$25,OR('Traffic Volume Input'!O48>='Warrant 7 & 8 - MUTCD'!$N$25,'Traffic Volume Input'!P48>='Warrant 7 & 8 - MUTCD'!$N$25)),\"Yes\",\"\")","v":""},"","",{"$f":"IF(AND(FG48=\"Yes\",FG47=\"\",FG46=\"\",FG45=\"\"),\"Yes\",\"\")","v":""},"",{"$f":"IF(AND(FI48=\"Yes\",FI47=\"\",FI46=\"\",FI45=\"\"),\"Yes\",\"\")","v":""},"",{"$f":"IF(AND(FK48=\"Yes\",FK47=\"\",FK46=\"\",FK45=\"\"),\"Yes\",\"\")","v":""},"",{"$f":"IF(AND(FM48=\"Yes\",FM47=\"\",FM46=\"\",FM45=\"\"),\"Yes\",\"\")","v":""},"",{"$f":"IF(AND(FO48=\"Yes\",FO47=\"\",FO46=\"\",FO45=\"\"),\"Yes\",\"\")","v":""},"",{"$f":"IF(AND(FQ48=\"Yes\",FQ47=\"\",FQ46=\"\",FQ45=\"\"),\"Yes\",\"\")","v":""},"",{"$f":"IF(AND(FS48=\"Yes\",FS47=\"\",FS46=\"\",FS45=\"\"),\"Yes\",\"\")","v":""},"",{"$f":"IF(AND(FU48=\"Yes\",FU47=\"\",FU46=\"\",FU45=\"\"),\"Yes\",\"\")","v":""},"",{"$f":"IF(AND(FW48=\"Yes\",FW47=\"\",FW46=\"\",FW45=\"\"),\"Yes\",\"\")","v":""},"",{"$f":"IF(AND(FY48=\"Yes\",FY47=\"\",FY46=\"\",FY45=\"\"),\"Yes\",\"\")","v":""},"",{"$f":"IF(AND(GA48=\"Yes\",GA47=\"\",GA46=\"\",GA45=\"\"),\"Yes\",\"\")","v":""},"",{"$f":"IF(AND(GC48=\"Yes\",GC47=\"\",GC46=\"\",GC45=\"\"),\"Yes\",\"\")","v":""},"",{"$f":"IF(AND(GE48=\"Yes\",GE47=\"\",GE46=\"\",GE45=\"\"),\"Yes\",\"\")","v":""},"",{"$f":"IF(AND(GG48=\"Yes\",GG47=\"\",GG46=\"\",GG45=\"\"),\"Yes\",\"\")","v":""},"",{"$f":"IF(AND(GI48=\"Yes\",GI47=\"\",GI46=\"\",GI45=\"\"),\"Yes\",\"\")","v":""},"",{"$f":"IF(AND(GK48=\"Yes\",GK47=\"\",GK46=\"\",GK45=\"\"),\"Yes\",\"\")","v":""},"",{"$f":"IF(AND(GM48=\"Yes\",GM47=\"\",GM46=\"\",GM45=\"\"),\"Yes\",\"\")","v":""},"",{"$f":"IF(AND(GO48=\"Yes\",GO47=\"\",GO46=\"\",GO45=\"\"),\"Yes\",\"\")","v":""},"",{"$f":"IF(AND(GQ48=\"Yes\",GQ47=\"\",GQ46=\"\",GQ45=\"\"),\"Yes\",\"\")","v":""},"",{"$f":"IF(AND(GS48=\"Yes\",GS47=\"\",GS46=\"\",GS45=\"\"),\"Yes\",\"\")","v":""},"","","",{"$f":"IF(AND(GW48=\"Yes\",GW47=\"\",GW46=\"\",GW45=\"\"),\"Yes\",\"\")","v":""},"",""]
["10:45:00","10:59:00",null,null,0,null,null,null,null,"10:45:00","11:44:00",0,0,0,0,0,{"$f":"IF(AND(N49>='Warrant 1 - MUTCD'!$M$23,OR('Traffic Volume Input'!O49>='Warrant 1 - MUTCD'!$Q$23,'Traffic Volume Input'!P49>='Warrant 1 - MUTCD'!$Q$23)),\"Yes\",\"\")","v":""},"","","","","","",{"$f":"IF(AND(W49=\"Yes\",W48=\"\",W47=\"\",W46=\"\"),\"Yes\",\"\")","v":""},"",{"$f":"IF(AND(Y49=\"Yes\",Y48=\"\",Y47=\"\",Y46=\"\"),\"Yes\",\"\")","v":""},"",{"$f":"IF(AND(AA49=\"Yes\",AA48=\"\",AA47=\"\",AA46=\"\"),\"Yes\",\"\")","v":""},"",{"$f":"IF(AND(AC49=\"Yes\",AC48=\"\",AC47=\"\",AC46=\"\"),\"Yes\",\"\")","v":""},"",{"$f":"IF(AND(AE49=\"Yes\",AE48=\"\",AE47=\"\",AE46=\"\"),\"Yes\",\"\")","v":""},"",{"$f":"IF(AND(AG49=\"Yes\",AG48=\"\",AG47=\"\",AG46=\"\"),\"Yes\",\"\")","v":""},"",{"$f":"IF(AND(AI49=\"Yes\",AI48=\"\",AI47=\"\",AI46=\"\"),\"Yes\",\"\")","v":""},"",{"$f":"IF(AND(AK49=\"Yes\",AK48=\"\",AK47=\"\",AK46=\"\"),\"Yes\",\"\")","v":""},"",{"$f":"IF(AND(AM49=\"Yes\",AM48=\"\",AM47=\"\",AM46=\"\"),\"Yes\",\"\")","v":""},"",{"$f":"IF(AND(AO49=\"Yes\",AO48=\"\",AO47=\"\",AO46=\"\"),\"Yes\",\"\")","v":""},"",{"$f":"IF(AND(AQ49=\"Yes\",AQ48=\"\",AQ47=\"\",AQ46=\"\"),\"Yes\",\"\")","v":""},"",{"$f":"IF(AND(AS49=\"Yes\",AS48=\"\",AS47=\"\",AS46=\"\"),\"Yes\",\"\")","v":""},"",{"$f":"IF(AND(AU49=\"Yes\",AU48=\"\",AU47=\"\",AU46=\"\"),\"Yes\",\"\")","v":""},"",{"$f":"IF(AND(AW49=\"Yes\",AW48=\"\",AW47=\"\",AW46=\"\"),\"Yes\",\"\")","v":""},"",{"$f":"IF(AND(AY49=\"Yes\",AY48=\"\",AY47=\"\",AY46=\"\"),\"Yes\",\"\")","v":""},"",{"$f":"IF(AND(BA49=\"Yes\",BA48=\"\",BA47=\"\",BA46=\"\"),\"Yes\",\"\")","v":""},"",{"$f":"IF(AND(BC49=\"Yes\",BC48=\"\",BC47=\"\",BC46=\"\"),\"Yes\",\"\")","v":""},"",{"$f":"IF(AND(BE49=\"Yes\",BE48=\"\",BE47=\"\",BE46=\"\"),\"Yes\",\"\")","v":""},"",{"$f":"IF(AND(BG49=\"Yes\",BG48=\"\",BG47=\"\",BG46=\"\"),\"Yes\",\"\")","v":""},"",{"$f":"IF(AND(BI49=\"Yes\",BI48=\"\",BI47=\"\",BI46=\"\"),\"Yes\",\"\")","v":""},"","",{"$f":"IF(AND(N49>='Warrant 1 - MUTCD'!$M$32,OR('Traffic Volume Input'!O49>='Warrant 1 - MUTCD'!$Q$32,'Traffic Volume Input'!P49>='Warrant 1 - MUTCD'!$Q$32)),\"Yes\",\"\")","v":""},"","",{"$f":"IF(AND(BO49=\"Yes\",BO48=\"\",BO47=\"\",BO46=\"\"),\"Yes\",\"\")","v":""},"",{"$f":"IF(AND(BQ49=\"Yes\",BQ48=\"\",BQ47=\"\",BQ46=\"\"),\"Yes\",\"\")","v":""},"",{"$f":"IF(AND(BS49=\"Yes\",BS48=\"\",BS47=\"\",BS46=\"\"),\"Yes\",\"\")","v":""},"",{"$f":"IF(AND(BU49=\"Yes\",BU48=\"\",BU47=\"\",BU46=\"\"),\"Yes\",\"\")","v":""},"",{"$f":"IF(AND(BW49=\"Yes\",BW48=\"\",BW47=\"\",BW46=\"\"),\"Yes\",\"\")","v":""},"",{"$f":"IF(AND(BY49=\"Yes\",BY48=\"\",BY47=\"\",BY46=\"\"),\"Yes\",\"\")","v":""},"",{"$f":"IF(AND(CA49=\"Yes\",CA48=\"\",CA47=\"\",CA46=\"\"),\"Yes\",\"\")","v":""},"",{"$f":"IF(AND(CC49=\"Yes\",CC48=\"\",CC47=\"\",CC46=\"\"),\"Yes\",\"\")","v":""},"",{"$f":"IF(AND(CE49=\"Yes\",CE48=\"\",CE47=\"\",CE46=\"\"),\"Yes\",\"\")","v":""},"",{"$f":"IF(AND(CG49=\"Yes\",CG48=\"\",CG47=\"\",CG46=\"\"),\"Yes\",\"\")","v":""},"",{"$f":"IF(AND(CI49=\"Yes\",CI48=\"\",CI47=\"\",CI46=\"\"),\"Yes\",\"\")","v":""},"",{"$f":"IF(AND(CK49=\"Yes\",CK48=\"\",CK47=\"\",CK46=\"\"),\"Yes\",\"\")","v":""},"",{"$f":"IF(AND(CM49=\"Yes\",CM48=\"\",CM47=\"\",CM46=\"\"),\"Yes\",\"\")","v":""},"",{"$f":"IF(AND(CO49=\"Yes\",CO48=\"\",CO47=\"\",CO46=\"\"),\"Yes\",\"\")","v":""},"",{"$f":"IF(AND(CQ49=\"Yes\",CQ48=\"\",CQ47=\"\",CQ46=\"\"),\"Yes\",\"\")","v":""},"",{"$f":"IF(AND(CS49=\"Yes\",CS48=\"\",CS47=\"\",CS46=\"\"),\"Yes\",\"\")","v":""},"",{"$f":"IF(AND(CU49=\"Yes\",CU48=\"\",CU47=\"\",CU46=\"\"),\"Yes\",\"\")","v":""},"",{"$f":"IF(AND(CW49=\"Yes\",CW48=\"\",CW47=\"\",CW46=\"\"),\"Yes\",\"\")","v":""},"",{"$f":"IF(AND(CY49=\"Yes\",CY48=\"\",CY47=\"\",CY46=\"\"),\"Yes\",\"\")","v":""},"",{"$f":"IF(AND(DA49=\"Yes\",DA48=\"\",DA47=\"\",DA46=\"\"),\"Yes\",\"\")","v":""},"","","",{"$f":"IF(AND(DE49=\"Yes\",DE48=\"\",DE47=\"\",DE46=\"\"),\"Yes\",\"\")","v":""},"",{"$f":"IF(AND(DG49=\"Yes\",DG48=\"\",DG47=\"\",DG46=\"\"),\"Yes\",\"\")","v":""},{"$f":"IF(AND(N49>='Warrant 7 & 8 - MUTCD'!$L$16,OR('Traffic Volume Input'!O49>='Warrant 7 & 8 - MUTCD'!$N$16,'Traffic Volume Input'!P49>='Warrant 7 & 8 - MUTCD'!$N$16)),\"Yes\",\"\")","v":""},"","",{"$f":"IF(AND(DK49=\"Yes\",DK48=\"\",DK47=\"\",DK46=\"\"),\"Yes\",\"\")","v":""},"",{"$f":"IF(AND(DM49=\"Yes\",DM48=\"\",DM47=\"\",DM46=\"\"),\"Yes\",\"\")","v":""},"",{"$f":"IF(AND(DO49=\"Yes\",DO48=\"\",DO47=\"\",DO46=\"\"),\"Yes\",\"\")","v":""},"",{"$f":"IF(AND(DQ49=\"Yes\",DQ48=\"\",DQ47=\"\",DQ46=\"\"),\"Yes\",\"\")","v":""},"",{"$f":"IF(AND(DS49=\"Yes\",DS48=\"\",DS47=\"\",DS46=\"\"),\"Yes\",\"\")","v":""},"",{"$f":"IF(AND(DU49=\"Yes\",DU48=\"\",DU47=\"\",DU46=\"\"),\"Yes\",\"\")","v":""},"",{"$f":"IF(AND(DW49=\"Yes\",DW48=\"\",DW47=\"\",DW46=\"\"),\"Yes\",\"\")","v":""},"",{"$f":"IF(AND(DY49=\"Yes\",DY48=\"\",DY47=\"\",DY46=\"\"),\"Yes\",\"\")","v":""},"",{"$f":"IF(AND(EA49=\"Yes\",EA48=\"\",EA47=\"\",EA46=\"\"),\"Yes\",\"\")","v":""},"",{"$f":"IF(AND(EC49=\"Yes\",EC48=\"\",EC47=\"\",EC46=\"\"),\"Yes\",\"\")","v":""},"",{"$f":"IF(AND(EE49=\"Yes\",EE48=\"\",EE47=\"\",EE46=\"\"),\"Yes\",\"\")","v":""},"",{"$f":"IF(AND(EG49=\"Yes\",EG48=\"\",EG47=\"\",EG46=\"\"),\"Yes\",\"\")","v":""},"",{"$f":"IF(AND(EI49=\"Yes\",EI48=\"\",EI47=\"\",EI46=\"\"),\"Yes\",\"\")","v":""},"",{"$f":"IF(AND(EK49=\"Yes\",EK48=\"\",EK47=\"\",EK46=\"\"),\"Yes\",\"\")","v":""},"",{"$f":"IF(AND(EM49=\"Yes\",EM48=\"\",EM47=\"\",EM46=\"\"),\"Yes\",\"\")","v":""},"",{"$f":"IF(AND(EO49=\"Yes\",EO48=\"\",EO47=\"\",EO46=\"\"),\"Yes\",\"\")","v":""},"",{"$f":"IF(AND(EQ49=\"Yes\",EQ48=\"\",EQ47=\"\",EQ46=\"\"),\"Yes\",\"\")","v":""},"",{"$f":"IF(AND(ES49=\"Yes\",ES48=\"\",ES47=\"\",ES46=\"\"),\"Yes\",\"\")","v":""},"",{"$f":"IF(AND(EU49=\"Yes\",EU48=\"\",EU47=\"\",EU46=\"\"),\"Yes\",\"\")","v":""},"",{"$f":"IF(AND(EW49=\"Yes\",EW48=\"\",EW47=\"\",EW46=\"\"),\"Yes\",\"\")","v":""},"","","",{"$f":"IF(AND(FA49=\"Yes\",FA48=\"\",FA47=\"\",FA46=\"\"),\"Yes\",\"\")","v":""},"","",{"$f":"IF(AND(N49>='Warrant 7 & 8 - MUTCD'!$L$25,OR('Traffic Volume Input'!O49>='Warrant 7 & 8 - MUTCD'!$N$25,'Traffic Volume Input'!P49>='Warrant 7 & 8 - MUTCD'!$N$25)),\"Yes\",\"\")","v":""},"","",{"$f":"IF(AND(FG49=\"Yes\",FG48=\"\",FG47=\"\",FG46=\"\"),\"Yes\",\"\")","v":""},"",{"$f":"IF(AND(FI49=\"Yes\",FI48=\"\",FI47=\"\",FI46=\"\"),\"Yes\",\"\")","v":""},"",{"$f":"IF(AND(FK49=\"Yes\",FK48=\"\",FK47=\"\",FK46=\"\"),\"Yes\",\"\")","v":""},"",{"$f":"IF(AND(FM49=\"Yes\",FM48=\"\",FM47=\"\",FM46=\"\"),\"Yes\",\"\")","v":""},"",{"$f":"IF(AND(FO49=\"Yes\",FO48=\"\",FO47=\"\",FO46=\"\"),\"Yes\",\"\")","v":""},"",{"$f":"IF(AND(FQ49=\"Yes\",FQ48=\"\",FQ47=\"\",FQ46=\"\"),\"Yes\",\"\")","v":""},"",{"$f":"IF(AND(FS49=\"Yes\",FS48=\"\",FS47=\"\",FS46=\"\"),\"Yes\",\"\")","v":""},"",{"$f":"IF(AND(FU49=\"Yes\",FU48=\"\",FU47=\"\",FU46=\"\"),\"Yes\",\"\")","v":""},"",{"$f":"IF(AND(FW49=\"Yes\",FW48=\"\",FW47=\"\",FW46=\"\"),\"Yes\",\"\")","v":""},"",{"$f":"IF(AND(FY49=\"Yes\",FY48=\"\",FY47=\"\",FY46=\"\"),\"Yes\",\"\")","v":""},"",{"$f":"IF(AND(GA49=\"Yes\",GA48=\"\",GA47=\"\",GA46=\"\"),\"Yes\",\"\")","v":""},"",{"$f":"IF(AND(GC49=\"Yes\",GC48=\"\",GC47=\"\",GC46=\"\"),\"Yes\",\"\")","v":""},"",{"$f":"IF(AND(GE49=\"Yes\",GE48=\"\",GE47=\"\",GE46=\"\"),\"Yes\",\"\")","v":""},"",{"$f":"IF(AND(GG49=\"Yes\",GG48=\"\",GG47=\"\",GG46=\"\"),\"Yes\",\"\")","v":""},"",{"$f":"IF(AND(GI49=\"Yes\",GI48=\"\",GI47=\"\",GI46=\"\"),\"Yes\",\"\")","v":""},"",{"$f":"IF(AND(GK49=\"Yes\",GK48=\"\",GK47=\"\",GK46=\"\"),\"Yes\",\"\")","v":""},"",{"$f":"IF(AND(GM49=\"Yes\",GM48=\"\",GM47=\"\",GM46=\"\"),\"Yes\",\"\")","v":""},"",{"$f":"IF(AND(GO49=\"Yes\",GO48=\"\",GO47=\"\",GO46=\"\"),\"Yes\",\"\")","v":""},"",{"$f":"IF(AND(GQ49=\"Yes\",GQ48=\"\",GQ47=\"\",GQ46=\"\"),\"Yes\",\"\")","v":""},"",{"$f":"IF(AND(GS49=\"Yes\",GS48=\"\",GS47=\"\",GS46=\"\"),\"Yes\",\"\")","v":""},"","","",{"$f":"IF(AND(GW49=\"Yes\",GW48=\"\",GW47=\"\",GW46=\"\"),\"Yes\",\"\")","v":""},"",""]
["11:00:00","11:14:00",null,null,0,null,null,null,null,"11:00:00","11:59:00",0,0,0,0,0,{"$f":"IF(AND(N50>='Warrant 1 - MUTCD'!$M$23,OR('Traffic Volume Input'!O50>='Warrant 1 - MUTCD'!$Q$23,'Traffic Volume Input'!P50>='Warrant 1 - MUTCD'!$Q$23)),\"Yes\",\"\")","v":""},"","","","","","",{"$f":"IF(AND(W50=\"Yes\",W49=\"\",W48=\"\",W47=\"\"),\"Yes\",\"\")","v":""},"",{"$f":"IF(AND(Y50=\"Yes\",Y49=\"\",Y48=\"\",Y47=\"\"),\"Yes\",\"\")","v":""},"",{"$f":"IF(AND(AA50=\"Yes\",AA49=\"\",AA48=\"\",AA47=\"\"),\"Yes\",\"\")","v":""},"",{"$f":"IF(AND(AC50=\"Yes\",AC49=\"\",AC48=\"\",AC47=\"\"),\"Yes\",\"\")","v":""},"",{"$f":"IF(AND(AE50=\"Yes\",AE49=\"\",AE48=\"\",AE47=\"\"),\"Yes\",\"\")","v":""},"",{"$f":"IF(AND(AG50=\"Yes\",AG49=\"\",AG48=\"\",AG47=\"\"),\"Yes\",\"\")","v":""},"",{"$f":"IF(AND(AI50=\"Yes\",AI49=\"\",AI48=\"\",AI47=\"\"),\"Yes\",\"\")","v":""},"",{"$f":"IF(AND(AK50=\"Yes\",AK49=\"\",AK48=\"\",AK47=\"\"),\"Yes\",\"\")","v":""},"",{"$f":"IF(AND(AM50=\"Yes\",AM49=\"\",AM48=\"\",AM47=\"\"),\"Yes\",\"\")","v":""},"",{"$f":"IF(AND(AO50=\"Yes\",AO49=\"\",AO48=\"\",AO47=\"\"),\"Yes\",\"\")","v":""},"",{"$f":"IF(AND(AQ50=\"Yes\",AQ49=\"\",AQ48=\"\",AQ47=\"\"),\"Yes\",\"\")","v":""},"",{"$f":"IF(AND(AS50=\"Yes\",AS49=\"\",AS48=\"\",AS47=\"\"),\"Yes\",\"\")","v":""},"",{"$f":"IF(AND(AU50=\"Yes\",AU49=\"\",AU48=\"\",AU47=\"\"),\"Yes\",\"\")","v":""},"",{"$f":"IF(AND(AW50=\"Yes\",AW49=\"\",AW48=\"\",AW47=\"\"),\"Yes\",\"\")","v":""},"",{"$f":"IF(AND(AY50=\"Yes\",AY49=\"\",AY48=\"\",AY47=\"\"),\"Yes\",\"\")","v":""},"",{"$f":"IF(AND(BA50=\"Yes\",BA49=\"\",BA48=\"\",BA47=\"\"),\"Yes\",\"\")","v":""},"",{"$f":"IF(AND(BC50=\"Yes\",BC49=\"\",BC48=\"\",BC47=\"\"),\"Yes\",\"\")","v":""},"",{"$f":"IF(AND(BE50=\"Yes\",BE49=\"\",BE48=\"\",BE47=\"\"),\"Yes\",\"\")","v":""},"",{"$f":"IF(AND(BG50=\"Yes\",BG49=\"\",BG48=\"\",BG47=\"\"),\"Yes\",\"\")","v":""},"",{"$f":"IF(AND(BI50=\"Yes\",BI49=\"\",BI48=\"\",BI47=\"\"),\"Yes\",\"\")","v":""},"","",{"$f":"IF(AND(N50>='Warrant 1 - MUTCD'!$M$32,OR('Traffic Volume Input'!O50>='Warrant 1 - MUTCD'!$Q$32,'Traffic Volume Input'!P50>='Warrant 1 - MUTCD'!$Q$32)),\"Yes\",\"\")","v":""},"","",{"$f":"IF(AND(BO50=\"Yes\",BO49=\"\",BO48=\"\",BO47=\"\"),\"Yes\",\"\")","v":""},"",{"$f":"IF(AND(BQ50=\"Yes\",BQ49=\"\",BQ48=\"\",BQ47=\"\"),\"Yes\",\"\")","v":""},"",{"$f":"IF(AND(BS50=\"Yes\",BS49=\"\",BS48=\"\",BS47=\"\"),\"Yes\",\"\")","v":""},"",{"$f":"IF(AND(BU50=\"Yes\",BU49=\"\",BU48=\"\",BU47=\"\"),\"Yes\",\"\")","v":""},"",{"$f":"IF(AND(BW50=\"Yes\",BW49=\"\",BW48=\"\",BW47=\"\"),\"Yes\",\"\")","v":""},"",{"$f":"IF(AND(BY50=\"Yes\",BY49=\"\",BY48=\"\",BY47=\"\"),\"Yes\",\"\")","v":""},"",{"$f":"IF(AND(CA50=\"Yes\",CA49=\"\",CA48=\"\",CA47=\"\"),\"Yes\",\"\")","v":""},"",{"$f":"IF(AND(CC50=\"Yes\",CC49=\"\",CC48=\"\",CC47=\"\"),\"Yes\",\"\")","v":""},"",{"$f":"IF(AND(CE50=\"Yes\",CE49=\"\",CE48=\"\",CE47=\"\"),\"Yes\",\"\")","v":""},"",{"$f":"IF(AND(CG50=\"Yes\",CG49=\"\",CG48=\"\",CG47=\"\"),\"Yes\",\"\")","v":""},"",{"$f":"IF(AND(CI50=\"Yes\",CI49=\"\",CI48=\"\",CI47=\"\"),\"Yes\",\"\")","v":""},"",{"$f":"IF(AND(CK50=\"Yes\",CK49=\"\",CK48=\"\",CK47=\"\"),\"Yes\",\"\")","v":""},"",{"$f":"IF(AND(CM50=\"Yes\",CM49=\"\",CM48=\"\",CM47=\"\"),\"Yes\",\"\")","v":""},"",{"$f":"IF(AND(CO50=\"Yes\",CO49=\"\",CO48=\"\",CO47=\"\"),\"Yes\",\"\")","v":""},"",{"$f":"IF(AND(CQ50=\"Yes\",CQ49=\"\",CQ48=\"\",CQ47=\"\"),\"Yes\",\"\")","v":""},"",{"$f":"IF(AND(CS50=\"Yes\",CS49=\"\",CS48=\"\",CS47=\"\"),\"Yes\",\"\")","v":""},"",{"$f":"IF(AND(CU50=\"Yes\",CU49=\"\",CU48=\"\",CU47=\"\"),\"Yes\",\"\")","v":""},"",{"$f":"IF(AND(CW50=\"Yes\",CW49=\"\",CW48=\"\",CW47=\"\"),\"Yes\",\"\")","v":""},"",{"$f":"IF(AND(CY50=\"Yes\",CY49=\"\",CY48=\"\",CY47=\"\"),\"Yes\",\"\")","v":""},"",{"$f":"IF(AND(DA50=\"Yes\",DA49=\"\",DA48=\"\",DA47=\"\"),\"Yes\",\"\")","v":""},"","","",{"$f":"IF(AND(DE50=\"Yes\",DE49=\"\",DE48=\"\",DE47=\"\"),\"Yes\",\"\")","v":""},"",{"$f":"IF(AND(DG50=\"Yes\",DG49=\"\",DG48=\"\",DG47=\"\"),\"Yes\",\"\")","v":""},{"$f":"IF(AND(N50>='Warrant 7 & 8 - MUTCD'!$L$16,OR('Traffic Volume Input'!O50>='Warrant 7 & 8 - MUTCD'!$N$16,'Traffic Volume Input'!P50>='Warrant 7 & 8 - MUTCD'!$N$16)),\"Yes\",\"\")","v":""},"","",{"$f":"IF(AND(DK50=\"Yes\",DK49=\"\",DK48=\"\",DK47=\"\"),\"Yes\",\"\")","v":""},"",{"$f":"IF(AND(DM50=\"Yes\",DM49=\"\",DM48=\"\",DM47=\"\"),\"Yes\",\"\")","v":""},"",{"$f":"IF(AND(DO50=\"Yes\",DO49=\"\",DO48=\"\",DO47=\"\"),\"Yes\",\"\")","v":""},"",{"$f":"IF(AND(DQ50=\"Yes\",DQ49=\"\",DQ48=\"\",DQ47=\"\"),\"Yes\",\"\")","v":""},"",{"$f":"IF(AND(DS50=\"Yes\",DS49=\"\",DS48=\"\",DS47=\"\"),\"Yes\",\"\")","v":""},"",{"$f":"IF(AND(DU50=\"Yes\",DU49=\"\",DU48=\"\",DU47=\"\"),\"Yes\",\"\")","v":""},"",{"$f":"IF(AND(DW50=\"Yes\",DW49=\"\",DW48=\"\",DW47=\"\"),\"Yes\",\"\")","v":""},"",{"$f":"IF(AND(DY50=\"Yes\",DY49=\"\",DY48=\"\",DY47=\"\"),\"Yes\",\"\")","v":""},"",{"$f":"IF(AND(EA50=\"Yes\",EA49=\"\",EA48=\"\",EA47=\"\"),\"Yes\",\"\")","v":""},"",{"$f":"IF(AND(EC50=\"Yes\",EC49=\"\",EC48=\"\",EC47=\"\"),\"Yes\",\"\")","v":""},"",{"$f":"IF(AND(EE50=\"Yes\",EE49=\"\",EE48=\"\",EE47=\"\"),\"Yes\",\"\")","v":""},"",{"$f":"IF(AND(EG50=\"Yes\",EG49=\"\",EG48=\"\",EG47=\"\"),\"Yes\",\"\")","v":""},"",{"$f":"IF(AND(EI50=\"Yes\",EI49=\"\",EI48=\"\",EI47=\"\"),\"Yes\",\"\")","v":""},"",{"$f":"IF(AND(EK50=\"Yes\",EK49=\"\",EK48=\"\",EK47=\"\"),\"Yes\",\"\")","v":""},"",{"$f":"IF(AND(EM50=\"Yes\",EM49=\"\",EM48=\"\",EM47=\"\"),\"Yes\",\"\")","v":""},"",{"$f":"IF(AND(EO50=\"Yes\",EO49=\"\",EO48=\"\",EO47=\"\"),\"Yes\",\"\")","v":""},"",{"$f":"IF(AND(EQ50=\"Yes\",EQ49=\"\",EQ48=\"\",EQ47=\"\"),\"Yes\",\"\")","v":""},"",{"$f":"IF(AND(ES50=\"Yes\",ES49=\"\",ES48=\"\",ES47=\"\"),\"Yes\",\"\")","v":""},"",{"$f":"IF(AND(EU50=\"Yes\",EU49=\"\",EU48=\"\",EU47=\"\"),\"Yes\",\"\")","v":""},"",{"$f":"IF(AND(EW50=\"Yes\",EW49=\"\",EW48=\"\",EW47=\"\"),\"Yes\",\"\")","v":""},"","","",{"$f":"IF(AND(FA50=\"Yes\",FA49=\"\",FA48=\"\",FA47=\"\"),\"Yes\",\"\")","v":""},"","",{"$f":"IF(AND(N50>='Warrant 7 & 8 - MUTCD'!$L$25,OR('Traffic Volume Input'!O50>='Warrant 7 & 8 - MUTCD'!$N$25,'Traffic Volume Input'!P50>='Warrant 7 & 8 - MUTCD'!$N$25)),\"Yes\",\"\")","v":""},"","",{"$f":"IF(AND(FG50=\"Yes\",FG49=\"\",FG48=\"\",FG47=\"\"),\"Yes\",\"\")","v":""},"",{"$f":"IF(AND(FI50=\"Yes\",FI49=\"\",FI48=\"\",FI47=\"\"),\"Yes\",\"\")","v":""},"",{"$f":"IF(AND(FK50=\"Yes\",FK49=\"\",FK48=\"\",FK47=\"\"),\"Yes\",\"\")","v":""},"",{"$f":"IF(AND(FM50=\"Yes\",FM49=\"\",FM48=\"\",FM47=\"\"),\"Yes\",\"\")","v":""},"",{"$f":"IF(AND(FO50=\"Yes\",FO49=\"\",FO48=\"\",FO47=\"\"),\"Yes\",\"\")","v":""},"",{"$f":"IF(AND(FQ50=\"Yes\",FQ49=\"\",FQ48=\"\",FQ47=\"\"),\"Yes\",\"\")","v":""},"",{"$f":"IF(AND(FS50=\"Yes\",FS49=\"\",FS48=\"\",FS47=\"\"),\"Yes\",\"\")","v":""},"",{"$f":"IF(AND(FU50=\"Yes\",FU49=\"\",FU48=\"\",FU47=\"\"),\"Yes\",\"\")","v":""},"",{"$f":"IF(AND(FW50=\"Yes\",FW49=\"\",FW48=\"\",FW47=\"\"),\"Yes\",\"\")","v":""},"",{"$f":"IF(AND(FY50=\"Yes\",FY49=\"\",FY48=\"\",FY47=\"\"),\"Yes\",\"\")","v":""},"",{"$f":"IF(AND(GA50=\"Yes\",GA49=\"\",GA48=\"\",GA47=\"\"),\"Yes\",\"\")","v":""},"",{"$f":"IF(AND(GC50=\"Yes\",GC49=\"\",GC48=\"\",GC47=\"\"),\"Yes\",\"\")","v":""},"",{"$f":"IF(AND(GE50=\"Yes\",GE49=\"\",GE48=\"\",GE47=\"\"),\"Yes\",\"\")","v":""},"",{"$f":"IF(AND(GG50=\"Yes\",GG49=\"\",GG48=\"\",GG47=\"\"),\"Yes\",\"\")","v":""},"",{"$f":"IF(AND(GI50=\"Yes\",GI49=\"\",GI48=\"\",GI47=\"\"),\"Yes\",\"\")","v":""},"",{"$f":"IF(AND(GK50=\"Yes\",GK49=\"\",GK48=\"\",GK47=\"\"),\"Yes\",\"\")","v":""},"",{"$f":"IF(AND(GM50=\"Yes\",GM49=\"\",GM48=\"\",GM47=\"\"),\"Yes\",\"\")","v":""},"",{"$f":"IF(AND(GO50=\"Yes\",GO49=\"\",GO48=\"\",GO47=\"\"),\"Yes\",\"\")","v":""},"",{"$f":"IF(AND(GQ50=\"Yes\",GQ49=\"\",GQ48=\"\",GQ47=\"\"),\"Yes\",\"\")","v":""},"",{"$f":"IF(AND(GS50=\"Yes\",GS49=\"\",GS48=\"\",GS47=\"\"),\"Yes\",\"\")","v":""},"","","",{"$f":"IF(AND(GW50=\"Yes\",GW49=\"\",GW48=\"\",GW47=\"\"),\"Yes\",\"\")","v":""},"",""]
["11:15:00","11:29:00",null,null,0,null,null,null,null,"11:15:00","12:14:00",{"$f":"SUM(C51:C54)","v":0},0,0,{"$f":"SUM(F51:F54)","v":0},0,{"$f":"IF(AND(N51>='Warrant 1 - MUTCD'!$M$23,OR('Traffic Volume Input'!O51>='Warrant 1 - MUTCD'!$Q$23,'Traffic Volume Input'!P51>='Warrant 1 - MUTCD'!$Q$23)),\"Yes\",\"\")","v":""},"","","","","","",{"$f":"IF(AND(W51=\"Yes\",W50=\"\",W49=\"\",W48=\"\"),\"Yes\",\"\")","v":""},"",{"$f":"IF(AND(Y51=\"Yes\",Y50=\"\",Y49=\"\",Y48=\"\"),\"Yes\",\"\")","v":""},"",{"$f":"IF(AND(AA51=\"Yes\",AA50=\"\",AA49=\"\",AA48=\"\"),\"Yes\",\"\")","v":""},"",{"$f":"IF(AND(AC51=\"Yes\",AC50=\"\",AC49=\"\",AC48=\"\"),\"Yes\",\"\")","v":""},"",{"$f":"IF(AND(AE51=\"Yes\",AE50=\"\",AE49=\"\",AE48=\"\"),\"Yes\",\"\")","v":""},"",{"$f":"IF(AND(AG51=\"Yes\",AG50=\"\",AG49=\"\",AG48=\"\"),\"Yes\",\"\")","v":""},"",{"$f":"IF(AND(AI51=\"Yes\",AI50=\"\",AI49=\"\",AI48=\"\"),\"Yes\",\"\")","v":""},"",{"$f":"IF(AND(AK51=\"Yes\",AK50=\"\",AK49=\"\",AK48=\"\"),\"Yes\",\"\")","v":""},"",{"$f":"IF(AND(AM51=\"Yes\",AM50=\"\",AM49=\"\",AM48=\"\"),\"Yes\",\"\")","v":""},"",{"$f":"IF(AND(AO51=\"Yes\",AO50=\"\",AO49=\"\",AO48=\"\"),\"Yes\",\"\")","v":""},"",{"$f":"IF(AND(AQ51=\"Yes\",AQ50=\"\",AQ49=\"\",AQ48=\"\"),\"Yes\",\"\")","v":""},"",{"$f":"IF(AND(AS51=\"Yes\",AS50=\"\",AS49=\"\",AS48=\"\"),\"Yes\",\"\")","v":""},"",{"$f":"IF(AND(AU51=\"Yes\",AU50=\"\",AU49=\"\",AU48=\"\"),\"Yes\",\"\")","v":""},"",{"$f":"IF(AND(AW51=\"Yes\",AW50=\"\",AW49=\"\",AW48=\"\"),\"Yes\",\"\")","v":""},"",{"$f":"IF(AND(AY51=\"Yes\",AY50=\"\",AY49=\"\",AY48=\"\"),\"Yes\",\"\")","v":""},"",{"$f":"IF(AND(BA51=\"Yes\",BA50=\"\",BA49=\"\",BA48=\"\"),\"Yes\",\"\")","v":""},"",{"$f":"IF(AND(BC51=\"Yes\",BC50=\"\",BC49=\"\",BC48=\"\"),\"Yes\",\"\")","v":""},"",{"$f":"IF(AND(BE51=\"Yes\",BE50=\"\",BE49=\"\",BE48=\"\"),\"Yes\",\"\")","v":""},"",{"$f":"IF(AND(BG51=\"Yes\",BG50=\"\",BG49=\"\",BG48=\"\"),\"Yes\",\"\")","v":""},"",{"$f":"IF(AND(BI51=\"Yes\",BI50=\"\",BI49=\"\",BI48=\"\"),\"Yes\",\"\")","v":""},"","",{"$f":"IF(AND(N51>='Warrant 1 - MUTCD'!$M$32,OR('Traffic Volume Input'!O51>='Warrant 1 - MUTCD'!$Q$32,'Traffic Volume Input'!P51>='Warrant 1 - MUTCD'!$Q$32)),\"Yes\",\"\")","v":""},"","",{"$f":"IF(AND(BO51=\"Yes\",BO50=\"\",BO49=\"\",BO48=\"\"),\"Yes\",\"\")","v":""},"",{"$f":"IF(AND(BQ51=\"Yes\",BQ50=\"\",BQ49=\"\",BQ48=\"\"),\"Yes\",\"\")","v":""},"",{"$f":"IF(AND(BS51=\"Yes\",BS50=\"\",BS49=\"\",BS48=\"\"),\"Yes\",\"\")","v":""},"",{"$f":"IF(AND(BU51=\"Yes\",BU50=\"\",BU49=\"\",BU48=\"\"),\"Yes\",\"\")","v":""},"",{"$f":"IF(AND(BW51=\"Yes\",BW50=\"\",BW49=\"\",BW48=\"\"),\"Yes\",\"\")","v":""},"",{"$f":"IF(AND(BY51=\"Yes\",BY50=\"\",BY49=\"\",BY48=\"\"),\"Yes\",\"\")","v":""},"",{"$f":"IF(AND(CA51=\"Yes\",CA50=\"\",CA49=\"\",CA48=\"\"),\"Yes\",\"\")","v":""},"",{"$f":"IF(AND(CC51=\"Yes\",CC50=\"\",CC49=\"\",CC48=\"\"),\"Yes\",\"\")","v":""},"",{"$f":"IF(AND(CE51=\"Yes\",CE50=\"\",CE49=\"\",CE48=\"\"),\"Yes\",\"\")","v":""},"",{"$f":"IF(AND(CG51=\"Yes\",CG50=\"\",CG49=\"\",CG48=\"\"),\"Yes\",\"\")","v":""},"",{"$f":"IF(AND(CI51=\"Yes\",CI50=\"\",CI49=\"\",CI48=\"\"),\"Yes\",\"\")","v":""},"",{"$f":"IF(AND(CK51=\"Yes\",CK50=\"\",CK49=\"\",CK48=\"\"),\"Yes\",\"\")","v":""},"",{"$f":"IF(AND(CM51=\"Yes\",CM50=\"\",CM49=\"\",CM48=\"\"),\"Yes\",\"\")","v":""},"",{"$f":"IF(AND(CO51=\"Yes\",CO50=\"\",CO49=\"\",CO48=\"\"),\"Yes\",\"\")","v":""},"",{"$f":"IF(AND(CQ51=\"Yes\",CQ50=\"\",CQ49=\"\",CQ48=\"\"),\"Yes\",\"\")","v":""},"",{"$f":"IF(AND(CS51=\"Yes\",CS50=\"\",CS49=\"\",CS48=\"\"),\"Yes\",\"\")","v":""},"",{"$f":"IF(AND(CU51=\"Yes\",CU50=\"\",CU49=\"\",CU48=\"\"),\"Yes\",\"\")","v":""},"",{"$f":"IF(AND(CW51=\"Yes\",CW50=\"\",CW49=\"\",CW48=\"\"),\"Yes\",\"\")","v":""},"",{"$f":"IF(AND(CY51=\"Yes\",CY50=\"\",CY49=\"\",CY48=\"\"),\"Yes\",\"\")","v":""},"",{"$f":"IF(AND(DA51=\"Yes\",DA50=\"\",DA49=\"\",DA48=\"\"),\"Yes\",\"\")","v":""},"","","",{"$f":"IF(AND(DE51=\"Yes\",DE50=\"\",DE49=\"\",DE48=\"\"),\"Yes\",\"\")","v":""},"",{"$f":"IF(AND(DG51=\"Yes\",DG50=\"\",DG49=\"\",DG48=\"\"),\"Yes\",\"\")","v":""},{"$f":"IF(AND(N51>='Warrant 7 & 8 - MUTCD'!$L$16,OR('Traffic Volume Input'!O51>='Warrant 7 & 8 - MUTCD'!$N$16,'Traffic Volume Input'!P51>='Warrant 7 & 8 - MUTCD'!$N$16)),\"Yes\",\"\")","v":""},"","",{"$f":"IF(AND(DK51=\"Yes\",DK50=\"\",DK49=\"\",DK48=\"\"),\"Yes\",\"\")","v":""},"",{"$f":"IF(AND(DM51=\"Yes\",DM50=\"\",DM49=\"\",DM48=\"\"),\"Yes\",\"\")","v":""},"",{"$f":"IF(AND(DO51=\"Yes\",DO50=\"\",DO49=\"\",DO48=\"\"),\"Yes\",\"\")","v":""},"",{"$f":"IF(AND(DQ51=\"Yes\",DQ50=\"\",DQ49=\"\",DQ48=\"\"),\"Yes\",\"\")","v":""},"",{"$f":"IF(AND(DS51=\"Yes\",DS50=\"\",DS49=\"\",DS48=\"\"),\"Yes\",\"\")","v":""},"",{"$f":"IF(AND(DU51=\"Yes\",DU50=\"\",DU49=\"\",DU48=\"\"),\"Yes\",\"\")","v":""},"",{"$f":"IF(AND(DW51=\"Yes\",DW50=\"\",DW49=\"\",DW48=\"\"),\"Yes\",\"\")","v":""},"",{"$f":"IF(AND(DY51=\"Yes\",DY50=\"\",DY49=\"\",DY48=\"\"),\"Yes\",\"\")","v":""},"",{"$f":"IF(AND(EA51=\"Yes\",EA50=\"\",EA49=\"\",EA48=\"\"),\"Yes\",\"\")","v":""},"",{"$f":"IF(AND(EC51=\"Yes\",EC50=\"\",EC49=\"\",EC48=\"\"),\"Yes\",\"\")","v":""},"",{"$f":"IF(AND(EE51=\"Yes\",EE50=\"\",EE49=\"\",EE48=\"\"),\"Yes\",\"\")","v":""},"",{"$f":"IF(AND(EG51=\"Yes\",EG50=\"\",EG49=\"\",EG48=\"\"),\"Yes\",\"\")","v":""},"",{"$f":"IF(AND(EI51=\"Yes\",EI50=\"\",EI49=\"\",EI48=\"\"),\"Yes\",\"\")","v":""},"",{"$f":"IF(AND(EK51=\"Yes\",EK50=\"\",EK49=\"\",EK48=\"\"),\"Yes\",\"\")","v":""},"",{"$f":"IF(AND(EM51=\"Yes\",EM50=\"\",EM49=\"\",EM48=\"\"),\"Yes\",\"\")","v":""},"",{"$f":"IF(AND(EO51=\"Yes\",EO50=\"\",EO49=\"\",EO48=\"\"),\"Yes\",\"\")","v":""},"",{"$f":"IF(AND(EQ51=\"Yes\",EQ50=\"\",EQ49=\"\",EQ48=\"\"),\"Yes\",\"\")","v":""},"",{"$f":"IF(AND(ES51=\"Yes\",ES50=\"\",ES49=\"\",ES48=\"\"),\"Yes\",\"\")","v":""},"",{"$f":"IF(AND(EU51=\"Yes\",EU50=\"\",EU49=\"\",EU48=\"\"),\"Yes\",\"\")","v":""},"",{"$f":"IF(AND(EW51=\"Yes\",EW50=\"\",EW49=\"\",EW48=\"\"),\"Yes\",\"\")","v":""},"","","",{"$f":"IF(AND(FA51=\"Yes\",FA50=\"\",FA49=\"\",FA48=\"\"),\"Yes\",\"\")","v":""},"","",{"$f":"IF(AND(N51>='Warrant 7 & 8 - MUTCD'!$L$25,OR('Traffic Volume Input'!O51>='Warrant 7 & 8 - MUTCD'!$N$25,'Traffic Volume Input'!P51>='Warrant 7 & 8 - MUTCD'!$N$25)),\"Yes\",\"\")","v":""},"","",{"$f":"IF(AND(FG51=\"Yes\",FG50=\"\",FG49=\"\",FG48=\"\"),\"Yes\",\"\")","v":""},"",{"$f":"IF(AND(FI51=\"Yes\",FI50=\"\",FI49=\"\",FI48=\"\"),\"Yes\",\"\")","v":""},"",{"$f":"IF(AND(FK51=\"Yes\",FK50=\"\",FK49=\"\",FK48=\"\"),\"Yes\",\"\")","v":""},"",{"$f":"IF(AND(FM51=\"Yes\",FM50=\"\",FM49=\"\",FM48=\"\"),\"Yes\",\"\")","v":""},"",{"$f":"IF(AND(FO51=\"Yes\",FO50=\"\",FO49=\"\",FO48=\"\"),\"Yes\",\"\")","v":""},"",{"$f":"IF(AND(FQ51=\"Yes\",FQ50=\"\",FQ49=\"\",FQ48=\"\"),\"Yes\",\"\")","v":""},"",{"$f":"IF(AND(FS51=\"Yes\",FS50=\"\",FS49=\"\",FS48=\"\"),\"Yes\",\"\")","v":""},"",{"$f":"IF(AND(FU51=\"Yes\",FU50=\"\",FU49=\"\",FU48=\"\"),\"Yes\",\"\")","v":""},"",{"$f":"IF(AND(FW51=\"Yes\",FW50=\"\",FW49=\"\",FW48=\"\"),\"Yes\",\"\")","v":""},"",{"$f":"IF(AND(FY51=\"Yes\",FY50=\"\",FY49=\"\",FY48=\"\"),\"Yes\",\"\")","v":""},"",{"$f":"IF(AND(GA51=\"Yes\",GA50=\"\",GA49=\"\",GA48=\"\"),\"Yes\",\"\")","v":""},"",{"$f":"IF(AND(GC51=\"Yes\",GC50=\"\",GC49=\"\",GC48=\"\"),\"Yes\",\"\")","v":""},"",{"$f":"IF(AND(GE51=\"Yes\",GE50=\"\",GE49=\"\",GE48=\"\"),\"Yes\",\"\")","v":""},"",{"$f":"IF(AND(GG51=\"Yes\",GG50=\"\",GG49=\"\",GG48=\"\"),\"Yes\",\"\")","v":""},"",{"$f":"IF(AND(GI51=\"Yes\",GI50=\"\",GI49=\"\",GI48=\"\"),\"Yes\",\"\")","v":""},"",{"$f":"IF(AND(GK51=\"Yes\",GK50=\"\",GK49=\"\",GK48=\"\"),\"Yes\",\"\")","v":""},"",{"$f":"IF(AND(GM51=\"Yes\",GM50=\"\",GM49=\"\",GM48=\"\"),\"Yes\",\"\")","v":""},"",{"$f":"IF(AND(GO51=\"Yes\",GO50=\"\",GO49=\"\",GO48=\"\"),\"Yes\",\"\")","v":""},"",{"$f":"IF(AND(GQ51=\"Yes\",GQ50=\"\",GQ49=\"\",GQ48=\"\"),\"Yes\",\"\")","v":""},"",{"$f":"IF(AND(GS51=\"Yes\",GS50=\"\",GS49=\"\",GS48=\"\"),\"Yes\",\"\")","v":""},"","","",{"$f":"IF(AND(GW51=\"Yes\",GW50=\"\",GW49=\"\",GW48=\"\"),\"Yes\",\"\")","v":""},"",""]
["11:30:00","11:44:00",null,null,0,null,null,null,null,"11:30:00","12:29:00",0,0,0,0,0,{"$f":"IF(AND(N52>='Warrant 1 - MUTCD'!$M$23,OR('Traffic Volume Input'!O52>='Warrant 1 - MUTCD'!$Q$23,'Traffic Volume Input'!P52>='Warrant 1 - MUTCD'!$Q$23)),\"Yes\",\"\")","v":""},"","","","","","",{"$f":"IF(AND(W52=\"Yes\",W51=\"\",W50=\"\",W49=\"\"),\"Yes\",\"\")","v":""},"",{"$f":"IF(AND(Y52=\"Yes\",Y51=\"\",Y50=\"\",Y49=\"\"),\"Yes\",\"\")","v":""},"",{"$f":"IF(AND(AA52=\"Yes\",AA51=\"\",AA50=\"\",AA49=\"\"),\"Yes\",\"\")","v":""},"",{"$f":"IF(AND(AC52=\"Yes\",AC51=\"\",AC50=\"\",AC49=\"\"),\"Yes\",\"\")","v":""},"",{"$f":"IF(AND(AE52=\"Yes\",AE51=\"\",AE50=\"\",AE49=\"\"),\"Yes\",\"\")","v":""},"",{"$f":"IF(AND(AG52=\"Yes\",AG51=\"\",AG50=\"\",AG49=\"\"),\"Yes\",\"\")","v":""},"",{"$f":"IF(AND(AI52=\"Yes\",AI51=\"\",AI50=\"\",AI49=\"\"),\"Yes\",\"\")","v":""},"",{"$f":"IF(AND(AK52=\"Yes\",AK51=\"\",AK50=\"\",AK49=\"\"),\"Yes\",\"\")","v":""},"",{"$f":"IF(AND(AM52=\"Yes\",AM51=\"\",AM50=\"\",AM49=\"\"),\"Yes\",\"\")","v":""},"",{"$f":"IF(AND(AO52=\"Yes\",AO51=\"\",AO50=\"\",AO49=\"\"),\"Yes\",\"\")","v":""},"",{"$f":"IF(AND(AQ52=\"Yes\",AQ51=\"\",AQ50=\"\",AQ49=\"\"),\"Yes\",\"\")","v":""},"",{"$f":"IF(AND(AS52=\"Yes\",AS51=\"\",AS50=\"\",AS49=\"\"),\"Yes\",\"\")","v":""},"",{"$f":"IF(AND(AU52=\"Yes\",AU51=\"\",AU50=\"\",AU49=\"\"),\"Yes\",\"\")","v":""},"",{"$f":"IF(AND(AW52=\"Yes\",AW51=\"\",AW50=\"\",AW49=\"\"),\"Yes\",\"\")","v":""},"",{"$f":"IF(AND(AY52=\"Yes\",AY51=\"\",AY50=\"\",AY49=\"\"),\"Yes\",\"\")","v":""},"",{"$f":"IF(AND(BA52=\"Yes\",BA51=\"\",BA50=\"\",BA49=\"\"),\"Yes\",\"\")","v":""},"",{"$f":"IF(AND(BC52=\"Yes\",BC51=\"\",BC50=\"\",BC49=\"\"),\"Yes\",\"\")","v":""},"",{"$f":"IF(AND(BE52=\"Yes\",BE51=\"\",BE50=\"\",BE49=\"\"),\"Yes\",\"\")","v":""},"",{"$f":"IF(AND(BG52=\"Yes\",BG51=\"\",BG50=\"\",BG49=\"\"),\"Yes\",\"\")","v":""},"",{"$f":"IF(AND(BI52=\"Yes\",BI51=\"\",BI50=\"\",BI49=\"\"),\"Yes\",\"\")","v":""},"","",{"$f":"IF(AND(N52>='Warrant 1 - MUTCD'!$M$32,OR('Traffic Volume Input'!O52>='Warrant 1 - MUTCD'!$Q$32,'Traffic Volume Input'!P52>='Warrant 1 - MUTCD'!$Q$32)),\"Yes\",\"\")","v":""},"","",{"$f":"IF(AND(BO52=\"Yes\",BO51=\"\",BO50=\"\",BO49=\"\"),\"Yes\",\"\")","v":""},"",{"$f":"IF(AND(BQ52=\"Yes\",BQ51=\"\",BQ50=\"\",BQ49=\"\"),\"Yes\",\"\")","v":""},"",{"$f":"IF(AND(BS52=\"Yes\",BS51=\"\",BS50=\"\",BS49=\"\"),\"Yes\",\"\")","v":""},"",{"$f":"IF(AND(BU52=\"Yes\",BU51=\"\",BU50=\"\",BU49=\"\"),\"Yes\",\"\")","v":""},"",{"$f":"IF(AND(BW52=\"Yes\",BW51=\"\",BW50=\"\",BW49=\"\"),\"Yes\",\"\")","v":""},"",{"$f":"IF(AND(BY52=\"Yes\",BY51=\"\",BY50=\"\",BY49=\"\"),\"Yes\",\"\")","v":""},"",{"$f":"IF(AND(CA52=\"Yes\",CA51=\"\",CA50=\"\",CA49=\"\"),\"Yes\",\"\")","v":""},"",{"$f":"IF(AND(CC52=\"Yes\",CC51=\"\",CC50=\"\",CC49=\"\"),\"Yes\",\"\")","v":""},"",{"$f":"IF(AND(CE52=\"Yes\",CE51=\"\",CE50=\"\",CE49=\"\"),\"Yes\",\"\")","v":""},"",{"$f":"IF(AND(CG52=\"Yes\",CG51=\"\",CG50=\"\",CG49=\"\"),\"Yes\",\"\")","v":""},"",{"$f":"IF(AND(CI52=\"Yes\",CI51=\"\",CI50=\"\",CI49=\"\"),\"Yes\",\"\")","v":""},"",{"$f":"IF(AND(CK52=\"Yes\",CK51=\"\",CK50=\"\",CK49=\"\"),\"Yes\",\"\")","v":""},"",{"$f":"IF(AND(CM52=\"Yes\",CM51=\"\",CM50=\"\",CM49=\"\"),\"Yes\",\"\")","v":""},"",{"$f":"IF(AND(CO52=\"Yes\",CO51=\"\",CO50=\"\",CO49=\"\"),\"Yes\",\"\")","v":""},"",{"$f":"IF(AND(CQ52=\"Yes\",CQ51=\"\",CQ50=\"\",CQ49=\"\"),\"Yes\",\"\")","v":""},"",{"$f":"IF(AND(CS52=\"Yes\",CS51=\"\",CS50=\"\",CS49=\"\"),\"Yes\",\"\")","v":""},"",{"$f":"IF(AND(CU52=\"Yes\",CU51=\"\",CU50=\"\",CU49=\"\"),\"Yes\",\"\")","v":""},"",{"$f":"IF(AND(CW52=\"Yes\",CW51=\"\",CW50=\"\",CW49=\"\"),\"Yes\",\"\")","v":""},"",{"$f":"IF(AND(CY52=\"Yes\",CY51=\"\",CY50=\"\",CY49=\"\"),\"Yes\",\"\")","v":""},"",{"$f":"IF(AND(DA52=\"Yes\",DA51=\"\",DA50=\"\",DA49=\"\"),\"Yes\",\"\")","v":""},"","","",{"$f":"IF(AND(DE52=\"Yes\",DE51=\"\",DE50=\"\",DE49=\"\"),\"Yes\",\"\")","v":""},"",{"$f":"IF(AND(DG52=\"Yes\",DG51=\"\",DG50=\"\",DG49=\"\"),\"Yes\",\"\")","v":""},{"$f":"IF(AND(N52>='Warrant 7 & 8 - MUTCD'!$L$16,OR('Traffic Volume Input'!O52>='Warrant 7 & 8 - MUTCD'!$N$16,'Traffic Volume Input'!P52>='Warrant 7 & 8 - MUTCD'!$N$16)),\"Yes\",\"\")","v":""},"","",{"$f":"IF(AND(DK52=\"Yes\",DK51=\"\",DK50=\"\",DK49=\"\"),\"Yes\",\"\")","v":""},"",{"$f":"IF(AND(DM52=\"Yes\",DM51=\"\",DM50=\"\",DM49=\"\"),\"Yes\",\"\")","v":""},"",{"$f":"IF(AND(DO52=\"Yes\",DO51=\"\",DO50=\"\",DO49=\"\"),\"Yes\",\"\")","v":""},"",{"$f":"IF(AND(DQ52=\"Yes\",DQ51=\"\",DQ50=\"\",DQ49=\"\"),\"Yes\",\"\")","v":""},"",{"$f":"IF(AND(DS52=\"Yes\",DS51=\"\",DS50=\"\",DS49=\"\"),\"Yes\",\"\")","v":""},"",{"$f":"IF(AND(DU52=\"Yes\",DU51=\"\",DU50=\"\",DU49=\"\"),\"Yes\",\"\")","v":""},"",{"$f":"IF(AND(DW52=\"Yes\",DW51=\"\",DW50=\"\",DW49=\"\"),\"Yes\",\"\")","v":""},"",{"$f":"IF(AND(DY52=\"Yes\",DY51=\"\",DY50=\"\",DY49=\"\"),\"Yes\",\"\")","v":""},"",{"$f":"IF(AND(EA52=\"Yes\",EA51=\"\",EA50=\"\",EA49=\"\"),\"Yes\",\"\")","v":""},"",{"$f":"IF(AND(EC52=\"Yes\",EC51=\"\",EC50=\"\",EC49=\"\"),\"Yes\",\"\")","v":""},"",{"$f":"IF(AND(EE52=\"Yes\",EE51=\"\",EE50=\"\",EE49=\"\"),\"Yes\",\"\")","v":""},"",{"$f":"IF(AND(EG52=\"Yes\",EG51=\"\",EG50=\"\",EG49=\"\"),\"Yes\",\"\")","v":""},"",{"$f":"IF(AND(EI52=\"Yes\",EI51=\"\",EI50=\"\",EI49=\"\"),\"Yes\",\"\")","v":""},"",{"$f":"IF(AND(EK52=\"Yes\",EK51=\"\",EK50=\"\",EK49=\"\"),\"Yes\",\"\")","v":""},"",{"$f":"IF(AND(EM52=\"Yes\",EM51=\"\",EM50=\"\",EM49=\"\"),\"Yes\",\"\")","v":""},"",{"$f":"IF(AND(EO52=\"Yes\",EO51=\"\",EO50=\"\",EO49=\"\"),\"Yes\",\"\")","v":""},"",{"$f":"IF(AND(EQ52=\"Yes\",EQ51=\"\",EQ50=\"\",EQ49=\"\"),\"Yes\",\"\")","v":""},"",{"$f":"IF(AND(ES52=\"Yes\",ES51=\"\",ES50=\"\",ES49=\"\"),\"Yes\",\"\")","v":""},"",{"$f":"IF(AND(EU52=\"Yes\",EU51=\"\",EU50=\"\",EU49=\"\"),\"Yes\",\"\")","v":""},"",{"$f":"IF(AND(EW52=\"Yes\",EW51=\"\",EW50=\"\",EW49=\"\"),\"Yes\",\"\")","v":""},"","","",{"$f":"IF(AND(FA52=\"Yes\",FA51=\"\",FA50=\"\",FA49=\"\"),\"Yes\",\"\")","v":""},"","",{"$f":"IF(AND(N52>='Warrant 7 & 8 - MUTCD'!$L$25,OR('Traffic Volume Input'!O52>='Warrant 7 & 8 - MUTCD'!$N$25,'Traffic Volume Input'!P52>='Warrant 7 & 8 - MUTCD'!$N$25)),\"Yes\",\"\")","v":""},"","",{"$f":"IF(AND(FG52=\"Yes\",FG51=\"\",FG50=\"\",FG49=\"\"),\"Yes\",\"\")","v":""},"",{"$f":"IF(AND(FI52=\"Yes\",FI51=\"\",FI50=\"\",FI49=\"\"),\"Yes\",\"\")","v":""},"",{"$f":"IF(AND(FK52=\"Yes\",FK51=\"\",FK50=\"\",FK49=\"\"),\"Yes\",\"\")","v":""},"",{"$f":"IF(AND(FM52=\"Yes\",FM51=\"\",FM50=\"\",FM49=\"\"),\"Yes\",\"\")","v":""},"",{"$f":"IF(AND(FO52=\"Yes\",FO51=\"\",FO50=\"\",FO49=\"\"),\"Yes\",\"\")","v":""},"",{"$f":"IF(AND(FQ52=\"Yes\",FQ51=\"\",FQ50=\"\",FQ49=\"\"),\"Yes\",\"\")","v":""},"",{"$f":"IF(AND(FS52=\"Yes\",FS51=\"\",FS50=\"\",FS49=\"\"),\"Yes\",\"\")","v":""},"",{"$f":"IF(AND(FU52=\"Yes\",FU51=\"\",FU50=\"\",FU49=\"\"),\"Yes\",\"\")","v":""},"",{"$f":"IF(AND(FW52=\"Yes\",FW51=\"\",FW50=\"\",FW49=\"\"),\"Yes\",\"\")","v":""},"",{"$f":"IF(AND(FY52=\"Yes\",FY51=\"\",FY50=\"\",FY49=\"\"),\"Yes\",\"\")","v":""},"",{"$f":"IF(AND(GA52=\"Yes\",GA51=\"\",GA50=\"\",GA49=\"\"),\"Yes\",\"\")","v":""},"",{"$f":"IF(AND(GC52=\"Yes\",GC51=\"\",GC50=\"\",GC49=\"\"),\"Yes\",\"\")","v":""},"",{"$f":"IF(AND(GE52=\"Yes\",GE51=\"\",GE50=\"\",GE49=\"\"),\"Yes\",\"\")","v":""},"",{"$f":"IF(AND(GG52=\"Yes\",GG51=\"\",GG50=\"\",GG49=\"\"),\"Yes\",\"\")","v":""},"",{"$f":"IF(AND(GI52=\"Yes\",GI51=\"\",GI50=\"\",GI49=\"\"),\"Yes\",\"\")","v":""},"",{"$f":"IF(AND(GK52=\"Yes\",GK51=\"\",GK50=\"\",GK49=\"\"),\"Yes\",\"\")","v":""},"",{"$f":"IF(AND(GM52=\"Yes\",GM51=\"\",GM50=\"\",GM49=\"\"),\"Yes\",\"\")","v":""},"",{"$f":"IF(AND(GO52=\"Yes\",GO51=\"\",GO50=\"\",GO49=\"\"),\"Yes\",\"\")","v":""},"",{"$f":"IF(AND(GQ52=\"Yes\",GQ51=\"\",GQ50=\"\",GQ49=\"\"),\"Yes\",\"\")","v":""},"",{"$f":"IF(AND(GS52=\"Yes\",GS51=\"\",GS50=\"\",GS49=\"\"),\"Yes\",\"\")","v":""},"","","",{"$f":"IF(AND(GW52=\"Yes\",GW51=\"\",GW50=\"\",GW49=\"\"),\"Yes\",\"\")","v":""},"",""]
["11:45:00","11:59:00",null,null,0,null,null,null,null,"11:45:00","12:44:00",0,0,0,0,0,{"$f":"IF(AND(N53>='Warrant 1 - MUTCD'!$M$23,OR('Traffic Volume Input'!O53>='Warrant 1 - MUTCD'!$Q$23,'Traffic Volume Input'!P53>='Warrant 1 - MUTCD'!$Q$23)),\"Yes\",\"\")","v":""},"","","","","","",{"$f":"IF(AND(W53=\"Yes\",W52=\"\",W51=\"\",W50=\"\"),\"Yes\",\"\")","v":""},"",{"$f":"IF(AND(Y53=\"Yes\",Y52=\"\",Y51=\"\",Y50=\"\"),\"Yes\",\"\")","v":""},"",{"$f":"IF(AND(AA53=\"Yes\",AA52=\"\",AA51=\"\",AA50=\"\"),\"Yes\",\"\")","v":""},"",{"$f":"IF(AND(AC53=\"Yes\",AC52=\"\",AC51=\"\",AC50=\"\"),\"Yes\",\"\")","v":""},"",{"$f":"IF(AND(AE53=\"Yes\",AE52=\"\",AE51=\"\",AE50=\"\"),\"Yes\",\"\")","v":""},"",{"$f":"IF(AND(AG53=\"Yes\",AG52=\"\",AG51=\"\",AG50=\"\"),\"Yes\",\"\")","v":""},"",{"$f":"IF(AND(AI53=\"Yes\",AI52=\"\",AI51=\"\",AI50=\"\"),\"Yes\",\"\")","v":""},"",{"$f":"IF(AND(AK53=\"Yes\",AK52=\"\",AK51=\"\",AK50=\"\"),\"Yes\",\"\")","v":""},"",{"$f":"IF(AND(AM53=\"Yes\",AM52=\"\",AM51=\"\",AM50=\"\"),\"Yes\",\"\")","v":""},"",{"$f":"IF(AND(AO53=\"Yes\",AO52=\"\",AO51=\"\",AO50=\"\"),\"Yes\",\"\")","v":""},"",{"$f":"IF(AND(AQ53=\"Yes\",AQ52=\"\",AQ51=\"\",AQ50=\"\"),\"Yes\",\"\")","v":""},"",{"$f":"IF(AND(AS53=\"Yes\",AS52=\"\",AS51=\"\",AS50=\"\"),\"Yes\",\"\")","v":""},"",{"$f":"IF(AND(AU53=\"Yes\",AU52=\"\",AU51=\"\",AU50=\"\"),\"Yes\",\"\")","v":""},"",{"$f":"IF(AND(AW53=\"Yes\",AW52=\"\",AW51=\"\",AW50=\"\"),\"Yes\",\"\")","v":""},"",{"$f":"IF(AND(AY53=\"Yes\",AY52=\"\",AY51=\"\",AY50=\"\"),\"Yes\",\"\")","v":""},"",{"$f":"IF(AND(BA53=\"Yes\",BA52=\"\",BA51=\"\",BA50=\"\"),\"Yes\",\"\")","v":""},"",{"$f":"IF(AND(BC53=\"Yes\",BC52=\"\",BC51=\"\",BC50=\"\"),\"Yes\",\"\")","v":""},"",{"$f":"IF(AND(BE53=\"Yes\",BE52=\"\",BE51=\"\",BE50=\"\"),\"Yes\",\"\")","v":""},"",{"$f":"IF(AND(BG53=\"Yes\",BG52=\"\",BG51=\"\",BG50=\"\"),\"Yes\",\"\")","v":""},"",{"$f":"IF(AND(BI53=\"Yes\",BI52=\"\",BI51=\"\",BI50=\"\"),\"Yes\",\"\")","v":""},"","",{"$f":"IF(AND(N53>='Warrant 1 - MUTCD'!$M$32,OR('Traffic Volume Input'!O53>='Warrant 1 - MUTCD'!$Q$32,'Traffic Volume Input'!P53>='Warrant 1 - MUTCD'!$Q$32)),\"Yes\",\"\")","v":""},"","",{"$f":"IF(AND(BO53=\"Yes\",BO52=\"\",BO51=\"\",BO50=\"\"),\"Yes\",\"\")","v":""},"",{"$f":"IF(AND(BQ53=\"Yes\",BQ52=\"\",BQ51=\"\",BQ50=\"\"),\"Yes\",\"\")","v":""},"",{"$f":"IF(AND(BS53=\"Yes\",BS52=\"\",BS51=\"\",BS50=\"\"),\"Yes\",\"\")","v":""},"",{"$f":"IF(AND(BU53=\"Yes\",BU52=\"\",BU51=\"\",BU50=\"\"),\"Yes\",\"\")","v":""},"",{"$f":"IF(AND(BW53=\"Yes\",BW52=\"\",BW51=\"\",BW50=\"\"),\"Yes\",\"\")","v":""},"",{"$f":"IF(AND(BY53=\"Yes\",BY52=\"\",BY51=\"\",BY50=\"\"),\"Yes\",\"\")","v":""},"",{"$f":"IF(AND(CA53=\"Yes\",CA52=\"\",CA51=\"\",CA50=\"\"),\"Yes\",\"\")","v":""},"",{"$f":"IF(AND(CC53=\"Yes\",CC52=\"\",CC51=\"\",CC50=\"\"),\"Yes\",\"\")","v":""},"",{"$f":"IF(AND(CE53=\"Yes\",CE52=\"\",CE51=\"\",CE50=\"\"),\"Yes\",\"\")","v":""},"",{"$f":"IF(AND(CG53=\"Yes\",CG52=\"\",CG51=\"\",CG50=\"\"),\"Yes\",\"\")","v":""},"",{"$f":"IF(AND(CI53=\"Yes\",CI52=\"\",CI51=\"\",CI50=\"\"),\"Yes\",\"\")","v":""},"",{"$f":"IF(AND(CK53=\"Yes\",CK52=\"\",CK51=\"\",CK50=\"\"),\"Yes\",\"\")","v":""},"",{"$f":"IF(AND(CM53=\"Yes\",CM52=\"\",CM51=\"\",CM50=\"\"),\"Yes\",\"\")","v":""},"",{"$f":"IF(AND(CO53=\"Yes\",CO52=\"\",CO51=\"\",CO50=\"\"),\"Yes\",\"\")","v":""},"",{"$f":"IF(AND(CQ53=\"Yes\",CQ52=\"\",CQ51=\"\",CQ50=\"\"),\"Yes\",\"\")","v":""},"",{"$f":"IF(AND(CS53=\"Yes\",CS52=\"\",CS51=\"\",CS50=\"\"),\"Yes\",\"\")","v":""},"",{"$f":"IF(AND(CU53=\"Yes\",CU52=\"\",CU51=\"\",CU50=\"\"),\"Yes\",\"\")","v":""},"",{"$f":"IF(AND(CW53=\"Yes\",CW52=\"\",CW51=\"\",CW50=\"\"),\"Yes\",\"\")","v":""},"",{"$f":"IF(AND(CY53=\"Yes\",CY52=\"\",CY51=\"\",CY50=\"\"),\"Yes\",\"\")","v":""},"",{"$f":"IF(AND(DA53=\"Yes\",DA52=\"\",DA51=\"\",DA50=\"\"),\"Yes\",\"\")","v":""},"","","",{"$f":"IF(AND(DE53=\"Yes\",DE52=\"\",DE51=\"\",DE50=\"\"),\"Yes\",\"\")","v":""},"",{"$f":"IF(AND(DG53=\"Yes\",DG52=\"\",DG51=\"\",DG50=\"\"),\"Yes\",\"\")","v":""},{"$f":"IF(AND(N53>='Warrant 7 & 8 - MUTCD'!$L$16,OR('Traffic Volume Input'!O53>='Warrant 7 & 8 - MUTCD'!$N$16,'Traffic Volume Input'!P53>='Warrant 7 & 8 - MUTCD'!$N$16)),\"Yes\",\"\")","v":""},"","",{"$f":"IF(AND(DK53=\"Yes\",DK52=\"\",DK51=\"\",DK50=\"\"),\"Yes\",\"\")","v":""},"",{"$f":"IF(AND(DM53=\"Yes\",DM52=\"\",DM51=\"\",DM50=\"\"),\"Yes\",\"\")","v":""},"",{"$f":"IF(AND(DO53=\"Yes\",DO52=\"\",DO51=\"\",DO50=\"\"),\"Yes\",\"\")","v":""},"",{"$f":"IF(AND(DQ53=\"Yes\",DQ52=\"\",DQ51=\"\",DQ50=\"\"),\"Yes\",\"\")","v":""},"",{"$f":"IF(AND(DS53=\"Yes\",DS52=\"\",DS51=\"\",DS50=\"\"),\"Yes\",\"\")","v":""},"",{"$f":"IF(AND(DU53=\"Yes\",DU52=\"\",DU51=\"\",DU50=\"\"),\"Yes\",\"\")","v":""},"",{"$f":"IF(AND(DW53=\"Yes\",DW52=\"\",DW51=\"\",DW50=\"\"),\"Yes\",\"\")","v":""},"",{"$f":"IF(AND(DY53=\"Yes\",DY52=\"\",DY51=\"\",DY50=\"\"),\"Yes\",\"\")","v":""},"",{"$f":"IF(AND(EA53=\"Yes\",EA52=\"\",EA51=\"\",EA50=\"\"),\"Yes\",\"\")","v":""},"",{"$f":"IF(AND(EC53=\"Yes\",EC52=\"\",EC51=\"\",EC50=\"\"),\"Yes\",\"\")","v":""},"",{"$f":"IF(AND(EE53=\"Yes\",EE52=\"\",EE51=\"\",EE50=\"\"),\"Yes\",\"\")","v":""},"",{"$f":"IF(AND(EG53=\"Yes\",EG52=\"\",EG51=\"\",EG50=\"\"),\"Yes\",\"\")","v":""},"",{"$f":"IF(AND(EI53=\"Yes\",EI52=\"\",EI51=\"\",EI50=\"\"),\"Yes\",\"\")","v":""},"",{"$f":"IF(AND(EK53=\"Yes\",EK52=\"\",EK51=\"\",EK50=\"\"),\"Yes\",\"\")","v":""},"",{"$f":"IF(AND(EM53=\"Yes\",EM52=\"\",EM51=\"\",EM50=\"\"),\"Yes\",\"\")","v":""},"",{"$f":"IF(AND(EO53=\"Yes\",EO52=\"\",EO51=\"\",EO50=\"\"),\"Yes\",\"\")","v":""},"",{"$f":"IF(AND(EQ53=\"Yes\",EQ52=\"\",EQ51=\"\",EQ50=\"\"),\"Yes\",\"\")","v":""},"",{"$f":"IF(AND(ES53=\"Yes\",ES52=\"\",ES51=\"\",ES50=\"\"),\"Yes\",\"\")","v":""},"",{"$f":"IF(AND(EU53=\"Yes\",EU52=\"\",EU51=\"\",EU50=\"\"),\"Yes\",\"\")","v":""},"",{"$f":"IF(AND(EW53=\"Yes\",EW52=\"\",EW51=\"\",EW50=\"\"),\"Yes\",\"\")","v":""},"","","",{"$f":"IF(AND(FA53=\"Yes\",FA52=\"\",FA51=\"\",FA50=\"\"),\"Yes\",\"\")","v":""},"","",{"$f":"IF(AND(N53>='Warrant 7 & 8 - MUTCD'!$L$25,OR('Traffic Volume Input'!O53>='Warrant 7 & 8 - MUTCD'!$N$25,'Traffic Volume Input'!P53>='Warrant 7 & 8 - MUTCD'!$N$25)),\"Yes\",\"\")","v":""},"","",{"$f":"IF(AND(FG53=\"Yes\",FG52=\"\",FG51=\"\",FG50=\"\"),\"Yes\",\"\")","v":""},"",{"$f":"IF(AND(FI53=\"Yes\",FI52=\"\",FI51=\"\",FI50=\"\"),\"Yes\",\"\")","v":""},"",{"$f":"IF(AND(FK53=\"Yes\",FK52=\"\",FK51=\"\",FK50=\"\"),\"Yes\",\"\")","v":""},"",{"$f":"IF(AND(FM53=\"Yes\",FM52=\"\",FM51=\"\",FM50=\"\"),\"Yes\",\"\")","v":""},"",{"$f":"IF(AND(FO53=\"Yes\",FO52=\"\",FO51=\"\",FO50=\"\"),\"Yes\",\"\")","v":""},"",{"$f":"IF(AND(FQ53=\"Yes\",FQ52=\"\",FQ51=\"\",FQ50=\"\"),\"Yes\",\"\")","v":""},"",{"$f":"IF(AND(FS53=\"Yes\",FS52=\"\",FS51=\"\",FS50=\"\"),\"Yes\",\"\")","v":""},"",{"$f":"IF(AND(FU53=\"Yes\",FU52=\"\",FU51=\"\",FU50=\"\"),\"Yes\",\"\")","v":""},"",{"$f":"IF(AND(FW53=\"Yes\",FW52=\"\",FW51=\"\",FW50=\"\"),\"Yes\",\"\")","v":""},"",{"$f":"IF(AND(FY53=\"Yes\",FY52=\"\",FY51=\"\",FY50=\"\"),\"Yes\",\"\")","v":""},"",{"$f":"IF(AND(GA53=\"Yes\",GA52=\"\",GA51=\"\",GA50=\"\"),\"Yes\",\"\")","v":""},"",{"$f":"IF(AND(GC53=\"Yes\",GC52=\"\",GC51=\"\",GC50=\"\"),\"Yes\",\"\")","v":""},"",{"$f":"IF(AND(GE53=\"Yes\",GE52=\"\",GE51=\"\",GE50=\"\"),\"Yes\",\"\")","v":""},"",{"$f":"IF(AND(GG53=\"Yes\",GG52=\"\",GG51=\"\",GG50=\"\"),\"Yes\",\"\")","v":""},"",{"$f":"IF(AND(GI53=\"Yes\",GI52=\"\",GI51=\"\",GI50=\"\"),\"Yes\",\"\")","v":""},"",{"$f":"IF(AND(GK53=\"Yes\",GK52=\"\",GK51=\"\",GK50=\"\"),\"Yes\",\"\")","v":""},"",{"$f":"IF(AND(GM53=\"Yes\",GM52=\"\",GM51=\"\",GM50=\"\"),\"Yes\",\"\")","v":""},"",{"$f":"IF(AND(GO53=\"Yes\",GO52=\"\",GO51=\"\",GO50=\"\"),\"Yes\",\"\")","v":""},"",{"$f":"IF(AND(GQ53=\"Yes\",GQ52=\"\",GQ51=\"\",GQ50=\"\"),\"Yes\",\"\")","v":""},"",{"$f":"IF(AND(GS53=\"Yes\",GS52=\"\",GS51=\"\",GS50=\"\"),\"Yes\",\"\")","v":""},"","","",{"$f":"IF(AND(GW53=\"Yes\",GW52=\"\",GW51=\"\",GW50=\"\"),\"Yes\",\"\")","v":""},"",""]
["12:00:00","12:14:00",null,null,0,null,null,null,null,"12:00:00","12:59:00",0,0,0,0,0,{"$f":"IF(AND(N54>='Warrant 1 - MUTCD'!$M$23,OR('Traffic Volume Input'!O54>='Warrant 1 - MUTCD'!$Q$23,'Traffic Volume Input'!P54>='Warrant 1 - MUTCD'!$Q$23)),\"Yes\",\"\")","v":""},"","","","","","",{"$f":"IF(AND(W54=\"Yes\",W53=\"\",W52=\"\",W51=\"\"),\"Yes\",\"\")","v":""},"",{"$f":"IF(AND(Y54=\"Yes\",Y53=\"\",Y52=\"\",Y51=\"\"),\"Yes\",\"\")","v":""},"",{"$f":"IF(AND(AA54=\"Yes\",AA53=\"\",AA52=\"\",AA51=\"\"),\"Yes\",\"\")","v":""},"",{"$f":"IF(AND(AC54=\"Yes\",AC53=\"\",AC52=\"\",AC51=\"\"),\"Yes\",\"\")","v":""},"",{"$f":"IF(AND(AE54=\"Yes\",AE53=\"\",AE52=\"\",AE51=\"\"),\"Yes\",\"\")","v":""},"",{"$f":"IF(AND(AG54=\"Yes\",AG53=\"\",AG52=\"\",AG51=\"\"),\"Yes\",\"\")","v":""},"",{"$f":"IF(AND(AI54=\"Yes\",AI53=\"\",AI52=\"\",AI51=\"\"),\"Yes\",\"\")","v":""},"",{"$f":"IF(AND(AK54=\"Yes\",AK53=\"\",AK52=\"\",AK51=\"\"),\"Yes\",\"\")","v":""},"",{"$f":"IF(AND(AM54=\"Yes\",AM53=\"\",AM52=\"\",AM51=\"\"),\"Yes\",\"\")","v":""},"",{"$f":"IF(AND(AO54=\"Yes\",AO53=\"\",AO52=\"\",AO51=\"\"),\"Yes\",\"\")","v":""},"",{"$f":"IF(AND(AQ54=\"Yes\",AQ53=\"\",AQ52=\"\",AQ51=\"\"),\"Yes\",\"\")","v":""},"",{"$f":"IF(AND(AS54=\"Yes\",AS53=\"\",AS52=\"\",AS51=\"\"),\"Yes\",\"\")","v":""},"",{"$f":"IF(AND(AU54=\"Yes\",AU53=\"\",AU52=\"\",AU51=\"\"),\"Yes\",\"\")","v":""},"",{"$f":"IF(AND(AW54=\"Yes\",AW53=\"\",AW52=\"\",AW51=\"\"),\"Yes\",\"\")","v":""},"",{"$f":"IF(AND(AY54=\"Yes\",AY53=\"\",AY52=\"\",AY51=\"\"),\"Yes\",\"\")","v":""},"",{"$f":"IF(AND(BA54=\"Yes\",BA53=\"\",BA52=\"\",BA51=\"\"),\"Yes\",\"\")","v":""},"",{"$f":"IF(AND(BC54=\"Yes\",BC53=\"\",BC52=\"\",BC51=\"\"),\"Yes\",\"\")","v":""},"",{"$f":"IF(AND(BE54=\"Yes\",BE53=\"\",BE52=\"\",BE51=\"\"),\"Yes\",\"\")","v":""},"",{"$f":"IF(AND(BG54=\"Yes\",BG53=\"\",BG52=\"\",BG51=\"\"),\"Yes\",\"\")","v":""},"",{"$f":"IF(AND(BI54=\"Yes\",BI53=\"\",BI52=\"\",BI51=\"\"),\"Yes\",\"\")","v":""},"","",{"$f":"IF(AND(N54>='Warrant 1 - MUTCD'!$M$32,OR('Traffic Volume Input'!O54>='Warrant 1 - MUTCD'!$Q$32,'Traffic Volume Input'!P54>='Warrant 1 - MUTCD'!$Q$32)),\"Yes\",\"\")","v":""},"","",{"$f":"IF(AND(BO54=\"Yes\",BO53=\"\",BO52=\"\",BO51=\"\"),\"Yes\",\"\")","v":""},"",{"$f":"IF(AND(BQ54=\"Yes\",BQ53=\"\",BQ52=\"\",BQ51=\"\"),\"Yes\",\"\")","v":""},"",{"$f":"IF(AND(BS54=\"Yes\",BS53=\"\",BS52=\"\",BS51=\"\"),\"Yes\",\"\")","v":""},"",{"$f":"IF(AND(BU54=\"Yes\",BU53=\"\",BU52=\"\",BU51=\"\"),\"Yes\",\"\")","v":""},"",{"$f":"IF(AND(BW54=\"Yes\",BW53=\"\",BW52=\"\",BW51=\"\"),\"Yes\",\"\")","v":""},"",{"$f":"IF(AND(BY54=\"Yes\",BY53=\"\",BY52=\"\",BY51=\"\"),\"Yes\",\"\")","v":""},"",{"$f":"IF(AND(CA54=\"Yes\",CA53=\"\",CA52=\"\",CA51=\"\"),\"Yes\",\"\")","v":""},"",{"$f":"IF(AND(CC54=\"Yes\",CC53=\"\",CC52=\"\",CC51=\"\"),\"Yes\",\"\")","v":""},"",{"$f":"IF(AND(CE54=\"Yes\",CE53=\"\",CE52=\"\",CE51=\"\"),\"Yes\",\"\")","v":""},"",{"$f":"IF(AND(CG54=\"Yes\",CG53=\"\",CG52=\"\",CG51=\"\"),\"Yes\",\"\")","v":""},"",{"$f":"IF(AND(CI54=\"Yes\",CI53=\"\",CI52=\"\",CI51=\"\"),\"Yes\",\"\")","v":""},"",{"$f":"IF(AND(CK54=\"Yes\",CK53=\"\",CK52=\"\",CK51=\"\"),\"Yes\",\"\")","v":""},"",{"$f":"IF(AND(CM54=\"Yes\",CM53=\"\",CM52=\"\",CM51=\"\"),\"Yes\",\"\")","v":""},"",{"$f":"IF(AND(CO54=\"Yes\",CO53=\"\",CO52=\"\",CO51=\"\"),\"Yes\",\"\")","v":""},"",{"$f":"IF(AND(CQ54=\"Yes\",CQ53=\"\",CQ52=\"\",CQ51=\"\"),\"Yes\",\"\")","v":""},"",{"$f":"IF(AND(CS54=\"Yes\",CS53=\"\",CS52=\"\",CS51=\"\"),\"Yes\",\"\")","v":""},"",{"$f":"IF(AND(CU54=\"Yes\",CU53=\"\",CU52=\"\",CU51=\"\"),\"Yes\",\"\")","v":""},"",{"$f":"IF(AND(CW54=\"Yes\",CW53=\"\",CW52=\"\",CW51=\"\"),\"Yes\",\"\")","v":""},"",{"$f":"IF(AND(CY54=\"Yes\",CY53=\"\",CY52=\"\",CY51=\"\"),\"Yes\",\"\")","v":""},"",{"$f":"IF(AND(DA54=\"Yes\",DA53=\"\",DA52=\"\",DA51=\"\"),\"Yes\",\"\")","v":""},"","","",{"$f":"IF(AND(DE54=\"Yes\",DE53=\"\",DE52=\"\",DE51=\"\"),\"Yes\",\"\")","v":""},"",{"$f":"IF(AND(DG54=\"Yes\",DG53=\"\",DG52=\"\",DG51=\"\"),\"Yes\",\"\")","v":""},{"$f":"IF(AND(N54>='Warrant 7 & 8 - MUTCD'!$L$16,OR('Traffic Volume Input'!O54>='Warrant 7 & 8 - MUTCD'!$N$16,'Traffic Volume Input'!P54>='Warrant 7 & 8 - MUTCD'!$N$16)),\"Yes\",\"\")","v":""},"","",{"$f":"IF(AND(DK54=\"Yes\",DK53=\"\",DK52=\"\",DK51=\"\"),\"Yes\",\"\")","v":""},"",{"$f":"IF(AND(DM54=\"Yes\",DM53=\"\",DM52=\"\",DM51=\"\"),\"Yes\",\"\")","v":""},"",{"$f":"IF(AND(DO54=\"Yes\",DO53=\"\",DO52=\"\",DO51=\"\"),\"Yes\",\"\")","v":""},"",{"$f":"IF(AND(DQ54=\"Yes\",DQ53=\"\",DQ52=\"\",DQ51=\"\"),\"Yes\",\"\")","v":""},"",{"$f":"IF(AND(DS54=\"Yes\",DS53=\"\",DS52=\"\",DS51=\"\"),\"Yes\",\"\")","v":""},"",{"$f":"IF(AND(DU54=\"Yes\",DU53=\"\",DU52=\"\",DU51=\"\"),\"Yes\",\"\")","v":""},"",{"$f":"IF(AND(DW54=\"Yes\",DW53=\"\",DW52=\"\",DW51=\"\"),\"Yes\",\"\")","v":""},"",{"$f":"IF(AND(DY54=\"Yes\",DY53=\"\",DY52=\"\",DY51=\"\"),\"Yes\",\"\")","v":""},"",{"$f":"IF(AND(EA54=\"Yes\",EA53=\"\",EA52=\"\",EA51=\"\"),\"Yes\",\"\")","v":""},"",{"$f":"IF(AND(EC54=\"Yes\",EC53=\"\",EC52=\"\",EC51=\"\"),\"Yes\",\"\")","v":""},"",{"$f":"IF(AND(EE54=\"Yes\",EE53=\"\",EE52=\"\",EE51=\"\"),\"Yes\",\"\")","v":""},"",{"$f":"IF(AND(EG54=\"Yes\",EG53=\"\",EG52=\"\",EG51=\"\"),\"Yes\",\"\")","v":""},"",{"$f":"IF(AND(EI54=\"Yes\",EI53=\"\",EI52=\"\",EI51=\"\"),\"Yes\",\"\")","v":""},"",{"$f":"IF(AND(EK54=\"Yes\",EK53=\"\",EK52=\"\",EK51=\"\"),\"Yes\",\"\")","v":""},"",{"$f":"IF(AND(EM54=\"Yes\",EM53=\"\",EM52=\"\",EM51=\"\"),\"Yes\",\"\")","v":""},"",{"$f":"IF(AND(EO54=\"Yes\",EO53=\"\",EO52=\"\",EO51=\"\"),\"Yes\",\"\")","v":""},"",{"$f":"IF(AND(EQ54=\"Yes\",EQ53=\"\",EQ52=\"\",EQ51=\"\"),\"Yes\",\"\")","v":""},"",{"$f":"IF(AND(ES54=\"Yes\",ES53=\"\",ES52=\"\",ES51=\"\"),\"Yes\",\"\")","v":""},"",{"$f":"IF(AND(EU54=\"Yes\",EU53=\"\",EU52=\"\",EU51=\"\"),\"Yes\",\"\")","v":""},"",{"$f":"IF(AND(EW54=\"Yes\",EW53=\"\",EW52=\"\",EW51=\"\"),\"Yes\",\"\")","v":""},"","","",{"$f":"IF(AND(FA54=\"Yes\",FA53=\"\",FA52=\"\",FA51=\"\"),\"Yes\",\"\")","v":""},"","",{"$f":"IF(AND(N54>='Warrant 7 & 8 - MUTCD'!$L$25,OR('Traffic Volume Input'!O54>='Warrant 7 & 8 - MUTCD'!$N$25,'Traffic Volume Input'!P54>='Warrant 7 & 8 - MUTCD'!$N$25)),\"Yes\",\"\")","v":""},"","",{"$f":"IF(AND(FG54=\"Yes\",FG53=\"\",FG52=\"\",FG51=\"\"),\"Yes\",\"\")","v":""},"",{"$f":"IF(AND(FI54=\"Yes\",FI53=\"\",FI52=\"\",FI51=\"\"),\"Yes\",\"\")","v":""},"",{"$f":"IF(AND(FK54=\"Yes\",FK53=\"\",FK52=\"\",FK51=\"\"),\"Yes\",\"\")","v":""},"",{"$f":"IF(AND(FM54=\"Yes\",FM53=\"\",FM52=\"\",FM51=\"\"),\"Yes\",\"\")","v":""},"",{"$f":"IF(AND(FO54=\"Yes\",FO53=\"\",FO52=\"\",FO51=\"\"),\"Yes\",\"\")","v":""},"",{"$f":"IF(AND(FQ54=\"Yes\",FQ53=\"\",FQ52=\"\",FQ51=\"\"),\"Yes\",\"\")","v":""},"",{"$f":"IF(AND(FS54=\"Yes\",FS53=\"\",FS52=\"\",FS51=\"\"),\"Yes\",\"\")","v":""},"",{"$f":"IF(AND(FU54=\"Yes\",FU53=\"\",FU52=\"\",FU51=\"\"),\"Yes\",\"\")","v":""},"",{"$f":"IF(AND(FW54=\"Yes\",FW53=\"\",FW52=\"\",FW51=\"\"),\"Yes\",\"\")","v":""},"",{"$f":"IF(AND(FY54=\"Yes\",FY53=\"\",FY52=\"\",FY51=\"\"),\"Yes\",\"\")","v":""},"",{"$f":"IF(AND(GA54=\"Yes\",GA53=\"\",GA52=\"\",GA51=\"\"),\"Yes\",\"\")","v":""},"",{"$f":"IF(AND(GC54=\"Yes\",GC53=\"\",GC52=\"\",GC51=\"\"),\"Yes\",\"\")","v":""},"",{"$f":"IF(AND(GE54=\"Yes\",GE53=\"\",GE52=\"\",GE51=\"\"),\"Yes\",\"\")","v":""},"",{"$f":"IF(AND(GG54=\"Yes\",GG53=\"\",GG52=\"\",GG51=\"\"),\"Yes\",\"\")","v":""},"",{"$f":"IF(AND(GI54=\"Yes\",GI53=\"\",GI52=\"\",GI51=\"\"),\"Yes\",\"\")","v":""},"",{"$f":"IF(AND(GK54=\"Yes\",GK53=\"\",GK52=\"\",GK51=\"\"),\"Yes\",\"\")","v":""},"",{"$f":"IF(AND(GM54=\"Yes\",GM53=\"\",GM52=\"\",GM51=\"\"),\"Yes\",\"\")","v":""},"",{"$f":"IF(AND(GO54=\"Yes\",GO53=\"\",GO52=\"\",GO51=\"\"),\"Yes\",\"\")","v":""},"",{"$f":"IF(AND(GQ54=\"Yes\",GQ53=\"\",GQ52=\"\",GQ51=\"\"),\"Yes\",\"\")","v":""},"",{"$f":"IF(AND(GS54=\"Yes\",GS53=\"\",GS52=\"\",GS51=\"\"),\"Yes\",\"\")","v":""},"","","",{"$f":"IF(AND(GW54=\"Yes\",GW53=\"\",GW52=\"\",GW51=\"\"),\"Yes\",\"\")","v":""},"",""]
["12:15:00","12:29:00",null,null,0,null,null,null,null,"12:15:00","13:14:00",0,0,0,0,0,{"$f":"IF(AND(N55>='Warrant 1 - MUTCD'!$M$23,OR('Traffic Volume Input'!O55>='Warrant 1 - MUTCD'!$Q$23,'Traffic Volume Input'!P55>='Warrant 1 - MUTCD'!$Q$23)),\"Yes\",\"\")","v":""},"","","","","","",{"$f":"IF(AND(W55=\"Yes\",W54=\"\",W53=\"\",W52=\"\"),\"Yes\",\"\")","v":""},"",{"$f":"IF(AND(Y55=\"Yes\",Y54=\"\",Y53=\"\",Y52=\"\"),\"Yes\",\"\")","v":""},"",{"$f":"IF(AND(AA55=\"Yes\",AA54=\"\",AA53=\"\",AA52=\"\"),\"Yes\",\"\")","v":""},"",{"$f":"IF(AND(AC55=\"Yes\",AC54=\"\",AC53=\"\",AC52=\"\"),\"Yes\",\"\")","v":""},"",{"$f":"IF(AND(AE55=\"Yes\",AE54=\"\",AE53=\"\",AE52=\"\"),\"Yes\",\"\")","v":""},"",{"$f":"IF(AND(AG55=\"Yes\",AG54=\"\",AG53=\"\",AG52=\"\"),\"Yes\",\"\")","v":""},"",{"$f":"IF(AND(AI55=\"Yes\",AI54=\"\",AI53=\"\",AI52=\"\"),\"Yes\",\"\")","v":""},"",{"$f":"IF(AND(AK55=\"Yes\",AK54=\"\",AK53=\"\",AK52=\"\"),\"Yes\",\"\")","v":""},"",{"$f":"IF(AND(AM55=\"Yes\",AM54=\"\",AM53=\"\",AM52=\"\"),\"Yes\",\"\")","v":""},"",{"$f":"IF(AND(AO55=\"Yes\",AO54=\"\",AO53=\"\",AO52=\"\"),\"Yes\",\"\")","v":""},"",{"$f":"IF(AND(AQ55=\"Yes\",AQ54=\"\",AQ53=\"\",AQ52=\"\"),\"Yes\",\"\")","v":""},"",{"$f":"IF(AND(AS55=\"Yes\",AS54=\"\",AS53=\"\",AS52=\"\"),\"Yes\",\"\")","v":""},"",{"$f":"IF(AND(AU55=\"Yes\",AU54=\"\",AU53=\"\",AU52=\"\"),\"Yes\",\"\")","v":""},"",{"$f":"IF(AND(AW55=\"Yes\",AW54=\"\",AW53=\"\",AW52=\"\"),\"Yes\",\"\")","v":""},"",{"$f":"IF(AND(AY55=\"Yes\",AY54=\"\",AY53=\"\",AY52=\"\"),\"Yes\",\"\")","v":""},"",{"$f":"IF(AND(BA55=\"Yes\",BA54=\"\",BA53=\"\",BA52=\"\"),\"Yes\",\"\")","v":""},"",{"$f":"IF(AND(BC55=\"Yes\",BC54=\"\",BC53=\"\",BC52=\"\"),\"Yes\",\"\")","v":""},"",{"$f":"IF(AND(BE55=\"Yes\",BE54=\"\",BE53=\"\",BE52=\"\"),\"Yes\",\"\")","v":""},"",{"$f":"IF(AND(BG55=\"Yes\",BG54=\"\",BG53=\"\",BG52=\"\"),\"Yes\",\"\")","v":""},"",{"$f":"IF(AND(BI55=\"Yes\",BI54=\"\",BI53=\"\",BI52=\"\"),\"Yes\",\"\")","v":""},"","",{"$f":"IF(AND(N55>='Warrant 1 - MUTCD'!$M$32,OR('Traffic Volume Input'!O55>='Warrant 1 - MUTCD'!$Q$32,'Traffic Volume Input'!P55>='Warrant 1 - MUTCD'!$Q$32)),\"Yes\",\"\")","v":""},"","",{"$f":"IF(AND(BO55=\"Yes\",BO54=\"\",BO53=\"\",BO52=\"\"),\"Yes\",\"\")","v":""},"",{"$f":"IF(AND(BQ55=\"Yes\",BQ54=\"\",BQ53=\"\",BQ52=\"\"),\"Yes\",\"\")","v":""},"",{"$f":"IF(AND(BS55=\"Yes\",BS54=\"\",BS53=\"\",BS52=\"\"),\"Yes\",\"\")","v":""},"",{"$f":"IF(AND(BU55=\"Yes\",BU54=\"\",BU53=\"\",BU52=\"\"),\"Yes\",\"\")","v":""},"",{"$f":"IF(AND(BW55=\"Yes\",BW54=\"\",BW53=\"\",BW52=\"\"),\"Yes\",\"\")","v":""},"",{"$f":"IF(AND(BY55=\"Yes\",BY54=\"\",BY53=\"\",BY52=\"\"),\"Yes\",\"\")","v":""},"",{"$f":"IF(AND(CA55=\"Yes\",CA54=\"\",CA53=\"\",CA52=\"\"),\"Yes\",\"\")","v":""},"",{"$f":"IF(AND(CC55=\"Yes\",CC54=\"\",CC53=\"\",CC52=\"\"),\"Yes\",\"\")","v":""},"",{"$f":"IF(AND(CE55=\"Yes\",CE54=\"\",CE53=\"\",CE52=\"\"),\"Yes\",\"\")","v":""},"",{"$f":"IF(AND(CG55=\"Yes\",CG54=\"\",CG53=\"\",CG52=\"\"),\"Yes\",\"\")","v":""},"",{"$f":"IF(AND(CI55=\"Yes\",CI54=\"\",CI53=\"\",CI52=\"\"),\"Yes\",\"\")","v":""},"",{"$f":"IF(AND(CK55=\"Yes\",CK54=\"\",CK53=\"\",CK52=\"\"),\"Yes\",\"\")","v":""},"",{"$f":"IF(AND(CM55=\"Yes\",CM54=\"\",CM53=\"\",CM52=\"\"),\"Yes\",\"\")","v":""},"",{"$f":"IF(AND(CO55=\"Yes\",CO54=\"\",CO53=\"\",CO52=\"\"),\"Yes\",\"\")","v":""},"",{"$f":"IF(AND(CQ55=\"Yes\",CQ54=\"\",CQ53=\"\",CQ52=\"\"),\"Yes\",\"\")","v":""},"",{"$f":"IF(AND(CS55=\"Yes\",CS54=\"\",CS53=\"\",CS52=\"\"),\"Yes\",\"\")","v":""},"",{"$f":"IF(AND(CU55=\"Yes\",CU54=\"\",CU53=\"\",CU52=\"\"),\"Yes\",\"\")","v":""},"",{"$f":"IF(AND(CW55=\"Yes\",CW54=\"\",CW53=\"\",CW52=\"\"),\"Yes\",\"\")","v":""},"",{"$f":"IF(AND(CY55=\"Yes\",CY54=\"\",CY53=\"\",CY52=\"\"),\"Yes\",\"\")","v":""},"",{"$f":"IF(AND(DA55=\"Yes\",DA54=\"\",DA53=\"\",DA52=\"\"),\"Yes\",\"\")","v":""},"","","",{"$f":"IF(AND(DE55=\"Yes\",DE54=\"\",DE53=\"\",DE52=\"\"),\"Yes\",\"\")","v":""},"",{"$f":"IF(AND(DG55=\"Yes\",DG54=\"\",DG53=\"\",DG52=\"\"),\"Yes\",\"\")","v":""},{"$f":"IF(AND(N55>='Warrant 7 & 8 - MUTCD'!$L$16,OR('Traffic Volume Input'!O55>='Warrant 7 & 8 - MUTCD'!$N$16,'Traffic Volume Input'!P55>='Warrant 7 & 8 - MUTCD'!$N$16)),\"Yes\",\"\")","v":""},"","",{"$f":"IF(AND(DK55=\"Yes\",DK54=\"\",DK53=\"\",DK52=\"\"),\"Yes\",\"\")","v":""},"",{"$f":"IF(AND(DM55=\"Yes\",DM54=\"\",DM53=\"\",DM52=\"\"),\"Yes\",\"\")","v":""},"",{"$f":"IF(AND(DO55=\"Yes\",DO54=\"\",DO53=\"\",DO52=\"\"),\"Yes\",\"\")","v":""},"",{"$f":"IF(AND(DQ55=\"Yes\",DQ54=\"\",DQ53=\"\",DQ52=\"\"),\"Yes\",\"\")","v":""},"",{"$f":"IF(AND(DS55=\"Yes\",DS54=\"\",DS53=\"\",DS52=\"\"),\"Yes\",\"\")","v":""},"",{"$f":"IF(AND(DU55=\"Yes\",DU54=\"\",DU53=\"\",DU52=\"\"),\"Yes\",\"\")","v":""},"",{"$f":"IF(AND(DW55=\"Yes\",DW54=\"\",DW53=\"\",DW52=\"\"),\"Yes\",\"\")","v":""},"",{"$f":"IF(AND(DY55=\"Yes\",DY54=\"\",DY53=\"\",DY52=\"\"),\"Yes\",\"\")","v":""},"",{"$f":"IF(AND(EA55=\"Yes\",EA54=\"\",EA53=\"\",EA52=\"\"),\"Yes\",\"\")","v":""},"",{"$f":"IF(AND(EC55=\"Yes\",EC54=\"\",EC53=\"\",EC52=\"\"),\"Yes\",\"\")","v":""},"",{"$f":"IF(AND(EE55=\"Yes\",EE54=\"\",EE53=\"\",EE52=\"\"),\"Yes\",\"\")","v":""},"",{"$f":"IF(AND(EG55=\"Yes\",EG54=\"\",EG53=\"\",EG52=\"\"),\"Yes\",\"\")","v":""},"",{"$f":"IF(AND(EI55=\"Yes\",EI54=\"\",EI53=\"\",EI52=\"\"),\"Yes\",\"\")","v":""},"",{"$f":"IF(AND(EK55=\"Yes\",EK54=\"\",EK53=\"\",EK52=\"\"),\"Yes\",\"\")","v":""},"",{"$f":"IF(AND(EM55=\"Yes\",EM54=\"\",EM53=\"\",EM52=\"\"),\"Yes\",\"\")","v":""},"",{"$f":"IF(AND(EO55=\"Yes\",EO54=\"\",EO53=\"\",EO52=\"\"),\"Yes\",\"\")","v":""},"",{"$f":"IF(AND(EQ55=\"Yes\",EQ54=\"\",EQ53=\"\",EQ52=\"\"),\"Yes\",\"\")","v":""},"",{"$f":"IF(AND(ES55=\"Yes\",ES54=\"\",ES53=\"\",ES52=\"\"),\"Yes\",\"\")","v":""},"",{"$f":"IF(AND(EU55=\"Yes\",EU54=\"\",EU53=\"\",EU52=\"\"),\"Yes\",\"\")","v":""},"",{"$f":"IF(AND(EW55=\"Yes\",EW54=\"\",EW53=\"\",EW52=\"\"),\"Yes\",\"\")","v":""},"","","",{"$f":"IF(AND(FA55=\"Yes\",FA54=\"\",FA53=\"\",FA52=\"\"),\"Yes\",\"\")","v":""},"","",{"$f":"IF(AND(N55>='Warrant 7 & 8 - MUTCD'!$L$25,OR('Traffic Volume Input'!O55>='Warrant 7 & 8 - MUTCD'!$N$25,'Traffic Volume Input'!P55>='Warrant 7 & 8 - MUTCD'!$N$25)),\"Yes\",\"\")","v":""},"","",{"$f":"IF(AND(FG55=\"Yes\",FG54=\"\",FG53=\"\",FG52=\"\"),\"Yes\",\"\")","v":""},"",{"$f":"IF(AND(FI55=\"Yes\",FI54=\"\",FI53=\"\",FI52=\"\"),\"Yes\",\"\")","v":""},"",{"$f":"IF(AND(FK55=\"Yes\",FK54=\"\",FK53=\"\",FK52=\"\"),\"Yes\",\"\")","v":""},"",{"$f":"IF(AND(FM55=\"Yes\",FM54=\"\",FM53=\"\",FM52=\"\"),\"Yes\",\"\")","v":""},"",{"$f":"IF(AND(FO55=\"Yes\",FO54=\"\",FO53=\"\",FO52=\"\"),\"Yes\",\"\")","v":""},"",{"$f":"IF(AND(FQ55=\"Yes\",FQ54=\"\",FQ53=\"\",FQ52=\"\"),\"Yes\",\"\")","v":""},"",{"$f":"IF(AND(FS55=\"Yes\",FS54=\"\",FS53=\"\",FS52=\"\"),\"Yes\",\"\")","v":""},"",{"$f":"IF(AND(FU55=\"Yes\",FU54=\"\",FU53=\"\",FU52=\"\"),\"Yes\",\"\")","v":""},"",{"$f":"IF(AND(FW55=\"Yes\",FW54=\"\",FW53=\"\",FW52=\"\"),\"Yes\",\"\")","v":""},"",{"$f":"IF(AND(FY55=\"Yes\",FY54=\"\",FY53=\"\",FY52=\"\"),\"Yes\",\"\")","v":""},"",{"$f":"IF(AND(GA55=\"Yes\",GA54=\"\",GA53=\"\",GA52=\"\"),\"Yes\",\"\")","v":""},"",{"$f":"IF(AND(GC55=\"Yes\",GC54=\"\",GC53=\"\",GC52=\"\"),\"Yes\",\"\")","v":""},"",{"$f":"IF(AND(GE55=\"Yes\",GE54=\"\",GE53=\"\",GE52=\"\"),\"Yes\",\"\")","v":""},"",{"$f":"IF(AND(GG55=\"Yes\",GG54=\"\",GG53=\"\",GG52=\"\"),\"Yes\",\"\")","v":""},"",{"$f":"IF(AND(GI55=\"Yes\",GI54=\"\",GI53=\"\",GI52=\"\"),\"Yes\",\"\")","v":""},"",{"$f":"IF(AND(GK55=\"Yes\",GK54=\"\",GK53=\"\",GK52=\"\"),\"Yes\",\"\")","v":""},"",{"$f":"IF(AND(GM55=\"Yes\",GM54=\"\",GM53=\"\",GM52=\"\"),\"Yes\",\"\")","v":""},"",{"$f":"IF(AND(GO55=\"Yes\",GO54=\"\",GO53=\"\",GO52=\"\"),\"Yes\",\"\")","v":""},"",{"$f":"IF(AND(GQ55=\"Yes\",GQ54=\"\",GQ53=\"\",GQ52=\"\"),\"Yes\",\"\")","v":""},"",{"$f":"IF(AND(GS55=\"Yes\",GS54=\"\",GS53=\"\",GS52=\"\"),\"Yes\",\"\")","v":""},"","","",{"$f":"IF(AND(GW55=\"Yes\",GW54=\"\",GW53=\"\",GW52=\"\"),\"Yes\",\"\")","v":""},"",""]
["12:30:00","12:44:00",null,null,0,null,null,null,null,"12:30:00","13:29:00",0,0,0,0,0,{"$f":"IF(AND(N56>='Warrant 1 - MUTCD'!$M$23,OR('Traffic Volume Input'!O56>='Warrant 1 - MUTCD'!$Q$23,'Traffic Volume Input'!P56>='Warrant 1 - MUTCD'!$Q$23)),\"Yes\",\"\")","v":""},"","","","","","",{"$f":"IF(AND(W56=\"Yes\",W55=\"\",W54=\"\",W53=\"\"),\"Yes\",\"\")","v":""},"",{"$f":"IF(AND(Y56=\"Yes\",Y55=\"\",Y54=\"\",Y53=\"\"),\"Yes\",\"\")","v":""},"",{"$f":"IF(AND(AA56=\"Yes\",AA55=\"\",AA54=\"\",AA53=\"\"),\"Yes\",\"\")","v":""},"",{"$f":"IF(AND(AC56=\"Yes\",AC55=\"\",AC54=\"\",AC53=\"\"),\"Yes\",\"\")","v":""},"",{"$f":"IF(AND(AE56=\"Yes\",AE55=\"\",AE54=\"\",AE53=\"\"),\"Yes\",\"\")","v":""},"",{"$f":"IF(AND(AG56=\"Yes\",AG55=\"\",AG54=\"\",AG53=\"\"),\"Yes\",\"\")","v":""},"",{"$f":"IF(AND(AI56=\"Yes\",AI55=\"\",AI54=\"\",AI53=\"\"),\"Yes\",\"\")","v":""},"",{"$f":"IF(AND(AK56=\"Yes\",AK55=\"\",AK54=\"\",AK53=\"\"),\"Yes\",\"\")","v":""},"",{"$f":"IF(AND(AM56=\"Yes\",AM55=\"\",AM54=\"\",AM53=\"\"),\"Yes\",\"\")","v":""},"",{"$f":"IF(AND(AO56=\"Yes\",AO55=\"\",AO54=\"\",AO53=\"\"),\"Yes\",\"\")","v":""},"",{"$f":"IF(AND(AQ56=\"Yes\",AQ55=\"\",AQ54=\"\",AQ53=\"\"),\"Yes\",\"\")","v":""},"",{"$f":"IF(AND(AS56=\"Yes\",AS55=\"\",AS54=\"\",AS53=\"\"),\"Yes\",\"\")","v":""},"",{"$f":"IF(AND(AU56=\"Yes\",AU55=\"\",AU54=\"\",AU53=\"\"),\"Yes\",\"\")","v":""},"",{"$f":"IF(AND(AW56=\"Yes\",AW55=\"\",AW54=\"\",AW53=\"\"),\"Yes\",\"\")","v":""},"",{"$f":"IF(AND(AY56=\"Yes\",AY55=\"\",AY54=\"\",AY53=\"\"),\"Yes\",\"\")","v":""},"",{"$f":"IF(AND(BA56=\"Yes\",BA55=\"\",BA54=\"\",BA53=\"\"),\"Yes\",\"\")","v":""},"",{"$f":"IF(AND(BC56=\"Yes\",BC55=\"\",BC54=\"\",BC53=\"\"),\"Yes\",\"\")","v":""},"",{"$f":"IF(AND(BE56=\"Yes\",BE55=\"\",BE54=\"\",BE53=\"\"),\"Yes\",\"\")","v":""},"",{"$f":"IF(AND(BG56=\"Yes\",BG55=\"\",BG54=\"\",BG53=\"\"),\"Yes\",\"\")","v":""},"",{"$f":"IF(AND(BI56=\"Yes\",BI55=\"\",BI54=\"\",BI53=\"\"),\"Yes\",\"\")","v":""},"","",{"$f":"IF(AND(N56>='Warrant 1 - MUTCD'!$M$32,OR('Traffic Volume Input'!O56>='Warrant 1 - MUTCD'!$Q$32,'Traffic Volume Input'!P56>='Warrant 1 - MUTCD'!$Q$32)),\"Yes\",\"\")","v":""},"","",{"$f":"IF(AND(BO56=\"Yes\",BO55=\"\",BO54=\"\",BO53=\"\"),\"Yes\",\"\")","v":""},"",{"$f":"IF(AND(BQ56=\"Yes\",BQ55=\"\",BQ54=\"\",BQ53=\"\"),\"Yes\",\"\")","v":""},"",{"$f":"IF(AND(BS56=\"Yes\",BS55=\"\",BS54=\"\",BS53=\"\"),\"Yes\",\"\")","v":""},"",{"$f":"IF(AND(BU56=\"Yes\",BU55=\"\",BU54=\"\",BU53=\"\"),\"Yes\",\"\")","v":""},"",{"$f":"IF(AND(BW56=\"Yes\",BW55=\"\",BW54=\"\",BW53=\"\"),\"Yes\",\"\")","v":""},"",{"$f":"IF(AND(BY56=\"Yes\",BY55=\"\",BY54=\"\",BY53=\"\"),\"Yes\",\"\")","v":""},"",{"$f":"IF(AND(CA56=\"Yes\",CA55=\"\",CA54=\"\",CA53=\"\"),\"Yes\",\"\")","v":""},"",{"$f":"IF(AND(CC56=\"Yes\",CC55=\"\",CC54=\"\",CC53=\"\"),\"Yes\",\"\")","v":""},"",{"$f":"IF(AND(CE56=\"Yes\",CE55=\"\",CE54=\"\",CE53=\"\"),\"Yes\",\"\")","v":""},"",{"$f":"IF(AND(CG56=\"Yes\",CG55=\"\",CG54=\"\",CG53=\"\"),\"Yes\",\"\")","v":""},"",{"$f":"IF(AND(CI56=\"Yes\",CI55=\"\",CI54=\"\",CI53=\"\"),\"Yes\",\"\")","v":""},"",{"$f":"IF(AND(CK56=\"Yes\",CK55=\"\",CK54=\"\",CK53=\"\"),\"Yes\",\"\")","v":""},"",{"$f":"IF(AND(CM56=\"Yes\",CM55=\"\",CM54=\"\",CM53=\"\"),\"Yes\",\"\")","v":""},"",{"$f":"IF(AND(CO56=\"Yes\",CO55=\"\",CO54=\"\",CO53=\"\"),\"Yes\",\"\")","v":""},"",{"$f":"IF(AND(CQ56=\"Yes\",CQ55=\"\",CQ54=\"\",CQ53=\"\"),\"Yes\",\"\")","v":""},"",{"$f":"IF(AND(CS56=\"Yes\",CS55=\"\",CS54=\"\",CS53=\"\"),\"Yes\",\"\")","v":""},"",{"$f":"IF(AND(CU56=\"Yes\",CU55=\"\",CU54=\"\",CU53=\"\"),\"Yes\",\"\")","v":""},"",{"$f":"IF(AND(CW56=\"Yes\",CW55=\"\",CW54=\"\",CW53=\"\"),\"Yes\",\"\")","v":""},"",{"$f":"IF(AND(CY56=\"Yes\",CY55=\"\",CY54=\"\",CY53=\"\"),\"Yes\",\"\")","v":""},"",{"$f":"IF(AND(DA56=\"Yes\",DA55=\"\",DA54=\"\",DA53=\"\"),\"Yes\",\"\")","v":""},"","","",{"$f":"IF(AND(DE56=\"Yes\",DE55=\"\",DE54=\"\",DE53=\"\"),\"Yes\",\"\")","v":""},"",{"$f":"IF(AND(DG56=\"Yes\",DG55=\"\",DG54=\"\",DG53=\"\"),\"Yes\",\"\")","v":""},{"$f":"IF(AND(N56>='Warrant 7 & 8 - MUTCD'!$L$16,OR('Traffic Volume Input'!O56>='Warrant 7 & 8 - MUTCD'!$N$16,'Traffic Volume Input'!P56>='Warrant 7 & 8 - MUTCD'!$N$16)),\"Yes\",\"\")","v":""},"","",{"$f":"IF(AND(DK56=\"Yes\",DK55=\"\",DK54=\"\",DK53=\"\"),\"Yes\",\"\")","v":""},"",{"$f":"IF(AND(DM56=\"Yes\",DM55=\"\",DM54=\"\",DM53=\"\"),\"Yes\",\"\")","v":""},"",{"$f":"IF(AND(DO56=\"Yes\",DO55=\"\",DO54=\"\",DO53=\"\"),\"Yes\",\"\")","v":""},"",{"$f":"IF(AND(DQ56=\"Yes\",DQ55=\"\",DQ54=\"\",DQ53=\"\"),\"Yes\",\"\")","v":""},"",{"$f":"IF(AND(DS56=\"Yes\",DS55=\"\",DS54=\"\",DS53=\"\"),\"Yes\",\"\")","v":""},"",{"$f":"IF(AND(DU56=\"Yes\",DU55=\"\",DU54=\"\",DU53=\"\"),\"Yes\",\"\")","v":""},"",{"$f":"IF(AND(DW56=\"Yes\",DW55=\"\",DW54=\"\",DW53=\"\"),\"Yes\",\"\")","v":""},"",{"$f":"IF(AND(DY56=\"Yes\",DY55=\"\",DY54=\"\",DY53=\"\"),\"Yes\",\"\")","v":""},"",{"$f":"IF(AND(EA56=\"Yes\",EA55=\"\",EA54=\"\",EA53=\"\"),\"Yes\",\"\")","v":""},"",{"$f":"IF(AND(EC56=\"Yes\",EC55=\"\",EC54=\"\",EC53=\"\"),\"Yes\",\"\")","v":""},"",{"$f":"IF(AND(EE56=\"Yes\",EE55=\"\",EE54=\"\",EE53=\"\"),\"Yes\",\"\")","v":""},"",{"$f":"IF(AND(EG56=\"Yes\",EG55=\"\",EG54=\"\",EG53=\"\"),\"Yes\",\"\")","v":""},"",{"$f":"IF(AND(EI56=\"Yes\",EI55=\"\",EI54=\"\",EI53=\"\"),\"Yes\",\"\")","v":""},"",{"$f":"IF(AND(EK56=\"Yes\",EK55=\"\",EK54=\"\",EK53=\"\"),\"Yes\",\"\")","v":""},"",{"$f":"IF(AND(EM56=\"Yes\",EM55=\"\",EM54=\"\",EM53=\"\"),\"Yes\",\"\")","v":""},"",{"$f":"IF(AND(EO56=\"Yes\",EO55=\"\",EO54=\"\",EO53=\"\"),\"Yes\",\"\")","v":""},"",{"$f":"IF(AND(EQ56=\"Yes\",EQ55=\"\",EQ54=\"\",EQ53=\"\"),\"Yes\",\"\")","v":""},"",{"$f":"IF(AND(ES56=\"Yes\",ES55=\"\",ES54=\"\",ES53=\"\"),\"Yes\",\"\")","v":""},"",{"$f":"IF(AND(EU56=\"Yes\",EU55=\"\",EU54=\"\",EU53=\"\"),\"Yes\",\"\")","v":""},"",{"$f":"IF(AND(EW56=\"Yes\",EW55=\"\",EW54=\"\",EW53=\"\"),\"Yes\",\"\")","v":""},"","","",{"$f":"IF(AND(FA56=\"Yes\",FA55=\"\",FA54=\"\",FA53=\"\"),\"Yes\",\"\")","v":""},"","",{"$f":"IF(AND(N56>='Warrant 7 & 8 - MUTCD'!$L$25,OR('Traffic Volume Input'!O56>='Warrant 7 & 8 - MUTCD'!$N$25,'Traffic Volume Input'!P56>='Warrant 7 & 8 - MUTCD'!$N$25)),\"Yes\",\"\")","v":""},"","",{"$f":"IF(AND(FG56=\"Yes\",FG55=\"\",FG54=\"\",FG53=\"\"),\"Yes\",\"\")","v":""},"",{"$f":"IF(AND(FI56=\"Yes\",FI55=\"\",FI54=\"\",FI53=\"\"),\"Yes\",\"\")","v":""},"",{"$f":"IF(AND(FK56=\"Yes\",FK55=\"\",FK54=\"\",FK53=\"\"),\"Yes\",\"\")","v":""},"",{"$f":"IF(AND(FM56=\"Yes\",FM55=\"\",FM54=\"\",FM53=\"\"),\"Yes\",\"\")","v":""},"",{"$f":"IF(AND(FO56=\"Yes\",FO55=\"\",FO54=\"\",FO53=\"\"),\"Yes\",\"\")","v":""},"",{"$f":"IF(AND(FQ56=\"Yes\",FQ55=\"\",FQ54=\"\",FQ53=\"\"),\"Yes\",\"\")","v":""},"",{"$f":"IF(AND(FS56=\"Yes\",FS55=\"\",FS54=\"\",FS53=\"\"),\"Yes\",\"\")","v":""},"",{"$f":"IF(AND(FU56=\"Yes\",FU55=\"\",FU54=\"\",FU53=\"\"),\"Yes\",\"\")","v":""},"",{"$f":"IF(AND(FW56=\"Yes\",FW55=\"\",FW54=\"\",FW53=\"\"),\"Yes\",\"\")","v":""},"",{"$f":"IF(AND(FY56=\"Yes\",FY55=\"\",FY54=\"\",FY53=\"\"),\"Yes\",\"\")","v":""},"",{"$f":"IF(AND(GA56=\"Yes\",GA55=\"\",GA54=\"\",GA53=\"\"),\"Yes\",\"\")","v":""},"",{"$f":"IF(AND(GC56=\"Yes\",GC55=\"\",GC54=\"\",GC53=\"\"),\"Yes\",\"\")","v":""},"",{"$f":"IF(AND(GE56=\"Yes\",GE55=\"\",GE54=\"\",GE53=\"\"),\"Yes\",\"\")","v":""},"",{"$f":"IF(AND(GG56=\"Yes\",GG55=\"\",GG54=\"\",GG53=\"\"),\"Yes\",\"\")","v":""},"",{"$f":"IF(AND(GI56=\"Yes\",GI55=\"\",GI54=\"\",GI53=\"\"),\"Yes\",\"\")","v":""},"",{"$f":"IF(AND(GK56=\"Yes\",GK55=\"\",GK54=\"\",GK53=\"\"),\"Yes\",\"\")","v":""},"",{"$f":"IF(AND(GM56=\"Yes\",GM55=\"\",GM54=\"\",GM53=\"\"),\"Yes\",\"\")","v":""},"",{"$f":"IF(AND(GO56=\"Yes\",GO55=\"\",GO54=\"\",GO53=\"\"),\"Yes\",\"\")","v":""},"",{"$f":"IF(AND(GQ56=\"Yes\",GQ55=\"\",GQ54=\"\",GQ53=\"\"),\"Yes\",\"\")","v":""},"",{"$f":"IF(AND(GS56=\"Yes\",GS55=\"\",GS54=\"\",GS53=\"\"),\"Yes\",\"\")","v":""},"","","",{"$f":"IF(AND(GW56=\"Yes\",GW55=\"\",GW54=\"\",GW53=\"\"),\"Yes\",\"\")","v":""},"",""]
["12:45:00","12:59:00",null,null,0,null,null,null,null,"12:45:00","13:44:00",0,0,0,0,0,{"$f":"IF(AND(N57>='Warrant 1 - MUTCD'!$M$23,OR('Traffic Volume Input'!O57>='Warrant 1 - MUTCD'!$Q$23,'Traffic Volume Input'!P57>='Warrant 1 - MUTCD'!$Q$23)),\"Yes\",\"\")","v":""},"","","","","","",{"$f":"IF(AND(W57=\"Yes\",W56=\"\",W55=\"\",W54=\"\"),\"Yes\",\"\")","v":""},"",{"$f":"IF(AND(Y57=\"Yes\",Y56=\"\",Y55=\"\",Y54=\"\"),\"Yes\",\"\")","v":""},"",{"$f":"IF(AND(AA57=\"Yes\",AA56=\"\",AA55=\"\",AA54=\"\"),\"Yes\",\"\")","v":""},"",{"$f":"IF(AND(AC57=\"Yes\",AC56=\"\",AC55=\"\",AC54=\"\"),\"Yes\",\"\")","v":""},"",{"$f":"IF(AND(AE57=\"Yes\",AE56=\"\",AE55=\"\",AE54=\"\"),\"Yes\",\"\")","v":""},"",{"$f":"IF(AND(AG57=\"Yes\",AG56=\"\",AG55=\"\",AG54=\"\"),\"Yes\",\"\")","v":""},"",{"$f":"IF(AND(AI57=\"Yes\",AI56=\"\",AI55=\"\",AI54=\"\"),\"Yes\",\"\")","v":""},"",{"$f":"IF(AND(AK57=\"Yes\",AK56=\"\",AK55=\"\",AK54=\"\"),\"Yes\",\"\")","v":""},"",{"$f":"IF(AND(AM57=\"Yes\",AM56=\"\",AM55=\"\",AM54=\"\"),\"Yes\",\"\")","v":""},"",{"$f":"IF(AND(AO57=\"Yes\",AO56=\"\",AO55=\"\",AO54=\"\"),\"Yes\",\"\")","v":""},"",{"$f":"IF(AND(AQ57=\"Yes\",AQ56=\"\",AQ55=\"\",AQ54=\"\"),\"Yes\",\"\")","v":""},"",{"$f":"IF(AND(AS57=\"Yes\",AS56=\"\",AS55=\"\",AS54=\"\"),\"Yes\",\"\")","v":""},"",{"$f":"IF(AND(AU57=\"Yes\",AU56=\"\",AU55=\"\",AU54=\"\"),\"Yes\",\"\")","v":""},"",{"$f":"IF(AND(AW57=\"Yes\",AW56=\"\",AW55=\"\",AW54=\"\"),\"Yes\",\"\")","v":""},"",{"$f":"IF(AND(AY57=\"Yes\",AY56=\"\",AY55=\"\",AY54=\"\"),\"Yes\",\"\")","v":""},"",{"$f":"IF(AND(BA57=\"Yes\",BA56=\"\",BA55=\"\",BA54=\"\"),\"Yes\",\"\")","v":""},"",{"$f":"IF(AND(BC57=\"Yes\",BC56=\"\",BC55=\"\",BC54=\"\"),\"Yes\",\"\")","v":""},"",{"$f":"IF(AND(BE57=\"Yes\",BE56=\"\",BE55=\"\",BE54=\"\"),\"Yes\",\"\")","v":""},"",{"$f":"IF(AND(BG57=\"Yes\",BG56=\"\",BG55=\"\",BG54=\"\"),\"Yes\",\"\")","v":""},"",{"$f":"IF(AND(BI57=\"Yes\",BI56=\"\",BI55=\"\",BI54=\"\"),\"Yes\",\"\")","v":""},"","",{"$f":"IF(AND(N57>='Warrant 1 - MUTCD'!$M$32,OR('Traffic Volume Input'!O57>='Warrant 1 - MUTCD'!$Q$32,'Traffic Volume Input'!P57>='Warrant 1 - MUTCD'!$Q$32)),\"Yes\",\"\")","v":""},"","",{"$f":"IF(AND(BO57=\"Yes\",BO56=\"\",BO55=\"\",BO54=\"\"),\"Yes\",\"\")","v":""},"",{"$f":"IF(AND(BQ57=\"Yes\",BQ56=\"\",BQ55=\"\",BQ54=\"\"),\"Yes\",\"\")","v":""},"",{"$f":"IF(AND(BS57=\"Yes\",BS56=\"\",BS55=\"\",BS54=\"\"),\"Yes\",\"\")","v":""},"",{"$f":"IF(AND(BU57=\"Yes\",BU56=\"\",BU55=\"\",BU54=\"\"),\"Yes\",\"\")","v":""},"",{"$f":"IF(AND(BW57=\"Yes\",BW56=\"\",BW55=\"\",BW54=\"\"),\"Yes\",\"\")","v":""},"",{"$f":"IF(AND(BY57=\"Yes\",BY56=\"\",BY55=\"\",BY54=\"\"),\"Yes\",\"\")","v":""},"",{"$f":"IF(AND(CA57=\"Yes\",CA56=\"\",CA55=\"\",CA54=\"\"),\"Yes\",\"\")","v":""},"",{"$f":"IF(AND(CC57=\"Yes\",CC56=\"\",CC55=\"\",CC54=\"\"),\"Yes\",\"\")","v":""},"",{"$f":"IF(AND(CE57=\"Yes\",CE56=\"\",CE55=\"\",CE54=\"\"),\"Yes\",\"\")","v":""},"",{"$f":"IF(AND(CG57=\"Yes\",CG56=\"\",CG55=\"\",CG54=\"\"),\"Yes\",\"\")","v":""},"",{"$f":"IF(AND(CI57=\"Yes\",CI56=\"\",CI55=\"\",CI54=\"\"),\"Yes\",\"\")","v":""},"",{"$f":"IF(AND(CK57=\"Yes\",CK56=\"\",CK55=\"\",CK54=\"\"),\"Yes\",\"\")","v":""},"",{"$f":"IF(AND(CM57=\"Yes\",CM56=\"\",CM55=\"\",CM54=\"\"),\"Yes\",\"\")","v":""},"",{"$f":"IF(AND(CO57=\"Yes\",CO56=\"\",CO55=\"\",CO54=\"\"),\"Yes\",\"\")","v":""},"",{"$f":"IF(AND(CQ57=\"Yes\",CQ56=\"\",CQ55=\"\",CQ54=\"\"),\"Yes\",\"\")","v":""},"",{"$f":"IF(AND(CS57=\"Yes\",CS56=\"\",CS55=\"\",CS54=\"\"),\"Yes\",\"\")","v":""},"",{"$f":"IF(AND(CU57=\"Yes\",CU56=\"\",CU55=\"\",CU54=\"\"),\"Yes\",\"\")","v":""},"",{"$f":"IF(AND(CW57=\"Yes\",CW56=\"\",CW55=\"\",CW54=\"\"),\"Yes\",\"\")","v":""},"",{"$f":"IF(AND(CY57=\"Yes\",CY56=\"\",CY55=\"\",CY54=\"\"),\"Yes\",\"\")","v":""},"",{"$f":"IF(AND(DA57=\"Yes\",DA56=\"\",DA55=\"\",DA54=\"\"),\"Yes\",\"\")","v":""},"","","",{"$f":"IF(AND(DE57=\"Yes\",DE56=\"\",DE55=\"\",DE54=\"\"),\"Yes\",\"\")","v":""},"",{"$f":"IF(AND(DG57=\"Yes\",DG56=\"\",DG55=\"\",DG54=\"\"),\"Yes\",\"\")","v":""},{"$f":"IF(AND(N57>='Warrant 7 & 8 - MUTCD'!$L$16,OR('Traffic Volume Input'!O57>='Warrant 7 & 8 - MUTCD'!$N$16,'Traffic Volume Input'!P57>='Warrant 7 & 8 - MUTCD'!$N$16)),\"Yes\",\"\")","v":""},"","",{"$f":"IF(AND(DK57=\"Yes\",DK56=\"\",DK55=\"\",DK54=\"\"),\"Yes\",\"\")","v":""},"",{"$f":"IF(AND(DM57=\"Yes\",DM56=\"\",DM55=\"\",DM54=\"\"),\"Yes\",\"\")","v":""},"",{"$f":"IF(AND(DO57=\"Yes\",DO56=\"\",DO55=\"\",DO54=\"\"),\"Yes\",\"\")","v":""},"",{"$f":"IF(AND(DQ57=\"Yes\",DQ56=\"\",DQ55=\"\",DQ54=\"\"),\"Yes\",\"\")","v":""},"",{"$f":"IF(AND(DS57=\"Yes\",DS56=\"\",DS55=\"\",DS54=\"\"),\"Yes\",\"\")","v":""},"",{"$f":"IF(AND(DU57=\"Yes\",DU56=\"\",DU55=\"\",DU54=\"\"),\"Yes\",\"\")","v":""},"",{"$f":"IF(AND(DW57=\"Yes\",DW56=\"\",DW55=\"\",DW54=\"\"),\"Yes\",\"\")","v":""},"",{"$f":"IF(AND(DY57=\"Yes\",DY56=\"\",DY55=\"\",DY54=\"\"),\"Yes\",\"\")","v":""},"",{"$f":"IF(AND(EA57=\"Yes\",EA56=\"\",EA55=\"\",EA54=\"\"),\"Yes\",\"\")","v":""},"",{"$f":"IF(AND(EC57=\"Yes\",EC56=\"\",EC55=\"\",EC54=\"\"),\"Yes\",\"\")","v":""},"",{"$f":"IF(AND(EE57=\"Yes\",EE56=\"\",EE55=\"\",EE54=\"\"),\"Yes\",\"\")","v":""},"",{"$f":"IF(AND(EG57=\"Yes\",EG56=\"\",EG55=\"\",EG54=\"\"),\"Yes\",\"\")","v":""},"",{"$f":"IF(AND(EI57=\"Yes\",EI56=\"\",EI55=\"\",EI54=\"\"),\"Yes\",\"\")","v":""},"",{"$f":"IF(AND(EK57=\"Yes\",EK56=\"\",EK55=\"\",EK54=\"\"),\"Yes\",\"\")","v":""},"",{"$f":"IF(AND(EM57=\"Yes\",EM56=\"\",EM55=\"\",EM54=\"\"),\"Yes\",\"\")","v":""},"",{"$f":"IF(AND(EO57=\"Yes\",EO56=\"\",EO55=\"\",EO54=\"\"),\"Yes\",\"\")","v":""},"",{"$f":"IF(AND(EQ57=\"Yes\",EQ56=\"\",EQ55=\"\",EQ54=\"\"),\"Yes\",\"\")","v":""},"",{"$f":"IF(AND(ES57=\"Yes\",ES56=\"\",ES55=\"\",ES54=\"\"),\"Yes\",\"\")","v":""},"",{"$f":"IF(AND(EU57=\"Yes\",EU56=\"\",EU55=\"\",EU54=\"\"),\"Yes\",\"\")","v":""},"",{"$f":"IF(AND(EW57=\"Yes\",EW56=\"\",EW55=\"\",EW54=\"\"),\"Yes\",\"\")","v":""},"","","",{"$f":"IF(AND(FA57=\"Yes\",FA56=\"\",FA55=\"\",FA54=\"\"),\"Yes\",\"\")","v":""},"","",{"$f":"IF(AND(N57>='Warrant 7 & 8 - MUTCD'!$L$25,OR('Traffic Volume Input'!O57>='Warrant 7 & 8 - MUTCD'!$N$25,'Traffic Volume Input'!P57>='Warrant 7 & 8 - MUTCD'!$N$25)),\"Yes\",\"\")","v":""},"","",{"$f":"IF(AND(FG57=\"Yes\",FG56=\"\",FG55=\"\",FG54=\"\"),\"Yes\",\"\")","v":""},"",{"$f":"IF(AND(FI57=\"Yes\",FI56=\"\",FI55=\"\",FI54=\"\"),\"Yes\",\"\")","v":""},"",{"$f":"IF(AND(FK57=\"Yes\",FK56=\"\",FK55=\"\",FK54=\"\"),\"Yes\",\"\")","v":""},"",{"$f":"IF(AND(FM57=\"Yes\",FM56=\"\",FM55=\"\",FM54=\"\"),\"Yes\",\"\")","v":""},"",{"$f":"IF(AND(FO57=\"Yes\",FO56=\"\",FO55=\"\",FO54=\"\"),\"Yes\",\"\")","v":""},"",{"$f":"IF(AND(FQ57=\"Yes\",FQ56=\"\",FQ55=\"\",FQ54=\"\"),\"Yes\",\"\")","v":""},"",{"$f":"IF(AND(FS57=\"Yes\",FS56=\"\",FS55=\"\",FS54=\"\"),\"Yes\",\"\")","v":""},"",{"$f":"IF(AND(FU57=\"Yes\",FU56=\"\",FU55=\"\",FU54=\"\"),\"Yes\",\"\")","v":""},"",{"$f":"IF(AND(FW57=\"Yes\",FW56=\"\",FW55=\"\",FW54=\"\"),\"Yes\",\"\")","v":""},"",{"$f":"IF(AND(FY57=\"Yes\",FY56=\"\",FY55=\"\",FY54=\"\"),\"Yes\",\"\")","v":""},"",{"$f":"IF(AND(GA57=\"Yes\",GA56=\"\",GA55=\"\",GA54=\"\"),\"Yes\",\"\")","v":""},"",{"$f":"IF(AND(GC57=\"Yes\",GC56=\"\",GC55=\"\",GC54=\"\"),\"Yes\",\"\")","v":""},"",{"$f":"IF(AND(GE57=\"Yes\",GE56=\"\",GE55=\"\",GE54=\"\"),\"Yes\",\"\")","v":""},"",{"$f":"IF(AND(GG57=\"Yes\",GG56=\"\",GG55=\"\",GG54=\"\"),\"Yes\",\"\")","v":""},"",{"$f":"IF(AND(GI57=\"Yes\",GI56=\"\",GI55=\"\",GI54=\"\"),\"Yes\",\"\")","v":""},"",{"$f":"IF(AND(GK57=\"Yes\",GK56=\"\",GK55=\"\",GK54=\"\"),\"Yes\",\"\")","v":""},"",{"$f":"IF(AND(GM57=\"Yes\",GM56=\"\",GM55=\"\",GM54=\"\"),\"Yes\",\"\")","v":""},"",{"$f":"IF(AND(GO57=\"Yes\",GO56=\"\",GO55=\"\",GO54=\"\"),\"Yes\",\"\")","v":""},"",{"$f":"IF(AND(GQ57=\"Yes\",GQ56=\"\",GQ55=\"\",GQ54=\"\"),\"Yes\",\"\")","v":""},"",{"$f":"IF(AND(GS57=\"Yes\",GS56=\"\",GS55=\"\",GS54=\"\"),\"Yes\",\"\")","v":""},"","","",{"$f":"IF(AND(GW57=\"Yes\",GW56=\"\",GW55=\"\",GW54=\"\"),\"Yes\",\"\")","v":""},"",""]
["13:00:00","13:14:00",null,null,0,null,null,null,null,"13:00:00","13:59:00",0,0,0,0,0,{"$f":"IF(AND(N58>='Warrant 1 - MUTCD'!$M$23,OR('Traffic Volume Input'!O58>='Warrant 1 - MUTCD'!$Q$23,'Traffic Volume Input'!P58>='Warrant 1 - MUTCD'!$Q$23)),\"Yes\",\"\")","v":""},"","","","","","",{"$f":"IF(AND(W58=\"Yes\",W57=\"\",W56=\"\",W55=\"\"),\"Yes\",\"\")","v":""},"",{"$f":"IF(AND(Y58=\"Yes\",Y57=\"\",Y56=\"\",Y55=\"\"),\"Yes\",\"\")","v":""},"",{"$f":"IF(AND(AA58=\"Yes\",AA57=\"\",AA56=\"\",AA55=\"\"),\"Yes\",\"\")","v":""},"",{"$f":"IF(AND(AC58=\"Yes\",AC57=\"\",AC56=\"\",AC55=\"\"),\"Yes\",\"\")","v":""},"",{"$f":"IF(AND(AE58=\"Yes\",AE57=\"\",AE56=\"\",AE55=\"\"),\"Yes\",\"\")","v":""},"",{"$f":"IF(AND(AG58=\"Yes\",AG57=\"\",AG56=\"\",AG55=\"\"),\"Yes\",\"\")","v":""},"",{"$f":"IF(AND(AI58=\"Yes\",AI57=\"\",AI56=\"\",AI55=\"\"),\"Yes\",\"\")","v":""},"",{"$f":"IF(AND(AK58=\"Yes\",AK57=\"\",AK56=\"\",AK55=\"\"),\"Yes\",\"\")","v":""},"",{"$f":"IF(AND(AM58=\"Yes\",AM57=\"\",AM56=\"\",AM55=\"\"),\"Yes\",\"\")","v":""},"",{"$f":"IF(AND(AO58=\"Yes\",AO57=\"\",AO56=\"\",AO55=\"\"),\"Yes\",\"\")","v":""},"",{"$f":"IF(AND(AQ58=\"Yes\",AQ57=\"\",AQ56=\"\",AQ55=\"\"),\"Yes\",\"\")","v":""},"",{"$f":"IF(AND(AS58=\"Yes\",AS57=\"\",AS56=\"\",AS55=\"\"),\"Yes\",\"\")","v":""},"",{"$f":"IF(AND(AU58=\"Yes\",AU57=\"\",AU56=\"\",AU55=\"\"),\"Yes\",\"\")","v":""},"",{"$f":"IF(AND(AW58=\"Yes\",AW57=\"\",AW56=\"\",AW55=\"\"),\"Yes\",\"\")","v":""},"",{"$f":"IF(AND(AY58=\"Yes\",AY57=\"\",AY56=\"\",AY55=\"\"),\"Yes\",\"\")","v":""},"",{"$f":"IF(AND(BA58=\"Yes\",BA57=\"\",BA56=\"\",BA55=\"\"),\"Yes\",\"\")","v":""},"",{"$f":"IF(AND(BC58=\"Yes\",BC57=\"\",BC56=\"\",BC55=\"\"),\"Yes\",\"\")","v":""},"",{"$f":"IF(AND(BE58=\"Yes\",BE57=\"\",BE56=\"\",BE55=\"\"),\"Yes\",\"\")","v":""},"",{"$f":"IF(AND(BG58=\"Yes\",BG57=\"\",BG56=\"\",BG55=\"\"),\"Yes\",\"\")","v":""},"",{"$f":"IF(AND(BI58=\"Yes\",BI57=\"\",BI56=\"\",BI55=\"\"),\"Yes\",\"\")","v":""},"","",{"$f":"IF(AND(N58>='Warrant 1 - MUTCD'!$M$32,OR('Traffic Volume Input'!O58>='Warrant 1 - MUTCD'!$Q$32,'Traffic Volume Input'!P58>='Warrant 1 - MUTCD'!$Q$32)),\"Yes\",\"\")","v":""},"","",{"$f":"IF(AND(BO58=\"Yes\",BO57=\"\",BO56=\"\",BO55=\"\"),\"Yes\",\"\")","v":""},"",{"$f":"IF(AND(BQ58=\"Yes\",BQ57=\"\",BQ56=\"\",BQ55=\"\"),\"Yes\",\"\")","v":""},"",{"$f":"IF(AND(BS58=\"Yes\",BS57=\"\",BS56=\"\",BS55=\"\"),\"Yes\",\"\")","v":""},"",{"$f":"IF(AND(BU58=\"Yes\",BU57=\"\",BU56=\"\",BU55=\"\"),\"Yes\",\"\")","v":""},"",{"$f":"IF(AND(BW58=\"Yes\",BW57=\"\",BW56=\"\",BW55=\"\"),\"Yes\",\"\")","v":""},"",{"$f":"IF(AND(BY58=\"Yes\",BY57=\"\",BY56=\"\",BY55=\"\"),\"Yes\",\"\")","v":""},"",{"$f":"IF(AND(CA58=\"Yes\",CA57=\"\",CA56=\"\",CA55=\"\"),\"Yes\",\"\")","v":""},"",{"$f":"IF(AND(CC58=\"Yes\",CC57=\"\",CC56=\"\",CC55=\"\"),\"Yes\",\"\")","v":""},"",{"$f":"IF(AND(CE58=\"Yes\",CE57=\"\",CE56=\"\",CE55=\"\"),\"Yes\",\"\")","v":""},"",{"$f":"IF(AND(CG58=\"Yes\",CG57=\"\",CG56=\"\",CG55=\"\"),\"Yes\",\"\")","v":""},"",{"$f":"IF(AND(CI58=\"Yes\",CI57=\"\",CI56=\"\",CI55=\"\"),\"Yes\",\"\")","v":""},"",{"$f":"IF(AND(CK58=\"Yes\",CK57=\"\",CK56=\"\",CK55=\"\"),\"Yes\",\"\")","v":""},"",{"$f":"IF(AND(CM58=\"Yes\",CM57=\"\",CM56=\"\",CM55=\"\"),\"Yes\",\"\")","v":""},"",{"$f":"IF(AND(CO58=\"Yes\",CO57=\"\",CO56=\"\",CO55=\"\"),\"Yes\",\"\")","v":""},"",{"$f":"IF(AND(CQ58=\"Yes\",CQ57=\"\",CQ56=\"\",CQ55=\"\"),\"Yes\",\"\")","v":""},"",{"$f":"IF(AND(CS58=\"Yes\",CS57=\"\",CS56=\"\",CS55=\"\"),\"Yes\",\"\")","v":""},"",{"$f":"IF(AND(CU58=\"Yes\",CU57=\"\",CU56=\"\",CU55=\"\"),\"Yes\",\"\")","v":""},"",{"$f":"IF(AND(CW58=\"Yes\",CW57=\"\",CW56=\"\",CW55=\"\"),\"Yes\",\"\")","v":""},"",{"$f":"IF(AND(CY58=\"Yes\",CY57=\"\",CY56=\"\",CY55=\"\"),\"Yes\",\"\")","v":""},"",{"$f":"IF(AND(DA58=\"Yes\",DA57=\"\",DA56=\"\",DA55=\"\"),\"Yes\",\"\")","v":""},"","","",{"$f":"IF(AND(DE58=\"Yes\",DE57=\"\",DE56=\"\",DE55=\"\"),\"Yes\",\"\")","v":""},"",{"$f":"IF(AND(DG58=\"Yes\",DG57=\"\",DG56=\"\",DG55=\"\"),\"Yes\",\"\")","v":""},{"$f":"IF(AND(N58>='Warrant 7 & 8 - MUTCD'!$L$16,OR('Traffic Volume Input'!O58>='Warrant 7 & 8 - MUTCD'!$N$16,'Traffic Volume Input'!P58>='Warrant 7 & 8 - MUTCD'!$N$16)),\"Yes\",\"\")","v":""},"","",{"$f":"IF(AND(DK58=\"Yes\",DK57=\"\",DK56=\"\",DK55=\"\"),\"Yes\",\"\")","v":""},"",{"$f":"IF(AND(DM58=\"Yes\",DM57=\"\",DM56=\"\",DM55=\"\"),\"Yes\",\"\")","v":""},"",{"$f":"IF(AND(DO58=\"Yes\",DO57=\"\",DO56=\"\",DO55=\"\"),\"Yes\",\"\")","v":""},"",{"$f":"IF(AND(DQ58=\"Yes\",DQ57=\"\",DQ56=\"\",DQ55=\"\"),\"Yes\",\"\")","v":""},"",{"$f":"IF(AND(DS58=\"Yes\",DS57=\"\",DS56=\"\",DS55=\"\"),\"Yes\",\"\")","v":""},"",{"$f":"IF(AND(DU58=\"Yes\",DU57=\"\",DU56=\"\",DU55=\"\"),\"Yes\",\"\")","v":""},"",{"$f":"IF(AND(DW58=\"Yes\",DW57=\"\",DW56=\"\",DW55=\"\"),\"Yes\",\"\")","v":""},"",{"$f":"IF(AND(DY58=\"Yes\",DY57=\"\",DY56=\"\",DY55=\"\"),\"Yes\",\"\")","v":""},"",{"$f":"IF(AND(EA58=\"Yes\",EA57=\"\",EA56=\"\",EA55=\"\"),\"Yes\",\"\")","v":""},"",{"$f":"IF(AND(EC58=\"Yes\",EC57=\"\",EC56=\"\",EC55=\"\"),\"Yes\",\"\")","v":""},"",{"$f":"IF(AND(EE58=\"Yes\",EE57=\"\",EE56=\"\",EE55=\"\"),\"Yes\",\"\")","v":""},"",{"$f":"IF(AND(EG58=\"Yes\",EG57=\"\",EG56=\"\",EG55=\"\"),\"Yes\",\"\")","v":""},"",{"$f":"IF(AND(EI58=\"Yes\",EI57=\"\",EI56=\"\",EI55=\"\"),\"Yes\",\"\")","v":""},"",{"$f":"IF(AND(EK58=\"Yes\",EK57=\"\",EK56=\"\",EK55=\"\"),\"Yes\",\"\")","v":""},"",{"$f":"IF(AND(EM58=\"Yes\",EM57=\"\",EM56=\"\",EM55=\"\"),\"Yes\",\"\")","v":""},"",{"$f":"IF(AND(EO58=\"Yes\",EO57=\"\",EO56=\"\",EO55=\"\"),\"Yes\",\"\")","v":""},"",{"$f":"IF(AND(EQ58=\"Yes\",EQ57=\"\",EQ56=\"\",EQ55=\"\"),\"Yes\",\"\")","v":""},"",{"$f":"IF(AND(ES58=\"Yes\",ES57=\"\",ES56=\"\",ES55=\"\"),\"Yes\",\"\")","v":""},"",{"$f":"IF(AND(EU58=\"Yes\",EU57=\"\",EU56=\"\",EU55=\"\"),\"Yes\",\"\")","v":""},"",{"$f":"IF(AND(EW58=\"Yes\",EW57=\"\",EW56=\"\",EW55=\"\"),\"Yes\",\"\")","v":""},"","","",{"$f":"IF(AND(FA58=\"Yes\",FA57=\"\",FA56=\"\",FA55=\"\"),\"Yes\",\"\")","v":""},"","",{"$f":"IF(AND(N58>='Warrant 7 & 8 - MUTCD'!$L$25,OR('Traffic Volume Input'!O58>='Warrant 7 & 8 - MUTCD'!$N$25,'Traffic Volume Input'!P58>='Warrant 7 & 8 - MUTCD'!$N$25)),\"Yes\",\"\")","v":""},"","",{"$f":"IF(AND(FG58=\"Yes\",FG57=\"\",FG56=\"\",FG55=\"\"),\"Yes\",\"\")","v":""},"",{"$f":"IF(AND(FI58=\"Yes\",FI57=\"\",FI56=\"\",FI55=\"\"),\"Yes\",\"\")","v":""},"",{"$f":"IF(AND(FK58=\"Yes\",FK57=\"\",FK56=\"\",FK55=\"\"),\"Yes\",\"\")","v":""},"",{"$f":"IF(AND(FM58=\"Yes\",FM57=\"\",FM56=\"\",FM55=\"\"),\"Yes\",\"\")","v":""},"",{"$f":"IF(AND(FO58=\"Yes\",FO57=\"\",FO56=\"\",FO55=\"\"),\"Yes\",\"\")","v":""},"",{"$f":"IF(AND(FQ58=\"Yes\",FQ57=\"\",FQ56=\"\",FQ55=\"\"),\"Yes\",\"\")","v":""},"",{"$f":"IF(AND(FS58=\"Yes\",FS57=\"\",FS56=\"\",FS55=\"\"),\"Yes\",\"\")","v":""},"",{"$f":"IF(AND(FU58=\"Yes\",FU57=\"\",FU56=\"\",FU55=\"\"),\"Yes\",\"\")","v":""},"",{"$f":"IF(AND(FW58=\"Yes\",FW57=\"\",FW56=\"\",FW55=\"\"),\"Yes\",\"\")","v":""},"",{"$f":"IF(AND(FY58=\"Yes\",FY57=\"\",FY56=\"\",FY55=\"\"),\"Yes\",\"\")","v":""},"",{"$f":"IF(AND(GA58=\"Yes\",GA57=\"\",GA56=\"\",GA55=\"\"),\"Yes\",\"\")","v":""},"",{"$f":"IF(AND(GC58=\"Yes\",GC57=\"\",GC56=\"\",GC55=\"\"),\"Yes\",\"\")","v":""},"",{"$f":"IF(AND(GE58=\"Yes\",GE57=\"\",GE56=\"\",GE55=\"\"),\"Yes\",\"\")","v":""},"",{"$f":"IF(AND(GG58=\"Yes\",GG57=\"\",GG56=\"\",GG55=\"\"),\"Yes\",\"\")","v":""},"",{"$f":"IF(AND(GI58=\"Yes\",GI57=\"\",GI56=\"\",GI55=\"\"),\"Yes\",\"\")","v":""},"",{"$f":"IF(AND(GK58=\"Yes\",GK57=\"\",GK56=\"\",GK55=\"\"),\"Yes\",\"\")","v":""},"",{"$f":"IF(AND(GM58=\"Yes\",GM57=\"\",GM56=\"\",GM55=\"\"),\"Yes\",\"\")","v":""},"",{"$f":"IF(AND(GO58=\"Yes\",GO57=\"\",GO56=\"\",GO55=\"\"),\"Yes\",\"\")","v":""},"",{"$f":"IF(AND(GQ58=\"Yes\",GQ57=\"\",GQ56=\"\",GQ55=\"\"),\"Yes\",\"\")","v":""},"",{"$f":"IF(AND(GS58=\"Yes\",GS57=\"\",GS56=\"\",GS55=\"\"),\"Yes\",\"\")","v":""},"","","",{"$f":"IF(AND(GW58=\"Yes\",GW57=\"\",GW56=\"\",GW55=\"\"),\"Yes\",\"\")","v":""},"",""]
["13:15:00","13:29:00",null,null,0,null,null,null,null,"13:15:00","14:14:00",0,0,0,0,0,{"$f":"IF(AND(N59>='Warrant 1 - MUTCD'!$M$23,OR('Traffic Volume Input'!O59>='Warrant 1 - MUTCD'!$Q$23,'Traffic Volume Input'!P59>='Warrant 1 - MUTCD'!$Q$23)),\"Yes\",\"\")","v":""},"","","","","","",{"$f":"IF(AND(W59=\"Yes\",W58=\"\",W57=\"\",W56=\"\"),\"Yes\",\"\")","v":""},"",{"$f":"IF(AND(Y59=\"Yes\",Y58=\"\",Y57=\"\",Y56=\"\"),\"Yes\",\"\")","v":""},"",{"$f":"IF(AND(AA59=\"Yes\",AA58=\"\",AA57=\"\",AA56=\"\"),\"Yes\",\"\")","v":""},"",{"$f":"IF(AND(AC59=\"Yes\",AC58=\"\",AC57=\"\",AC56=\"\"),\"Yes\",\"\")","v":""},"",{"$f":"IF(AND(AE59=\"Yes\",AE58=\"\",AE57=\"\",AE56=\"\"),\"Yes\",\"\")","v":""},"",{"$f":"IF(AND(AG59=\"Yes\",AG58=\"\",AG57=\"\",AG56=\"\"),\"Yes\",\"\")","v":""},"",{"$f":"IF(AND(AI59=\"Yes\",AI58=\"\",AI57=\"\",AI56=\"\"),\"Yes\",\"\")","v":""},"",{"$f":"IF(AND(AK59=\"Yes\",AK58=\"\",AK57=\"\",AK56=\"\"),\"Yes\",\"\")","v":""},"",{"$f":"IF(AND(AM59=\"Yes\",AM58=\"\",AM57=\"\",AM56=\"\"),\"Yes\",\"\")","v":""},"",{"$f":"IF(AND(AO59=\"Yes\",AO58=\"\",AO57=\"\",AO56=\"\"),\"Yes\",\"\")","v":""},"",{"$f":"IF(AND(AQ59=\"Yes\",AQ58=\"\",AQ57=\"\",AQ56=\"\"),\"Yes\",\"\")","v":""},"",{"$f":"IF(AND(AS59=\"Yes\",AS58=\"\",AS57=\"\",AS56=\"\"),\"Yes\",\"\")","v":""},"",{"$f":"IF(AND(AU59=\"Yes\",AU58=\"\",AU57=\"\",AU56=\"\"),\"Yes\",\"\")","v":""},"",{"$f":"IF(AND(AW59=\"Yes\",AW58=\"\",AW57=\"\",AW56=\"\"),\"Yes\",\"\")","v":""},"",{"$f":"IF(AND(AY59=\"Yes\",AY58=\"\",AY57=\"\",AY56=\"\"),\"Yes\",\"\")","v":""},"",{"$f":"IF(AND(BA59=\"Yes\",BA58=\"\",BA57=\"\",BA56=\"\"),\"Yes\",\"\")","v":""},"",{"$f":"IF(AND(BC59=\"Yes\",BC58=\"\",BC57=\"\",BC56=\"\"),\"Yes\",\"\")","v":""},"",{"$f":"IF(AND(BE59=\"Yes\",BE58=\"\",BE57=\"\",BE56=\"\"),\"Yes\",\"\")","v":""},"",{"$f":"IF(AND(BG59=\"Yes\",BG58=\"\",BG57=\"\",BG56=\"\"),\"Yes\",\"\")","v":""},"",{"$f":"IF(AND(BI59=\"Yes\",BI58=\"\",BI57=\"\",BI56=\"\"),\"Yes\",\"\")","v":""},"","",{"$f":"IF(AND(N59>='Warrant 1 - MUTCD'!$M$32,OR('Traffic Volume Input'!O59>='Warrant 1 - MUTCD'!$Q$32,'Traffic Volume Input'!P59>='Warrant 1 - MUTCD'!$Q$32)),\"Yes\",\"\")","v":""},"","",{"$f":"IF(AND(BO59=\"Yes\",BO58=\"\",BO57=\"\",BO56=\"\"),\"Yes\",\"\")","v":""},"",{"$f":"IF(AND(BQ59=\"Yes\",BQ58=\"\",BQ57=\"\",BQ56=\"\"),\"Yes\",\"\")","v":""},"",{"$f":"IF(AND(BS59=\"Yes\",BS58=\"\",BS57=\"\",BS56=\"\"),\"Yes\",\"\")","v":""},"",{"$f":"IF(AND(BU59=\"Yes\",BU58=\"\",BU57=\"\",BU56=\"\"),\"Yes\",\"\")","v":""},"",{"$f":"IF(AND(BW59=\"Yes\",BW58=\"\",BW57=\"\",BW56=\"\"),\"Yes\",\"\")","v":""},"",{"$f":"IF(AND(BY59=\"Yes\",BY58=\"\",BY57=\"\",BY56=\"\"),\"Yes\",\"\")","v":""},"",{"$f":"IF(AND(CA59=\"Yes\",CA58=\"\",CA57=\"\",CA56=\"\"),\"Yes\",\"\")","v":""},"",{"$f":"IF(AND(CC59=\"Yes\",CC58=\"\",CC57=\"\",CC56=\"\"),\"Yes\",\"\")","v":""},"",{"$f":"IF(AND(CE59=\"Yes\",CE58=\"\",CE57=\"\",CE56=\"\"),\"Yes\",\"\")","v":""},"",{"$f":"IF(AND(CG59=\"Yes\",CG58=\"\",CG57=\"\",CG56=\"\"),\"Yes\",\"\")","v":""},"",{"$f":"IF(AND(CI59=\"Yes\",CI58=\"\",CI57=\"\",CI56=\"\"),\"Yes\",\"\")","v":""},"",{"$f":"IF(AND(CK59=\"Yes\",CK58=\"\",CK57=\"\",CK56=\"\"),\"Yes\",\"\")","v":""},"",{"$f":"IF(AND(CM59=\"Yes\",CM58=\"\",CM57=\"\",CM56=\"\"),\"Yes\",\"\")","v":""},"",{"$f":"IF(AND(CO59=\"Yes\",CO58=\"\",CO57=\"\",CO56=\"\"),\"Yes\",\"\")","v":""},"",{"$f":"IF(AND(CQ59=\"Yes\",CQ58=\"\",CQ57=\"\",CQ56=\"\"),\"Yes\",\"\")","v":""},"",{"$f":"IF(AND(CS59=\"Yes\",CS58=\"\",CS57=\"\",CS56=\"\"),\"Yes\",\"\")","v":""},"",{"$f":"IF(AND(CU59=\"Yes\",CU58=\"\",CU57=\"\",CU56=\"\"),\"Yes\",\"\")","v":""},"",{"$f":"IF(AND(CW59=\"Yes\",CW58=\"\",CW57=\"\",CW56=\"\"),\"Yes\",\"\")","v":""},"",{"$f":"IF(AND(CY59=\"Yes\",CY58=\"\",CY57=\"\",CY56=\"\"),\"Yes\",\"\")","v":""},"",{"$f":"IF(AND(DA59=\"Yes\",DA58=\"\",DA57=\"\",DA56=\"\"),\"Yes\",\"\")","v":""},"","","",{"$f":"IF(AND(DE59=\"Yes\",DE58=\"\",DE57=\"\",DE56=\"\"),\"Yes\",\"\")","v":""},"",{"$f":"IF(AND(DG59=\"Yes\",DG58=\"\",DG57=\"\",DG56=\"\"),\"Yes\",\"\")","v":""},{"$f":"IF(AND(N59>='Warrant 7 & 8 - MUTCD'!$L$16,OR('Traffic Volume Input'!O59>='Warrant 7 & 8 - MUTCD'!$N$16,'Traffic Volume Input'!P59>='Warrant 7 & 8 - MUTCD'!$N$16)),\"Yes\",\"\")","v":""},"","",{"$f":"IF(AND(DK59=\"Yes\",DK58=\"\",DK57=\"\",DK56=\"\"),\"Yes\",\"\")","v":""},"",{"$f":"IF(AND(DM59=\"Yes\",DM58=\"\",DM57=\"\",DM56=\"\"),\"Yes\",\"\")","v":""},"",{"$f":"IF(AND(DO59=\"Yes\",DO58=\"\",DO57=\"\",DO56=\"\"),\"Yes\",\"\")","v":""},"",{"$f":"IF(AND(DQ59=\"Yes\",DQ58=\"\",DQ57=\"\",DQ56=\"\"),\"Yes\",\"\")","v":""},"",{"$f":"IF(AND(DS59=\"Yes\",DS58=\"\",DS57=\"\",DS56=\"\"),\"Yes\",\"\")","v":""},"",{"$f":"IF(AND(DU59=\"Yes\",DU58=\"\",DU57=\"\",DU56=\"\"),\"Yes\",\"\")","v":""},"",{"$f":"IF(AND(DW59=\"Yes\",DW58=\"\",DW57=\"\",DW56=\"\"),\"Yes\",\"\")","v":""},"",{"$f":"IF(AND(DY59=\"Yes\",DY58=\"\",DY57=\"\",DY56=\"\"),\"Yes\",\"\")","v":""},"",{"$f":"IF(AND(EA59=\"Yes\",EA58=\"\",EA57=\"\",EA56=\"\"),\"Yes\",\"\")","v":""},"",{"$f":"IF(AND(EC59=\"Yes\",EC58=\"\",EC57=\"\",EC56=\"\"),\"Yes\",\"\")","v":""},"",{"$f":"IF(AND(EE59=\"Yes\",EE58=\"\",EE57=\"\",EE56=\"\"),\"Yes\",\"\")","v":""},"",{"$f":"IF(AND(EG59=\"Yes\",EG58=\"\",EG57=\"\",EG56=\"\"),\"Yes\",\"\")","v":""},"",{"$f":"IF(AND(EI59=\"Yes\",EI58=\"\",EI57=\"\",EI56=\"\"),\"Yes\",\"\")","v":""},"",{"$f":"IF(AND(EK59=\"Yes\",EK58=\"\",EK57=\"\",EK56=\"\"),\"Yes\",\"\")","v":""},"",{"$f":"IF(AND(EM59=\"Yes\",EM58=\"\",EM57=\"\",EM56=\"\"),\"Yes\",\"\")","v":""},"",{"$f":"IF(AND(EO59=\"Yes\",EO58=\"\",EO57=\"\",EO56=\"\"),\"Yes\",\"\")","v":""},"",{"$f":"IF(AND(EQ59=\"Yes\",EQ58=\"\",EQ57=\"\",EQ56=\"\"),\"Yes\",\"\")","v":""},"",{"$f":"IF(AND(ES59=\"Yes\",ES58=\"\",ES57=\"\",ES56=\"\"),\"Yes\",\"\")","v":""},"",{"$f":"IF(AND(EU59=\"Yes\",EU58=\"\",EU57=\"\",EU56=\"\"),\"Yes\",\"\")","v":""},"",{"$f":"IF(AND(EW59=\"Yes\",EW58=\"\",EW57=\"\",EW56=\"\"),\"Yes\",\"\")","v":""},"","","",{"$f":"IF(AND(FA59=\"Yes\",FA58=\"\",FA57=\"\",FA56=\"\"),\"Yes\",\"\")","v":""},"","",{"$f":"IF(AND(N59>='Warrant 7 & 8 - MUTCD'!$L$25,OR('Traffic Volume Input'!O59>='Warrant 7 & 8 - MUTCD'!$N$25,'Traffic Volume Input'!P59>='Warrant 7 & 8 - MUTCD'!$N$25)),\"Yes\",\"\")","v":""},"","",{"$f":"IF(AND(FG59=\"Yes\",FG58=\"\",FG57=\"\",FG56=\"\"),\"Yes\",\"\")","v":""},"",{"$f":"IF(AND(FI59=\"Yes\",FI58=\"\",FI57=\"\",FI56=\"\"),\"Yes\",\"\")","v":""},"",{"$f":"IF(AND(FK59=\"Yes\",FK58=\"\",FK57=\"\",FK56=\"\"),\"Yes\",\"\")","v":""},"",{"$f":"IF(AND(FM59=\"Yes\",FM58=\"\",FM57=\"\",FM56=\"\"),\"Yes\",\"\")","v":""},"",{"$f":"IF(AND(FO59=\"Yes\",FO58=\"\",FO57=\"\",FO56=\"\"),\"Yes\",\"\")","v":""},"",{"$f":"IF(AND(FQ59=\"Yes\",FQ58=\"\",FQ57=\"\",FQ56=\"\"),\"Yes\",\"\")","v":""},"",{"$f":"IF(AND(FS59=\"Yes\",FS58=\"\",FS57=\"\",FS56=\"\"),\"Yes\",\"\")","v":""},"",{"$f":"IF(AND(FU59=\"Yes\",FU58=\"\",FU57=\"\",FU56=\"\"),\"Yes\",\"\")","v":""},"",{"$f":"IF(AND(FW59=\"Yes\",FW58=\"\",FW57=\"\",FW56=\"\"),\"Yes\",\"\")","v":""},"",{"$f":"IF(AND(FY59=\"Yes\",FY58=\"\",FY57=\"\",FY56=\"\"),\"Yes\",\"\")","v":""},"",{"$f":"IF(AND(GA59=\"Yes\",GA58=\"\",GA57=\"\",GA56=\"\"),\"Yes\",\"\")","v":""},"",{"$f":"IF(AND(GC59=\"Yes\",GC58=\"\",GC57=\"\",GC56=\"\"),\"Yes\",\"\")","v":""},"",{"$f":"IF(AND(GE59=\"Yes\",GE58=\"\",GE57=\"\",GE56=\"\"),\"Yes\",\"\")","v":""},"",{"$f":"IF(AND(GG59=\"Yes\",GG58=\"\",GG57=\"\",GG56=\"\"),\"Yes\",\"\")","v":""},"",{"$f":"IF(AND(GI59=\"Yes\",GI58=\"\",GI57=\"\",GI56=\"\"),\"Yes\",\"\")","v":""},"",{"$f":"IF(AND(GK59=\"Yes\",GK58=\"\",GK57=\"\",GK56=\"\"),\"Yes\",\"\")","v":""},"",{"$f":"IF(AND(GM59=\"Yes\",GM58=\"\",GM57=\"\",GM56=\"\"),\"Yes\",\"\")","v":""},"",{"$f":"IF(AND(GO59=\"Yes\",GO58=\"\",GO57=\"\",GO56=\"\"),\"Yes\",\"\")","v":""},"",{"$f":"IF(AND(GQ59=\"Yes\",GQ58=\"\",GQ57=\"\",GQ56=\"\"),\"Yes\",\"\")","v":""},"",{"$f":"IF(AND(GS59=\"Yes\",GS58=\"\",GS57=\"\",GS56=\"\"),\"Yes\",\"\")","v":""},"","","",{"$f":"IF(AND(GW59=\"Yes\",GW58=\"\",GW57=\"\",GW56=\"\"),\"Yes\",\"\")","v":""},"",""]
["13:30:00","13:44:00",null,null,0,null,null,null,null,"13:30:00","14:29:00",0,0,0,0,0,{"$f":"IF(AND(N60>='Warrant 1 - MUTCD'!$M$23,OR('Traffic Volume Input'!O60>='Warrant 1 - MUTCD'!$Q$23,'Traffic Volume Input'!P60>='Warrant 1 - MUTCD'!$Q$23)),\"Yes\",\"\")","v":""},"","","","","","",{"$f":"IF(AND(W60=\"Yes\",W59=\"\",W58=\"\",W57=\"\"),\"Yes\",\"\")","v":""},"",{"$f":"IF(AND(Y60=\"Yes\",Y59=\"\",Y58=\"\",Y57=\"\"),\"Yes\",\"\")","v":""},"",{"$f":"IF(AND(AA60=\"Yes\",AA59=\"\",AA58=\"\",AA57=\"\"),\"Yes\",\"\")","v":""},"",{"$f":"IF(AND(AC60=\"Yes\",AC59=\"\",AC58=\"\",AC57=\"\"),\"Yes\",\"\")","v":""},"",{"$f":"IF(AND(AE60=\"Yes\",AE59=\"\",AE58=\"\",AE57=\"\"),\"Yes\",\"\")","v":""},"",{"$f":"IF(AND(AG60=\"Yes\",AG59=\"\",AG58=\"\",AG57=\"\"),\"Yes\",\"\")","v":""},"",{"$f":"IF(AND(AI60=\"Yes\",AI59=\"\",AI58=\"\",AI57=\"\"),\"Yes\",\"\")","v":""},"",{"$f":"IF(AND(AK60=\"Yes\",AK59=\"\",AK58=\"\",AK57=\"\"),\"Yes\",\"\")","v":""},"",{"$f":"IF(AND(AM60=\"Yes\",AM59=\"\",AM58=\"\",AM57=\"\"),\"Yes\",\"\")","v":""},"",{"$f":"IF(AND(AO60=\"Yes\",AO59=\"\",AO58=\"\",AO57=\"\"),\"Yes\",\"\")","v":""},"",{"$f":"IF(AND(AQ60=\"Yes\",AQ59=\"\",AQ58=\"\",AQ57=\"\"),\"Yes\",\"\")","v":""},"",{"$f":"IF(AND(AS60=\"Yes\",AS59=\"\",AS58=\"\",AS57=\"\"),\"Yes\",\"\")","v":""},"",{"$f":"IF(AND(AU60=\"Yes\",AU59=\"\",AU58=\"\",AU57=\"\"),\"Yes\",\"\")","v":""},"",{"$f":"IF(AND(AW60=\"Yes\",AW59=\"\",AW58=\"\",AW57=\"\"),\"Yes\",\"\")","v":""},"",{"$f":"IF(AND(AY60=\"Yes\",AY59=\"\",AY58=\"\",AY57=\"\"),\"Yes\",\"\")","v":""},"",{"$f":"IF(AND(BA60=\"Yes\",BA59=\"\",BA58=\"\",BA57=\"\"),\"Yes\",\"\")","v":""},"",{"$f":"IF(AND(BC60=\"Yes\",BC59=\"\",BC58=\"\",BC57=\"\"),\"Yes\",\"\")","v":""},"",{"$f":"IF(AND(BE60=\"Yes\",BE59=\"\",BE58=\"\",BE57=\"\"),\"Yes\",\"\")","v":""},"",{"$f":"IF(AND(BG60=\"Yes\",BG59=\"\",BG58=\"\",BG57=\"\"),\"Yes\",\"\")","v":""},"",{"$f":"IF(AND(BI60=\"Yes\",BI59=\"\",BI58=\"\",BI57=\"\"),\"Yes\",\"\")","v":""},"","",{"$f":"IF(AND(N60>='Warrant 1 - MUTCD'!$M$32,OR('Traffic Volume Input'!O60>='Warrant 1 - MUTCD'!$Q$32,'Traffic Volume Input'!P60>='Warrant 1 - MUTCD'!$Q$32)),\"Yes\",\"\")","v":""},"","",{"$f":"IF(AND(BO60=\"Yes\",BO59=\"\",BO58=\"\",BO57=\"\"),\"Yes\",\"\")","v":""},"",{"$f":"IF(AND(BQ60=\"Yes\",BQ59=\"\",BQ58=\"\",BQ57=\"\"),\"Yes\",\"\")","v":""},"",{"$f":"IF(AND(BS60=\"Yes\",BS59=\"\",BS58=\"\",BS57=\"\"),\"Yes\",\"\")","v":""},"",{"$f":"IF(AND(BU60=\"Yes\",BU59=\"\",BU58=\"\",BU57=\"\"),\"Yes\",\"\")","v":""},"",{"$f":"IF(AND(BW60=\"Yes\",BW59=\"\",BW58=\"\",BW57=\"\"),\"Yes\",\"\")","v":""},"",{"$f":"IF(AND(BY60=\"Yes\",BY59=\"\",BY58=\"\",BY57=\"\"),\"Yes\",\"\")","v":""},"",{"$f":"IF(AND(CA60=\"Yes\",CA59=\"\",CA58=\"\",CA57=\"\"),\"Yes\",\"\")","v":""},"",{"$f":"IF(AND(CC60=\"Yes\",CC59=\"\",CC58=\"\",CC57=\"\"),\"Yes\",\"\")","v":""},"",{"$f":"IF(AND(CE60=\"Yes\",CE59=\"\",CE58=\"\",CE57=\"\"),\"Yes\",\"\")","v":""},"",{"$f":"IF(AND(CG60=\"Yes\",CG59=\"\",CG58=\"\",CG57=\"\"),\"Yes\",\"\")","v":""},"",{"$f":"IF(AND(CI60=\"Yes\",CI59=\"\",CI58=\"\",CI57=\"\"),\"Yes\",\"\")","v":""},"",{"$f":"IF(AND(CK60=\"Yes\",CK59=\"\",CK58=\"\",CK57=\"\"),\"Yes\",\"\")","v":""},"",{"$f":"IF(AND(CM60=\"Yes\",CM59=\"\",CM58=\"\",CM57=\"\"),\"Yes\",\"\")","v":""},"",{"$f":"IF(AND(CO60=\"Yes\",CO59=\"\",CO58=\"\",CO57=\"\"),\"Yes\",\"\")","v":""},"",{"$f":"IF(AND(CQ60=\"Yes\",CQ59=\"\",CQ58=\"\",CQ57=\"\"),\"Yes\",\"\")","v":""},"",{"$f":"IF(AND(CS60=\"Yes\",CS59=\"\",CS58=\"\",CS57=\"\"),\"Yes\",\"\")","v":""},"",{"$f":"IF(AND(CU60=\"Yes\",CU59=\"\",CU58=\"\",CU57=\"\"),\"Yes\",\"\")","v":""},"",{"$f":"IF(AND(CW60=\"Yes\",CW59=\"\",CW58=\"\",CW57=\"\"),\"Yes\",\"\")","v":""},"",{"$f":"IF(AND(CY60=\"Yes\",CY59=\"\",CY58=\"\",CY57=\"\"),\"Yes\",\"\")","v":""},"",{"$f":"IF(AND(DA60=\"Yes\",DA59=\"\",DA58=\"\",DA57=\"\"),\"Yes\",\"\")","v":""},"","","",{"$f":"IF(AND(DE60=\"Yes\",DE59=\"\",DE58=\"\",DE57=\"\"),\"Yes\",\"\")","v":""},"",{"$f":"IF(AND(DG60=\"Yes\",DG59=\"\",DG58=\"\",DG57=\"\"),\"Yes\",\"\")","v":""},{"$f":"IF(AND(N60>='Warrant 7 & 8 - MUTCD'!$L$16,OR('Traffic Volume Input'!O60>='Warrant 7 & 8 - MUTCD'!$N$16,'Traffic Volume Input'!P60>='Warrant 7 & 8 - MUTCD'!$N$16)),\"Yes\",\"\")","v":""},"","",{"$f":"IF(AND(DK60=\"Yes\",DK59=\"\",DK58=\"\",DK57=\"\"),\"Yes\",\"\")","v":""},"",{"$f":"IF(AND(DM60=\"Yes\",DM59=\"\",DM58=\"\",DM57=\"\"),\"Yes\",\"\")","v":""},"",{"$f":"IF(AND(DO60=\"Yes\",DO59=\"\",DO58=\"\",DO57=\"\"),\"Yes\",\"\")","v":""},"",{"$f":"IF(AND(DQ60=\"Yes\",DQ59=\"\",DQ58=\"\",DQ57=\"\"),\"Yes\",\"\")","v":""},"",{"$f":"IF(AND(DS60=\"Yes\",DS59=\"\",DS58=\"\",DS57=\"\"),\"Yes\",\"\")","v":""},"",{"$f":"IF(AND(DU60=\"Yes\",DU59=\"\",DU58=\"\",DU57=\"\"),\"Yes\",\"\")","v":""},"",{"$f":"IF(AND(DW60=\"Yes\",DW59=\"\",DW58=\"\",DW57=\"\"),\"Yes\",\"\")","v":""},"",{"$f":"IF(AND(DY60=\"Yes\",DY59=\"\",DY58=\"\",DY57=\"\"),\"Yes\",\"\")","v":""},"",{"$f":"IF(AND(EA60=\"Yes\",EA59=\"\",EA58=\"\",EA57=\"\"),\"Yes\",\"\")","v":""},"",{"$f":"IF(AND(EC60=\"Yes\",EC59=\"\",EC58=\"\",EC57=\"\"),\"Yes\",\"\")","v":""},"",{"$f":"IF(AND(EE60=\"Yes\",EE59=\"\",EE58=\"\",EE57=\"\"),\"Yes\",\"\")","v":""},"",{"$f":"IF(AND(EG60=\"Yes\",EG59=\"\",EG58=\"\",EG57=\"\"),\"Yes\",\"\")","v":""},"",{"$f":"IF(AND(EI60=\"Yes\",EI59=\"\",EI58=\"\",EI57=\"\"),\"Yes\",\"\")","v":""},"",{"$f":"IF(AND(EK60=\"Yes\",EK59=\"\",EK58=\"\",EK57=\"\"),\"Yes\",\"\")","v":""},"",{"$f":"IF(AND(EM60=\"Yes\",EM59=\"\",EM58=\"\",EM57=\"\"),\"Yes\",\"\")","v":""},"",{"$f":"IF(AND(EO60=\"Yes\",EO59=\"\",EO58=\"\",EO57=\"\"),\"Yes\",\"\")","v":""},"",{"$f":"IF(AND(EQ60=\"Yes\",EQ59=\"\",EQ58=\"\",EQ57=\"\"),\"Yes\",\"\")","v":""},"",{"$f":"IF(AND(ES60=\"Yes\",ES59=\"\",ES58=\"\",ES57=\"\"),\"Yes\",\"\")","v":""},"",{"$f":"IF(AND(EU60=\"Yes\",EU59=\"\",EU58=\"\",EU57=\"\"),\"Yes\",\"\")","v":""},"",{"$f":"IF(AND(EW60=\"Yes\",EW59=\"\",EW58=\"\",EW57=\"\"),\"Yes\",\"\")","v":""},"","","",{"$f":"IF(AND(FA60=\"Yes\",FA59=\"\",FA58=\"\",FA57=\"\"),\"Yes\",\"\")","v":""},"","",{"$f":"IF(AND(N60>='Warrant 7 & 8 - MUTCD'!$L$25,OR('Traffic Volume Input'!O60>='Warrant 7 & 8 - MUTCD'!$N$25,'Traffic Volume Input'!P60>='Warrant 7 & 8 - MUTCD'!$N$25)),\"Yes\",\"\")","v":""},"","",{"$f":"IF(AND(FG60=\"Yes\",FG59=\"\",FG58=\"\",FG57=\"\"),\"Yes\",\"\")","v":""},"",{"$f":"IF(AND(FI60=\"Yes\",FI59=\"\",FI58=\"\",FI57=\"\"),\"Yes\",\"\")","v":""},"",{"$f":"IF(AND(FK60=\"Yes\",FK59=\"\",FK58=\"\",FK57=\"\"),\"Yes\",\"\")","v":""},"",{"$f":"IF(AND(FM60=\"Yes\",FM59=\"\",FM58=\"\",FM57=\"\"),\"Yes\",\"\")","v":""},"",{"$f":"IF(AND(FO60=\"Yes\",FO59=\"\",FO58=\"\",FO57=\"\"),\"Yes\",\"\")","v":""},"",{"$f":"IF(AND(FQ60=\"Yes\",FQ59=\"\",FQ58=\"\",FQ57=\"\"),\"Yes\",\"\")","v":""},"",{"$f":"IF(AND(FS60=\"Yes\",FS59=\"\",FS58=\"\",FS57=\"\"),\"Yes\",\"\")","v":""},"",{"$f":"IF(AND(FU60=\"Yes\",FU59=\"\",FU58=\"\",FU57=\"\"),\"Yes\",\"\")","v":""},"",{"$f":"IF(AND(FW60=\"Yes\",FW59=\"\",FW58=\"\",FW57=\"\"),\"Yes\",\"\")","v":""},"",{"$f":"IF(AND(FY60=\"Yes\",FY59=\"\",FY58=\"\",FY57=\"\"),\"Yes\",\"\")","v":""},"",{"$f":"IF(AND(GA60=\"Yes\",GA59=\"\",GA58=\"\",GA57=\"\"),\"Yes\",\"\")","v":""},"",{"$f":"IF(AND(GC60=\"Yes\",GC59=\"\",GC58=\"\",GC57=\"\"),\"Yes\",\"\")","v":""},"",{"$f":"IF(AND(GE60=\"Yes\",GE59=\"\",GE58=\"\",GE57=\"\"),\"Yes\",\"\")","v":""},"",{"$f":"IF(AND(GG60=\"Yes\",GG59=\"\",GG58=\"\",GG57=\"\"),\"Yes\",\"\")","v":""},"",{"$f":"IF(AND(GI60=\"Yes\",GI59=\"\",GI58=\"\",GI57=\"\"),\"Yes\",\"\")","v":""},"",{"$f":"IF(AND(GK60=\"Yes\",GK59=\"\",GK58=\"\",GK57=\"\"),\"Yes\",\"\")","v":""},"",{"$f":"IF(AND(GM60=\"Yes\",GM59=\"\",GM58=\"\",GM57=\"\"),\"Yes\",\"\")","v":""},"",{"$f":"IF(AND(GO60=\"Yes\",GO59=\"\",GO58=\"\",GO57=\"\"),\"Yes\",\"\")","v":""},"",{"$f":"IF(AND(GQ60=\"Yes\",GQ59=\"\",GQ58=\"\",GQ57=\"\"),\"Yes\",\"\")","v":""},"",{"$f":"IF(AND(GS60=\"Yes\",GS59=\"\",GS58=\"\",GS57=\"\"),\"Yes\",\"\")","v":""},"","","",{"$f":"IF(AND(GW60=\"Yes\",GW59=\"\",GW58=\"\",GW57=\"\"),\"Yes\",\"\")","v":""},"",""]
["13:45:00","13:59:00",null,null,0,null,null,null,null,"13:45:00","14:44:00",0,0,0,0,0,{"$f":"IF(AND(N61>='Warrant 1 - MUTCD'!$M$23,OR('Traffic Volume Input'!O61>='Warrant 1 - MUTCD'!$Q$23,'Traffic Volume Input'!P61>='Warrant 1 - MUTCD'!$Q$23)),\"Yes\",\"\")","v":""},"","","","","","",{"$f":"IF(AND(W61=\"Yes\",W60=\"\",W59=\"\",W58=\"\"),\"Yes\",\"\")","v":""},"",{"$f":"IF(AND(Y61=\"Yes\",Y60=\"\",Y59=\"\",Y58=\"\"),\"Yes\",\"\")","v":""},"",{"$f":"IF(AND(AA61=\"Yes\",AA60=\"\",AA59=\"\",AA58=\"\"),\"Yes\",\"\")","v":""},"",{"$f":"IF(AND(AC61=\"Yes\",AC60=\"\",AC59=\"\",AC58=\"\"),\"Yes\",\"\")","v":""},"",{"$f":"IF(AND(AE61=\"Yes\",AE60=\"\",AE59=\"\",AE58=\"\"),\"Yes\",\"\")","v":""},"",{"$f":"IF(AND(AG61=\"Yes\",AG60=\"\",AG59=\"\",AG58=\"\"),\"Yes\",\"\")","v":""},"",{"$f":"IF(AND(AI61=\"Yes\",AI60=\"\",AI59=\"\",AI58=\"\"),\"Yes\",\"\")","v":""},"",{"$f":"IF(AND(AK61=\"Yes\",AK60=\"\",AK59=\"\",AK58=\"\"),\"Yes\",\"\")","v":""},"",{"$f":"IF(AND(AM61=\"Yes\",AM60=\"\",AM59=\"\",AM58=\"\"),\"Yes\",\"\")","v":""},"",{"$f":"IF(AND(AO61=\"Yes\",AO60=\"\",AO59=\"\",AO58=\"\"),\"Yes\",\"\")","v":""},"",{"$f":"IF(AND(AQ61=\"Yes\",AQ60=\"\",AQ59=\"\",AQ58=\"\"),\"Yes\",\"\")","v":""},"",{"$f":"IF(AND(AS61=\"Yes\",AS60=\"\",AS59=\"\",AS58=\"\"),\"Yes\",\"\")","v":""},"",{"$f":"IF(AND(AU61=\"Yes\",AU60=\"\",AU59=\"\",AU58=\"\"),\"Yes\",\"\")","v":""},"",{"$f":"IF(AND(AW61=\"Yes\",AW60=\"\",AW59=\"\",AW58=\"\"),\"Yes\",\"\")","v":""},"",{"$f":"IF(AND(AY61=\"Yes\",AY60=\"\",AY59=\"\",AY58=\"\"),\"Yes\",\"\")","v":""},"",{"$f":"IF(AND(BA61=\"Yes\",BA60=\"\",BA59=\"\",BA58=\"\"),\"Yes\",\"\")","v":""},"",{"$f":"IF(AND(BC61=\"Yes\",BC60=\"\",BC59=\"\",BC58=\"\"),\"Yes\",\"\")","v":""},"",{"$f":"IF(AND(BE61=\"Yes\",BE60=\"\",BE59=\"\",BE58=\"\"),\"Yes\",\"\")","v":""},"",{"$f":"IF(AND(BG61=\"Yes\",BG60=\"\",BG59=\"\",BG58=\"\"),\"Yes\",\"\")","v":""},"",{"$f":"IF(AND(BI61=\"Yes\",BI60=\"\",BI59=\"\",BI58=\"\"),\"Yes\",\"\")","v":""},"","",{"$f":"IF(AND(N61>='Warrant 1 - MUTCD'!$M$32,OR('Traffic Volume Input'!O61>='Warrant 1 - MUTCD'!$Q$32,'Traffic Volume Input'!P61>='Warrant 1 - MUTCD'!$Q$32)),\"Yes\",\"\")","v":""},"","",{"$f":"IF(AND(BO61=\"Yes\",BO60=\"\",BO59=\"\",BO58=\"\"),\"Yes\",\"\")","v":""},"",{"$f":"IF(AND(BQ61=\"Yes\",BQ60=\"\",BQ59=\"\",BQ58=\"\"),\"Yes\",\"\")","v":""},"",{"$f":"IF(AND(BS61=\"Yes\",BS60=\"\",BS59=\"\",BS58=\"\"),\"Yes\",\"\")","v":""},"",{"$f":"IF(AND(BU61=\"Yes\",BU60=\"\",BU59=\"\",BU58=\"\"),\"Yes\",\"\")","v":""},"",{"$f":"IF(AND(BW61=\"Yes\",BW60=\"\",BW59=\"\",BW58=\"\"),\"Yes\",\"\")","v":""},"",{"$f":"IF(AND(BY61=\"Yes\",BY60=\"\",BY59=\"\",BY58=\"\"),\"Yes\",\"\")","v":""},"",{"$f":"IF(AND(CA61=\"Yes\",CA60=\"\",CA59=\"\",CA58=\"\"),\"Yes\",\"\")","v":""},"",{"$f":"IF(AND(CC61=\"Yes\",CC60=\"\",CC59=\"\",CC58=\"\"),\"Yes\",\"\")","v":""},"",{"$f":"IF(AND(CE61=\"Yes\",CE60=\"\",CE59=\"\",CE58=\"\"),\"Yes\",\"\")","v":""},"",{"$f":"IF(AND(CG61=\"Yes\",CG60=\"\",CG59=\"\",CG58=\"\"),\"Yes\",\"\")","v":""},"",{"$f":"IF(AND(CI61=\"Yes\",CI60=\"\",CI59=\"\",CI58=\"\"),\"Yes\",\"\")","v":""},"",{"$f":"IF(AND(CK61=\"Yes\",CK60=\"\",CK59=\"\",CK58=\"\"),\"Yes\",\"\")","v":""},"",{"$f":"IF(AND(CM61=\"Yes\",CM60=\"\",CM59=\"\",CM58=\"\"),\"Yes\",\"\")","v":""},"",{"$f":"IF(AND(CO61=\"Yes\",CO60=\"\",CO59=\"\",CO58=\"\"),\"Yes\",\"\")","v":""},"",{"$f":"IF(AND(CQ61=\"Yes\",CQ60=\"\",CQ59=\"\",CQ58=\"\"),\"Yes\",\"\")","v":""},"",{"$f":"IF(AND(CS61=\"Yes\",CS60=\"\",CS59=\"\",CS58=\"\"),\"Yes\",\"\")","v":""},"",{"$f":"IF(AND(CU61=\"Yes\",CU60=\"\",CU59=\"\",CU58=\"\"),\"Yes\",\"\")","v":""},"",{"$f":"IF(AND(CW61=\"Yes\",CW60=\"\",CW59=\"\",CW58=\"\"),\"Yes\",\"\")","v":""},"",{"$f":"IF(AND(CY61=\"Yes\",CY60=\"\",CY59=\"\",CY58=\"\"),\"Yes\",\"\")","v":""},"",{"$f":"IF(AND(DA61=\"Yes\",DA60=\"\",DA59=\"\",DA58=\"\"),\"Yes\",\"\")","v":""},"","","",{"$f":"IF(AND(DE61=\"Yes\",DE60=\"\",DE59=\"\",DE58=\"\"),\"Yes\",\"\")","v":""},"",{"$f":"IF(AND(DG61=\"Yes\",DG60=\"\",DG59=\"\",DG58=\"\"),\"Yes\",\"\")","v":""},{"$f":"IF(AND(N61>='Warrant 7 & 8 - MUTCD'!$L$16,OR('Traffic Volume Input'!O61>='Warrant 7 & 8 - MUTCD'!$N$16,'Traffic Volume Input'!P61>='Warrant 7 & 8 - MUTCD'!$N$16)),\"Yes\",\"\")","v":""},"","",{"$f":"IF(AND(DK61=\"Yes\",DK60=\"\",DK59=\"\",DK58=\"\"),\"Yes\",\"\")","v":""},"",{"$f":"IF(AND(DM61=\"Yes\",DM60=\"\",DM59=\"\",DM58=\"\"),\"Yes\",\"\")","v":""},"",{"$f":"IF(AND(DO61=\"Yes\",DO60=\"\",DO59=\"\",DO58=\"\"),\"Yes\",\"\")","v":""},"",{"$f":"IF(AND(DQ61=\"Yes\",DQ60=\"\",DQ59=\"\",DQ58=\"\"),\"Yes\",\"\")","v":""},"",{"$f":"IF(AND(DS61=\"Yes\",DS60=\"\",DS59=\"\",DS58=\"\"),\"Yes\",\"\")","v":""},"",{"$f":"IF(AND(DU61=\"Yes\",DU60=\"\",DU59=\"\",DU58=\"\"),\"Yes\",\"\")","v":""},"",{"$f":"IF(AND(DW61=\"Yes\",DW60=\"\",DW59=\"\",DW58=\"\"),\"Yes\",\"\")","v":""},"",{"$f":"IF(AND(DY61=\"Yes\",DY60=\"\",DY59=\"\",DY58=\"\"),\"Yes\",\"\")","v":""},"",{"$f":"IF(AND(EA61=\"Yes\",EA60=\"\",EA59=\"\",EA58=\"\"),\"Yes\",\"\")","v":""},"",{"$f":"IF(AND(EC61=\"Yes\",EC60=\"\",EC59=\"\",EC58=\"\"),\"Yes\",\"\")","v":""},"",{"$f":"IF(AND(EE61=\"Yes\",EE60=\"\",EE59=\"\",EE58=\"\"),\"Yes\",\"\")","v":""},"",{"$f":"IF(AND(EG61=\"Yes\",EG60=\"\",EG59=\"\",EG58=\"\"),\"Yes\",\"\")","v":""},"",{"$f":"IF(AND(EI61=\"Yes\",EI60=\"\",EI59=\"\",EI58=\"\"),\"Yes\",\"\")","v":""},"",{"$f":"IF(AND(EK61=\"Yes\",EK60=\"\",EK59=\"\",EK58=\"\"),\"Yes\",\"\")","v":""},"",{"$f":"IF(AND(EM61=\"Yes\",EM60=\"\",EM59=\"\",EM58=\"\"),\"Yes\",\"\")","v":""},"",{"$f":"IF(AND(EO61=\"Yes\",EO60=\"\",EO59=\"\",EO58=\"\"),\"Yes\",\"\")","v":""},"",{"$f":"IF(AND(EQ61=\"Yes\",EQ60=\"\",EQ59=\"\",EQ58=\"\"),\"Yes\",\"\")","v":""},"",{"$f":"IF(AND(ES61=\"Yes\",ES60=\"\",ES59=\"\",ES58=\"\"),\"Yes\",\"\")","v":""},"",{"$f":"IF(AND(EU61=\"Yes\",EU60=\"\",EU59=\"\",EU58=\"\"),\"Yes\",\"\")","v":""},"",{"$f":"IF(AND(EW61=\"Yes\",EW60=\"\",EW59=\"\",EW58=\"\"),\"Yes\",\"\")","v":""},"","","",{"$f":"IF(AND(FA61=\"Yes\",FA60=\"\",FA59=\"\",FA58=\"\"),\"Yes\",\"\")","v":""},"","",{"$f":"IF(AND(N61>='Warrant 7 & 8 - MUTCD'!$L$25,OR('Traffic Volume Input'!O61>='Warrant 7 & 8 - MUTCD'!$N$25,'Traffic Volume Input'!P61>='Warrant 7 & 8 - MUTCD'!$N$25)),\"Yes\",\"\")","v":""},"","",{"$f":"IF(AND(FG61=\"Yes\",FG60=\"\",FG59=\"\",FG58=\"\"),\"Yes\",\"\")","v":""},"",{"$f":"IF(AND(FI61=\"Yes\",FI60=\"\",FI59=\"\",FI58=\"\"),\"Yes\",\"\")","v":""},"",{"$f":"IF(AND(FK61=\"Yes\",FK60=\"\",FK59=\"\",FK58=\"\"),\"Yes\",\"\")","v":""},"",{"$f":"IF(AND(FM61=\"Yes\",FM60=\"\",FM59=\"\",FM58=\"\"),\"Yes\",\"\")","v":""},"",{"$f":"IF(AND(FO61=\"Yes\",FO60=\"\",FO59=\"\",FO58=\"\"),\"Yes\",\"\")","v":""},"",{"$f":"IF(AND(FQ61=\"Yes\",FQ60=\"\",FQ59=\"\",FQ58=\"\"),\"Yes\",\"\")","v":""},"",{"$f":"IF(AND(FS61=\"Yes\",FS60=\"\",FS59=\"\",FS58=\"\"),\"Yes\",\"\")","v":""},"",{"$f":"IF(AND(FU61=\"Yes\",FU60=\"\",FU59=\"\",FU58=\"\"),\"Yes\",\"\")","v":""},"",{"$f":"IF(AND(FW61=\"Yes\",FW60=\"\",FW59=\"\",FW58=\"\"),\"Yes\",\"\")","v":""},"",{"$f":"IF(AND(FY61=\"Yes\",FY60=\"\",FY59=\"\",FY58=\"\"),\"Yes\",\"\")","v":""},"",{"$f":"IF(AND(GA61=\"Yes\",GA60=\"\",GA59=\"\",GA58=\"\"),\"Yes\",\"\")","v":""},"",{"$f":"IF(AND(GC61=\"Yes\",GC60=\"\",GC59=\"\",GC58=\"\"),\"Yes\",\"\")","v":""},"",{"$f":"IF(AND(GE61=\"Yes\",GE60=\"\",GE59=\"\",GE58=\"\"),\"Yes\",\"\")","v":""},"",{"$f":"IF(AND(GG61=\"Yes\",GG60=\"\",GG59=\"\",GG58=\"\"),\"Yes\",\"\")","v":""},"",{"$f":"IF(AND(GI61=\"Yes\",GI60=\"\",GI59=\"\",GI58=\"\"),\"Yes\",\"\")","v":""},"",{"$f":"IF(AND(GK61=\"Yes\",GK60=\"\",GK59=\"\",GK58=\"\"),\"Yes\",\"\")","v":""},"",{"$f":"IF(AND(GM61=\"Yes\",GM60=\"\",GM59=\"\",GM58=\"\"),\"Yes\",\"\")","v":""},"",{"$f":"IF(AND(GO61=\"Yes\",GO60=\"\",GO59=\"\",GO58=\"\"),\"Yes\",\"\")","v":""},"",{"$f":"IF(AND(GQ61=\"Yes\",GQ60=\"\",GQ59=\"\",GQ58=\"\"),\"Yes\",\"\")","v":""},"",{"$f":"IF(AND(GS61=\"Yes\",GS60=\"\",GS59=\"\",GS58=\"\"),\"Yes\",\"\")","v":""},"","","",{"$f":"IF(AND(GW61=\"Yes\",GW60=\"\",GW59=\"\",GW58=\"\"),\"Yes\",\"\")","v":""},"",""]
["14:00:00","14:14:00",null,null,0,null,null,null,null,"14:00:00","14:59:00",0,0,{"$f":"L62+M62","v":0},0,0,{"$f":"IF(AND(N62>='Warrant 1 - MUTCD'!$M$23,OR('Traffic Volume Input'!O62>='Warrant 1 - MUTCD'!$Q$23,'Traffic Volume Input'!P62>='Warrant 1 - MUTCD'!$Q$23)),\"Yes\",\"\")","v":""},"","","","","","",{"$f":"IF(AND(W62=\"Yes\",W61=\"\",W60=\"\",W59=\"\"),\"Yes\",\"\")","v":""},"",{"$f":"IF(AND(Y62=\"Yes\",Y61=\"\",Y60=\"\",Y59=\"\"),\"Yes\",\"\")","v":""},"",{"$f":"IF(AND(AA62=\"Yes\",AA61=\"\",AA60=\"\",AA59=\"\"),\"Yes\",\"\")","v":""},"",{"$f":"IF(AND(AC62=\"Yes\",AC61=\"\",AC60=\"\",AC59=\"\"),\"Yes\",\"\")","v":""},"",{"$f":"IF(AND(AE62=\"Yes\",AE61=\"\",AE60=\"\",AE59=\"\"),\"Yes\",\"\")","v":""},"",{"$f":"IF(AND(AG62=\"Yes\",AG61=\"\",AG60=\"\",AG59=\"\"),\"Yes\",\"\")","v":""},"",{"$f":"IF(AND(AI62=\"Yes\",AI61=\"\",AI60=\"\",AI59=\"\"),\"Yes\",\"\")","v":""},"",{"$f":"IF(AND(AK62=\"Yes\",AK61=\"\",AK60=\"\",AK59=\"\"),\"Yes\",\"\")","v":""},"",{"$f":"IF(AND(AM62=\"Yes\",AM61=\"\",AM60=\"\",AM59=\"\"),\"Yes\",\"\")","v":""},"",{"$f":"IF(AND(AO62=\"Yes\",AO61=\"\",AO60=\"\",AO59=\"\"),\"Yes\",\"\")","v":""},"",{"$f":"IF(AND(AQ62=\"Yes\",AQ61=\"\",AQ60=\"\",AQ59=\"\"),\"Yes\",\"\")","v":""},"",{"$f":"IF(AND(AS62=\"Yes\",AS61=\"\",AS60=\"\",AS59=\"\"),\"Yes\",\"\")","v":""},"",{"$f":"IF(AND(AU62=\"Yes\",AU61=\"\",AU60=\"\",AU59=\"\"),\"Yes\",\"\")","v":""},"",{"$f":"IF(AND(AW62=\"Yes\",AW61=\"\",AW60=\"\",AW59=\"\"),\"Yes\",\"\")","v":""},"",{"$f":"IF(AND(AY62=\"Yes\",AY61=\"\",AY60=\"\",AY59=\"\"),\"Yes\",\"\")","v":""},"",{"$f":"IF(AND(BA62=\"Yes\",BA61=\"\",BA60=\"\",BA59=\"\"),\"Yes\",\"\")","v":""},"",{"$f":"IF(AND(BC62=\"Yes\",BC61=\"\",BC60=\"\",BC59=\"\"),\"Yes\",\"\")","v":""},"",{"$f":"IF(AND(BE62=\"Yes\",BE61=\"\",BE60=\"\",BE59=\"\"),\"Yes\",\"\")","v":""},"",{"$f":"IF(AND(BG62=\"Yes\",BG61=\"\",BG60=\"\",BG59=\"\"),\"Yes\",\"\")","v":""},"",{"$f":"IF(AND(BI62=\"Yes\",BI61=\"\",BI60=\"\",BI59=\"\"),\"Yes\",\"\")","v":""},"","",{"$f":"IF(AND(N62>='Warrant 1 - MUTCD'!$M$32,OR('Traffic Volume Input'!O62>='Warrant 1 - MUTCD'!$Q$32,'Traffic Volume Input'!P62>='Warrant 1 - MUTCD'!$Q$32)),\"Yes\",\"\")","v":""},"","",{"$f":"IF(AND(BO62=\"Yes\",BO61=\"\",BO60=\"\",BO59=\"\"),\"Yes\",\"\")","v":""},"",{"$f":"IF(AND(BQ62=\"Yes\",BQ61=\"\",BQ60=\"\",BQ59=\"\"),\"Yes\",\"\")","v":""},"",{"$f":"IF(AND(BS62=\"Yes\",BS61=\"\",BS60=\"\",BS59=\"\"),\"Yes\",\"\")","v":""},"",{"$f":"IF(AND(BU62=\"Yes\",BU61=\"\",BU60=\"\",BU59=\"\"),\"Yes\",\"\")","v":""},"",{"$f":"IF(AND(BW62=\"Yes\",BW61=\"\",BW60=\"\",BW59=\"\"),\"Yes\",\"\")","v":""},"",{"$f":"IF(AND(BY62=\"Yes\",BY61=\"\",BY60=\"\",BY59=\"\"),\"Yes\",\"\")","v":""},"",{"$f":"IF(AND(CA62=\"Yes\",CA61=\"\",CA60=\"\",CA59=\"\"),\"Yes\",\"\")","v":""},"",{"$f":"IF(AND(CC62=\"Yes\",CC61=\"\",CC60=\"\",CC59=\"\"),\"Yes\",\"\")","v":""},"",{"$f":"IF(AND(CE62=\"Yes\",CE61=\"\",CE60=\"\",CE59=\"\"),\"Yes\",\"\")","v":""},"",{"$f":"IF(AND(CG62=\"Yes\",CG61=\"\",CG60=\"\",CG59=\"\"),\"Yes\",\"\")","v":""},"",{"$f":"IF(AND(CI62=\"Yes\",CI61=\"\",CI60=\"\",CI59=\"\"),\"Yes\",\"\")","v":""},"",{"$f":"IF(AND(CK62=\"Yes\",CK61=\"\",CK60=\"\",CK59=\"\"),\"Yes\",\"\")","v":""},"",{"$f":"IF(AND(CM62=\"Yes\",CM61=\"\",CM60=\"\",CM59=\"\"),\"Yes\",\"\")","v":""},"",{"$f":"IF(AND(CO62=\"Yes\",CO61=\"\",CO60=\"\",CO59=\"\"),\"Yes\",\"\")","v":""},"",{"$f":"IF(AND(CQ62=\"Yes\",CQ61=\"\",CQ60=\"\",CQ59=\"\"),\"Yes\",\"\")","v":""},"",{"$f":"IF(AND(CS62=\"Yes\",CS61=\"\",CS60=\"\",CS59=\"\"),\"Yes\",\"\")","v":""},"",{"$f":"IF(AND(CU62=\"Yes\",CU61=\"\",CU60=\"\",CU59=\"\"),\"Yes\",\"\")","v":""},"",{"$f":"IF(AND(CW62=\"Yes\",CW61=\"\",CW60=\"\",CW59=\"\"),\"Yes\",\"\")","v":""},"",{"$f":"IF(AND(CY62=\"Yes\",CY61=\"\",CY60=\"\",CY59=\"\"),\"Yes\",\"\")","v":""},"",{"$f":"IF(AND(DA62=\"Yes\",DA61=\"\",DA60=\"\",DA59=\"\"),\"Yes\",\"\")","v":""},"","","",{"$f":"IF(AND(DE62=\"Yes\",DE61=\"\",DE60=\"\",DE59=\"\"),\"Yes\",\"\")","v":""},"",{"$f":"IF(AND(DG62=\"Yes\",DG61=\"\",DG60=\"\",DG59=\"\"),\"Yes\",\"\")","v":""},{"$f":"IF(AND(N62>='Warrant 7 & 8 - MUTCD'!$L$16,OR('Traffic Volume Input'!O62>='Warrant 7 & 8 - MUTCD'!$N$16,'Traffic Volume Input'!P62>='Warrant 7 & 8 - MUTCD'!$N$16)),\"Yes\",\"\")","v":""},"","",{"$f":"IF(AND(DK62=\"Yes\",DK61=\"\",DK60=\"\",DK59=\"\"),\"Yes\",\"\")","v":""},"",{"$f":"IF(AND(DM62=\"Yes\",DM61=\"\",DM60=\"\",DM59=\"\"),\"Yes\",\"\")","v":""},"",{"$f":"IF(AND(DO62=\"Yes\",DO61=\"\",DO60=\"\",DO59=\"\"),\"Yes\",\"\")","v":""},"",{"$f":"IF(AND(DQ62=\"Yes\",DQ61=\"\",DQ60=\"\",DQ59=\"\"),\"Yes\",\"\")","v":""},"",{"$f":"IF(AND(DS62=\"Yes\",DS61=\"\",DS60=\"\",DS59=\"\"),\"Yes\",\"\")","v":""},"",{"$f":"IF(AND(DU62=\"Yes\",DU61=\"\",DU60=\"\",DU59=\"\"),\"Yes\",\"\")","v":""},"",{"$f":"IF(AND(DW62=\"Yes\",DW61=\"\",DW60=\"\",DW59=\"\"),\"Yes\",\"\")","v":""},"",{"$f":"IF(AND(DY62=\"Yes\",DY61=\"\",DY60=\"\",DY59=\"\"),\"Yes\",\"\")","v":""},"",{"$f":"IF(AND(EA62=\"Yes\",EA61=\"\",EA60=\"\",EA59=\"\"),\"Yes\",\"\")","v":""},"",{"$f":"IF(AND(EC62=\"Yes\",EC61=\"\",EC60=\"\",EC59=\"\"),\"Yes\",\"\")","v":""},"",{"$f":"IF(AND(EE62=\"Yes\",EE61=\"\",EE60=\"\",EE59=\"\"),\"Yes\",\"\")","v":""},"",{"$f":"IF(AND(EG62=\"Yes\",EG61=\"\",EG60=\"\",EG59=\"\"),\"Yes\",\"\")","v":""},"",{"$f":"IF(AND(EI62=\"Yes\",EI61=\"\",EI60=\"\",EI59=\"\"),\"Yes\",\"\")","v":""},"",{"$f":"IF(AND(EK62=\"Yes\",EK61=\"\",EK60=\"\",EK59=\"\"),\"Yes\",\"\")","v":""},"",{"$f":"IF(AND(EM62=\"Yes\",EM61=\"\",EM60=\"\",EM59=\"\"),\"Yes\",\"\")","v":""},"",{"$f":"IF(AND(EO62=\"Yes\",EO61=\"\",EO60=\"\",EO59=\"\"),\"Yes\",\"\")","v":""},"",{"$f":"IF(AND(EQ62=\"Yes\",EQ61=\"\",EQ60=\"\",EQ59=\"\"),\"Yes\",\"\")","v":""},"",{"$f":"IF(AND(ES62=\"Yes\",ES61=\"\",ES60=\"\",ES59=\"\"),\"Yes\",\"\")","v":""},"",{"$f":"IF(AND(EU62=\"Yes\",EU61=\"\",EU60=\"\",EU59=\"\"),\"Yes\",\"\")","v":""},"",{"$f":"IF(AND(EW62=\"Yes\",EW61=\"\",EW60=\"\",EW59=\"\"),\"Yes\",\"\")","v":""},"","","",{"$f":"IF(AND(FA62=\"Yes\",FA61=\"\",FA60=\"\",FA59=\"\"),\"Yes\",\"\")","v":""},"","",{"$f":"IF(AND(N62>='Warrant 7 & 8 - MUTCD'!$L$25,OR('Traffic Volume Input'!O62>='Warrant 7 & 8 - MUTCD'!$N$25,'Traffic Volume Input'!P62>='Warrant 7 & 8 - MUTCD'!$N$25)),\"Yes\",\"\")","v":""},"","",{"$f":"IF(AND(FG62=\"Yes\",FG61=\"\",FG60=\"\",FG59=\"\"),\"Yes\",\"\")","v":""},"",{"$f":"IF(AND(FI62=\"Yes\",FI61=\"\",FI60=\"\",FI59=\"\"),\"Yes\",\"\")","v":""},"",{"$f":"IF(AND(FK62=\"Yes\",FK61=\"\",FK60=\"\",FK59=\"\"),\"Yes\",\"\")","v":""},"",{"$f":"IF(AND(FM62=\"Yes\",FM61=\"\",FM60=\"\",FM59=\"\"),\"Yes\",\"\")","v":""},"",{"$f":"IF(AND(FO62=\"Yes\",FO61=\"\",FO60=\"\",FO59=\"\"),\"Yes\",\"\")","v":""},"",{"$f":"IF(AND(FQ62=\"Yes\",FQ61=\"\",FQ60=\"\",FQ59=\"\"),\"Yes\",\"\")","v":""},"",{"$f":"IF(AND(FS62=\"Yes\",FS61=\"\",FS60=\"\",FS59=\"\"),\"Yes\",\"\")","v":""},"",{"$f":"IF(AND(FU62=\"Yes\",FU61=\"\",FU60=\"\",FU59=\"\"),\"Yes\",\"\")","v":""},"",{"$f":"IF(AND(FW62=\"Yes\",FW61=\"\",FW60=\"\",FW59=\"\"),\"Yes\",\"\")","v":""},"",{"$f":"IF(AND(FY62=\"Yes\",FY61=\"\",FY60=\"\",FY59=\"\"),\"Yes\",\"\")","v":""},"",{"$f":"IF(AND(GA62=\"Yes\",GA61=\"\",GA60=\"\",GA59=\"\"),\"Yes\",\"\")","v":""},"",{"$f":"IF(AND(GC62=\"Yes\",GC61=\"\",GC60=\"\",GC59=\"\"),\"Yes\",\"\")","v":""},"",{"$f":"IF(AND(GE62=\"Yes\",GE61=\"\",GE60=\"\",GE59=\"\"),\"Yes\",\"\")","v":""},"",{"$f":"IF(AND(GG62=\"Yes\",GG61=\"\",GG60=\"\",GG59=\"\"),\"Yes\",\"\")","v":""},"",{"$f":"IF(AND(GI62=\"Yes\",GI61=\"\",GI60=\"\",GI59=\"\"),\"Yes\",\"\")","v":""},"",{"$f":"IF(AND(GK62=\"Yes\",GK61=\"\",GK60=\"\",GK59=\"\"),\"Yes\",\"\")","v":""},"",{"$f":"IF(AND(GM62=\"Yes\",GM61=\"\",GM60=\"\",GM59=\"\"),\"Yes\",\"\")","v":""},"",{"$f":"IF(AND(GO62=\"Yes\",GO61=\"\",GO60=\"\",GO59=\"\"),\"Yes\",\"\")","v":""},"",{"$f":"IF(AND(GQ62=\"Yes\",GQ61=\"\",GQ60=\"\",GQ59=\"\"),\"Yes\",\"\")","v":""},"",{"$f":"IF(AND(GS62=\"Yes\",GS61=\"\",GS60=\"\",GS59=\"\"),\"Yes\",\"\")","v":""},"","","",{"$f":"IF(AND(GW62=\"Yes\",GW61=\"\",GW60=\"\",GW59=\"\"),\"Yes\",\"\")","v":""},"",""]
["14:15:00","14:29:00",null,null,0,null,null,null,null,"14:15:00","15:14:00",0,0,0,0,0,{"$f":"IF(AND(N63>='Warrant 1 - MUTCD'!$M$23,OR('Traffic Volume Input'!O63>='Warrant 1 - MUTCD'!$Q$23,'Traffic Volume Input'!P63>='Warrant 1 - MUTCD'!$Q$23)),\"Yes\",\"\")","v":""},"","","","","","",{"$f":"IF(AND(W63=\"Yes\",W62=\"\",W61=\"\",W60=\"\"),\"Yes\",\"\")","v":""},"",{"$f":"IF(AND(Y63=\"Yes\",Y62=\"\",Y61=\"\",Y60=\"\"),\"Yes\",\"\")","v":""},"",{"$f":"IF(AND(AA63=\"Yes\",AA62=\"\",AA61=\"\",AA60=\"\"),\"Yes\",\"\")","v":""},"",{"$f":"IF(AND(AC63=\"Yes\",AC62=\"\",AC61=\"\",AC60=\"\"),\"Yes\",\"\")","v":""},"",{"$f":"IF(AND(AE63=\"Yes\",AE62=\"\",AE61=\"\",AE60=\"\"),\"Yes\",\"\")","v":""},"",{"$f":"IF(AND(AG63=\"Yes\",AG62=\"\",AG61=\"\",AG60=\"\"),\"Yes\",\"\")","v":""},"",{"$f":"IF(AND(AI63=\"Yes\",AI62=\"\",AI61=\"\",AI60=\"\"),\"Yes\",\"\")","v":""},"",{"$f":"IF(AND(AK63=\"Yes\",AK62=\"\",AK61=\"\",AK60=\"\"),\"Yes\",\"\")","v":""},"",{"$f":"IF(AND(AM63=\"Yes\",AM62=\"\",AM61=\"\",AM60=\"\"),\"Yes\",\"\")","v":""},"",{"$f":"IF(AND(AO63=\"Yes\",AO62=\"\",AO61=\"\",AO60=\"\"),\"Yes\",\"\")","v":""},"",{"$f":"IF(AND(AQ63=\"Yes\",AQ62=\"\",AQ61=\"\",AQ60=\"\"),\"Yes\",\"\")","v":""},"",{"$f":"IF(AND(AS63=\"Yes\",AS62=\"\",AS61=\"\",AS60=\"\"),\"Yes\",\"\")","v":""},"",{"$f":"IF(AND(AU63=\"Yes\",AU62=\"\",AU61=\"\",AU60=\"\"),\"Yes\",\"\")","v":""},"",{"$f":"IF(AND(AW63=\"Yes\",AW62=\"\",AW61=\"\",AW60=\"\"),\"Yes\",\"\")","v":""},"",{"$f":"IF(AND(AY63=\"Yes\",AY62=\"\",AY61=\"\",AY60=\"\"),\"Yes\",\"\")","v":""},"",{"$f":"IF(AND(BA63=\"Yes\",BA62=\"\",BA61=\"\",BA60=\"\"),\"Yes\",\"\")","v":""},"",{"$f":"IF(AND(BC63=\"Yes\",BC62=\"\",BC61=\"\",BC60=\"\"),\"Yes\",\"\")","v":""},"",{"$f":"IF(AND(BE63=\"Yes\",BE62=\"\",BE61=\"\",BE60=\"\"),\"Yes\",\"\")","v":""},"",{"$f":"IF(AND(BG63=\"Yes\",BG62=\"\",BG61=\"\",BG60=\"\"),\"Yes\",\"\")","v":""},"",{"$f":"IF(AND(BI63=\"Yes\",BI62=\"\",BI61=\"\",BI60=\"\"),\"Yes\",\"\")","v":""},"","",{"$f":"IF(AND(N63>='Warrant 1 - MUTCD'!$M$32,OR('Traffic Volume Input'!O63>='Warrant 1 - MUTCD'!$Q$32,'Traffic Volume Input'!P63>='Warrant 1 - MUTCD'!$Q$32)),\"Yes\",\"\")","v":""},"","",{"$f":"IF(AND(BO63=\"Yes\",BO62=\"\",BO61=\"\",BO60=\"\"),\"Yes\",\"\")","v":""},"",{"$f":"IF(AND(BQ63=\"Yes\",BQ62=\"\",BQ61=\"\",BQ60=\"\"),\"Yes\",\"\")","v":""},"",{"$f":"IF(AND(BS63=\"Yes\",BS62=\"\",BS61=\"\",BS60=\"\"),\"Yes\",\"\")","v":""},"",{"$f":"IF(AND(BU63=\"Yes\",BU62=\"\",BU61=\"\",BU60=\"\"),\"Yes\",\"\")","v":""},"",{"$f":"IF(AND(BW63=\"Yes\",BW62=\"\",BW61=\"\",BW60=\"\"),\"Yes\",\"\")","v":""},"",{"$f":"IF(AND(BY63=\"Yes\",BY62=\"\",BY61=\"\",BY60=\"\"),\"Yes\",\"\")","v":""},"",{"$f":"IF(AND(CA63=\"Yes\",CA62=\"\",CA61=\"\",CA60=\"\"),\"Yes\",\"\")","v":""},"",{"$f":"IF(AND(CC63=\"Yes\",CC62=\"\",CC61=\"\",CC60=\"\"),\"Yes\",\"\")","v":""},"",{"$f":"IF(AND(CE63=\"Yes\",CE62=\"\",CE61=\"\",CE60=\"\"),\"Yes\",\"\")","v":""},"",{"$f":"IF(AND(CG63=\"Yes\",CG62=\"\",CG61=\"\",CG60=\"\"),\"Yes\",\"\")","v":""},"",{"$f":"IF(AND(CI63=\"Yes\",CI62=\"\",CI61=\"\",CI60=\"\"),\"Yes\",\"\")","v":""},"",{"$f":"IF(AND(CK63=\"Yes\",CK62=\"\",CK61=\"\",CK60=\"\"),\"Yes\",\"\")","v":""},"",{"$f":"IF(AND(CM63=\"Yes\",CM62=\"\",CM61=\"\",CM60=\"\"),\"Yes\",\"\")","v":""},"",{"$f":"IF(AND(CO63=\"Yes\",CO62=\"\",CO61=\"\",CO60=\"\"),\"Yes\",\"\")","v":""},"",{"$f":"IF(AND(CQ63=\"Yes\",CQ62=\"\",CQ61=\"\",CQ60=\"\"),\"Yes\",\"\")","v":""},"",{"$f":"IF(AND(CS63=\"Yes\",CS62=\"\",CS61=\"\",CS60=\"\"),\"Yes\",\"\")","v":""},"",{"$f":"IF(AND(CU63=\"Yes\",CU62=\"\",CU61=\"\",CU60=\"\"),\"Yes\",\"\")","v":""},"",{"$f":"IF(AND(CW63=\"Yes\",CW62=\"\",CW61=\"\",CW60=\"\"),\"Yes\",\"\")","v":""},"",{"$f":"IF(AND(CY63=\"Yes\",CY62=\"\",CY61=\"\",CY60=\"\"),\"Yes\",\"\")","v":""},"",{"$f":"IF(AND(DA63=\"Yes\",DA62=\"\",DA61=\"\",DA60=\"\"),\"Yes\",\"\")","v":""},"","","",{"$f":"IF(AND(DE63=\"Yes\",DE62=\"\",DE61=\"\",DE60=\"\"),\"Yes\",\"\")","v":""},"",{"$f":"IF(AND(DG63=\"Yes\",DG62=\"\",DG61=\"\",DG60=\"\"),\"Yes\",\"\")","v":""},{"$f":"IF(AND(N63>='Warrant 7 & 8 - MUTCD'!$L$16,OR('Traffic Volume Input'!O63>='Warrant 7 & 8 - MUTCD'!$N$16,'Traffic Volume Input'!P63>='Warrant 7 & 8 - MUTCD'!$N$16)),\"Yes\",\"\")","v":""},"","",{"$f":"IF(AND(DK63=\"Yes\",DK62=\"\",DK61=\"\",DK60=\"\"),\"Yes\",\"\")","v":""},"",{"$f":"IF(AND(DM63=\"Yes\",DM62=\"\",DM61=\"\",DM60=\"\"),\"Yes\",\"\")","v":""},"",{"$f":"IF(AND(DO63=\"Yes\",DO62=\"\",DO61=\"\",DO60=\"\"),\"Yes\",\"\")","v":""},"",{"$f":"IF(AND(DQ63=\"Yes\",DQ62=\"\",DQ61=\"\",DQ60=\"\"),\"Yes\",\"\")","v":""},"",{"$f":"IF(AND(DS63=\"Yes\",DS62=\"\",DS61=\"\",DS60=\"\"),\"Yes\",\"\")","v":""},"",{"$f":"IF(AND(DU63=\"Yes\",DU62=\"\",DU61=\"\",DU60=\"\"),\"Yes\",\"\")","v":""},"",{"$f":"IF(AND(DW63=\"Yes\",DW62=\"\",DW61=\"\",DW60=\"\"),\"Yes\",\"\")","v":""},"",{"$f":"IF(AND(DY63=\"Yes\",DY62=\"\",DY61=\"\",DY60=\"\"),\"Yes\",\"\")","v":""},"",{"$f":"IF(AND(EA63=\"Yes\",EA62=\"\",EA61=\"\",EA60=\"\"),\"Yes\",\"\")","v":""},"",{"$f":"IF(AND(EC63=\"Yes\",EC62=\"\",EC61=\"\",EC60=\"\"),\"Yes\",\"\")","v":""},"",{"$f":"IF(AND(EE63=\"Yes\",EE62=\"\",EE61=\"\",EE60=\"\"),\"Yes\",\"\")","v":""},"",{"$f":"IF(AND(EG63=\"Yes\",EG62=\"\",EG61=\"\",EG60=\"\"),\"Yes\",\"\")","v":""},"",{"$f":"IF(AND(EI63=\"Yes\",EI62=\"\",EI61=\"\",EI60=\"\"),\"Yes\",\"\")","v":""},"",{"$f":"IF(AND(EK63=\"Yes\",EK62=\"\",EK61=\"\",EK60=\"\"),\"Yes\",\"\")","v":""},"",{"$f":"IF(AND(EM63=\"Yes\",EM62=\"\",EM61=\"\",EM60=\"\"),\"Yes\",\"\")","v":""},"",{"$f":"IF(AND(EO63=\"Yes\",EO62=\"\",EO61=\"\",EO60=\"\"),\"Yes\",\"\")","v":""},"",{"$f":"IF(AND(EQ63=\"Yes\",EQ62=\"\",EQ61=\"\",EQ60=\"\"),\"Yes\",\"\")","v":""},"",{"$f":"IF(AND(ES63=\"Yes\",ES62=\"\",ES61=\"\",ES60=\"\"),\"Yes\",\"\")","v":""},"",{"$f":"IF(AND(EU63=\"Yes\",EU62=\"\",EU61=\"\",EU60=\"\"),\"Yes\",\"\")","v":""},"",{"$f":"IF(AND(EW63=\"Yes\",EW62=\"\",EW61=\"\",EW60=\"\"),\"Yes\",\"\")","v":""},"","","",{"$f":"IF(AND(FA63=\"Yes\",FA62=\"\",FA61=\"\",FA60=\"\"),\"Yes\",\"\")","v":""},"","",{"$f":"IF(AND(N63>='Warrant 7 & 8 - MUTCD'!$L$25,OR('Traffic Volume Input'!O63>='Warrant 7 & 8 - MUTCD'!$N$25,'Traffic Volume Input'!P63>='Warrant 7 & 8 - MUTCD'!$N$25)),\"Yes\",\"\")","v":""},"","",{"$f":"IF(AND(FG63=\"Yes\",FG62=\"\",FG61=\"\",FG60=\"\"),\"Yes\",\"\")","v":""},"",{"$f":"IF(AND(FI63=\"Yes\",FI62=\"\",FI61=\"\",FI60=\"\"),\"Yes\",\"\")","v":""},"",{"$f":"IF(AND(FK63=\"Yes\",FK62=\"\",FK61=\"\",FK60=\"\"),\"Yes\",\"\")","v":""},"",{"$f":"IF(AND(FM63=\"Yes\",FM62=\"\",FM61=\"\",FM60=\"\"),\"Yes\",\"\")","v":""},"",{"$f":"IF(AND(FO63=\"Yes\",FO62=\"\",FO61=\"\",FO60=\"\"),\"Yes\",\"\")","v":""},"",{"$f":"IF(AND(FQ63=\"Yes\",FQ62=\"\",FQ61=\"\",FQ60=\"\"),\"Yes\",\"\")","v":""},"",{"$f":"IF(AND(FS63=\"Yes\",FS62=\"\",FS61=\"\",FS60=\"\"),\"Yes\",\"\")","v":""},"",{"$f":"IF(AND(FU63=\"Yes\",FU62=\"\",FU61=\"\",FU60=\"\"),\"Yes\",\"\")","v":""},"",{"$f":"IF(AND(FW63=\"Yes\",FW62=\"\",FW61=\"\",FW60=\"\"),\"Yes\",\"\")","v":""},"",{"$f":"IF(AND(FY63=\"Yes\",FY62=\"\",FY61=\"\",FY60=\"\"),\"Yes\",\"\")","v":""},"",{"$f":"IF(AND(GA63=\"Yes\",GA62=\"\",GA61=\"\",GA60=\"\"),\"Yes\",\"\")","v":""},"",{"$f":"IF(AND(GC63=\"Yes\",GC62=\"\",GC61=\"\",GC60=\"\"),\"Yes\",\"\")","v":""},"",{"$f":"IF(AND(GE63=\"Yes\",GE62=\"\",GE61=\"\",GE60=\"\"),\"Yes\",\"\")","v":""},"",{"$f":"IF(AND(GG63=\"Yes\",GG62=\"\",GG61=\"\",GG60=\"\"),\"Yes\",\"\")","v":""},"",{"$f":"IF(AND(GI63=\"Yes\",GI62=\"\",GI61=\"\",GI60=\"\"),\"Yes\",\"\")","v":""},"",{"$f":"IF(AND(GK63=\"Yes\",GK62=\"\",GK61=\"\",GK60=\"\"),\"Yes\",\"\")","v":""},"",{"$f":"IF(AND(GM63=\"Yes\",GM62=\"\",GM61=\"\",GM60=\"\"),\"Yes\",\"\")","v":""},"",{"$f":"IF(AND(GO63=\"Yes\",GO62=\"\",GO61=\"\",GO60=\"\"),\"Yes\",\"\")","v":""},"",{"$f":"IF(AND(GQ63=\"Yes\",GQ62=\"\",GQ61=\"\",GQ60=\"\"),\"Yes\",\"\")","v":""},"",{"$f":"IF(AND(GS63=\"Yes\",GS62=\"\",GS61=\"\",GS60=\"\"),\"Yes\",\"\")","v":""},"","","",{"$f":"IF(AND(GW63=\"Yes\",GW62=\"\",GW61=\"\",GW60=\"\"),\"Yes\",\"\")","v":""},"",""]
["14:30:00","14:44:00",null,null,0,null,null,null,null,"14:30:00","15:29:00",0,0,0,0,0,{"$f":"IF(AND(N64>='Warrant 1 - MUTCD'!$M$23,OR('Traffic Volume Input'!O64>='Warrant 1 - MUTCD'!$Q$23,'Traffic Volume Input'!P64>='Warrant 1 - MUTCD'!$Q$23)),\"Yes\",\"\")","v":""},"","","","","","",{"$f":"IF(AND(W64=\"Yes\",W63=\"\",W62=\"\",W61=\"\"),\"Yes\",\"\")","v":""},"",{"$f":"IF(AND(Y64=\"Yes\",Y63=\"\",Y62=\"\",Y61=\"\"),\"Yes\",\"\")","v":""},"",{"$f":"IF(AND(AA64=\"Yes\",AA63=\"\",AA62=\"\",AA61=\"\"),\"Yes\",\"\")","v":""},"",{"$f":"IF(AND(AC64=\"Yes\",AC63=\"\",AC62=\"\",AC61=\"\"),\"Yes\",\"\")","v":""},"",{"$f":"IF(AND(AE64=\"Yes\",AE63=\"\",AE62=\"\",AE61=\"\"),\"Yes\",\"\")","v":""},"",{"$f":"IF(AND(AG64=\"Yes\",AG63=\"\",AG62=\"\",AG61=\"\"),\"Yes\",\"\")","v":""},"",{"$f":"IF(AND(AI64=\"Yes\",AI63=\"\",AI62=\"\",AI61=\"\"),\"Yes\",\"\")","v":""},"",{"$f":"IF(AND(AK64=\"Yes\",AK63=\"\",AK62=\"\",AK61=\"\"),\"Yes\",\"\")","v":""},"",{"$f":"IF(AND(AM64=\"Yes\",AM63=\"\",AM62=\"\",AM61=\"\"),\"Yes\",\"\")","v":""},"",{"$f":"IF(AND(AO64=\"Yes\",AO63=\"\",AO62=\"\",AO61=\"\"),\"Yes\",\"\")","v":""},"",{"$f":"IF(AND(AQ64=\"Yes\",AQ63=\"\",AQ62=\"\",AQ61=\"\"),\"Yes\",\"\")","v":""},"",{"$f":"IF(AND(AS64=\"Yes\",AS63=\"\",AS62=\"\",AS61=\"\"),\"Yes\",\"\")","v":""},"",{"$f":"IF(AND(AU64=\"Yes\",AU63=\"\",AU62=\"\",AU61=\"\"),\"Yes\",\"\")","v":""},"",{"$f":"IF(AND(AW64=\"Yes\",AW63=\"\",AW62=\"\",AW61=\"\"),\"Yes\",\"\")","v":""},"",{"$f":"IF(AND(AY64=\"Yes\",AY63=\"\",AY62=\"\",AY61=\"\"),\"Yes\",\"\")","v":""},"",{"$f":"IF(AND(BA64=\"Yes\",BA63=\"\",BA62=\"\",BA61=\"\"),\"Yes\",\"\")","v":""},"",{"$f":"IF(AND(BC64=\"Yes\",BC63=\"\",BC62=\"\",BC61=\"\"),\"Yes\",\"\")","v":""},"",{"$f":"IF(AND(BE64=\"Yes\",BE63=\"\",BE62=\"\",BE61=\"\"),\"Yes\",\"\")","v":""},"",{"$f":"IF(AND(BG64=\"Yes\",BG63=\"\",BG62=\"\",BG61=\"\"),\"Yes\",\"\")","v":""},"",{"$f":"IF(AND(BI64=\"Yes\",BI63=\"\",BI62=\"\",BI61=\"\"),\"Yes\",\"\")","v":""},"","",{"$f":"IF(AND(N64>='Warrant 1 - MUTCD'!$M$32,OR('Traffic Volume Input'!O64>='Warrant 1 - MUTCD'!$Q$32,'Traffic Volume Input'!P64>='Warrant 1 - MUTCD'!$Q$32)),\"Yes\",\"\")","v":""},"","",{"$f":"IF(AND(BO64=\"Yes\",BO63=\"\",BO62=\"\",BO61=\"\"),\"Yes\",\"\")","v":""},"",{"$f":"IF(AND(BQ64=\"Yes\",BQ63=\"\",BQ62=\"\",BQ61=\"\"),\"Yes\",\"\")","v":""},"",{"$f":"IF(AND(BS64=\"Yes\",BS63=\"\",BS62=\"\",BS61=\"\"),\"Yes\",\"\")","v":""},"",{"$f":"IF(AND(BU64=\"Yes\",BU63=\"\",BU62=\"\",BU61=\"\"),\"Yes\",\"\")","v":""},"",{"$f":"IF(AND(BW64=\"Yes\",BW63=\"\",BW62=\"\",BW61=\"\"),\"Yes\",\"\")","v":""},"",{"$f":"IF(AND(BY64=\"Yes\",BY63=\"\",BY62=\"\",BY61=\"\"),\"Yes\",\"\")","v":""},"",{"$f":"IF(AND(CA64=\"Yes\",CA63=\"\",CA62=\"\",CA61=\"\"),\"Yes\",\"\")","v":""},"",{"$f":"IF(AND(CC64=\"Yes\",CC63=\"\",CC62=\"\",CC61=\"\"),\"Yes\",\"\")","v":""},"",{"$f":"IF(AND(CE64=\"Yes\",CE63=\"\",CE62=\"\",CE61=\"\"),\"Yes\",\"\")","v":""},"",{"$f":"IF(AND(CG64=\"Yes\",CG63=\"\",CG62=\"\",CG61=\"\"),\"Yes\",\"\")","v":""},"",{"$f":"IF(AND(CI64=\"Yes\",CI63=\"\",CI62=\"\",CI61=\"\"),\"Yes\",\"\")","v":""},"",{"$f":"IF(AND(CK64=\"Yes\",CK63=\"\",CK62=\"\",CK61=\"\"),\"Yes\",\"\")","v":""},"",{"$f":"IF(AND(CM64=\"Yes\",CM63=\"\",CM62=\"\",CM61=\"\"),\"Yes\",\"\")","v":""},"",{"$f":"IF(AND(CO64=\"Yes\",CO63=\"\",CO62=\"\",CO61=\"\"),\"Yes\",\"\")","v":""},"",{"$f":"IF(AND(CQ64=\"Yes\",CQ63=\"\",CQ62=\"\",CQ61=\"\"),\"Yes\",\"\")","v":""},"",{"$f":"IF(AND(CS64=\"Yes\",CS63=\"\",CS62=\"\",CS61=\"\"),\"Yes\",\"\")","v":""},"",{"$f":"IF(AND(CU64=\"Yes\",CU63=\"\",CU62=\"\",CU61=\"\"),\"Yes\",\"\")","v":""},"",{"$f":"IF(AND(CW64=\"Yes\",CW63=\"\",CW62=\"\",CW61=\"\"),\"Yes\",\"\")","v":""},"",{"$f":"IF(AND(CY64=\"Yes\",CY63=\"\",CY62=\"\",CY61=\"\"),\"Yes\",\"\")","v":""},"",{"$f":"IF(AND(DA64=\"Yes\",DA63=\"\",DA62=\"\",DA61=\"\"),\"Yes\",\"\")","v":""},"","","",{"$f":"IF(AND(DE64=\"Yes\",DE63=\"\",DE62=\"\",DE61=\"\"),\"Yes\",\"\")","v":""},"",{"$f":"IF(AND(DG64=\"Yes\",DG63=\"\",DG62=\"\",DG61=\"\"),\"Yes\",\"\")","v":""},{"$f":"IF(AND(N64>='Warrant 7 & 8 - MUTCD'!$L$16,OR('Traffic Volume Input'!O64>='Warrant 7 & 8 - MUTCD'!$N$16,'Traffic Volume Input'!P64>='Warrant 7 & 8 - MUTCD'!$N$16)),\"Yes\",\"\")","v":""},"","",{"$f":"IF(AND(DK64=\"Yes\",DK63=\"\",DK62=\"\",DK61=\"\"),\"Yes\",\"\")","v":""},"",{"$f":"IF(AND(DM64=\"Yes\",DM63=\"\",DM62=\"\",DM61=\"\"),\"Yes\",\"\")","v":""},"",{"$f":"IF(AND(DO64=\"Yes\",DO63=\"\",DO62=\"\",DO61=\"\"),\"Yes\",\"\")","v":""},"",{"$f":"IF(AND(DQ64=\"Yes\",DQ63=\"\",DQ62=\"\",DQ61=\"\"),\"Yes\",\"\")","v":""},"",{"$f":"IF(AND(DS64=\"Yes\",DS63=\"\",DS62=\"\",DS61=\"\"),\"Yes\",\"\")","v":""},"",{"$f":"IF(AND(DU64=\"Yes\",DU63=\"\",DU62=\"\",DU61=\"\"),\"Yes\",\"\")","v":""},"",{"$f":"IF(AND(DW64=\"Yes\",DW63=\"\",DW62=\"\",DW61=\"\"),\"Yes\",\"\")","v":""},"",{"$f":"IF(AND(DY64=\"Yes\",DY63=\"\",DY62=\"\",DY61=\"\"),\"Yes\",\"\")","v":""},"",{"$f":"IF(AND(EA64=\"Yes\",EA63=\"\",EA62=\"\",EA61=\"\"),\"Yes\",\"\")","v":""},"",{"$f":"IF(AND(EC64=\"Yes\",EC63=\"\",EC62=\"\",EC61=\"\"),\"Yes\",\"\")","v":""},"",{"$f":"IF(AND(EE64=\"Yes\",EE63=\"\",EE62=\"\",EE61=\"\"),\"Yes\",\"\")","v":""},"",{"$f":"IF(AND(EG64=\"Yes\",EG63=\"\",EG62=\"\",EG61=\"\"),\"Yes\",\"\")","v":""},"",{"$f":"IF(AND(EI64=\"Yes\",EI63=\"\",EI62=\"\",EI61=\"\"),\"Yes\",\"\")","v":""},"",{"$f":"IF(AND(EK64=\"Yes\",EK63=\"\",EK62=\"\",EK61=\"\"),\"Yes\",\"\")","v":""},"",{"$f":"IF(AND(EM64=\"Yes\",EM63=\"\",EM62=\"\",EM61=\"\"),\"Yes\",\"\")","v":""},"",{"$f":"IF(AND(EO64=\"Yes\",EO63=\"\",EO62=\"\",EO61=\"\"),\"Yes\",\"\")","v":""},"",{"$f":"IF(AND(EQ64=\"Yes\",EQ63=\"\",EQ62=\"\",EQ61=\"\"),\"Yes\",\"\")","v":""},"",{"$f":"IF(AND(ES64=\"Yes\",ES63=\"\",ES62=\"\",ES61=\"\"),\"Yes\",\"\")","v":""},"",{"$f":"IF(AND(EU64=\"Yes\",EU63=\"\",EU62=\"\",EU61=\"\"),\"Yes\",\"\")","v":""},"",{"$f":"IF(AND(EW64=\"Yes\",EW63=\"\",EW62=\"\",EW61=\"\"),\"Yes\",\"\")","v":""},"","","",{"$f":"IF(AND(FA64=\"Yes\",FA63=\"\",FA62=\"\",FA61=\"\"),\"Yes\",\"\")","v":""},"","",{"$f":"IF(AND(N64>='Warrant 7 & 8 - MUTCD'!$L$25,OR('Traffic Volume Input'!O64>='Warrant 7 & 8 - MUTCD'!$N$25,'Traffic Volume Input'!P64>='Warrant 7 & 8 - MUTCD'!$N$25)),\"Yes\",\"\")","v":""},"","",{"$f":"IF(AND(FG64=\"Yes\",FG63=\"\",FG62=\"\",FG61=\"\"),\"Yes\",\"\")","v":""},"",{"$f":"IF(AND(FI64=\"Yes\",FI63=\"\",FI62=\"\",FI61=\"\"),\"Yes\",\"\")","v":""},"",{"$f":"IF(AND(FK64=\"Yes\",FK63=\"\",FK62=\"\",FK61=\"\"),\"Yes\",\"\")","v":""},"",{"$f":"IF(AND(FM64=\"Yes\",FM63=\"\",FM62=\"\",FM61=\"\"),\"Yes\",\"\")","v":""},"",{"$f":"IF(AND(FO64=\"Yes\",FO63=\"\",FO62=\"\",FO61=\"\"),\"Yes\",\"\")","v":""},"",{"$f":"IF(AND(FQ64=\"Yes\",FQ63=\"\",FQ62=\"\",FQ61=\"\"),\"Yes\",\"\")","v":""},"",{"$f":"IF(AND(FS64=\"Yes\",FS63=\"\",FS62=\"\",FS61=\"\"),\"Yes\",\"\")","v":""},"",{"$f":"IF(AND(FU64=\"Yes\",FU63=\"\",FU62=\"\",FU61=\"\"),\"Yes\",\"\")","v":""},"",{"$f":"IF(AND(FW64=\"Yes\",FW63=\"\",FW62=\"\",FW61=\"\"),\"Yes\",\"\")","v":""},"",{"$f":"IF(AND(FY64=\"Yes\",FY63=\"\",FY62=\"\",FY61=\"\"),\"Yes\",\"\")","v":""},"",{"$f":"IF(AND(GA64=\"Yes\",GA63=\"\",GA62=\"\",GA61=\"\"),\"Yes\",\"\")","v":""},"",{"$f":"IF(AND(GC64=\"Yes\",GC63=\"\",GC62=\"\",GC61=\"\"),\"Yes\",\"\")","v":""},"",{"$f":"IF(AND(GE64=\"Yes\",GE63=\"\",GE62=\"\",GE61=\"\"),\"Yes\",\"\")","v":""},"",{"$f":"IF(AND(GG64=\"Yes\",GG63=\"\",GG62=\"\",GG61=\"\"),\"Yes\",\"\")","v":""},"",{"$f":"IF(AND(GI64=\"Yes\",GI63=\"\",GI62=\"\",GI61=\"\"),\"Yes\",\"\")","v":""},"",{"$f":"IF(AND(GK64=\"Yes\",GK63=\"\",GK62=\"\",GK61=\"\"),\"Yes\",\"\")","v":""},"",{"$f":"IF(AND(GM64=\"Yes\",GM63=\"\",GM62=\"\",GM61=\"\"),\"Yes\",\"\")","v":""},"",{"$f":"IF(AND(GO64=\"Yes\",GO63=\"\",GO62=\"\",GO61=\"\"),\"Yes\",\"\")","v":""},"",{"$f":"IF(AND(GQ64=\"Yes\",GQ63=\"\",GQ62=\"\",GQ61=\"\"),\"Yes\",\"\")","v":""},"",{"$f":"IF(AND(GS64=\"Yes\",GS63=\"\",GS62=\"\",GS61=\"\"),\"Yes\",\"\")","v":""},"","","",{"$f":"IF(AND(GW64=\"Yes\",GW63=\"\",GW62=\"\",GW61=\"\"),\"Yes\",\"\")","v":""},"",""]
["14:45:00","14:59:00",null,null,0,null,null,null,null,"14:45:00","15:44:00",0,0,0,0,0,{"$f":"IF(AND(N65>='Warrant 1 - MUTCD'!$M$23,OR('Traffic Volume Input'!O65>='Warrant 1 - MUTCD'!$Q$23,'Traffic Volume Input'!P65>='Warrant 1 - MUTCD'!$Q$23)),\"Yes\",\"\")","v":""},"","","","","","",{"$f":"IF(AND(W65=\"Yes\",W64=\"\",W63=\"\",W62=\"\"),\"Yes\",\"\")","v":""},"",{"$f":"IF(AND(Y65=\"Yes\",Y64=\"\",Y63=\"\",Y62=\"\"),\"Yes\",\"\")","v":""},"",{"$f":"IF(AND(AA65=\"Yes\",AA64=\"\",AA63=\"\",AA62=\"\"),\"Yes\",\"\")","v":""},"",{"$f":"IF(AND(AC65=\"Yes\",AC64=\"\",AC63=\"\",AC62=\"\"),\"Yes\",\"\")","v":""},"",{"$f":"IF(AND(AE65=\"Yes\",AE64=\"\",AE63=\"\",AE62=\"\"),\"Yes\",\"\")","v":""},"",{"$f":"IF(AND(AG65=\"Yes\",AG64=\"\",AG63=\"\",AG62=\"\"),\"Yes\",\"\")","v":""},"",{"$f":"IF(AND(AI65=\"Yes\",AI64=\"\",AI63=\"\",AI62=\"\"),\"Yes\",\"\")","v":""},"",{"$f":"IF(AND(AK65=\"Yes\",AK64=\"\",AK63=\"\",AK62=\"\"),\"Yes\",\"\")","v":""},"",{"$f":"IF(AND(AM65=\"Yes\",AM64=\"\",AM63=\"\",AM62=\"\"),\"Yes\",\"\")","v":""},"",{"$f":"IF(AND(AO65=\"Yes\",AO64=\"\",AO63=\"\",AO62=\"\"),\"Yes\",\"\")","v":""},"",{"$f":"IF(AND(AQ65=\"Yes\",AQ64=\"\",AQ63=\"\",AQ62=\"\"),\"Yes\",\"\")","v":""},"",{"$f":"IF(AND(AS65=\"Yes\",AS64=\"\",AS63=\"\",AS62=\"\"),\"Yes\",\"\")","v":""},"",{"$f":"IF(AND(AU65=\"Yes\",AU64=\"\",AU63=\"\",AU62=\"\"),\"Yes\",\"\")","v":""},"",{"$f":"IF(AND(AW65=\"Yes\",AW64=\"\",AW63=\"\",AW62=\"\"),\"Yes\",\"\")","v":""},"",{"$f":"IF(AND(AY65=\"Yes\",AY64=\"\",AY63=\"\",AY62=\"\"),\"Yes\",\"\")","v":""},"",{"$f":"IF(AND(BA65=\"Yes\",BA64=\"\",BA63=\"\",BA62=\"\"),\"Yes\",\"\")","v":""},"",{"$f":"IF(AND(BC65=\"Yes\",BC64=\"\",BC63=\"\",BC62=\"\"),\"Yes\",\"\")","v":""},"",{"$f":"IF(AND(BE65=\"Yes\",BE64=\"\",BE63=\"\",BE62=\"\"),\"Yes\",\"\")","v":""},"",{"$f":"IF(AND(BG65=\"Yes\",BG64=\"\",BG63=\"\",BG62=\"\"),\"Yes\",\"\")","v":""},"",{"$f":"IF(AND(BI65=\"Yes\",BI64=\"\",BI63=\"\",BI62=\"\"),\"Yes\",\"\")","v":""},"","",{"$f":"IF(AND(N65>='Warrant 1 - MUTCD'!$M$32,OR('Traffic Volume Input'!O65>='Warrant 1 - MUTCD'!$Q$32,'Traffic Volume Input'!P65>='Warrant 1 - MUTCD'!$Q$32)),\"Yes\",\"\")","v":""},"","",{"$f":"IF(AND(BO65=\"Yes\",BO64=\"\",BO63=\"\",BO62=\"\"),\"Yes\",\"\")","v":""},"",{"$f":"IF(AND(BQ65=\"Yes\",BQ64=\"\",BQ63=\"\",BQ62=\"\"),\"Yes\",\"\")","v":""},"",{"$f":"IF(AND(BS65=\"Yes\",BS64=\"\",BS63=\"\",BS62=\"\"),\"Yes\",\"\")","v":""},"",{"$f":"IF(AND(BU65=\"Yes\",BU64=\"\",BU63=\"\",BU62=\"\"),\"Yes\",\"\")","v":""},"",{"$f":"IF(AND(BW65=\"Yes\",BW64=\"\",BW63=\"\",BW62=\"\"),\"Yes\",\"\")","v":""},"",{"$f":"IF(AND(BY65=\"Yes\",BY64=\"\",BY63=\"\",BY62=\"\"),\"Yes\",\"\")","v":""},"",{"$f":"IF(AND(CA65=\"Yes\",CA64=\"\",CA63=\"\",CA62=\"\"),\"Yes\",\"\")","v":""},"",{"$f":"IF(AND(CC65=\"Yes\",CC64=\"\",CC63=\"\",CC62=\"\"),\"Yes\",\"\")","v":""},"",{"$f":"IF(AND(CE65=\"Yes\",CE64=\"\",CE63=\"\",CE62=\"\"),\"Yes\",\"\")","v":""},"",{"$f":"IF(AND(CG65=\"Yes\",CG64=\"\",CG63=\"\",CG62=\"\"),\"Yes\",\"\")","v":""},"",{"$f":"IF(AND(CI65=\"Yes\",CI64=\"\",CI63=\"\",CI62=\"\"),\"Yes\",\"\")","v":""},"",{"$f":"IF(AND(CK65=\"Yes\",CK64=\"\",CK63=\"\",CK62=\"\"),\"Yes\",\"\")","v":""},"",{"$f":"IF(AND(CM65=\"Yes\",CM64=\"\",CM63=\"\",CM62=\"\"),\"Yes\",\"\")","v":""},"",{"$f":"IF(AND(CO65=\"Yes\",CO64=\"\",CO63=\"\",CO62=\"\"),\"Yes\",\"\")","v":""},"",{"$f":"IF(AND(CQ65=\"Yes\",CQ64=\"\",CQ63=\"\",CQ62=\"\"),\"Yes\",\"\")","v":""},"",{"$f":"IF(AND(CS65=\"Yes\",CS64=\"\",CS63=\"\",CS62=\"\"),\"Yes\",\"\")","v":""},"",{"$f":"IF(AND(CU65=\"Yes\",CU64=\"\",CU63=\"\",CU62=\"\"),\"Yes\",\"\")","v":""},"",{"$f":"IF(AND(CW65=\"Yes\",CW64=\"\",CW63=\"\",CW62=\"\"),\"Yes\",\"\")","v":""},"",{"$f":"IF(AND(CY65=\"Yes\",CY64=\"\",CY63=\"\",CY62=\"\"),\"Yes\",\"\")","v":""},"",{"$f":"IF(AND(DA65=\"Yes\",DA64=\"\",DA63=\"\",DA62=\"\"),\"Yes\",\"\")","v":""},"","","",{"$f":"IF(AND(DE65=\"Yes\",DE64=\"\",DE63=\"\",DE62=\"\"),\"Yes\",\"\")","v":""},"",{"$f":"IF(AND(DG65=\"Yes\",DG64=\"\",DG63=\"\",DG62=\"\"),\"Yes\",\"\")","v":""},{"$f":"IF(AND(N65>='Warrant 7 & 8 - MUTCD'!$L$16,OR('Traffic Volume Input'!O65>='Warrant 7 & 8 - MUTCD'!$N$16,'Traffic Volume Input'!P65>='Warrant 7 & 8 - MUTCD'!$N$16)),\"Yes\",\"\")","v":""},"","",{"$f":"IF(AND(DK65=\"Yes\",DK64=\"\",DK63=\"\",DK62=\"\"),\"Yes\",\"\")","v":""},"",{"$f":"IF(AND(DM65=\"Yes\",DM64=\"\",DM63=\"\",DM62=\"\"),\"Yes\",\"\")","v":""},"",{"$f":"IF(AND(DO65=\"Yes\",DO64=\"\",DO63=\"\",DO62=\"\"),\"Yes\",\"\")","v":""},"",{"$f":"IF(AND(DQ65=\"Yes\",DQ64=\"\",DQ63=\"\",DQ62=\"\"),\"Yes\",\"\")","v":""},"",{"$f":"IF(AND(DS65=\"Yes\",DS64=\"\",DS63=\"\",DS62=\"\"),\"Yes\",\"\")","v":""},"",{"$f":"IF(AND(DU65=\"Yes\",DU64=\"\",DU63=\"\",DU62=\"\"),\"Yes\",\"\")","v":""},"",{"$f":"IF(AND(DW65=\"Yes\",DW64=\"\",DW63=\"\",DW62=\"\"),\"Yes\",\"\")","v":""},"",{"$f":"IF(AND(DY65=\"Yes\",DY64=\"\",DY63=\"\",DY62=\"\"),\"Yes\",\"\")","v":""},"",{"$f":"IF(AND(EA65=\"Yes\",EA64=\"\",EA63=\"\",EA62=\"\"),\"Yes\",\"\")","v":""},"",{"$f":"IF(AND(EC65=\"Yes\",EC64=\"\",EC63=\"\",EC62=\"\"),\"Yes\",\"\")","v":""},"",{"$f":"IF(AND(EE65=\"Yes\",EE64=\"\",EE63=\"\",EE62=\"\"),\"Yes\",\"\")","v":""},"",{"$f":"IF(AND(EG65=\"Yes\",EG64=\"\",EG63=\"\",EG62=\"\"),\"Yes\",\"\")","v":""},"",{"$f":"IF(AND(EI65=\"Yes\",EI64=\"\",EI63=\"\",EI62=\"\"),\"Yes\",\"\")","v":""},"",{"$f":"IF(AND(EK65=\"Yes\",EK64=\"\",EK63=\"\",EK62=\"\"),\"Yes\",\"\")","v":""},"",{"$f":"IF(AND(EM65=\"Yes\",EM64=\"\",EM63=\"\",EM62=\"\"),\"Yes\",\"\")","v":""},"",{"$f":"IF(AND(EO65=\"Yes\",EO64=\"\",EO63=\"\",EO62=\"\"),\"Yes\",\"\")","v":""},"",{"$f":"IF(AND(EQ65=\"Yes\",EQ64=\"\",EQ63=\"\",EQ62=\"\"),\"Yes\",\"\")","v":""},"",{"$f":"IF(AND(ES65=\"Yes\",ES64=\"\",ES63=\"\",ES62=\"\"),\"Yes\",\"\")","v":""},"",{"$f":"IF(AND(EU65=\"Yes\",EU64=\"\",EU63=\"\",EU62=\"\"),\"Yes\",\"\")","v":""},"",{"$f":"IF(AND(EW65=\"Yes\",EW64=\"\",EW63=\"\",EW62=\"\"),\"Yes\",\"\")","v":""},"","","",{"$f":"IF(AND(FA65=\"Yes\",FA64=\"\",FA63=\"\",FA62=\"\"),\"Yes\",\"\")","v":""},"","",{"$f":"IF(AND(N65>='Warrant 7 & 8 - MUTCD'!$L$25,OR('Traffic Volume Input'!O65>='Warrant 7 & 8 - MUTCD'!$N$25,'Traffic Volume Input'!P65>='Warrant 7 & 8 - MUTCD'!$N$25)),\"Yes\",\"\")","v":""},"","",{"$f":"IF(AND(FG65=\"Yes\",FG64=\"\",FG63=\"\",FG62=\"\"),\"Yes\",\"\")","v":""},"",{"$f":"IF(AND(FI65=\"Yes\",FI64=\"\",FI63=\"\",FI62=\"\"),\"Yes\",\"\")","v":""},"",{"$f":"IF(AND(FK65=\"Yes\",FK64=\"\",FK63=\"\",FK62=\"\"),\"Yes\",\"\")","v":""},"",{"$f":"IF(AND(FM65=\"Yes\",FM64=\"\",FM63=\"\",FM62=\"\"),\"Yes\",\"\")","v":""},"",{"$f":"IF(AND(FO65=\"Yes\",FO64=\"\",FO63=\"\",FO62=\"\"),\"Yes\",\"\")","v":""},"",{"$f":"IF(AND(FQ65=\"Yes\",FQ64=\"\",FQ63=\"\",FQ62=\"\"),\"Yes\",\"\")","v":""},"",{"$f":"IF(AND(FS65=\"Yes\",FS64=\"\",FS63=\"\",FS62=\"\"),\"Yes\",\"\")","v":""},"",{"$f":"IF(AND(FU65=\"Yes\",FU64=\"\",FU63=\"\",FU62=\"\"),\"Yes\",\"\")","v":""},"",{"$f":"IF(AND(FW65=\"Yes\",FW64=\"\",FW63=\"\",FW62=\"\"),\"Yes\",\"\")","v":""},"",{"$f":"IF(AND(FY65=\"Yes\",FY64=\"\",FY63=\"\",FY62=\"\"),\"Yes\",\"\")","v":""},"",{"$f":"IF(AND(GA65=\"Yes\",GA64=\"\",GA63=\"\",GA62=\"\"),\"Yes\",\"\")","v":""},"",{"$f":"IF(AND(GC65=\"Yes\",GC64=\"\",GC63=\"\",GC62=\"\"),\"Yes\",\"\")","v":""},"",{"$f":"IF(AND(GE65=\"Yes\",GE64=\"\",GE63=\"\",GE62=\"\"),\"Yes\",\"\")","v":""},"",{"$f":"IF(AND(GG65=\"Yes\",GG64=\"\",GG63=\"\",GG62=\"\"),\"Yes\",\"\")","v":""},"",{"$f":"IF(AND(GI65=\"Yes\",GI64=\"\",GI63=\"\",GI62=\"\"),\"Yes\",\"\")","v":""},"",{"$f":"IF(AND(GK65=\"Yes\",GK64=\"\",GK63=\"\",GK62=\"\"),\"Yes\",\"\")","v":""},"",{"$f":"IF(AND(GM65=\"Yes\",GM64=\"\",GM63=\"\",GM62=\"\"),\"Yes\",\"\")","v":""},"",{"$f":"IF(AND(GO65=\"Yes\",GO64=\"\",GO63=\"\",GO62=\"\"),\"Yes\",\"\")","v":""},"",{"$f":"IF(AND(GQ65=\"Yes\",GQ64=\"\",GQ63=\"\",GQ62=\"\"),\"Yes\",\"\")","v":""},"",{"$f":"IF(AND(GS65=\"Yes\",GS64=\"\",GS63=\"\",GS62=\"\"),\"Yes\",\"\")","v":""},"","","",{"$f":"IF(AND(GW65=\"Yes\",GW64=\"\",GW63=\"\",GW62=\"\"),\"Yes\",\"\")","v":""},"",""]
["15:00:00","15:14:00",null,null,0,null,null,null,null,"15:00:00","15:59:00",0,0,0,0,0,{"$f":"IF(AND(N66>='Warrant 1 - MUTCD'!$M$23,OR('Traffic Volume Input'!O66>='Warrant 1 - MUTCD'!$Q$23,'Traffic Volume Input'!P66>='Warrant 1 - MUTCD'!$Q$23)),\"Yes\",\"\")","v":""},"","","","","","",{"$f":"IF(AND(W66=\"Yes\",W65=\"\",W64=\"\",W63=\"\"),\"Yes\",\"\")","v":""},"",{"$f":"IF(AND(Y66=\"Yes\",Y65=\"\",Y64=\"\",Y63=\"\"),\"Yes\",\"\")","v":""},"",{"$f":"IF(AND(AA66=\"Yes\",AA65=\"\",AA64=\"\",AA63=\"\"),\"Yes\",\"\")","v":""},"",{"$f":"IF(AND(AC66=\"Yes\",AC65=\"\",AC64=\"\",AC63=\"\"),\"Yes\",\"\")","v":""},"",{"$f":"IF(AND(AE66=\"Yes\",AE65=\"\",AE64=\"\",AE63=\"\"),\"Yes\",\"\")","v":""},"",{"$f":"IF(AND(AG66=\"Yes\",AG65=\"\",AG64=\"\",AG63=\"\"),\"Yes\",\"\")","v":""},"",{"$f":"IF(AND(AI66=\"Yes\",AI65=\"\",AI64=\"\",AI63=\"\"),\"Yes\",\"\")","v":""},"",{"$f":"IF(AND(AK66=\"Yes\",AK65=\"\",AK64=\"\",AK63=\"\"),\"Yes\",\"\")","v":""},"",{"$f":"IF(AND(AM66=\"Yes\",AM65=\"\",AM64=\"\",AM63=\"\"),\"Yes\",\"\")","v":""},"",{"$f":"IF(AND(AO66=\"Yes\",AO65=\"\",AO64=\"\",AO63=\"\"),\"Yes\",\"\")","v":""},"",{"$f":"IF(AND(AQ66=\"Yes\",AQ65=\"\",AQ64=\"\",AQ63=\"\"),\"Yes\",\"\")","v":""},"",{"$f":"IF(AND(AS66=\"Yes\",AS65=\"\",AS64=\"\",AS63=\"\"),\"Yes\",\"\")","v":""},"",{"$f":"IF(AND(AU66=\"Yes\",AU65=\"\",AU64=\"\",AU63=\"\"),\"Yes\",\"\")","v":""},"",{"$f":"IF(AND(AW66=\"Yes\",AW65=\"\",AW64=\"\",AW63=\"\"),\"Yes\",\"\")","v":""},"",{"$f":"IF(AND(AY66=\"Yes\",AY65=\"\",AY64=\"\",AY63=\"\"),\"Yes\",\"\")","v":""},"",{"$f":"IF(AND(BA66=\"Yes\",BA65=\"\",BA64=\"\",BA63=\"\"),\"Yes\",\"\")","v":""},"",{"$f":"IF(AND(BC66=\"Yes\",BC65=\"\",BC64=\"\",BC63=\"\"),\"Yes\",\"\")","v":""},"",{"$f":"IF(AND(BE66=\"Yes\",BE65=\"\",BE64=\"\",BE63=\"\"),\"Yes\",\"\")","v":""},"",{"$f":"IF(AND(BG66=\"Yes\",BG65=\"\",BG64=\"\",BG63=\"\"),\"Yes\",\"\")","v":""},"",{"$f":"IF(AND(BI66=\"Yes\",BI65=\"\",BI64=\"\",BI63=\"\"),\"Yes\",\"\")","v":""},"","",{"$f":"IF(AND(N66>='Warrant 1 - MUTCD'!$M$32,OR('Traffic Volume Input'!O66>='Warrant 1 - MUTCD'!$Q$32,'Traffic Volume Input'!P66>='Warrant 1 - MUTCD'!$Q$32)),\"Yes\",\"\")","v":""},"","",{"$f":"IF(AND(BO66=\"Yes\",BO65=\"\",BO64=\"\",BO63=\"\"),\"Yes\",\"\")","v":""},"",{"$f":"IF(AND(BQ66=\"Yes\",BQ65=\"\",BQ64=\"\",BQ63=\"\"),\"Yes\",\"\")","v":""},"",{"$f":"IF(AND(BS66=\"Yes\",BS65=\"\",BS64=\"\",BS63=\"\"),\"Yes\",\"\")","v":""},"",{"$f":"IF(AND(BU66=\"Yes\",BU65=\"\",BU64=\"\",BU63=\"\"),\"Yes\",\"\")","v":""},"",{"$f":"IF(AND(BW66=\"Yes\",BW65=\"\",BW64=\"\",BW63=\"\"),\"Yes\",\"\")","v":""},"",{"$f":"IF(AND(BY66=\"Yes\",BY65=\"\",BY64=\"\",BY63=\"\"),\"Yes\",\"\")","v":""},"",{"$f":"IF(AND(CA66=\"Yes\",CA65=\"\",CA64=\"\",CA63=\"\"),\"Yes\",\"\")","v":""},"",{"$f":"IF(AND(CC66=\"Yes\",CC65=\"\",CC64=\"\",CC63=\"\"),\"Yes\",\"\")","v":""},"",{"$f":"IF(AND(CE66=\"Yes\",CE65=\"\",CE64=\"\",CE63=\"\"),\"Yes\",\"\")","v":""},"",{"$f":"IF(AND(CG66=\"Yes\",CG65=\"\",CG64=\"\",CG63=\"\"),\"Yes\",\"\")","v":""},"",{"$f":"IF(AND(CI66=\"Yes\",CI65=\"\",CI64=\"\",CI63=\"\"),\"Yes\",\"\")","v":""},"",{"$f":"IF(AND(CK66=\"Yes\",CK65=\"\",CK64=\"\",CK63=\"\"),\"Yes\",\"\")","v":""},"",{"$f":"IF(AND(CM66=\"Yes\",CM65=\"\",CM64=\"\",CM63=\"\"),\"Yes\",\"\")","v":""},"",{"$f":"IF(AND(CO66=\"Yes\",CO65=\"\",CO64=\"\",CO63=\"\"),\"Yes\",\"\")","v":""},"",{"$f":"IF(AND(CQ66=\"Yes\",CQ65=\"\",CQ64=\"\",CQ63=\"\"),\"Yes\",\"\")","v":""},"",{"$f":"IF(AND(CS66=\"Yes\",CS65=\"\",CS64=\"\",CS63=\"\"),\"Yes\",\"\")","v":""},"",{"$f":"IF(AND(CU66=\"Yes\",CU65=\"\",CU64=\"\",CU63=\"\"),\"Yes\",\"\")","v":""},"",{"$f":"IF(AND(CW66=\"Yes\",CW65=\"\",CW64=\"\",CW63=\"\"),\"Yes\",\"\")","v":""},"",{"$f":"IF(AND(CY66=\"Yes\",CY65=\"\",CY64=\"\",CY63=\"\"),\"Yes\",\"\")","v":""},"",{"$f":"IF(AND(DA66=\"Yes\",DA65=\"\",DA64=\"\",DA63=\"\"),\"Yes\",\"\")","v":""},"","","",{"$f":"IF(AND(DE66=\"Yes\",DE65=\"\",DE64=\"\",DE63=\"\"),\"Yes\",\"\")","v":""},"",{"$f":"IF(AND(DG66=\"Yes\",DG65=\"\",DG64=\"\",DG63=\"\"),\"Yes\",\"\")","v":""},{"$f":"IF(AND(N66>='Warrant 7 & 8 - MUTCD'!$L$16,OR('Traffic Volume Input'!O66>='Warrant 7 & 8 - MUTCD'!$N$16,'Traffic Volume Input'!P66>='Warrant 7 & 8 - MUTCD'!$N$16)),\"Yes\",\"\")","v":""},"","",{"$f":"IF(AND(DK66=\"Yes\",DK65=\"\",DK64=\"\",DK63=\"\"),\"Yes\",\"\")","v":""},"",{"$f":"IF(AND(DM66=\"Yes\",DM65=\"\",DM64=\"\",DM63=\"\"),\"Yes\",\"\")","v":""},"",{"$f":"IF(AND(DO66=\"Yes\",DO65=\"\",DO64=\"\",DO63=\"\"),\"Yes\",\"\")","v":""},"",{"$f":"IF(AND(DQ66=\"Yes\",DQ65=\"\",DQ64=\"\",DQ63=\"\"),\"Yes\",\"\")","v":""},"",{"$f":"IF(AND(DS66=\"Yes\",DS65=\"\",DS64=\"\",DS63=\"\"),\"Yes\",\"\")","v":""},"",{"$f":"IF(AND(DU66=\"Yes\",DU65=\"\",DU64=\"\",DU63=\"\"),\"Yes\",\"\")","v":""},"",{"$f":"IF(AND(DW66=\"Yes\",DW65=\"\",DW64=\"\",DW63=\"\"),\"Yes\",\"\")","v":""},"",{"$f":"IF(AND(DY66=\"Yes\",DY65=\"\",DY64=\"\",DY63=\"\"),\"Yes\",\"\")","v":""},"",{"$f":"IF(AND(EA66=\"Yes\",EA65=\"\",EA64=\"\",EA63=\"\"),\"Yes\",\"\")","v":""},"",{"$f":"IF(AND(EC66=\"Yes\",EC65=\"\",EC64=\"\",EC63=\"\"),\"Yes\",\"\")","v":""},"",{"$f":"IF(AND(EE66=\"Yes\",EE65=\"\",EE64=\"\",EE63=\"\"),\"Yes\",\"\")","v":""},"",{"$f":"IF(AND(EG66=\"Yes\",EG65=\"\",EG64=\"\",EG63=\"\"),\"Yes\",\"\")","v":""},"",{"$f":"IF(AND(EI66=\"Yes\",EI65=\"\",EI64=\"\",EI63=\"\"),\"Yes\",\"\")","v":""},"",{"$f":"IF(AND(EK66=\"Yes\",EK65=\"\",EK64=\"\",EK63=\"\"),\"Yes\",\"\")","v":""},"",{"$f":"IF(AND(EM66=\"Yes\",EM65=\"\",EM64=\"\",EM63=\"\"),\"Yes\",\"\")","v":""},"",{"$f":"IF(AND(EO66=\"Yes\",EO65=\"\",EO64=\"\",EO63=\"\"),\"Yes\",\"\")","v":""},"",{"$f":"IF(AND(EQ66=\"Yes\",EQ65=\"\",EQ64=\"\",EQ63=\"\"),\"Yes\",\"\")","v":""},"",{"$f":"IF(AND(ES66=\"Yes\",ES65=\"\",ES64=\"\",ES63=\"\"),\"Yes\",\"\")","v":""},"",{"$f":"IF(AND(EU66=\"Yes\",EU65=\"\",EU64=\"\",EU63=\"\"),\"Yes\",\"\")","v":""},"",{"$f":"IF(AND(EW66=\"Yes\",EW65=\"\",EW64=\"\",EW63=\"\"),\"Yes\",\"\")","v":""},"","","",{"$f":"IF(AND(FA66=\"Yes\",FA65=\"\",FA64=\"\",FA63=\"\"),\"Yes\",\"\")","v":""},"","",{"$f":"IF(AND(N66>='Warrant 7 & 8 - MUTCD'!$L$25,OR('Traffic Volume Input'!O66>='Warrant 7 & 8 - MUTCD'!$N$25,'Traffic Volume Input'!P66>='Warrant 7 & 8 - MUTCD'!$N$25)),\"Yes\",\"\")","v":""},"","",{"$f":"IF(AND(FG66=\"Yes\",FG65=\"\",FG64=\"\",FG63=\"\"),\"Yes\",\"\")","v":""},"",{"$f":"IF(AND(FI66=\"Yes\",FI65=\"\",FI64=\"\",FI63=\"\"),\"Yes\",\"\")","v":""},"",{"$f":"IF(AND(FK66=\"Yes\",FK65=\"\",FK64=\"\",FK63=\"\"),\"Yes\",\"\")","v":""},"",{"$f":"IF(AND(FM66=\"Yes\",FM65=\"\",FM64=\"\",FM63=\"\"),\"Yes\",\"\")","v":""},"",{"$f":"IF(AND(FO66=\"Yes\",FO65=\"\",FO64=\"\",FO63=\"\"),\"Yes\",\"\")","v":""},"",{"$f":"IF(AND(FQ66=\"Yes\",FQ65=\"\",FQ64=\"\",FQ63=\"\"),\"Yes\",\"\")","v":""},"",{"$f":"IF(AND(FS66=\"Yes\",FS65=\"\",FS64=\"\",FS63=\"\"),\"Yes\",\"\")","v":""},"",{"$f":"IF(AND(FU66=\"Yes\",FU65=\"\",FU64=\"\",FU63=\"\"),\"Yes\",\"\")","v":""},"",{"$f":"IF(AND(FW66=\"Yes\",FW65=\"\",FW64=\"\",FW63=\"\"),\"Yes\",\"\")","v":""},"",{"$f":"IF(AND(FY66=\"Yes\",FY65=\"\",FY64=\"\",FY63=\"\"),\"Yes\",\"\")","v":""},"",{"$f":"IF(AND(GA66=\"Yes\",GA65=\"\",GA64=\"\",GA63=\"\"),\"Yes\",\"\")","v":""},"",{"$f":"IF(AND(GC66=\"Yes\",GC65=\"\",GC64=\"\",GC63=\"\"),\"Yes\",\"\")","v":""},"",{"$f":"IF(AND(GE66=\"Yes\",GE65=\"\",GE64=\"\",GE63=\"\"),\"Yes\",\"\")","v":""},"",{"$f":"IF(AND(GG66=\"Yes\",GG65=\"\",GG64=\"\",GG63=\"\"),\"Yes\",\"\")","v":""},"",{"$f":"IF(AND(GI66=\"Yes\",GI65=\"\",GI64=\"\",GI63=\"\"),\"Yes\",\"\")","v":""},"",{"$f":"IF(AND(GK66=\"Yes\",GK65=\"\",GK64=\"\",GK63=\"\"),\"Yes\",\"\")","v":""},"",{"$f":"IF(AND(GM66=\"Yes\",GM65=\"\",GM64=\"\",GM63=\"\"),\"Yes\",\"\")","v":""},"",{"$f":"IF(AND(GO66=\"Yes\",GO65=\"\",GO64=\"\",GO63=\"\"),\"Yes\",\"\")","v":""},"",{"$f":"IF(AND(GQ66=\"Yes\",GQ65=\"\",GQ64=\"\",GQ63=\"\"),\"Yes\",\"\")","v":""},"",{"$f":"IF(AND(GS66=\"Yes\",GS65=\"\",GS64=\"\",GS63=\"\"),\"Yes\",\"\")","v":""},"","","",{"$f":"IF(AND(GW66=\"Yes\",GW65=\"\",GW64=\"\",GW63=\"\"),\"Yes\",\"\")","v":""},"",""]
["15:15:00","15:29:00",null,null,0,null,null,null,null,"15:15:00","16:14:00",0,0,0,0,0,{"$f":"IF(AND(N67>='Warrant 1 - MUTCD'!$M$23,OR('Traffic Volume Input'!O67>='Warrant 1 - MUTCD'!$Q$23,'Traffic Volume Input'!P67>='Warrant 1 - MUTCD'!$Q$23)),\"Yes\",\"\")","v":""},"","","","","","",{"$f":"IF(AND(W67=\"Yes\",W66=\"\",W65=\"\",W64=\"\"),\"Yes\",\"\")","v":""},"",{"$f":"IF(AND(Y67=\"Yes\",Y66=\"\",Y65=\"\",Y64=\"\"),\"Yes\",\"\")","v":""},"",{"$f":"IF(AND(AA67=\"Yes\",AA66=\"\",AA65=\"\",AA64=\"\"),\"Yes\",\"\")","v":""},"",{"$f":"IF(AND(AC67=\"Yes\",AC66=\"\",AC65=\"\",AC64=\"\"),\"Yes\",\"\")","v":""},"",{"$f":"IF(AND(AE67=\"Yes\",AE66=\"\",AE65=\"\",AE64=\"\"),\"Yes\",\"\")","v":""},"",{"$f":"IF(AND(AG67=\"Yes\",AG66=\"\",AG65=\"\",AG64=\"\"),\"Yes\",\"\")","v":""},"",{"$f":"IF(AND(AI67=\"Yes\",AI66=\"\",AI65=\"\",AI64=\"\"),\"Yes\",\"\")","v":""},"",{"$f":"IF(AND(AK67=\"Yes\",AK66=\"\",AK65=\"\",AK64=\"\"),\"Yes\",\"\")","v":""},"",{"$f":"IF(AND(AM67=\"Yes\",AM66=\"\",AM65=\"\",AM64=\"\"),\"Yes\",\"\")","v":""},"",{"$f":"IF(AND(AO67=\"Yes\",AO66=\"\",AO65=\"\",AO64=\"\"),\"Yes\",\"\")","v":""},"",{"$f":"IF(AND(AQ67=\"Yes\",AQ66=\"\",AQ65=\"\",AQ64=\"\"),\"Yes\",\"\")","v":""},"",{"$f":"IF(AND(AS67=\"Yes\",AS66=\"\",AS65=\"\",AS64=\"\"),\"Yes\",\"\")","v":""},"",{"$f":"IF(AND(AU67=\"Yes\",AU66=\"\",AU65=\"\",AU64=\"\"),\"Yes\",\"\")","v":""},"",{"$f":"IF(AND(AW67=\"Yes\",AW66=\"\",AW65=\"\",AW64=\"\"),\"Yes\",\"\")","v":""},"",{"$f":"IF(AND(AY67=\"Yes\",AY66=\"\",AY65=\"\",AY64=\"\"),\"Yes\",\"\")","v":""},"",{"$f":"IF(AND(BA67=\"Yes\",BA66=\"\",BA65=\"\",BA64=\"\"),\"Yes\",\"\")","v":""},"",{"$f":"IF(AND(BC67=\"Yes\",BC66=\"\",BC65=\"\",BC64=\"\"),\"Yes\",\"\")","v":""},"",{"$f":"IF(AND(BE67=\"Yes\",BE66=\"\",BE65=\"\",BE64=\"\"),\"Yes\",\"\")","v":""},"",{"$f":"IF(AND(BG67=\"Yes\",BG66=\"\",BG65=\"\",BG64=\"\"),\"Yes\",\"\")","v":""},"",{"$f":"IF(AND(BI67=\"Yes\",BI66=\"\",BI65=\"\",BI64=\"\"),\"Yes\",\"\")","v":""},"","",{"$f":"IF(AND(N67>='Warrant 1 - MUTCD'!$M$32,OR('Traffic Volume Input'!O67>='Warrant 1 - MUTCD'!$Q$32,'Traffic Volume Input'!P67>='Warrant 1 - MUTCD'!$Q$32)),\"Yes\",\"\")","v":""},"","",{"$f":"IF(AND(BO67=\"Yes\",BO66=\"\",BO65=\"\",BO64=\"\"),\"Yes\",\"\")","v":""},"",{"$f":"IF(AND(BQ67=\"Yes\",BQ66=\"\",BQ65=\"\",BQ64=\"\"),\"Yes\",\"\")","v":""},"",{"$f":"IF(AND(BS67=\"Yes\",BS66=\"\",BS65=\"\",BS64=\"\"),\"Yes\",\"\")","v":""},"",{"$f":"IF(AND(BU67=\"Yes\",BU66=\"\",BU65=\"\",BU64=\"\"),\"Yes\",\"\")","v":""},"",{"$f":"IF(AND(BW67=\"Yes\",BW66=\"\",BW65=\"\",BW64=\"\"),\"Yes\",\"\")","v":""},"",{"$f":"IF(AND(BY67=\"Yes\",BY66=\"\",BY65=\"\",BY64=\"\"),\"Yes\",\"\")","v":""},"",{"$f":"IF(AND(CA67=\"Yes\",CA66=\"\",CA65=\"\",CA64=\"\"),\"Yes\",\"\")","v":""},"",{"$f":"IF(AND(CC67=\"Yes\",CC66=\"\",CC65=\"\",CC64=\"\"),\"Yes\",\"\")","v":""},"",{"$f":"IF(AND(CE67=\"Yes\",CE66=\"\",CE65=\"\",CE64=\"\"),\"Yes\",\"\")","v":""},"",{"$f":"IF(AND(CG67=\"Yes\",CG66=\"\",CG65=\"\",CG64=\"\"),\"Yes\",\"\")","v":""},"",{"$f":"IF(AND(CI67=\"Yes\",CI66=\"\",CI65=\"\",CI64=\"\"),\"Yes\",\"\")","v":""},"",{"$f":"IF(AND(CK67=\"Yes\",CK66=\"\",CK65=\"\",CK64=\"\"),\"Yes\",\"\")","v":""},"",{"$f":"IF(AND(CM67=\"Yes\",CM66=\"\",CM65=\"\",CM64=\"\"),\"Yes\",\"\")","v":""},"",{"$f":"IF(AND(CO67=\"Yes\",CO66=\"\",CO65=\"\",CO64=\"\"),\"Yes\",\"\")","v":""},"",{"$f":"IF(AND(CQ67=\"Yes\",CQ66=\"\",CQ65=\"\",CQ64=\"\"),\"Yes\",\"\")","v":""},"",{"$f":"IF(AND(CS67=\"Yes\",CS66=\"\",CS65=\"\",CS64=\"\"),\"Yes\",\"\")","v":""},"",{"$f":"IF(AND(CU67=\"Yes\",CU66=\"\",CU65=\"\",CU64=\"\"),\"Yes\",\"\")","v":""},"",{"$f":"IF(AND(CW67=\"Yes\",CW66=\"\",CW65=\"\",CW64=\"\"),\"Yes\",\"\")","v":""},"",{"$f":"IF(AND(CY67=\"Yes\",CY66=\"\",CY65=\"\",CY64=\"\"),\"Yes\",\"\")","v":""},"",{"$f":"IF(AND(DA67=\"Yes\",DA66=\"\",DA65=\"\",DA64=\"\"),\"Yes\",\"\")","v":""},"","","",{"$f":"IF(AND(DE67=\"Yes\",DE66=\"\",DE65=\"\",DE64=\"\"),\"Yes\",\"\")","v":""},"",{"$f":"IF(AND(DG67=\"Yes\",DG66=\"\",DG65=\"\",DG64=\"\"),\"Yes\",\"\")","v":""},{"$f":"IF(AND(N67>='Warrant 7 & 8 - MUTCD'!$L$16,OR('Traffic Volume Input'!O67>='Warrant 7 & 8 - MUTCD'!$N$16,'Traffic Volume Input'!P67>='Warrant 7 & 8 - MUTCD'!$N$16)),\"Yes\",\"\")","v":""},"","",{"$f":"IF(AND(DK67=\"Yes\",DK66=\"\",DK65=\"\",DK64=\"\"),\"Yes\",\"\")","v":""},"",{"$f":"IF(AND(DM67=\"Yes\",DM66=\"\",DM65=\"\",DM64=\"\"),\"Yes\",\"\")","v":""},"",{"$f":"IF(AND(DO67=\"Yes\",DO66=\"\",DO65=\"\",DO64=\"\"),\"Yes\",\"\")","v":""},"",{"$f":"IF(AND(DQ67=\"Yes\",DQ66=\"\",DQ65=\"\",DQ64=\"\"),\"Yes\",\"\")","v":""},"",{"$f":"IF(AND(DS67=\"Yes\",DS66=\"\",DS65=\"\",DS64=\"\"),\"Yes\",\"\")","v":""},"",{"$f":"IF(AND(DU67=\"Yes\",DU66=\"\",DU65=\"\",DU64=\"\"),\"Yes\",\"\")","v":""},"",{"$f":"IF(AND(DW67=\"Yes\",DW66=\"\",DW65=\"\",DW64=\"\"),\"Yes\",\"\")","v":""},"",{"$f":"IF(AND(DY67=\"Yes\",DY66=\"\",DY65=\"\",DY64=\"\"),\"Yes\",\"\")","v":""},"",{"$f":"IF(AND(EA67=\"Yes\",EA66=\"\",EA65=\"\",EA64=\"\"),\"Yes\",\"\")","v":""},"",{"$f":"IF(AND(EC67=\"Yes\",EC66=\"\",EC65=\"\",EC64=\"\"),\"Yes\",\"\")","v":""},"",{"$f":"IF(AND(EE67=\"Yes\",EE66=\"\",EE65=\"\",EE64=\"\"),\"Yes\",\"\")","v":""},"",{"$f":"IF(AND(EG67=\"Yes\",EG66=\"\",EG65=\"\",EG64=\"\"),\"Yes\",\"\")","v":""},"",{"$f":"IF(AND(EI67=\"Yes\",EI66=\"\",EI65=\"\",EI64=\"\"),\"Yes\",\"\")","v":""},"",{"$f":"IF(AND(EK67=\"Yes\",EK66=\"\",EK65=\"\",EK64=\"\"),\"Yes\",\"\")","v":""},"",{"$f":"IF(AND(EM67=\"Yes\",EM66=\"\",EM65=\"\",EM64=\"\"),\"Yes\",\"\")","v":""},"",{"$f":"IF(AND(EO67=\"Yes\",EO66=\"\",EO65=\"\",EO64=\"\"),\"Yes\",\"\")","v":""},"",{"$f":"IF(AND(EQ67=\"Yes\",EQ66=\"\",EQ65=\"\",EQ64=\"\"),\"Yes\",\"\")","v":""},"",{"$f":"IF(AND(ES67=\"Yes\",ES66=\"\",ES65=\"\",ES64=\"\"),\"Yes\",\"\")","v":""},"",{"$f":"IF(AND(EU67=\"Yes\",EU66=\"\",EU65=\"\",EU64=\"\"),\"Yes\",\"\")","v":""},"",{"$f":"IF(AND(EW67=\"Yes\",EW66=\"\",EW65=\"\",EW64=\"\"),\"Yes\",\"\")","v":""},"","","",{"$f":"IF(AND(FA67=\"Yes\",FA66=\"\",FA65=\"\",FA64=\"\"),\"Yes\",\"\")","v":""},"","",{"$f":"IF(AND(N67>='Warrant 7 & 8 - MUTCD'!$L$25,OR('Traffic Volume Input'!O67>='Warrant 7 & 8 - MUTCD'!$N$25,'Traffic Volume Input'!P67>='Warrant 7 & 8 - MUTCD'!$N$25)),\"Yes\",\"\")","v":""},"","",{"$f":"IF(AND(FG67=\"Yes\",FG66=\"\",FG65=\"\",FG64=\"\"),\"Yes\",\"\")","v":""},"",{"$f":"IF(AND(FI67=\"Yes\",FI66=\"\",FI65=\"\",FI64=\"\"),\"Yes\",\"\")","v":""},"",{"$f":"IF(AND(FK67=\"Yes\",FK66=\"\",FK65=\"\",FK64=\"\"),\"Yes\",\"\")","v":""},"",{"$f":"IF(AND(FM67=\"Yes\",FM66=\"\",FM65=\"\",FM64=\"\"),\"Yes\",\"\")","v":""},"",{"$f":"IF(AND(FO67=\"Yes\",FO66=\"\",FO65=\"\",FO64=\"\"),\"Yes\",\"\")","v":""},"",{"$f":"IF(AND(FQ67=\"Yes\",FQ66=\"\",FQ65=\"\",FQ64=\"\"),\"Yes\",\"\")","v":""},"",{"$f":"IF(AND(FS67=\"Yes\",FS66=\"\",FS65=\"\",FS64=\"\"),\"Yes\",\"\")","v":""},"",{"$f":"IF(AND(FU67=\"Yes\",FU66=\"\",FU65=\"\",FU64=\"\"),\"Yes\",\"\")","v":""},"",{"$f":"IF(AND(FW67=\"Yes\",FW66=\"\",FW65=\"\",FW64=\"\"),\"Yes\",\"\")","v":""},"",{"$f":"IF(AND(FY67=\"Yes\",FY66=\"\",FY65=\"\",FY64=\"\"),\"Yes\",\"\")","v":""},"",{"$f":"IF(AND(GA67=\"Yes\",GA66=\"\",GA65=\"\",GA64=\"\"),\"Yes\",\"\")","v":""},"",{"$f":"IF(AND(GC67=\"Yes\",GC66=\"\",GC65=\"\",GC64=\"\"),\"Yes\",\"\")","v":""},"",{"$f":"IF(AND(GE67=\"Yes\",GE66=\"\",GE65=\"\",GE64=\"\"),\"Yes\",\"\")","v":""},"",{"$f":"IF(AND(GG67=\"Yes\",GG66=\"\",GG65=\"\",GG64=\"\"),\"Yes\",\"\")","v":""},"",{"$f":"IF(AND(GI67=\"Yes\",GI66=\"\",GI65=\"\",GI64=\"\"),\"Yes\",\"\")","v":""},"",{"$f":"IF(AND(GK67=\"Yes\",GK66=\"\",GK65=\"\",GK64=\"\"),\"Yes\",\"\")","v":""},"",{"$f":"IF(AND(GM67=\"Yes\",GM66=\"\",GM65=\"\",GM64=\"\"),\"Yes\",\"\")","v":""},"",{"$f":"IF(AND(GO67=\"Yes\",GO66=\"\",GO65=\"\",GO64=\"\"),\"Yes\",\"\")","v":""},"",{"$f":"IF(AND(GQ67=\"Yes\",GQ66=\"\",GQ65=\"\",GQ64=\"\"),\"Yes\",\"\")","v":""},"",{"$f":"IF(AND(GS67=\"Yes\",GS66=\"\",GS65=\"\",GS64=\"\"),\"Yes\",\"\")","v":""},"","","",{"$f":"IF(AND(GW67=\"Yes\",GW66=\"\",GW65=\"\",GW64=\"\"),\"Yes\",\"\")","v":""},"",""]
["15:30:00","15:44:00",null,null,0,null,null,null,null,"15:30:00","16:29:00",0,0,0,0,0,{"$f":"IF(AND(N68>='Warrant 1 - MUTCD'!$M$23,OR('Traffic Volume Input'!O68>='Warrant 1 - MUTCD'!$Q$23,'Traffic Volume Input'!P68>='Warrant 1 - MUTCD'!$Q$23)),\"Yes\",\"\")","v":""},"","","","","","",{"$f":"IF(AND(W68=\"Yes\",W67=\"\",W66=\"\",W65=\"\"),\"Yes\",\"\")","v":""},"",{"$f":"IF(AND(Y68=\"Yes\",Y67=\"\",Y66=\"\",Y65=\"\"),\"Yes\",\"\")","v":""},"",{"$f":"IF(AND(AA68=\"Yes\",AA67=\"\",AA66=\"\",AA65=\"\"),\"Yes\",\"\")","v":""},"",{"$f":"IF(AND(AC68=\"Yes\",AC67=\"\",AC66=\"\",AC65=\"\"),\"Yes\",\"\")","v":""},"",{"$f":"IF(AND(AE68=\"Yes\",AE67=\"\",AE66=\"\",AE65=\"\"),\"Yes\",\"\")","v":""},"",{"$f":"IF(AND(AG68=\"Yes\",AG67=\"\",AG66=\"\",AG65=\"\"),\"Yes\",\"\")","v":""},"",{"$f":"IF(AND(AI68=\"Yes\",AI67=\"\",AI66=\"\",AI65=\"\"),\"Yes\",\"\")","v":""},"",{"$f":"IF(AND(AK68=\"Yes\",AK67=\"\",AK66=\"\",AK65=\"\"),\"Yes\",\"\")","v":""},"",{"$f":"IF(AND(AM68=\"Yes\",AM67=\"\",AM66=\"\",AM65=\"\"),\"Yes\",\"\")","v":""},"",{"$f":"IF(AND(AO68=\"Yes\",AO67=\"\",AO66=\"\",AO65=\"\"),\"Yes\",\"\")","v":""},"",{"$f":"IF(AND(AQ68=\"Yes\",AQ67=\"\",AQ66=\"\",AQ65=\"\"),\"Yes\",\"\")","v":""},"",{"$f":"IF(AND(AS68=\"Yes\",AS67=\"\",AS66=\"\",AS65=\"\"),\"Yes\",\"\")","v":""},"",{"$f":"IF(AND(AU68=\"Yes\",AU67=\"\",AU66=\"\",AU65=\"\"),\"Yes\",\"\")","v":""},"",{"$f":"IF(AND(AW68=\"Yes\",AW67=\"\",AW66=\"\",AW65=\"\"),\"Yes\",\"\")","v":""},"",{"$f":"IF(AND(AY68=\"Yes\",AY67=\"\",AY66=\"\",AY65=\"\"),\"Yes\",\"\")","v":""},"",{"$f":"IF(AND(BA68=\"Yes\",BA67=\"\",BA66=\"\",BA65=\"\"),\"Yes\",\"\")","v":""},"",{"$f":"IF(AND(BC68=\"Yes\",BC67=\"\",BC66=\"\",BC65=\"\"),\"Yes\",\"\")","v":""},"",{"$f":"IF(AND(BE68=\"Yes\",BE67=\"\",BE66=\"\",BE65=\"\"),\"Yes\",\"\")","v":""},"",{"$f":"IF(AND(BG68=\"Yes\",BG67=\"\",BG66=\"\",BG65=\"\"),\"Yes\",\"\")","v":""},"",{"$f":"IF(AND(BI68=\"Yes\",BI67=\"\",BI66=\"\",BI65=\"\"),\"Yes\",\"\")","v":""},"","",{"$f":"IF(AND(N68>='Warrant 1 - MUTCD'!$M$32,OR('Traffic Volume Input'!O68>='Warrant 1 - MUTCD'!$Q$32,'Traffic Volume Input'!P68>='Warrant 1 - MUTCD'!$Q$32)),\"Yes\",\"\")","v":""},"","",{"$f":"IF(AND(BO68=\"Yes\",BO67=\"\",BO66=\"\",BO65=\"\"),\"Yes\",\"\")","v":""},"",{"$f":"IF(AND(BQ68=\"Yes\",BQ67=\"\",BQ66=\"\",BQ65=\"\"),\"Yes\",\"\")","v":""},"",{"$f":"IF(AND(BS68=\"Yes\",BS67=\"\",BS66=\"\",BS65=\"\"),\"Yes\",\"\")","v":""},"",{"$f":"IF(AND(BU68=\"Yes\",BU67=\"\",BU66=\"\",BU65=\"\"),\"Yes\",\"\")","v":""},"",{"$f":"IF(AND(BW68=\"Yes\",BW67=\"\",BW66=\"\",BW65=\"\"),\"Yes\",\"\")","v":""},"",{"$f":"IF(AND(BY68=\"Yes\",BY67=\"\",BY66=\"\",BY65=\"\"),\"Yes\",\"\")","v":""},"",{"$f":"IF(AND(CA68=\"Yes\",CA67=\"\",CA66=\"\",CA65=\"\"),\"Yes\",\"\")","v":""},"",{"$f":"IF(AND(CC68=\"Yes\",CC67=\"\",CC66=\"\",CC65=\"\"),\"Yes\",\"\")","v":""},"",{"$f":"IF(AND(CE68=\"Yes\",CE67=\"\",CE66=\"\",CE65=\"\"),\"Yes\",\"\")","v":""},"",{"$f":"IF(AND(CG68=\"Yes\",CG67=\"\",CG66=\"\",CG65=\"\"),\"Yes\",\"\")","v":""},"",{"$f":"IF(AND(CI68=\"Yes\",CI67=\"\",CI66=\"\",CI65=\"\"),\"Yes\",\"\")","v":""},"",{"$f":"IF(AND(CK68=\"Yes\",CK67=\"\",CK66=\"\",CK65=\"\"),\"Yes\",\"\")","v":""},"",{"$f":"IF(AND(CM68=\"Yes\",CM67=\"\",CM66=\"\",CM65=\"\"),\"Yes\",\"\")","v":""},"",{"$f":"IF(AND(CO68=\"Yes\",CO67=\"\",CO66=\"\",CO65=\"\"),\"Yes\",\"\")","v":""},"",{"$f":"IF(AND(CQ68=\"Yes\",CQ67=\"\",CQ66=\"\",CQ65=\"\"),\"Yes\",\"\")","v":""},"",{"$f":"IF(AND(CS68=\"Yes\",CS67=\"\",CS66=\"\",CS65=\"\"),\"Yes\",\"\")","v":""},"",{"$f":"IF(AND(CU68=\"Yes\",CU67=\"\",CU66=\"\",CU65=\"\"),\"Yes\",\"\")","v":""},"",{"$f":"IF(AND(CW68=\"Yes\",CW67=\"\",CW66=\"\",CW65=\"\"),\"Yes\",\"\")","v":""},"",{"$f":"IF(AND(CY68=\"Yes\",CY67=\"\",CY66=\"\",CY65=\"\"),\"Yes\",\"\")","v":""},"",{"$f":"IF(AND(DA68=\"Yes\",DA67=\"\",DA66=\"\",DA65=\"\"),\"Yes\",\"\")","v":""},"","","",{"$f":"IF(AND(DE68=\"Yes\",DE67=\"\",DE66=\"\",DE65=\"\"),\"Yes\",\"\")","v":""},"",{"$f":"IF(AND(DG68=\"Yes\",DG67=\"\",DG66=\"\",DG65=\"\"),\"Yes\",\"\")","v":""},{"$f":"IF(AND(N68>='Warrant 7 & 8 - MUTCD'!$L$16,OR('Traffic Volume Input'!O68>='Warrant 7 & 8 - MUTCD'!$N$16,'Traffic Volume Input'!P68>='Warrant 7 & 8 - MUTCD'!$N$16)),\"Yes\",\"\")","v":""},"","",{"$f":"IF(AND(DK68=\"Yes\",DK67=\"\",DK66=\"\",DK65=\"\"),\"Yes\",\"\")","v":""},"",{"$f":"IF(AND(DM68=\"Yes\",DM67=\"\",DM66=\"\",DM65=\"\"),\"Yes\",\"\")","v":""},"",{"$f":"IF(AND(DO68=\"Yes\",DO67=\"\",DO66=\"\",DO65=\"\"),\"Yes\",\"\")","v":""},"",{"$f":"IF(AND(DQ68=\"Yes\",DQ67=\"\",DQ66=\"\",DQ65=\"\"),\"Yes\",\"\")","v":""},"",{"$f":"IF(AND(DS68=\"Yes\",DS67=\"\",DS66=\"\",DS65=\"\"),\"Yes\",\"\")","v":""},"",{"$f":"IF(AND(DU68=\"Yes\",DU67=\"\",DU66=\"\",DU65=\"\"),\"Yes\",\"\")","v":""},"",{"$f":"IF(AND(DW68=\"Yes\",DW67=\"\",DW66=\"\",DW65=\"\"),\"Yes\",\"\")","v":""},"",{"$f":"IF(AND(DY68=\"Yes\",DY67=\"\",DY66=\"\",DY65=\"\"),\"Yes\",\"\")","v":""},"",{"$f":"IF(AND(EA68=\"Yes\",EA67=\"\",EA66=\"\",EA65=\"\"),\"Yes\",\"\")","v":""},"",{"$f":"IF(AND(EC68=\"Yes\",EC67=\"\",EC66=\"\",EC65=\"\"),\"Yes\",\"\")","v":""},"",{"$f":"IF(AND(EE68=\"Yes\",EE67=\"\",EE66=\"\",EE65=\"\"),\"Yes\",\"\")","v":""},"",{"$f":"IF(AND(EG68=\"Yes\",EG67=\"\",EG66=\"\",EG65=\"\"),\"Yes\",\"\")","v":""},"",{"$f":"IF(AND(EI68=\"Yes\",EI67=\"\",EI66=\"\",EI65=\"\"),\"Yes\",\"\")","v":""},"",{"$f":"IF(AND(EK68=\"Yes\",EK67=\"\",EK66=\"\",EK65=\"\"),\"Yes\",\"\")","v":""},"",{"$f":"IF(AND(EM68=\"Yes\",EM67=\"\",EM66=\"\",EM65=\"\"),\"Yes\",\"\")","v":""},"",{"$f":"IF(AND(EO68=\"Yes\",EO67=\"\",EO66=\"\",EO65=\"\"),\"Yes\",\"\")","v":""},"",{"$f":"IF(AND(EQ68=\"Yes\",EQ67=\"\",EQ66=\"\",EQ65=\"\"),\"Yes\",\"\")","v":""},"",{"$f":"IF(AND(ES68=\"Yes\",ES67=\"\",ES66=\"\",ES65=\"\"),\"Yes\",\"\")","v":""},"",{"$f":"IF(AND(EU68=\"Yes\",EU67=\"\",EU66=\"\",EU65=\"\"),\"Yes\",\"\")","v":""},"",{"$f":"IF(AND(EW68=\"Yes\",EW67=\"\",EW66=\"\",EW65=\"\"),\"Yes\",\"\")","v":""},"","","",{"$f":"IF(AND(FA68=\"Yes\",FA67=\"\",FA66=\"\",FA65=\"\"),\"Yes\",\"\")","v":""},"","",{"$f":"IF(AND(N68>='Warrant 7 & 8 - MUTCD'!$L$25,OR('Traffic Volume Input'!O68>='Warrant 7 & 8 - MUTCD'!$N$25,'Traffic Volume Input'!P68>='Warrant 7 & 8 - MUTCD'!$N$25)),\"Yes\",\"\")","v":""},"","",{"$f":"IF(AND(FG68=\"Yes\",FG67=\"\",FG66=\"\",FG65=\"\"),\"Yes\",\"\")","v":""},"",{"$f":"IF(AND(FI68=\"Yes\",FI67=\"\",FI66=\"\",FI65=\"\"),\"Yes\",\"\")","v":""},"",{"$f":"IF(AND(FK68=\"Yes\",FK67=\"\",FK66=\"\",FK65=\"\"),\"Yes\",\"\")","v":""},"",{"$f":"IF(AND(FM68=\"Yes\",FM67=\"\",FM66=\"\",FM65=\"\"),\"Yes\",\"\")","v":""},"",{"$f":"IF(AND(FO68=\"Yes\",FO67=\"\",FO66=\"\",FO65=\"\"),\"Yes\",\"\")","v":""},"",{"$f":"IF(AND(FQ68=\"Yes\",FQ67=\"\",FQ66=\"\",FQ65=\"\"),\"Yes\",\"\")","v":""},"",{"$f":"IF(AND(FS68=\"Yes\",FS67=\"\",FS66=\"\",FS65=\"\"),\"Yes\",\"\")","v":""},"",{"$f":"IF(AND(FU68=\"Yes\",FU67=\"\",FU66=\"\",FU65=\"\"),\"Yes\",\"\")","v":""},"",{"$f":"IF(AND(FW68=\"Yes\",FW67=\"\",FW66=\"\",FW65=\"\"),\"Yes\",\"\")","v":""},"",{"$f":"IF(AND(FY68=\"Yes\",FY67=\"\",FY66=\"\",FY65=\"\"),\"Yes\",\"\")","v":""},"",{"$f":"IF(AND(GA68=\"Yes\",GA67=\"\",GA66=\"\",GA65=\"\"),\"Yes\",\"\")","v":""},"",{"$f":"IF(AND(GC68=\"Yes\",GC67=\"\",GC66=\"\",GC65=\"\"),\"Yes\",\"\")","v":""},"",{"$f":"IF(AND(GE68=\"Yes\",GE67=\"\",GE66=\"\",GE65=\"\"),\"Yes\",\"\")","v":""},"",{"$f":"IF(AND(GG68=\"Yes\",GG67=\"\",GG66=\"\",GG65=\"\"),\"Yes\",\"\")","v":""},"",{"$f":"IF(AND(GI68=\"Yes\",GI67=\"\",GI66=\"\",GI65=\"\"),\"Yes\",\"\")","v":""},"",{"$f":"IF(AND(GK68=\"Yes\",GK67=\"\",GK66=\"\",GK65=\"\"),\"Yes\",\"\")","v":""},"",{"$f":"IF(AND(GM68=\"Yes\",GM67=\"\",GM66=\"\",GM65=\"\"),\"Yes\",\"\")","v":""},"",{"$f":"IF(AND(GO68=\"Yes\",GO67=\"\",GO66=\"\",GO65=\"\"),\"Yes\",\"\")","v":""},"",{"$f":"IF(AND(GQ68=\"Yes\",GQ67=\"\",GQ66=\"\",GQ65=\"\"),\"Yes\",\"\")","v":""},"",{"$f":"IF(AND(GS68=\"Yes\",GS67=\"\",GS66=\"\",GS65=\"\"),\"Yes\",\"\")","v":""},"","","",{"$f":"IF(AND(GW68=\"Yes\",GW67=\"\",GW66=\"\",GW65=\"\"),\"Yes\",\"\")","v":""},"",""]
["15:45:00","15:59:00",null,null,0,null,null,null,null,"15:45:00","16:44:00",0,0,0,0,0,{"$f":"IF(AND(N69>='Warrant 1 - MUTCD'!$M$23,OR('Traffic Volume Input'!O69>='Warrant 1 - MUTCD'!$Q$23,'Traffic Volume Input'!P69>='Warrant 1 - MUTCD'!$Q$23)),\"Yes\",\"\")","v":""},"","","","","","",{"$f":"IF(AND(W69=\"Yes\",W68=\"\",W67=\"\",W66=\"\"),\"Yes\",\"\")","v":""},"",{"$f":"IF(AND(Y69=\"Yes\",Y68=\"\",Y67=\"\",Y66=\"\"),\"Yes\",\"\")","v":""},"",{"$f":"IF(AND(AA69=\"Yes\",AA68=\"\",AA67=\"\",AA66=\"\"),\"Yes\",\"\")","v":""},"",{"$f":"IF(AND(AC69=\"Yes\",AC68=\"\",AC67=\"\",AC66=\"\"),\"Yes\",\"\")","v":""},"",{"$f":"IF(AND(AE69=\"Yes\",AE68=\"\",AE67=\"\",AE66=\"\"),\"Yes\",\"\")","v":""},"",{"$f":"IF(AND(AG69=\"Yes\",AG68=\"\",AG67=\"\",AG66=\"\"),\"Yes\",\"\")","v":""},"",{"$f":"IF(AND(AI69=\"Yes\",AI68=\"\",AI67=\"\",AI66=\"\"),\"Yes\",\"\")","v":""},"",{"$f":"IF(AND(AK69=\"Yes\",AK68=\"\",AK67=\"\",AK66=\"\"),\"Yes\",\"\")","v":""},"",{"$f":"IF(AND(AM69=\"Yes\",AM68=\"\",AM67=\"\",AM66=\"\"),\"Yes\",\"\")","v":""},"",{"$f":"IF(AND(AO69=\"Yes\",AO68=\"\",AO67=\"\",AO66=\"\"),\"Yes\",\"\")","v":""},"",{"$f":"IF(AND(AQ69=\"Yes\",AQ68=\"\",AQ67=\"\",AQ66=\"\"),\"Yes\",\"\")","v":""},"",{"$f":"IF(AND(AS69=\"Yes\",AS68=\"\",AS67=\"\",AS66=\"\"),\"Yes\",\"\")","v":""},"",{"$f":"IF(AND(AU69=\"Yes\",AU68=\"\",AU67=\"\",AU66=\"\"),\"Yes\",\"\")","v":""},"",{"$f":"IF(AND(AW69=\"Yes\",AW68=\"\",AW67=\"\",AW66=\"\"),\"Yes\",\"\")","v":""},"",{"$f":"IF(AND(AY69=\"Yes\",AY68=\"\",AY67=\"\",AY66=\"\"),\"Yes\",\"\")","v":""},"",{"$f":"IF(AND(BA69=\"Yes\",BA68=\"\",BA67=\"\",BA66=\"\"),\"Yes\",\"\")","v":""},"",{"$f":"IF(AND(BC69=\"Yes\",BC68=\"\",BC67=\"\",BC66=\"\"),\"Yes\",\"\")","v":""},"",{"$f":"IF(AND(BE69=\"Yes\",BE68=\"\",BE67=\"\",BE66=\"\"),\"Yes\",\"\")","v":""},"",{"$f":"IF(AND(BG69=\"Yes\",BG68=\"\",BG67=\"\",BG66=\"\"),\"Yes\",\"\")","v":""},"",{"$f":"IF(AND(BI69=\"Yes\",BI68=\"\",BI67=\"\",BI66=\"\"),\"Yes\",\"\")","v":""},"","",{"$f":"IF(AND(N69>='Warrant 1 - MUTCD'!$M$32,OR('Traffic Volume Input'!O69>='Warrant 1 - MUTCD'!$Q$32,'Traffic Volume Input'!P69>='Warrant 1 - MUTCD'!$Q$32)),\"Yes\",\"\")","v":""},"","",{"$f":"IF(AND(BO69=\"Yes\",BO68=\"\",BO67=\"\",BO66=\"\"),\"Yes\",\"\")","v":""},"",{"$f":"IF(AND(BQ69=\"Yes\",BQ68=\"\",BQ67=\"\",BQ66=\"\"),\"Yes\",\"\")","v":""},"",{"$f":"IF(AND(BS69=\"Yes\",BS68=\"\",BS67=\"\",BS66=\"\"),\"Yes\",\"\")","v":""},"",{"$f":"IF(AND(BU69=\"Yes\",BU68=\"\",BU67=\"\",BU66=\"\"),\"Yes\",\"\")","v":""},"",{"$f":"IF(AND(BW69=\"Yes\",BW68=\"\",BW67=\"\",BW66=\"\"),\"Yes\",\"\")","v":""},"",{"$f":"IF(AND(BY69=\"Yes\",BY68=\"\",BY67=\"\",BY66=\"\"),\"Yes\",\"\")","v":""},"",{"$f":"IF(AND(CA69=\"Yes\",CA68=\"\",CA67=\"\",CA66=\"\"),\"Yes\",\"\")","v":""},"",{"$f":"IF(AND(CC69=\"Yes\",CC68=\"\",CC67=\"\",CC66=\"\"),\"Yes\",\"\")","v":""},"",{"$f":"IF(AND(CE69=\"Yes\",CE68=\"\",CE67=\"\",CE66=\"\"),\"Yes\",\"\")","v":""},"",{"$f":"IF(AND(CG69=\"Yes\",CG68=\"\",CG67=\"\",CG66=\"\"),\"Yes\",\"\")","v":""},"",{"$f":"IF(AND(CI69=\"Yes\",CI68=\"\",CI67=\"\",CI66=\"\"),\"Yes\",\"\")","v":""},"",{"$f":"IF(AND(CK69=\"Yes\",CK68=\"\",CK67=\"\",CK66=\"\"),\"Yes\",\"\")","v":""},"",{"$f":"IF(AND(CM69=\"Yes\",CM68=\"\",CM67=\"\",CM66=\"\"),\"Yes\",\"\")","v":""},"",{"$f":"IF(AND(CO69=\"Yes\",CO68=\"\",CO67=\"\",CO66=\"\"),\"Yes\",\"\")","v":""},"",{"$f":"IF(AND(CQ69=\"Yes\",CQ68=\"\",CQ67=\"\",CQ66=\"\"),\"Yes\",\"\")","v":""},"",{"$f":"IF(AND(CS69=\"Yes\",CS68=\"\",CS67=\"\",CS66=\"\"),\"Yes\",\"\")","v":""},"",{"$f":"IF(AND(CU69=\"Yes\",CU68=\"\",CU67=\"\",CU66=\"\"),\"Yes\",\"\")","v":""},"",{"$f":"IF(AND(CW69=\"Yes\",CW68=\"\",CW67=\"\",CW66=\"\"),\"Yes\",\"\")","v":""},"",{"$f":"IF(AND(CY69=\"Yes\",CY68=\"\",CY67=\"\",CY66=\"\"),\"Yes\",\"\")","v":""},"",{"$f":"IF(AND(DA69=\"Yes\",DA68=\"\",DA67=\"\",DA66=\"\"),\"Yes\",\"\")","v":""},"","","",{"$f":"IF(AND(DE69=\"Yes\",DE68=\"\",DE67=\"\",DE66=\"\"),\"Yes\",\"\")","v":""},"",{"$f":"IF(AND(DG69=\"Yes\",DG68=\"\",DG67=\"\",DG66=\"\"),\"Yes\",\"\")","v":""},{"$f":"IF(AND(N69>='Warrant 7 & 8 - MUTCD'!$L$16,OR('Traffic Volume Input'!O69>='Warrant 7 & 8 - MUTCD'!$N$16,'Traffic Volume Input'!P69>='Warrant 7 & 8 - MUTCD'!$N$16)),\"Yes\",\"\")","v":""},"","",{"$f":"IF(AND(DK69=\"Yes\",DK68=\"\",DK67=\"\",DK66=\"\"),\"Yes\",\"\")","v":""},"",{"$f":"IF(AND(DM69=\"Yes\",DM68=\"\",DM67=\"\",DM66=\"\"),\"Yes\",\"\")","v":""},"",{"$f":"IF(AND(DO69=\"Yes\",DO68=\"\",DO67=\"\",DO66=\"\"),\"Yes\",\"\")","v":""},"",{"$f":"IF(AND(DQ69=\"Yes\",DQ68=\"\",DQ67=\"\",DQ66=\"\"),\"Yes\",\"\")","v":""},"",{"$f":"IF(AND(DS69=\"Yes\",DS68=\"\",DS67=\"\",DS66=\"\"),\"Yes\",\"\")","v":""},"",{"$f":"IF(AND(DU69=\"Yes\",DU68=\"\",DU67=\"\",DU66=\"\"),\"Yes\",\"\")","v":""},"",{"$f":"IF(AND(DW69=\"Yes\",DW68=\"\",DW67=\"\",DW66=\"\"),\"Yes\",\"\")","v":""},"",{"$f":"IF(AND(DY69=\"Yes\",DY68=\"\",DY67=\"\",DY66=\"\"),\"Yes\",\"\")","v":""},"",{"$f":"IF(AND(EA69=\"Yes\",EA68=\"\",EA67=\"\",EA66=\"\"),\"Yes\",\"\")","v":""},"",{"$f":"IF(AND(EC69=\"Yes\",EC68=\"\",EC67=\"\",EC66=\"\"),\"Yes\",\"\")","v":""},"",{"$f":"IF(AND(EE69=\"Yes\",EE68=\"\",EE67=\"\",EE66=\"\"),\"Yes\",\"\")","v":""},"",{"$f":"IF(AND(EG69=\"Yes\",EG68=\"\",EG67=\"\",EG66=\"\"),\"Yes\",\"\")","v":""},"",{"$f":"IF(AND(EI69=\"Yes\",EI68=\"\",EI67=\"\",EI66=\"\"),\"Yes\",\"\")","v":""},"",{"$f":"IF(AND(EK69=\"Yes\",EK68=\"\",EK67=\"\",EK66=\"\"),\"Yes\",\"\")","v":""},"",{"$f":"IF(AND(EM69=\"Yes\",EM68=\"\",EM67=\"\",EM66=\"\"),\"Yes\",\"\")","v":""},"",{"$f":"IF(AND(EO69=\"Yes\",EO68=\"\",EO67=\"\",EO66=\"\"),\"Yes\",\"\")","v":""},"",{"$f":"IF(AND(EQ69=\"Yes\",EQ68=\"\",EQ67=\"\",EQ66=\"\"),\"Yes\",\"\")","v":""},"",{"$f":"IF(AND(ES69=\"Yes\",ES68=\"\",ES67=\"\",ES66=\"\"),\"Yes\",\"\")","v":""},"",{"$f":"IF(AND(EU69=\"Yes\",EU68=\"\",EU67=\"\",EU66=\"\"),\"Yes\",\"\")","v":""},"",{"$f":"IF(AND(EW69=\"Yes\",EW68=\"\",EW67=\"\",EW66=\"\"),\"Yes\",\"\")","v":""},"","","",{"$f":"IF(AND(FA69=\"Yes\",FA68=\"\",FA67=\"\",FA66=\"\"),\"Yes\",\"\")","v":""},"","",{"$f":"IF(AND(N69>='Warrant 7 & 8 - MUTCD'!$L$25,OR('Traffic Volume Input'!O69>='Warrant 7 & 8 - MUTCD'!$N$25,'Traffic Volume Input'!P69>='Warrant 7 & 8 - MUTCD'!$N$25)),\"Yes\",\"\")","v":""},"","",{"$f":"IF(AND(FG69=\"Yes\",FG68=\"\",FG67=\"\",FG66=\"\"),\"Yes\",\"\")","v":""},"",{"$f":"IF(AND(FI69=\"Yes\",FI68=\"\",FI67=\"\",FI66=\"\"),\"Yes\",\"\")","v":""},"",{"$f":"IF(AND(FK69=\"Yes\",FK68=\"\",FK67=\"\",FK66=\"\"),\"Yes\",\"\")","v":""},"",{"$f":"IF(AND(FM69=\"Yes\",FM68=\"\",FM67=\"\",FM66=\"\"),\"Yes\",\"\")","v":""},"",{"$f":"IF(AND(FO69=\"Yes\",FO68=\"\",FO67=\"\",FO66=\"\"),\"Yes\",\"\")","v":""},"",{"$f":"IF(AND(FQ69=\"Yes\",FQ68=\"\",FQ67=\"\",FQ66=\"\"),\"Yes\",\"\")","v":""},"",{"$f":"IF(AND(FS69=\"Yes\",FS68=\"\",FS67=\"\",FS66=\"\"),\"Yes\",\"\")","v":""},"",{"$f":"IF(AND(FU69=\"Yes\",FU68=\"\",FU67=\"\",FU66=\"\"),\"Yes\",\"\")","v":""},"",{"$f":"IF(AND(FW69=\"Yes\",FW68=\"\",FW67=\"\",FW66=\"\"),\"Yes\",\"\")","v":""},"",{"$f":"IF(AND(FY69=\"Yes\",FY68=\"\",FY67=\"\",FY66=\"\"),\"Yes\",\"\")","v":""},"",{"$f":"IF(AND(GA69=\"Yes\",GA68=\"\",GA67=\"\",GA66=\"\"),\"Yes\",\"\")","v":""},"",{"$f":"IF(AND(GC69=\"Yes\",GC68=\"\",GC67=\"\",GC66=\"\"),\"Yes\",\"\")","v":""},"",{"$f":"IF(AND(GE69=\"Yes\",GE68=\"\",GE67=\"\",GE66=\"\"),\"Yes\",\"\")","v":""},"",{"$f":"IF(AND(GG69=\"Yes\",GG68=\"\",GG67=\"\",GG66=\"\"),\"Yes\",\"\")","v":""},"",{"$f":"IF(AND(GI69=\"Yes\",GI68=\"\",GI67=\"\",GI66=\"\"),\"Yes\",\"\")","v":""},"",{"$f":"IF(AND(GK69=\"Yes\",GK68=\"\",GK67=\"\",GK66=\"\"),\"Yes\",\"\")","v":""},"",{"$f":"IF(AND(GM69=\"Yes\",GM68=\"\",GM67=\"\",GM66=\"\"),\"Yes\",\"\")","v":""},"",{"$f":"IF(AND(GO69=\"Yes\",GO68=\"\",GO67=\"\",GO66=\"\"),\"Yes\",\"\")","v":""},"",{"$f":"IF(AND(GQ69=\"Yes\",GQ68=\"\",GQ67=\"\",GQ66=\"\"),\"Yes\",\"\")","v":""},"",{"$f":"IF(AND(GS69=\"Yes\",GS68=\"\",GS67=\"\",GS66=\"\"),\"Yes\",\"\")","v":""},"","","",{"$f":"IF(AND(GW69=\"Yes\",GW68=\"\",GW67=\"\",GW66=\"\"),\"Yes\",\"\")","v":""},"",""]
["16:00:00","16:14:00",null,null,0,null,null,null,null,"16:00:00","16:59:00",{"$f":"SUM(C70:C73)","v":0},{"$f":"SUM(D70:D73)","v":0},0,0,0,{"$f":"IF(AND(N70>='Warrant 1 - MUTCD'!$M$23,OR('Traffic Volume Input'!O70>='Warrant 1 - MUTCD'!$Q$23,'Traffic Volume Input'!P70>='Warrant 1 - MUTCD'!$Q$23)),\"Yes\",\"\")","v":""},"","","","","","",{"$f":"IF(AND(W70=\"Yes\",W69=\"\",W68=\"\",W67=\"\"),\"Yes\",\"\")","v":""},"",{"$f":"IF(AND(Y70=\"Yes\",Y69=\"\",Y68=\"\",Y67=\"\"),\"Yes\",\"\")","v":""},"",{"$f":"IF(AND(AA70=\"Yes\",AA69=\"\",AA68=\"\",AA67=\"\"),\"Yes\",\"\")","v":""},"",{"$f":"IF(AND(AC70=\"Yes\",AC69=\"\",AC68=\"\",AC67=\"\"),\"Yes\",\"\")","v":""},"",{"$f":"IF(AND(AE70=\"Yes\",AE69=\"\",AE68=\"\",AE67=\"\"),\"Yes\",\"\")","v":""},"",{"$f":"IF(AND(AG70=\"Yes\",AG69=\"\",AG68=\"\",AG67=\"\"),\"Yes\",\"\")","v":""},"",{"$f":"IF(AND(AI70=\"Yes\",AI69=\"\",AI68=\"\",AI67=\"\"),\"Yes\",\"\")","v":""},"",{"$f":"IF(AND(AK70=\"Yes\",AK69=\"\",AK68=\"\",AK67=\"\"),\"Yes\",\"\")","v":""},"",{"$f":"IF(AND(AM70=\"Yes\",AM69=\"\",AM68=\"\",AM67=\"\"),\"Yes\",\"\")","v":""},"",{"$f":"IF(AND(AO70=\"Yes\",AO69=\"\",AO68=\"\",AO67=\"\"),\"Yes\",\"\")","v":""},"",{"$f":"IF(AND(AQ70=\"Yes\",AQ69=\"\",AQ68=\"\",AQ67=\"\"),\"Yes\",\"\")","v":""},"",{"$f":"IF(AND(AS70=\"Yes\",AS69=\"\",AS68=\"\",AS67=\"\"),\"Yes\",\"\")","v":""},"",{"$f":"IF(AND(AU70=\"Yes\",AU69=\"\",AU68=\"\",AU67=\"\"),\"Yes\",\"\")","v":""},"",{"$f":"IF(AND(AW70=\"Yes\",AW69=\"\",AW68=\"\",AW67=\"\"),\"Yes\",\"\")","v":""},"",{"$f":"IF(AND(AY70=\"Yes\",AY69=\"\",AY68=\"\",AY67=\"\"),\"Yes\",\"\")","v":""},"",{"$f":"IF(AND(BA70=\"Yes\",BA69=\"\",BA68=\"\",BA67=\"\"),\"Yes\",\"\")","v":""},"",{"$f":"IF(AND(BC70=\"Yes\",BC69=\"\",BC68=\"\",BC67=\"\"),\"Yes\",\"\")","v":""},"",{"$f":"IF(AND(BE70=\"Yes\",BE69=\"\",BE68=\"\",BE67=\"\"),\"Yes\",\"\")","v":""},"",{"$f":"IF(AND(BG70=\"Yes\",BG69=\"\",BG68=\"\",BG67=\"\"),\"Yes\",\"\")","v":""},"",{"$f":"IF(AND(BI70=\"Yes\",BI69=\"\",BI68=\"\",BI67=\"\"),\"Yes\",\"\")","v":""},"","",{"$f":"IF(AND(N70>='Warrant 1 - MUTCD'!$M$32,OR('Traffic Volume Input'!O70>='Warrant 1 - MUTCD'!$Q$32,'Traffic Volume Input'!P70>='Warrant 1 - MUTCD'!$Q$32)),\"Yes\",\"\")","v":""},"","",{"$f":"IF(AND(BO70=\"Yes\",BO69=\"\",BO68=\"\",BO67=\"\"),\"Yes\",\"\")","v":""},"",{"$f":"IF(AND(BQ70=\"Yes\",BQ69=\"\",BQ68=\"\",BQ67=\"\"),\"Yes\",\"\")","v":""},"",{"$f":"IF(AND(BS70=\"Yes\",BS69=\"\",BS68=\"\",BS67=\"\"),\"Yes\",\"\")","v":""},"",{"$f":"IF(AND(BU70=\"Yes\",BU69=\"\",BU68=\"\",BU67=\"\"),\"Yes\",\"\")","v":""},"",{"$f":"IF(AND(BW70=\"Yes\",BW69=\"\",BW68=\"\",BW67=\"\"),\"Yes\",\"\")","v":""},"",{"$f":"IF(AND(BY70=\"Yes\",BY69=\"\",BY68=\"\",BY67=\"\"),\"Yes\",\"\")","v":""},"",{"$f":"IF(AND(CA70=\"Yes\",CA69=\"\",CA68=\"\",CA67=\"\"),\"Yes\",\"\")","v":""},"",{"$f":"IF(AND(CC70=\"Yes\",CC69=\"\",CC68=\"\",CC67=\"\"),\"Yes\",\"\")","v":""},"",{"$f":"IF(AND(CE70=\"Yes\",CE69=\"\",CE68=\"\",CE67=\"\"),\"Yes\",\"\")","v":""},"",{"$f":"IF(AND(CG70=\"Yes\",CG69=\"\",CG68=\"\",CG67=\"\"),\"Yes\",\"\")","v":""},"",{"$f":"IF(AND(CI70=\"Yes\",CI69=\"\",CI68=\"\",CI67=\"\"),\"Yes\",\"\")","v":""},"",{"$f":"IF(AND(CK70=\"Yes\",CK69=\"\",CK68=\"\",CK67=\"\"),\"Yes\",\"\")","v":""},"",{"$f":"IF(AND(CM70=\"Yes\",CM69=\"\",CM68=\"\",CM67=\"\"),\"Yes\",\"\")","v":""},"",{"$f":"IF(AND(CO70=\"Yes\",CO69=\"\",CO68=\"\",CO67=\"\"),\"Yes\",\"\")","v":""},"",{"$f":"IF(AND(CQ70=\"Yes\",CQ69=\"\",CQ68=\"\",CQ67=\"\"),\"Yes\",\"\")","v":""},"",{"$f":"IF(AND(CS70=\"Yes\",CS69=\"\",CS68=\"\",CS67=\"\"),\"Yes\",\"\")","v":""},"",{"$f":"IF(AND(CU70=\"Yes\",CU69=\"\",CU68=\"\",CU67=\"\"),\"Yes\",\"\")","v":""},"",{"$f":"IF(AND(CW70=\"Yes\",CW69=\"\",CW68=\"\",CW67=\"\"),\"Yes\",\"\")","v":""},"",{"$f":"IF(AND(CY70=\"Yes\",CY69=\"\",CY68=\"\",CY67=\"\"),\"Yes\",\"\")","v":""},"",{"$f":"IF(AND(DA70=\"Yes\",DA69=\"\",DA68=\"\",DA67=\"\"),\"Yes\",\"\")","v":""},"","","",{"$f":"IF(AND(DE70=\"Yes\",DE69=\"\",DE68=\"\",DE67=\"\"),\"Yes\",\"\")","v":""},"",{"$f":"IF(AND(DG70=\"Yes\",DG69=\"\",DG68=\"\",DG67=\"\"),\"Yes\",\"\")","v":""},{"$f":"IF(AND(N70>='Warrant 7 & 8 - MUTCD'!$L$16,OR('Traffic Volume Input'!O70>='Warrant 7 & 8 - MUTCD'!$N$16,'Traffic Volume Input'!P70>='Warrant 7 & 8 - MUTCD'!$N$16)),\"Yes\",\"\")","v":""},"","",{"$f":"IF(AND(DK70=\"Yes\",DK69=\"\",DK68=\"\",DK67=\"\"),\"Yes\",\"\")","v":""},"",{"$f":"IF(AND(DM70=\"Yes\",DM69=\"\",DM68=\"\",DM67=\"\"),\"Yes\",\"\")","v":""},"",{"$f":"IF(AND(DO70=\"Yes\",DO69=\"\",DO68=\"\",DO67=\"\"),\"Yes\",\"\")","v":""},"",{"$f":"IF(AND(DQ70=\"Yes\",DQ69=\"\",DQ68=\"\",DQ67=\"\"),\"Yes\",\"\")","v":""},"",{"$f":"IF(AND(DS70=\"Yes\",DS69=\"\",DS68=\"\",DS67=\"\"),\"Yes\",\"\")","v":""},"",{"$f":"IF(AND(DU70=\"Yes\",DU69=\"\",DU68=\"\",DU67=\"\"),\"Yes\",\"\")","v":""},"",{"$f":"IF(AND(DW70=\"Yes\",DW69=\"\",DW68=\"\",DW67=\"\"),\"Yes\",\"\")","v":""},"",{"$f":"IF(AND(DY70=\"Yes\",DY69=\"\",DY68=\"\",DY67=\"\"),\"Yes\",\"\")","v":""},"",{"$f":"IF(AND(EA70=\"Yes\",EA69=\"\",EA68=\"\",EA67=\"\"),\"Yes\",\"\")","v":""},"",{"$f":"IF(AND(EC70=\"Yes\",EC69=\"\",EC68=\"\",EC67=\"\"),\"Yes\",\"\")","v":""},"",{"$f":"IF(AND(EE70=\"Yes\",EE69=\"\",EE68=\"\",EE67=\"\"),\"Yes\",\"\")","v":""},"",{"$f":"IF(AND(EG70=\"Yes\",EG69=\"\",EG68=\"\",EG67=\"\"),\"Yes\",\"\")","v":""},"",{"$f":"IF(AND(EI70=\"Yes\",EI69=\"\",EI68=\"\",EI67=\"\"),\"Yes\",\"\")","v":""},"",{"$f":"IF(AND(EK70=\"Yes\",EK69=\"\",EK68=\"\",EK67=\"\"),\"Yes\",\"\")","v":""},"",{"$f":"IF(AND(EM70=\"Yes\",EM69=\"\",EM68=\"\",EM67=\"\"),\"Yes\",\"\")","v":""},"",{"$f":"IF(AND(EO70=\"Yes\",EO69=\"\",EO68=\"\",EO67=\"\"),\"Yes\",\"\")","v":""},"",{"$f":"IF(AND(EQ70=\"Yes\",EQ69=\"\",EQ68=\"\",EQ67=\"\"),\"Yes\",\"\")","v":""},"",{"$f":"IF(AND(ES70=\"Yes\",ES69=\"\",ES68=\"\",ES67=\"\"),\"Yes\",\"\")","v":""},"",{"$f":"IF(AND(EU70=\"Yes\",EU69=\"\",EU68=\"\",EU67=\"\"),\"Yes\",\"\")","v":""},"",{"$f":"IF(AND(EW70=\"Yes\",EW69=\"\",EW68=\"\",EW67=\"\"),\"Yes\",\"\")","v":""},"","","",{"$f":"IF(AND(FA70=\"Yes\",FA69=\"\",FA68=\"\",FA67=\"\"),\"Yes\",\"\")","v":""},"","",{"$f":"IF(AND(N70>='Warrant 7 & 8 - MUTCD'!$L$25,OR('Traffic Volume Input'!O70>='Warrant 7 & 8 - MUTCD'!$N$25,'Traffic Volume Input'!P70>='Warrant 7 & 8 - MUTCD'!$N$25)),\"Yes\",\"\")","v":""},"","",{"$f":"IF(AND(FG70=\"Yes\",FG69=\"\",FG68=\"\",FG67=\"\"),\"Yes\",\"\")","v":""},"",{"$f":"IF(AND(FI70=\"Yes\",FI69=\"\",FI68=\"\",FI67=\"\"),\"Yes\",\"\")","v":""},"",{"$f":"IF(AND(FK70=\"Yes\",FK69=\"\",FK68=\"\",FK67=\"\"),\"Yes\",\"\")","v":""},"",{"$f":"IF(AND(FM70=\"Yes\",FM69=\"\",FM68=\"\",FM67=\"\"),\"Yes\",\"\")","v":""},"",{"$f":"IF(AND(FO70=\"Yes\",FO69=\"\",FO68=\"\",FO67=\"\"),\"Yes\",\"\")","v":""},"",{"$f":"IF(AND(FQ70=\"Yes\",FQ69=\"\",FQ68=\"\",FQ67=\"\"),\"Yes\",\"\")","v":""},"",{"$f":"IF(AND(FS70=\"Yes\",FS69=\"\",FS68=\"\",FS67=\"\"),\"Yes\",\"\")","v":""},"",{"$f":"IF(AND(FU70=\"Yes\",FU69=\"\",FU68=\"\",FU67=\"\"),\"Yes\",\"\")","v":""},"",{"$f":"IF(AND(FW70=\"Yes\",FW69=\"\",FW68=\"\",FW67=\"\"),\"Yes\",\"\")","v":""},"",{"$f":"IF(AND(FY70=\"Yes\",FY69=\"\",FY68=\"\",FY67=\"\"),\"Yes\",\"\")","v":""},"",{"$f":"IF(AND(GA70=\"Yes\",GA69=\"\",GA68=\"\",GA67=\"\"),\"Yes\",\"\")","v":""},"",{"$f":"IF(AND(GC70=\"Yes\",GC69=\"\",GC68=\"\",GC67=\"\"),\"Yes\",\"\")","v":""},"",{"$f":"IF(AND(GE70=\"Yes\",GE69=\"\",GE68=\"\",GE67=\"\"),\"Yes\",\"\")","v":""},"",{"$f":"IF(AND(GG70=\"Yes\",GG69=\"\",GG68=\"\",GG67=\"\"),\"Yes\",\"\")","v":""},"",{"$f":"IF(AND(GI70=\"Yes\",GI69=\"\",GI68=\"\",GI67=\"\"),\"Yes\",\"\")","v":""},"",{"$f":"IF(AND(GK70=\"Yes\",GK69=\"\",GK68=\"\",GK67=\"\"),\"Yes\",\"\")","v":""},"",{"$f":"IF(AND(GM70=\"Yes\",GM69=\"\",GM68=\"\",GM67=\"\"),\"Yes\",\"\")","v":""},"",{"$f":"IF(AND(GO70=\"Yes\",GO69=\"\",GO68=\"\",GO67=\"\"),\"Yes\",\"\")","v":""},"",{"$f":"IF(AND(GQ70=\"Yes\",GQ69=\"\",GQ68=\"\",GQ67=\"\"),\"Yes\",\"\")","v":""},"",{"$f":"IF(AND(GS70=\"Yes\",GS69=\"\",GS68=\"\",GS67=\"\"),\"Yes\",\"\")","v":""},"","","",{"$f":"IF(AND(GW70=\"Yes\",GW69=\"\",GW68=\"\",GW67=\"\"),\"Yes\",\"\")","v":""},"",""]
["16:15:00","16:29:00",null,null,{"$f":"C71+D71","v":0},null,null,null,null,"16:15:00","17:14:00",{"$f":"SUM(C71:C74)","v":0},0,{"$f":"L71+M71","v":0},{"$f":"SUM(F71:F74)","v":0},{"$f":"SUM(G71:G74)","v":0},{"$f":"IF(AND(N71>='Warrant 1 - MUTCD'!$M$23,OR('Traffic Volume Input'!O71>='Warrant 1 - MUTCD'!$Q$23,'Traffic Volume Input'!P71>='Warrant 1 - MUTCD'!$Q$23)),\"Yes\",\"\")","v":""},"","","","","","",{"$f":"IF(AND(W71=\"Yes\",W70=\"\",W69=\"\",W68=\"\"),\"Yes\",\"\")","v":""},"",{"$f":"IF(AND(Y71=\"Yes\",Y70=\"\",Y69=\"\",Y68=\"\"),\"Yes\",\"\")","v":""},"",{"$f":"IF(AND(AA71=\"Yes\",AA70=\"\",AA69=\"\",AA68=\"\"),\"Yes\",\"\")","v":""},"",{"$f":"IF(AND(AC71=\"Yes\",AC70=\"\",AC69=\"\",AC68=\"\"),\"Yes\",\"\")","v":""},"",{"$f":"IF(AND(AE71=\"Yes\",AE70=\"\",AE69=\"\",AE68=\"\"),\"Yes\",\"\")","v":""},"",{"$f":"IF(AND(AG71=\"Yes\",AG70=\"\",AG69=\"\",AG68=\"\"),\"Yes\",\"\")","v":""},"",{"$f":"IF(AND(AI71=\"Yes\",AI70=\"\",AI69=\"\",AI68=\"\"),\"Yes\",\"\")","v":""},"",{"$f":"IF(AND(AK71=\"Yes\",AK70=\"\",AK69=\"\",AK68=\"\"),\"Yes\",\"\")","v":""},"",{"$f":"IF(AND(AM71=\"Yes\",AM70=\"\",AM69=\"\",AM68=\"\"),\"Yes\",\"\")","v":""},"",{"$f":"IF(AND(AO71=\"Yes\",AO70=\"\",AO69=\"\",AO68=\"\"),\"Yes\",\"\")","v":""},"",{"$f":"IF(AND(AQ71=\"Yes\",AQ70=\"\",AQ69=\"\",AQ68=\"\"),\"Yes\",\"\")","v":""},"",{"$f":"IF(AND(AS71=\"Yes\",AS70=\"\",AS69=\"\",AS68=\"\"),\"Yes\",\"\")","v":""},"",{"$f":"IF(AND(AU71=\"Yes\",AU70=\"\",AU69=\"\",AU68=\"\"),\"Yes\",\"\")","v":""},"",{"$f":"IF(AND(AW71=\"Yes\",AW70=\"\",AW69=\"\",AW68=\"\"),\"Yes\",\"\")","v":""},"",{"$f":"IF(AND(AY71=\"Yes\",AY70=\"\",AY69=\"\",AY68=\"\"),\"Yes\",\"\")","v":""},"",{"$f":"IF(AND(BA71=\"Yes\",BA70=\"\",BA69=\"\",BA68=\"\"),\"Yes\",\"\")","v":""},"",{"$f":"IF(AND(BC71=\"Yes\",BC70=\"\",BC69=\"\",BC68=\"\"),\"Yes\",\"\")","v":""},"",{"$f":"IF(AND(BE71=\"Yes\",BE70=\"\",BE69=\"\",BE68=\"\"),\"Yes\",\"\")","v":""},"",{"$f":"IF(AND(BG71=\"Yes\",BG70=\"\",BG69=\"\",BG68=\"\"),\"Yes\",\"\")","v":""},"",{"$f":"IF(AND(BI71=\"Yes\",BI70=\"\",BI69=\"\",BI68=\"\"),\"Yes\",\"\")","v":""},"","",{"$f":"IF(AND(N71>='Warrant 1 - MUTCD'!$M$32,OR('Traffic Volume Input'!O71>='Warrant 1 - MUTCD'!$Q$32,'Traffic Volume Input'!P71>='Warrant 1 - MUTCD'!$Q$32)),\"Yes\",\"\")","v":""},"","",{"$f":"IF(AND(BO71=\"Yes\",BO70=\"\",BO69=\"\",BO68=\"\"),\"Yes\",\"\")","v":""},"",{"$f":"IF(AND(BQ71=\"Yes\",BQ70=\"\",BQ69=\"\",BQ68=\"\"),\"Yes\",\"\")","v":""},"",{"$f":"IF(AND(BS71=\"Yes\",BS70=\"\",BS69=\"\",BS68=\"\"),\"Yes\",\"\")","v":""},"",{"$f":"IF(AND(BU71=\"Yes\",BU70=\"\",BU69=\"\",BU68=\"\"),\"Yes\",\"\")","v":""},"",{"$f":"IF(AND(BW71=\"Yes\",BW70=\"\",BW69=\"\",BW68=\"\"),\"Yes\",\"\")","v":""},"",{"$f":"IF(AND(BY71=\"Yes\",BY70=\"\",BY69=\"\",BY68=\"\"),\"Yes\",\"\")","v":""},"",{"$f":"IF(AND(CA71=\"Yes\",CA70=\"\",CA69=\"\",CA68=\"\"),\"Yes\",\"\")","v":""},"",{"$f":"IF(AND(CC71=\"Yes\",CC70=\"\",CC69=\"\",CC68=\"\"),\"Yes\",\"\")","v":""},"",{"$f":"IF(AND(CE71=\"Yes\",CE70=\"\",CE69=\"\",CE68=\"\"),\"Yes\",\"\")","v":""},"",{"$f":"IF(AND(CG71=\"Yes\",CG70=\"\",CG69=\"\",CG68=\"\"),\"Yes\",\"\")","v":""},"",{"$f":"IF(AND(CI71=\"Yes\",CI70=\"\",CI69=\"\",CI68=\"\"),\"Yes\",\"\")","v":""},"",{"$f":"IF(AND(CK71=\"Yes\",CK70=\"\",CK69=\"\",CK68=\"\"),\"Yes\",\"\")","v":""},"",{"$f":"IF(AND(CM71=\"Yes\",CM70=\"\",CM69=\"\",CM68=\"\"),\"Yes\",\"\")","v":""},"",{"$f":"IF(AND(CO71=\"Yes\",CO70=\"\",CO69=\"\",CO68=\"\"),\"Yes\",\"\")","v":""},"",{"$f":"IF(AND(CQ71=\"Yes\",CQ70=\"\",CQ69=\"\",CQ68=\"\"),\"Yes\",\"\")","v":""},"",{"$f":"IF(AND(CS71=\"Yes\",CS70=\"\",CS69=\"\",CS68=\"\"),\"Yes\",\"\")","v":""},"",{"$f":"IF(AND(CU71=\"Yes\",CU70=\"\",CU69=\"\",CU68=\"\"),\"Yes\",\"\")","v":""},"",{"$f":"IF(AND(CW71=\"Yes\",CW70=\"\",CW69=\"\",CW68=\"\"),\"Yes\",\"\")","v":""},"",{"$f":"IF(AND(CY71=\"Yes\",CY70=\"\",CY69=\"\",CY68=\"\"),\"Yes\",\"\")","v":""},"",{"$f":"IF(AND(DA71=\"Yes\",DA70=\"\",DA69=\"\",DA68=\"\"),\"Yes\",\"\")","v":""},"","","",{"$f":"IF(AND(DE71=\"Yes\",DE70=\"\",DE69=\"\",DE68=\"\"),\"Yes\",\"\")","v":""},"",{"$f":"IF(AND(DG71=\"Yes\",DG70=\"\",DG69=\"\",DG68=\"\"),\"Yes\",\"\")","v":""},{"$f":"IF(AND(N71>='Warrant 7 & 8 - MUTCD'!$L$16,OR('Traffic Volume Input'!O71>='Warrant 7 & 8 - MUTCD'!$N$16,'Traffic Volume Input'!P71>='Warrant 7 & 8 - MUTCD'!$N$16)),\"Yes\",\"\")","v":""},"","",{"$f":"IF(AND(DK71=\"Yes\",DK70=\"\",DK69=\"\",DK68=\"\"),\"Yes\",\"\")","v":""},"",{"$f":"IF(AND(DM71=\"Yes\",DM70=\"\",DM69=\"\",DM68=\"\"),\"Yes\",\"\")","v":""},"",{"$f":"IF(AND(DO71=\"Yes\",DO70=\"\",DO69=\"\",DO68=\"\"),\"Yes\",\"\")","v":""},"",{"$f":"IF(AND(DQ71=\"Yes\",DQ70=\"\",DQ69=\"\",DQ68=\"\"),\"Yes\",\"\")","v":""},"",{"$f":"IF(AND(DS71=\"Yes\",DS70=\"\",DS69=\"\",DS68=\"\"),\"Yes\",\"\")","v":""},"",{"$f":"IF(AND(DU71=\"Yes\",DU70=\"\",DU69=\"\",DU68=\"\"),\"Yes\",\"\")","v":""},"",{"$f":"IF(AND(DW71=\"Yes\",DW70=\"\",DW69=\"\",DW68=\"\"),\"Yes\",\"\")","v":""},"",{"$f":"IF(AND(DY71=\"Yes\",DY70=\"\",DY69=\"\",DY68=\"\"),\"Yes\",\"\")","v":""},"",{"$f":"IF(AND(EA71=\"Yes\",EA70=\"\",EA69=\"\",EA68=\"\"),\"Yes\",\"\")","v":""},"",{"$f":"IF(AND(EC71=\"Yes\",EC70=\"\",EC69=\"\",EC68=\"\"),\"Yes\",\"\")","v":""},"",{"$f":"IF(AND(EE71=\"Yes\",EE70=\"\",EE69=\"\",EE68=\"\"),\"Yes\",\"\")","v":""},"",{"$f":"IF(AND(EG71=\"Yes\",EG70=\"\",EG69=\"\",EG68=\"\"),\"Yes\",\"\")","v":""},"",{"$f":"IF(AND(EI71=\"Yes\",EI70=\"\",EI69=\"\",EI68=\"\"),\"Yes\",\"\")","v":""},"",{"$f":"IF(AND(EK71=\"Yes\",EK70=\"\",EK69=\"\",EK68=\"\"),\"Yes\",\"\")","v":""},"",{"$f":"IF(AND(EM71=\"Yes\",EM70=\"\",EM69=\"\",EM68=\"\"),\"Yes\",\"\")","v":""},"",{"$f":"IF(AND(EO71=\"Yes\",EO70=\"\",EO69=\"\",EO68=\"\"),\"Yes\",\"\")","v":""},"",{"$f":"IF(AND(EQ71=\"Yes\",EQ70=\"\",EQ69=\"\",EQ68=\"\"),\"Yes\",\"\")","v":""},"",{"$f":"IF(AND(ES71=\"Yes\",ES70=\"\",ES69=\"\",ES68=\"\"),\"Yes\",\"\")","v":""},"",{"$f":"IF(AND(EU71=\"Yes\",EU70=\"\",EU69=\"\",EU68=\"\"),\"Yes\",\"\")","v":""},"",{"$f":"IF(AND(EW71=\"Yes\",EW70=\"\",EW69=\"\",EW68=\"\"),\"Yes\",\"\")","v":""},"","","",{"$f":"IF(AND(FA71=\"Yes\",FA70=\"\",FA69=\"\",FA68=\"\"),\"Yes\",\"\")","v":""},"","",{"$f":"IF(AND(N71>='Warrant 7 & 8 - MUTCD'!$L$25,OR('Traffic Volume Input'!O71>='Warrant 7 & 8 - MUTCD'!$N$25,'Traffic Volume Input'!P71>='Warrant 7 & 8 - MUTCD'!$N$25)),\"Yes\",\"\")","v":""},"","",{"$f":"IF(AND(FG71=\"Yes\",FG70=\"\",FG69=\"\",FG68=\"\"),\"Yes\",\"\")","v":""},"",{"$f":"IF(AND(FI71=\"Yes\",FI70=\"\",FI69=\"\",FI68=\"\"),\"Yes\",\"\")","v":""},"",{"$f":"IF(AND(FK71=\"Yes\",FK70=\"\",FK69=\"\",FK68=\"\"),\"Yes\",\"\")","v":""},"",{"$f":"IF(AND(FM71=\"Yes\",FM70=\"\",FM69=\"\",FM68=\"\"),\"Yes\",\"\")","v":""},"",{"$f":"IF(AND(FO71=\"Yes\",FO70=\"\",FO69=\"\",FO68=\"\"),\"Yes\",\"\")","v":""},"",{"$f":"IF(AND(FQ71=\"Yes\",FQ70=\"\",FQ69=\"\",FQ68=\"\"),\"Yes\",\"\")","v":""},"",{"$f":"IF(AND(FS71=\"Yes\",FS70=\"\",FS69=\"\",FS68=\"\"),\"Yes\",\"\")","v":""},"",{"$f":"IF(AND(FU71=\"Yes\",FU70=\"\",FU69=\"\",FU68=\"\"),\"Yes\",\"\")","v":""},"",{"$f":"IF(AND(FW71=\"Yes\",FW70=\"\",FW69=\"\",FW68=\"\"),\"Yes\",\"\")","v":""},"",{"$f":"IF(AND(FY71=\"Yes\",FY70=\"\",FY69=\"\",FY68=\"\"),\"Yes\",\"\")","v":""},"",{"$f":"IF(AND(GA71=\"Yes\",GA70=\"\",GA69=\"\",GA68=\"\"),\"Yes\",\"\")","v":""},"",{"$f":"IF(AND(GC71=\"Yes\",GC70=\"\",GC69=\"\",GC68=\"\"),\"Yes\",\"\")","v":""},"",{"$f":"IF(AND(GE71=\"Yes\",GE70=\"\",GE69=\"\",GE68=\"\"),\"Yes\",\"\")","v":""},"",{"$f":"IF(AND(GG71=\"Yes\",GG70=\"\",GG69=\"\",GG68=\"\"),\"Yes\",\"\")","v":""},"",{"$f":"IF(AND(GI71=\"Yes\",GI70=\"\",GI69=\"\",GI68=\"\"),\"Yes\",\"\")","v":""},"",{"$f":"IF(AND(GK71=\"Yes\",GK70=\"\",GK69=\"\",GK68=\"\"),\"Yes\",\"\")","v":""},"",{"$f":"IF(AND(GM71=\"Yes\",GM70=\"\",GM69=\"\",GM68=\"\"),\"Yes\",\"\")","v":""},"",{"$f":"IF(AND(GO71=\"Yes\",GO70=\"\",GO69=\"\",GO68=\"\"),\"Yes\",\"\")","v":""},"",{"$f":"IF(AND(GQ71=\"Yes\",GQ70=\"\",GQ69=\"\",GQ68=\"\"),\"Yes\",\"\")","v":""},"",{"$f":"IF(AND(GS71=\"Yes\",GS70=\"\",GS69=\"\",GS68=\"\"),\"Yes\",\"\")","v":""},"","","",{"$f":"IF(AND(GW71=\"Yes\",GW70=\"\",GW69=\"\",GW68=\"\"),\"Yes\",\"\")","v":""},"",""]
["16:30:00","16:44:00",null,null,0,null,null,null,null,"16:30:00","17:29:00",{"$f":"SUM(C72:C75)","v":0},0,0,0,0,{"$f":"IF(AND(N72>='Warrant 1 - MUTCD'!$M$23,OR('Traffic Volume Input'!O72>='Warrant 1 - MUTCD'!$Q$23,'Traffic Volume Input'!P72>='Warrant 1 - MUTCD'!$Q$23)),\"Yes\",\"\")","v":""},"","","","","","",{"$f":"IF(AND(W72=\"Yes\",W71=\"\",W70=\"\",W69=\"\"),\"Yes\",\"\")","v":""},"",{"$f":"IF(AND(Y72=\"Yes\",Y71=\"\",Y70=\"\",Y69=\"\"),\"Yes\",\"\")","v":""},"",{"$f":"IF(AND(AA72=\"Yes\",AA71=\"\",AA70=\"\",AA69=\"\"),\"Yes\",\"\")","v":""},"",{"$f":"IF(AND(AC72=\"Yes\",AC71=\"\",AC70=\"\",AC69=\"\"),\"Yes\",\"\")","v":""},"",{"$f":"IF(AND(AE72=\"Yes\",AE71=\"\",AE70=\"\",AE69=\"\"),\"Yes\",\"\")","v":""},"",{"$f":"IF(AND(AG72=\"Yes\",AG71=\"\",AG70=\"\",AG69=\"\"),\"Yes\",\"\")","v":""},"",{"$f":"IF(AND(AI72=\"Yes\",AI71=\"\",AI70=\"\",AI69=\"\"),\"Yes\",\"\")","v":""},"",{"$f":"IF(AND(AK72=\"Yes\",AK71=\"\",AK70=\"\",AK69=\"\"),\"Yes\",\"\")","v":""},"",{"$f":"IF(AND(AM72=\"Yes\",AM71=\"\",AM70=\"\",AM69=\"\"),\"Yes\",\"\")","v":""},"",{"$f":"IF(AND(AO72=\"Yes\",AO71=\"\",AO70=\"\",AO69=\"\"),\"Yes\",\"\")","v":""},"",{"$f":"IF(AND(AQ72=\"Yes\",AQ71=\"\",AQ70=\"\",AQ69=\"\"),\"Yes\",\"\")","v":""},"",{"$f":"IF(AND(AS72=\"Yes\",AS71=\"\",AS70=\"\",AS69=\"\"),\"Yes\",\"\")","v":""},"",{"$f":"IF(AND(AU72=\"Yes\",AU71=\"\",AU70=\"\",AU69=\"\"),\"Yes\",\"\")","v":""},"",{"$f":"IF(AND(AW72=\"Yes\",AW71=\"\",AW70=\"\",AW69=\"\"),\"Yes\",\"\")","v":""},"",{"$f":"IF(AND(AY72=\"Yes\",AY71=\"\",AY70=\"\",AY69=\"\"),\"Yes\",\"\")","v":""},"",{"$f":"IF(AND(BA72=\"Yes\",BA71=\"\",BA70=\"\",BA69=\"\"),\"Yes\",\"\")","v":""},"",{"$f":"IF(AND(BC72=\"Yes\",BC71=\"\",BC70=\"\",BC69=\"\"),\"Yes\",\"\")","v":""},"",{"$f":"IF(AND(BE72=\"Yes\",BE71=\"\",BE70=\"\",BE69=\"\"),\"Yes\",\"\")","v":""},"",{"$f":"IF(AND(BG72=\"Yes\",BG71=\"\",BG70=\"\",BG69=\"\"),\"Yes\",\"\")","v":""},"",{"$f":"IF(AND(BI72=\"Yes\",BI71=\"\",BI70=\"\",BI69=\"\"),\"Yes\",\"\")","v":""},"","",{"$f":"IF(AND(N72>='Warrant 1 - MUTCD'!$M$32,OR('Traffic Volume Input'!O72>='Warrant 1 - MUTCD'!$Q$32,'Traffic Volume Input'!P72>='Warrant 1 - MUTCD'!$Q$32)),\"Yes\",\"\")","v":""},"","",{"$f":"IF(AND(BO72=\"Yes\",BO71=\"\",BO70=\"\",BO69=\"\"),\"Yes\",\"\")","v":""},"",{"$f":"IF(AND(BQ72=\"Yes\",BQ71=\"\",BQ70=\"\",BQ69=\"\"),\"Yes\",\"\")","v":""},"",{"$f":"IF(AND(BS72=\"Yes\",BS71=\"\",BS70=\"\",BS69=\"\"),\"Yes\",\"\")","v":""},"",{"$f":"IF(AND(BU72=\"Yes\",BU71=\"\",BU70=\"\",BU69=\"\"),\"Yes\",\"\")","v":""},"",{"$f":"IF(AND(BW72=\"Yes\",BW71=\"\",BW70=\"\",BW69=\"\"),\"Yes\",\"\")","v":""},"",{"$f":"IF(AND(BY72=\"Yes\",BY71=\"\",BY70=\"\",BY69=\"\"),\"Yes\",\"\")","v":""},"",{"$f":"IF(AND(CA72=\"Yes\",CA71=\"\",CA70=\"\",CA69=\"\"),\"Yes\",\"\")","v":""},"",{"$f":"IF(AND(CC72=\"Yes\",CC71=\"\",CC70=\"\",CC69=\"\"),\"Yes\",\"\")","v":""},"",{"$f":"IF(AND(CE72=\"Yes\",CE71=\"\",CE70=\"\",CE69=\"\"),\"Yes\",\"\")","v":""},"",{"$f":"IF(AND(CG72=\"Yes\",CG71=\"\",CG70=\"\",CG69=\"\"),\"Yes\",\"\")","v":""},"",{"$f":"IF(AND(CI72=\"Yes\",CI71=\"\",CI70=\"\",CI69=\"\"),\"Yes\",\"\")","v":""},"",{"$f":"IF(AND(CK72=\"Yes\",CK71=\"\",CK70=\"\",CK69=\"\"),\"Yes\",\"\")","v":""},"",{"$f":"IF(AND(CM72=\"Yes\",CM71=\"\",CM70=\"\",CM69=\"\"),\"Yes\",\"\")","v":""},"",{"$f":"IF(AND(CO72=\"Yes\",CO71=\"\",CO70=\"\",CO69=\"\"),\"Yes\",\"\")","v":""},"",{"$f":"IF(AND(CQ72=\"Yes\",CQ71=\"\",CQ70=\"\",CQ69=\"\"),\"Yes\",\"\")","v":""},"",{"$f":"IF(AND(CS72=\"Yes\",CS71=\"\",CS70=\"\",CS69=\"\"),\"Yes\",\"\")","v":""},"",{"$f":"IF(AND(CU72=\"Yes\",CU71=\"\",CU70=\"\",CU69=\"\"),\"Yes\",\"\")","v":""},"",{"$f":"IF(AND(CW72=\"Yes\",CW71=\"\",CW70=\"\",CW69=\"\"),\"Yes\",\"\")","v":""},"",{"$f":"IF(AND(CY72=\"Yes\",CY71=\"\",CY70=\"\",CY69=\"\"),\"Yes\",\"\")","v":""},"",{"$f":"IF(AND(DA72=\"Yes\",DA71=\"\",DA70=\"\",DA69=\"\"),\"Yes\",\"\")","v":""},"","","",{"$f":"IF(AND(DE72=\"Yes\",DE71=\"\",DE70=\"\",DE69=\"\"),\"Yes\",\"\")","v":""},"",{"$f":"IF(AND(DG72=\"Yes\",DG71=\"\",DG70=\"\",DG69=\"\"),\"Yes\",\"\")","v":""},{"$f":"IF(AND(N72>='Warrant 7 & 8 - MUTCD'!$L$16,OR('Traffic Volume Input'!O72>='Warrant 7 & 8 - MUTCD'!$N$16,'Traffic Volume Input'!P72>='Warrant 7 & 8 - MUTCD'!$N$16)),\"Yes\",\"\")","v":""},"","",{"$f":"IF(AND(DK72=\"Yes\",DK71=\"\",DK70=\"\",DK69=\"\"),\"Yes\",\"\")","v":""},"",{"$f":"IF(AND(DM72=\"Yes\",DM71=\"\",DM70=\"\",DM69=\"\"),\"Yes\",\"\")","v":""},"",{"$f":"IF(AND(DO72=\"Yes\",DO71=\"\",DO70=\"\",DO69=\"\"),\"Yes\",\"\")","v":""},"",{"$f":"IF(AND(DQ72=\"Yes\",DQ71=\"\",DQ70=\"\",DQ69=\"\"),\"Yes\",\"\")","v":""},"",{"$f":"IF(AND(DS72=\"Yes\",DS71=\"\",DS70=\"\",DS69=\"\"),\"Yes\",\"\")","v":""},"",{"$f":"IF(AND(DU72=\"Yes\",DU71=\"\",DU70=\"\",DU69=\"\"),\"Yes\",\"\")","v":""},"",{"$f":"IF(AND(DW72=\"Yes\",DW71=\"\",DW70=\"\",DW69=\"\"),\"Yes\",\"\")","v":""},"",{"$f":"IF(AND(DY72=\"Yes\",DY71=\"\",DY70=\"\",DY69=\"\"),\"Yes\",\"\")","v":""},"",{"$f":"IF(AND(EA72=\"Yes\",EA71=\"\",EA70=\"\",EA69=\"\"),\"Yes\",\"\")","v":""},"",{"$f":"IF(AND(EC72=\"Yes\",EC71=\"\",EC70=\"\",EC69=\"\"),\"Yes\",\"\")","v":""},"",{"$f":"IF(AND(EE72=\"Yes\",EE71=\"\",EE70=\"\",EE69=\"\"),\"Yes\",\"\")","v":""},"",{"$f":"IF(AND(EG72=\"Yes\",EG71=\"\",EG70=\"\",EG69=\"\"),\"Yes\",\"\")","v":""},"",{"$f":"IF(AND(EI72=\"Yes\",EI71=\"\",EI70=\"\",EI69=\"\"),\"Yes\",\"\")","v":""},"",{"$f":"IF(AND(EK72=\"Yes\",EK71=\"\",EK70=\"\",EK69=\"\"),\"Yes\",\"\")","v":""},"",{"$f":"IF(AND(EM72=\"Yes\",EM71=\"\",EM70=\"\",EM69=\"\"),\"Yes\",\"\")","v":""},"",{"$f":"IF(AND(EO72=\"Yes\",EO71=\"\",EO70=\"\",EO69=\"\"),\"Yes\",\"\")","v":""},"",{"$f":"IF(AND(EQ72=\"Yes\",EQ71=\"\",EQ70=\"\",EQ69=\"\"),\"Yes\",\"\")","v":""},"",{"$f":"IF(AND(ES72=\"Yes\",ES71=\"\",ES70=\"\",ES69=\"\"),\"Yes\",\"\")","v":""},"",{"$f":"IF(AND(EU72=\"Yes\",EU71=\"\",EU70=\"\",EU69=\"\"),\"Yes\",\"\")","v":""},"",{"$f":"IF(AND(EW72=\"Yes\",EW71=\"\",EW70=\"\",EW69=\"\"),\"Yes\",\"\")","v":""},"","","",{"$f":"IF(AND(FA72=\"Yes\",FA71=\"\",FA70=\"\",FA69=\"\"),\"Yes\",\"\")","v":""},"","",{"$f":"IF(AND(N72>='Warrant 7 & 8 - MUTCD'!$L$25,OR('Traffic Volume Input'!O72>='Warrant 7 & 8 - MUTCD'!$N$25,'Traffic Volume Input'!P72>='Warrant 7 & 8 - MUTCD'!$N$25)),\"Yes\",\"\")","v":""},"","",{"$f":"IF(AND(FG72=\"Yes\",FG71=\"\",FG70=\"\",FG69=\"\"),\"Yes\",\"\")","v":""},"",{"$f":"IF(AND(FI72=\"Yes\",FI71=\"\",FI70=\"\",FI69=\"\"),\"Yes\",\"\")","v":""},"",{"$f":"IF(AND(FK72=\"Yes\",FK71=\"\",FK70=\"\",FK69=\"\"),\"Yes\",\"\")","v":""},"",{"$f":"IF(AND(FM72=\"Yes\",FM71=\"\",FM70=\"\",FM69=\"\"),\"Yes\",\"\")","v":""},"",{"$f":"IF(AND(FO72=\"Yes\",FO71=\"\",FO70=\"\",FO69=\"\"),\"Yes\",\"\")","v":""},"",{"$f":"IF(AND(FQ72=\"Yes\",FQ71=\"\",FQ70=\"\",FQ69=\"\"),\"Yes\",\"\")","v":""},"",{"$f":"IF(AND(FS72=\"Yes\",FS71=\"\",FS70=\"\",FS69=\"\"),\"Yes\",\"\")","v":""},"",{"$f":"IF(AND(FU72=\"Yes\",FU71=\"\",FU70=\"\",FU69=\"\"),\"Yes\",\"\")","v":""},"",{"$f":"IF(AND(FW72=\"Yes\",FW71=\"\",FW70=\"\",FW69=\"\"),\"Yes\",\"\")","v":""},"",{"$f":"IF(AND(FY72=\"Yes\",FY71=\"\",FY70=\"\",FY69=\"\"),\"Yes\",\"\")","v":""},"",{"$f":"IF(AND(GA72=\"Yes\",GA71=\"\",GA70=\"\",GA69=\"\"),\"Yes\",\"\")","v":""},"",{"$f":"IF(AND(GC72=\"Yes\",GC71=\"\",GC70=\"\",GC69=\"\"),\"Yes\",\"\")","v":""},"",{"$f":"IF(AND(GE72=\"Yes\",GE71=\"\",GE70=\"\",GE69=\"\"),\"Yes\",\"\")","v":""},"",{"$f":"IF(AND(GG72=\"Yes\",GG71=\"\",GG70=\"\",GG69=\"\"),\"Yes\",\"\")","v":""},"",{"$f":"IF(AND(GI72=\"Yes\",GI71=\"\",GI70=\"\",GI69=\"\"),\"Yes\",\"\")","v":""},"",{"$f":"IF(AND(GK72=\"Yes\",GK71=\"\",GK70=\"\",GK69=\"\"),\"Yes\",\"\")","v":""},"",{"$f":"IF(AND(GM72=\"Yes\",GM71=\"\",GM70=\"\",GM69=\"\"),\"Yes\",\"\")","v":""},"",{"$f":"IF(AND(GO72=\"Yes\",GO71=\"\",GO70=\"\",GO69=\"\"),\"Yes\",\"\")","v":""},"",{"$f":"IF(AND(GQ72=\"Yes\",GQ71=\"\",GQ70=\"\",GQ69=\"\"),\"Yes\",\"\")","v":""},"",{"$f":"IF(AND(GS72=\"Yes\",GS71=\"\",GS70=\"\",GS69=\"\"),\"Yes\",\"\")","v":""},"","","",{"$f":"IF(AND(GW72=\"Yes\",GW71=\"\",GW70=\"\",GW69=\"\"),\"Yes\",\"\")","v":""},"",""]
["16:45:00","16:59:00",null,null,0,null,null,null,null,"16:45:00","17:44:00",0,0,0,0,0,{"$f":"IF(AND(N73>='Warrant 1 - MUTCD'!$M$23,OR('Traffic Volume Input'!O73>='Warrant 1 - MUTCD'!$Q$23,'Traffic Volume Input'!P73>='Warrant 1 - MUTCD'!$Q$23)),\"Yes\",\"\")","v":""},"","","","","","",{"$f":"IF(AND(W73=\"Yes\",W72=\"\",W71=\"\",W70=\"\"),\"Yes\",\"\")","v":""},"",{"$f":"IF(AND(Y73=\"Yes\",Y72=\"\",Y71=\"\",Y70=\"\"),\"Yes\",\"\")","v":""},"",{"$f":"IF(AND(AA73=\"Yes\",AA72=\"\",AA71=\"\",AA70=\"\"),\"Yes\",\"\")","v":""},"",{"$f":"IF(AND(AC73=\"Yes\",AC72=\"\",AC71=\"\",AC70=\"\"),\"Yes\",\"\")","v":""},{"$f":"IF(OR(AD73=\"Yes\",AD72=\"Yes\",AD71=\"Yes\",AD70=\"Yes\"),\"\",IF(AC73=\"Yes\",\"Yes\",\"\"))","v":""},{"$f":"IF(AND(AE73=\"Yes\",AE72=\"\",AE71=\"\",AE70=\"\"),\"Yes\",\"\")","v":""},{"$f":"IF(OR(AF73=\"Yes\",AF72=\"Yes\",AF71=\"Yes\",AF70=\"Yes\"),\"\",IF(AE73=\"Yes\",\"Yes\",\"\"))","v":""},{"$f":"IF(AND(AG73=\"Yes\",AG72=\"\",AG71=\"\",AG70=\"\"),\"Yes\",\"\")","v":""},{"$f":"IF(OR(AH73=\"Yes\",AH72=\"Yes\",AH71=\"Yes\",AH70=\"Yes\"),\"\",IF(AG73=\"Yes\",\"Yes\",\"\"))","v":""},{"$f":"IF(AND(AI73=\"Yes\",AI72=\"\",AI71=\"\",AI70=\"\"),\"Yes\",\"\")","v":""},{"$f":"IF(OR(AJ73=\"Yes\",AJ72=\"Yes\",AJ71=\"Yes\",AJ70=\"Yes\"),\"\",IF(AI73=\"Yes\",\"Yes\",\"\"))","v":""},{"$f":"IF(AND(AK73=\"Yes\",AK72=\"\",AK71=\"\",AK70=\"\"),\"Yes\",\"\")","v":""},{"$f":"IF(OR(AL73=\"Yes\",AL72=\"Yes\",AL71=\"Yes\",AL70=\"Yes\"),\"\",IF(AK73=\"Yes\",\"Yes\",\"\"))","v":""},{"$f":"IF(AND(AM73=\"Yes\",AM72=\"\",AM71=\"\",AM70=\"\"),\"Yes\",\"\")","v":""},{"$f":"IF(OR(AN73=\"Yes\",AN72=\"Yes\",AN71=\"Yes\",AN70=\"Yes\"),\"\",IF(AM73=\"Yes\",\"Yes\",\"\"))","v":""},{"$f":"IF(AND(AO73=\"Yes\",AO72=\"\",AO71=\"\",AO70=\"\"),\"Yes\",\"\")","v":""},{"$f":"IF(OR(AP73=\"Yes\",AP72=\"Yes\",AP71=\"Yes\",AP70=\"Yes\"),\"\",IF(AO73=\"Yes\",\"Yes\",\"\"))","v":""},{"$f":"IF(AND(AQ73=\"Yes\",AQ72=\"\",AQ71=\"\",AQ70=\"\"),\"Yes\",\"\")","v":""},{"$f":"IF(OR(AR73=\"Yes\",AR72=\"Yes\",AR71=\"Yes\",AR70=\"Yes\"),\"\",IF(AQ73=\"Yes\",\"Yes\",\"\"))","v":""},{"$f":"IF(AND(AS73=\"Yes\",AS72=\"\",AS71=\"\",AS70=\"\"),\"Yes\",\"\")","v":""},{"$f":"IF(OR(AT73=\"Yes\",AT72=\"Yes\",AT71=\"Yes\",AT70=\"Yes\"),\"\",IF(AS73=\"Yes\",\"Yes\",\"\"))","v":""},{"$f":"IF(AND(AU73=\"Yes\",AU72=\"\",AU71=\"\",AU70=\"\"),\"Yes\",\"\")","v":""},{"$f":"IF(OR(AV73=\"Yes\",AV72=\"Yes\",AV71=\"Yes\",AV70=\"Yes\"),\"\",IF(AU73=\"Yes\",\"Yes\",\"\"))","v":""},{"$f":"IF(AND(AW73=\"Yes\",AW72=\"\",AW71=\"\",AW70=\"\"),\"Yes\",\"\")","v":""},{"$f":"IF(OR(AX73=\"Yes\",AX72=\"Yes\",AX71=\"Yes\",AX70=\"Yes\"),\"\",IF(AW73=\"Yes\",\"Yes\",\"\"))","v":""},{"$f":"IF(AND(AY73=\"Yes\",AY72=\"\",AY71=\"\",AY70=\"\"),\"Yes\",\"\")","v":""},{"$f":"IF(OR(AZ73=\"Yes\",AZ72=\"Yes\",AZ71=\"Yes\",AZ70=\"Yes\"),\"\",IF(AY73=\"Yes\",\"Yes\",\"\"))","v":""},{"$f":"IF(AND(BA73=\"Yes\",BA72=\"\",BA71=\"\",BA70=\"\"),\"Yes\",\"\")","v":""},{"$f":"IF(OR(BB73=\"Yes\",BB72=\"Yes\",BB71=\"Yes\",BB70=\"Yes\"),\"\",IF(BA73=\"Yes\",\"Yes\",\"\"))","v":""},{"$f":"IF(AND(BC73=\"Yes\",BC72=\"\",BC71=\"\",BC70=\"\"),\"Yes\",\"\")","v":""},{"$f":"IF(OR(BD73=\"Yes\",BD72=\"Yes\",BD71=\"Yes\",BD70=\"Yes\"),\"\",IF(BC73=\"Yes\",\"Yes\",\"\"))","v":""},{"$f":"IF(AND(BE73=\"Yes\",BE72=\"\",BE71=\"\",BE70=\"\"),\"Yes\",\"\")","v":""},{"$f":"IF(OR(BF73=\"Yes\",BF72=\"Yes\",BF71=\"Yes\",BF70=\"Yes\"),\"\",IF(BE73=\"Yes\",\"Yes\",\"\"))","v":""},{"$f":"IF(AND(BG73=\"Yes\",BG72=\"\",BG71=\"\",BG70=\"\"),\"Yes\",\"\")","v":""},{"$f":"IF(OR(BH73=\"Yes\",BH72=\"Yes\",BH71=\"Yes\",BH70=\"Yes\"),\"\",IF(BG73=\"Yes\",\"Yes\",\"\"))","v":""},{"$f":"IF(AND(BI73=\"Yes\",BI72=\"\",BI71=\"\",BI70=\"\"),\"Yes\",\"\")","v":""},{"$f":"IF(OR(BJ73=\"Yes\",BJ72=\"Yes\",BJ71=\"Yes\",BJ70=\"Yes\"),\"\",IF(BI73=\"Yes\",\"Yes\",\"\"))","v":""},"",{"$f":"IF(AND(N73>='Warrant 1 - MUTCD'!$M$32,OR('Traffic Volume Input'!O73>='Warrant 1 - MUTCD'!$Q$32,'Traffic Volume Input'!P73>='Warrant 1 - MUTCD'!$Q$32)),\"Yes\",\"\")","v":""},"","",{"$f":"IF(AND(BO73=\"Yes\",BO72=\"\",BO71=\"\",BO70=\"\"),\"Yes\",\"\")","v":""},"",{"$f":"IF(AND(BQ73=\"Yes\",BQ72=\"\",BQ71=\"\",BQ70=\"\"),\"Yes\",\"\")","v":""},"",{"$f":"IF(AND(BS73=\"Yes\",BS72=\"\",BS71=\"\",BS70=\"\"),\"Yes\",\"\")","v":""},"",{"$f":"IF(AND(BU73=\"Yes\",BU72=\"\",BU71=\"\",BU70=\"\"),\"Yes\",\"\")","v":""},"",{"$f":"IF(AND(BW73=\"Yes\",BW72=\"\",BW71=\"\",BW70=\"\"),\"Yes\",\"\")","v":""},"",{"$f":"IF(AND(BY73=\"Yes\",BY72=\"\",BY71=\"\",BY70=\"\"),\"Yes\",\"\")","v":""},{"$f":"IF(OR(BZ73=\"Yes\",BZ72=\"Yes\",BZ71=\"Yes\",BZ70=\"Yes\"),\"\",IF(BY73=\"Yes\",\"Yes\",\"\"))","v":""},{"$f":"IF(AND(CA73=\"Yes\",CA72=\"\",CA71=\"\",CA70=\"\"),\"Yes\",\"\")","v":""},{"$f":"IF(OR(CB73=\"Yes\",CB72=\"Yes\",CB71=\"Yes\",CB70=\"Yes\"),\"\",IF(CA73=\"Yes\",\"Yes\",\"\"))","v":""},{"$f":"IF(AND(CC73=\"Yes\",CC72=\"\",CC71=\"\",CC70=\"\"),\"Yes\",\"\")","v":""},{"$f":"IF(OR(CD73=\"Yes\",CD72=\"Yes\",CD71=\"Yes\",CD70=\"Yes\"),\"\",IF(CC73=\"Yes\",\"Yes\",\"\"))","v":""},{"$f":"IF(AND(CE73=\"Yes\",CE72=\"\",CE71=\"\",CE70=\"\"),\"Yes\",\"\")","v":""},{"$f":"IF(OR(CF73=\"Yes\",CF72=\"Yes\",CF71=\"Yes\",CF70=\"Yes\"),\"\",IF(CE73=\"Yes\",\"Yes\",\"\"))","v":""},{"$f":"IF(AND(CG73=\"Yes\",CG72=\"\",CG71=\"\",CG70=\"\"),\"Yes\",\"\")","v":""},{"$f":"IF(OR(CH73=\"Yes\",CH72=\"Yes\",CH71=\"Yes\",CH70=\"Yes\"),\"\",IF(CG73=\"Yes\",\"Yes\",\"\"))","v":""},{"$f":"IF(AND(CI73=\"Yes\",CI72=\"\",CI71=\"\",CI70=\"\"),\"Yes\",\"\")","v":""},{"$f":"IF(OR(CJ73=\"Yes\",CJ72=\"Yes\",CJ71=\"Yes\",CJ70=\"Yes\"),\"\",IF(CI73=\"Yes\",\"Yes\",\"\"))","v":""},{"$f":"IF(AND(CK73=\"Yes\",CK72=\"\",CK71=\"\",CK70=\"\"),\"Yes\",\"\")","v":""},{"$f":"IF(OR(CL73=\"Yes\",CL72=\"Yes\",CL71=\"Yes\",CL70=\"Yes\"),\"\",IF(CK73=\"Yes\",\"Yes\",\"\"))","v":""},{"$f":"IF(AND(CM73=\"Yes\",CM72=\"\",CM71=\"\",CM70=\"\"),\"Yes\",\"\")","v":""},{"$f":"IF(OR(CN73=\"Yes\",CN72=\"Yes\",CN71=\"Yes\",CN70=\"Yes\"),\"\",IF(CM73=\"Yes\",\"Yes\",\"\"))","v":""},{"$f":"IF(AND(CO73=\"Yes\",CO72=\"\",CO71=\"\",CO70=\"\"),\"Yes\",\"\")","v":""},{"$f":"IF(OR(CP73=\"Yes\",CP72=\"Yes\",CP71=\"Yes\",CP70=\"Yes\"),\"\",IF(CO73=\"Yes\",\"Yes\",\"\"))","v":""},{"$f":"IF(AND(CQ73=\"Yes\",CQ72=\"\",CQ71=\"\",CQ70=\"\"),\"Yes\",\"\")","v":""},{"$f":"IF(OR(CR73=\"Yes\",CR72=\"Yes\",CR71=\"Yes\",CR70=\"Yes\"),\"\",IF(CQ73=\"Yes\",\"Yes\",\"\"))","v":""},{"$f":"IF(AND(CS73=\"Yes\",CS72=\"\",CS71=\"\",CS70=\"\"),\"Yes\",\"\")","v":""},{"$f":"IF(OR(CT73=\"Yes\",CT72=\"Yes\",CT71=\"Yes\",CT70=\"Yes\"),\"\",IF(CS73=\"Yes\",\"Yes\",\"\"))","v":""},{"$f":"IF(AND(CU73=\"Yes\",CU72=\"\",CU71=\"\",CU70=\"\"),\"Yes\",\"\")","v":""},{"$f":"IF(OR(CV73=\"Yes\",CV72=\"Yes\",CV71=\"Yes\",CV70=\"Yes\"),\"\",IF(CU73=\"Yes\",\"Yes\",\"\"))","v":""},{"$f":"IF(AND(CW73=\"Yes\",CW72=\"\",CW71=\"\",CW70=\"\"),\"Yes\",\"\")","v":""},{"$f":"IF(OR(CX73=\"Yes\",CX72=\"Yes\",CX71=\"Yes\",CX70=\"Yes\"),\"\",IF(CW73=\"Yes\",\"Yes\",\"\"))","v":""},{"$f":"IF(AND(CY73=\"Yes\",CY72=\"\",CY71=\"\",CY70=\"\"),\"Yes\",\"\")","v":""},{"$f":"IF(OR(CZ73=\"Yes\",CZ72=\"Yes\",CZ71=\"Yes\",CZ70=\"Yes\"),\"\",IF(CY73=\"Yes\",\"Yes\",\"\"))","v":""},{"$f":"IF(AND(DA73=\"Yes\",DA72=\"\",DA71=\"\",DA70=\"\"),\"Yes\",\"\")","v":""},{"$f":"IF(OR(DB73=\"Yes\",DB72=\"Yes\",DB71=\"Yes\",DB70=\"Yes\"),\"\",IF(DA73=\"Yes\",\"Yes\",\"\"))","v":""},{"$f":"IF(AND(DC73=\"Yes\",DC72=\"\",DC71=\"\",DC70=\"\"),\"Yes\",\"\")","v":""},{"$f":"IF(OR(DD73=\"Yes\",DD72=\"Yes\",DD71=\"Yes\",DD70=\"Yes\"),\"\",IF(DC73=\"Yes\",\"Yes\",\"\"))","v":""},{"$f":"IF(AND(DE73=\"Yes\",DE72=\"\",DE71=\"\",DE70=\"\"),\"Yes\",\"\")","v":""},{"$f":"IF(OR(DF73=\"Yes\",DF72=\"Yes\",DF71=\"Yes\",DF70=\"Yes\"),\"\",IF(DE73=\"Yes\",\"Yes\",\"\"))","v":""},{"$f":"IF(AND(DG73=\"Yes\",DG72=\"\",DG71=\"\",DG70=\"\"),\"Yes\",\"\")","v":""},{"$f":"IF(AND(N73>='Warrant 7 & 8 - MUTCD'!$L$16,OR('Traffic Volume Input'!O73>='Warrant 7 & 8 - MUTCD'!$N$16,'Traffic Volume Input'!P73>='Warrant 7 & 8 - MUTCD'!$N$16)),\"Yes\",\"\")","v":""},"","",{"$f":"IF(AND(DK73=\"Yes\",DK72=\"\",DK71=\"\",DK70=\"\"),\"Yes\",\"\")","v":""},"",{"$f":"IF(AND(DM73=\"Yes\",DM72=\"\",DM71=\"\",DM70=\"\"),\"Yes\",\"\")","v":""},"",{"$f":"IF(AND(DO73=\"Yes\",DO72=\"\",DO71=\"\",DO70=\"\"),\"Yes\",\"\")","v":""},"",{"$f":"IF(AND(DQ73=\"Yes\",DQ72=\"\",DQ71=\"\",DQ70=\"\"),\"Yes\",\"\")","v":""},"",{"$f":"IF(AND(DS73=\"Yes\",DS72=\"\",DS71=\"\",DS70=\"\"),\"Yes\",\"\")","v":""},"",{"$f":"IF(AND(DU73=\"Yes\",DU72=\"\",DU71=\"\",DU70=\"\"),\"Yes\",\"\")","v":""},{"$f":"IF(OR(DV73=\"Yes\",DV72=\"Yes\",DV71=\"Yes\",DV70=\"Yes\"),\"\",IF(DU73=\"Yes\",\"Yes\",\"\"))","v":""},{"$f":"IF(AND(DW73=\"Yes\",DW72=\"\",DW71=\"\",DW70=\"\"),\"Yes\",\"\")","v":""},{"$f":"IF(OR(DX73=\"Yes\",DX72=\"Yes\",DX71=\"Yes\",DX70=\"Yes\"),\"\",IF(DW73=\"Yes\",\"Yes\",\"\"))","v":""},{"$f":"IF(AND(DY73=\"Yes\",DY72=\"\",DY71=\"\",DY70=\"\"),\"Yes\",\"\")","v":""},{"$f":"IF(OR(DZ73=\"Yes\",DZ72=\"Yes\",DZ71=\"Yes\",DZ70=\"Yes\"),\"\",IF(DY73=\"Yes\",\"Yes\",\"\"))","v":""},{"$f":"IF(AND(EA73=\"Yes\",EA72=\"\",EA71=\"\",EA70=\"\"),\"Yes\",\"\")","v":""},{"$f":"IF(OR(EB73=\"Yes\",EB72=\"Yes\",EB71=\"Yes\",EB70=\"Yes\"),\"\",IF(EA73=\"Yes\",\"Yes\",\"\"))","v":""},{"$f":"IF(AND(EC73=\"Yes\",EC72=\"\",EC71=\"\",EC70=\"\"),\"Yes\",\"\")","v":""},{"$f":"IF(OR(ED73=\"Yes\",ED72=\"Yes\",ED71=\"Yes\",ED70=\"Yes\"),\"\",IF(EC73=\"Yes\",\"Yes\",\"\"))","v":""},{"$f":"IF(AND(EE73=\"Yes\",EE72=\"\",EE71=\"\",EE70=\"\"),\"Yes\",\"\")","v":""},{"$f":"IF(OR(EF73=\"Yes\",EF72=\"Yes\",EF71=\"Yes\",EF70=\"Yes\"),\"\",IF(EE73=\"Yes\",\"Yes\",\"\"))","v":""},{"$f":"IF(AND(EG73=\"Yes\",EG72=\"\",EG71=\"\",EG70=\"\"),\"Yes\",\"\")","v":""},{"$f":"IF(OR(EH73=\"Yes\",EH72=\"Yes\",EH71=\"Yes\",EH70=\"Yes\"),\"\",IF(EG73=\"Yes\",\"Yes\",\"\"))","v":""},{"$f":"IF(AND(EI73=\"Yes\",EI72=\"\",EI71=\"\",EI70=\"\"),\"Yes\",\"\")","v":""},{"$f":"IF(OR(EJ73=\"Yes\",EJ72=\"Yes\",EJ71=\"Yes\",EJ70=\"Yes\"),\"\",IF(EI73=\"Yes\",\"Yes\",\"\"))","v":""},{"$f":"IF(AND(EK73=\"Yes\",EK72=\"\",EK71=\"\",EK70=\"\"),\"Yes\",\"\")","v":""},{"$f":"IF(OR(EL73=\"Yes\",EL72=\"Yes\",EL71=\"Yes\",EL70=\"Yes\"),\"\",IF(EK73=\"Yes\",\"Yes\",\"\"))","v":""},{"$f":"IF(AND(EM73=\"Yes\",EM72=\"\",EM71=\"\",EM70=\"\"),\"Yes\",\"\")","v":""},{"$f":"IF(OR(EN73=\"Yes\",EN72=\"Yes\",EN71=\"Yes\",EN70=\"Yes\"),\"\",IF(EM73=\"Yes\",\"Yes\",\"\"))","v":""},{"$f":"IF(AND(EO73=\"Yes\",EO72=\"\",EO71=\"\",EO70=\"\"),\"Yes\",\"\")","v":""},{"$f":"IF(OR(EP73=\"Yes\",EP72=\"Yes\",EP71=\"Yes\",EP70=\"Yes\"),\"\",IF(EO73=\"Yes\",\"Yes\",\"\"))","v":""},{"$f":"IF(AND(EQ73=\"Yes\",EQ72=\"\",EQ71=\"\",EQ70=\"\"),\"Yes\",\"\")","v":""},{"$f":"IF(OR(ER73=\"Yes\",ER72=\"Yes\",ER71=\"Yes\",ER70=\"Yes\"),\"\",IF(EQ73=\"Yes\",\"Yes\",\"\"))","v":""},{"$f":"IF(AND(ES73=\"Yes\",ES72=\"\",ES71=\"\",ES70=\"\"),\"Yes\",\"\")","v":""},{"$f":"IF(OR(ET73=\"Yes\",ET72=\"Yes\",ET71=\"Yes\",ET70=\"Yes\"),\"\",IF(ES73=\"Yes\",\"Yes\",\"\"))","v":""},{"$f":"IF(AND(EU73=\"Yes\",EU72=\"\",EU71=\"\",EU70=\"\"),\"Yes\",\"\")","v":""},{"$f":"IF(OR(EV73=\"Yes\",EV72=\"Yes\",EV71=\"Yes\",EV70=\"Yes\"),\"\",IF(EU73=\"Yes\",\"Yes\",\"\"))","v":""},{"$f":"IF(AND(EW73=\"Yes\",EW72=\"\",EW71=\"\",EW70=\"\"),\"Yes\",\"\")","v":""},{"$f":"IF(OR(EX73=\"Yes\",EX72=\"Yes\",EX71=\"Yes\",EX70=\"Yes\"),\"\",IF(EW73=\"Yes\",\"Yes\",\"\"))","v":""},{"$f":"IF(AND(EY73=\"Yes\",EY72=\"\",EY71=\"\",EY70=\"\"),\"Yes\",\"\")","v":""},{"$f":"IF(OR(EZ73=\"Yes\",EZ72=\"Yes\",EZ71=\"Yes\",EZ70=\"Yes\"),\"\",IF(EY73=\"Yes\",\"Yes\",\"\"))","v":""},{"$f":"IF(AND(FA73=\"Yes\",FA72=\"\",FA71=\"\",FA70=\"\"),\"Yes\",\"\")","v":""},{"$f":"IF(OR(FB73=\"Yes\",FB72=\"Yes\",FB71=\"Yes\",FB70=\"Yes\"),\"\",IF(FA73=\"Yes\",\"Yes\",\"\"))","v":""},{"$f":"IF(AND(FC73=\"Yes\",FC72=\"\",FC71=\"\",FC70=\"\"),\"Yes\",\"\")","v":""},{"$f":"IF(AND(N73>='Warrant 7 & 8 - MUTCD'!$L$25,OR('Traffic Volume Input'!O73>='Warrant 7 & 8 - MUTCD'!$N$25,'Traffic Volume Input'!P73>='Warrant 7 & 8 - MUTCD'!$N$25)),\"Yes\",\"\")","v":""},"","",{"$f":"IF(AND(FG73=\"Yes\",FG72=\"\",FG71=\"\",FG70=\"\"),\"Yes\",\"\")","v":""},"",{"$f":"IF(AND(FI73=\"Yes\",FI72=\"\",FI71=\"\",FI70=\"\"),\"Yes\",\"\")","v":""},"",{"$f":"IF(AND(FK73=\"Yes\",FK72=\"\",FK71=\"\",FK70=\"\"),\"Yes\",\"\")","v":""},"",{"$f":"IF(AND(FM73=\"Yes\",FM72=\"\",FM71=\"\",FM70=\"\"),\"Yes\",\"\")","v":""},"",{"$f":"IF(AND(FO73=\"Yes\",FO72=\"\",FO71=\"\",FO70=\"\"),\"Yes\",\"\")","v":""},"",{"$f":"IF(AND(FQ73=\"Yes\",FQ72=\"\",FQ71=\"\",FQ70=\"\"),\"Yes\",\"\")","v":""},{"$f":"IF(OR(FR73=\"Yes\",FR72=\"Yes\",FR71=\"Yes\",FR70=\"Yes\"),\"\",IF(FQ73=\"Yes\",\"Yes\",\"\"))","v":""},{"$f":"IF(AND(FS73=\"Yes\",FS72=\"\",FS71=\"\",FS70=\"\"),\"Yes\",\"\")","v":""},{"$f":"IF(OR(FT73=\"Yes\",FT72=\"Yes\",FT71=\"Yes\",FT70=\"Yes\"),\"\",IF(FS73=\"Yes\",\"Yes\",\"\"))","v":""},{"$f":"IF(AND(FU73=\"Yes\",FU72=\"\",FU71=\"\",FU70=\"\"),\"Yes\",\"\")","v":""},{"$f":"IF(OR(FV73=\"Yes\",FV72=\"Yes\",FV71=\"Yes\",FV70=\"Yes\"),\"\",IF(FU73=\"Yes\",\"Yes\",\"\"))","v":""},{"$f":"IF(AND(FW73=\"Yes\",FW72=\"\",FW71=\"\",FW70=\"\"),\"Yes\",\"\")","v":""},{"$f":"IF(OR(FX73=\"Yes\",FX72=\"Yes\",FX71=\"Yes\",FX70=\"Yes\"),\"\",IF(FW73=\"Yes\",\"Yes\",\"\"))","v":""},{"$f":"IF(AND(FY73=\"Yes\",FY72=\"\",FY71=\"\",FY70=\"\"),\"Yes\",\"\")","v":""},{"$f":"IF(OR(FZ73=\"Yes\",FZ72=\"Yes\",FZ71=\"Yes\",FZ70=\"Yes\"),\"\",IF(FY73=\"Yes\",\"Yes\",\"\"))","v":""},{"$f":"IF(AND(GA73=\"Yes\",GA72=\"\",GA71=\"\",GA70=\"\"),\"Yes\",\"\")","v":""},{"$f":"IF(OR(GB73=\"Yes\",GB72=\"Yes\",GB71=\"Yes\",GB70=\"Yes\"),\"\",IF(GA73=\"Yes\",\"Yes\",\"\"))","v":""},{"$f":"IF(AND(GC73=\"Yes\",GC72=\"\",GC71=\"\",GC70=\"\"),\"Yes\",\"\")","v":""},{"$f":"IF(OR(GD73=\"Yes\",GD72=\"Yes\",GD71=\"Yes\",GD70=\"Yes\"),\"\",IF(GC73=\"Yes\",\"Yes\",\"\"))","v":""},{"$f":"IF(AND(GE73=\"Yes\",GE72=\"\",GE71=\"\",GE70=\"\"),\"Yes\",\"\")","v":""},{"$f":"IF(OR(GF73=\"Yes\",GF72=\"Yes\",GF71=\"Yes\",GF70=\"Yes\"),\"\",IF(GE73=\"Yes\",\"Yes\",\"\"))","v":""},{"$f":"IF(AND(GG73=\"Yes\",GG72=\"\",GG71=\"\",GG70=\"\"),\"Yes\",\"\")","v":""},{"$f":"IF(OR(GH73=\"Yes\",GH72=\"Yes\",GH71=\"Yes\",GH70=\"Yes\"),\"\",IF(GG73=\"Yes\",\"Yes\",\"\"))","v":""},{"$f":"IF(AND(GI73=\"Yes\",GI72=\"\",GI71=\"\",GI70=\"\"),\"Yes\",\"\")","v":""},{"$f":"IF(OR(GJ73=\"Yes\",GJ72=\"Yes\",GJ71=\"Yes\",GJ70=\"Yes\"),\"\",IF(GI73=\"Yes\",\"Yes\",\"\"))","v":""},{"$f":"IF(AND(GK73=\"Yes\",GK72=\"\",GK71=\"\",GK70=\"\"),\"Yes\",\"\")","v":""},{"$f":"IF(OR(GL73=\"Yes\",GL72=\"Yes\",GL71=\"Yes\",GL70=\"Yes\"),\"\",IF(GK73=\"Yes\",\"Yes\",\"\"))","v":""},{"$f":"IF(AND(GM73=\"Yes\",GM72=\"\",GM71=\"\",GM70=\"\"),\"Yes\",\"\")","v":""},{"$f":"IF(OR(GN73=\"Yes\",GN72=\"Yes\",GN71=\"Yes\",GN70=\"Yes\"),\"\",IF(GM73=\"Yes\",\"Yes\",\"\"))","v":""},{"$f":"IF(AND(GO73=\"Yes\",GO72=\"\",GO71=\"\",GO70=\"\"),\"Yes\",\"\")","v":""},{"$f":"IF(OR(GP73=\"Yes\",GP72=\"Yes\",GP71=\"Yes\",GP70=\"Yes\"),\"\",IF(GO73=\"Yes\",\"Yes\",\"\"))","v":""},{"$f":"IF(AND(GQ73=\"Yes\",GQ72=\"\",GQ71=\"\",GQ70=\"\"),\"Yes\",\"\")","v":""},{"$f":"IF(OR(GR73=\"Yes\",GR72=\"Yes\",GR71=\"Yes\",GR70=\"Yes\"),\"\",IF(GQ73=\"Yes\",\"Yes\",\"\"))","v":""},{"$f":"IF(AND(GS73=\"Yes\",GS72=\"\",GS71=\"\",GS70=\"\"),\"Yes\",\"\")","v":""},{"$f":"IF(OR(GT73=\"Yes\",GT72=\"Yes\",GT71=\"Yes\",GT70=\"Yes\"),\"\",IF(GS73=\"Yes\",\"Yes\",\"\"))","v":""},{"$f":"IF(AND(GU73=\"Yes\",GU72=\"\",GU71=\"\",GU70=\"\"),\"Yes\",\"\")","v":""},{"$f":"IF(OR(GV73=\"Yes\",GV72=\"Yes\",GV71=\"Yes\",GV70=\"Yes\"),\"\",IF(GU73=\"Yes\",\"Yes\",\"\"))","v":""},{"$f":"IF(AND(GW73=\"Yes\",GW72=\"\",GW71=\"\",GW70=\"\"),\"Yes\",\"\")","v":""},{"$f":"IF(OR(GX73=\"Yes\",GX72=\"Yes\",GX71=\"Yes\",GX70=\"Yes\"),\"\",IF(GW73=\"Yes\",\"Yes\",\"\"))","v":""},{"$f":"IF(AND(GY73=\"Yes\",GY72=\"\",GY71=\"\",GY70=\"\"),\"Yes\",\"\")","v":""}]
["17:00:00","17:14:00",null,null,0,null,null,null,null,"17:00:00","17:59:00",0,0,0,0,0,{"$f":"IF(AND(N74>='Warrant 1 - MUTCD'!$M$23,OR('Traffic Volume Input'!O74>='Warrant 1 - MUTCD'!$Q$23,'Traffic Volume Input'!P74>='Warrant 1 - MUTCD'!$Q$23)),\"Yes\",\"\")","v":""},{"$f":"IF(AND(Q74=\"Yes\",Q73=\"\",Q72=\"\",Q71=\"\"),\"Yes\",\"\")","v":""},{"$f":"IF(OR(R74=\"Yes\",R73=\"Yes\",R72=\"Yes\",R71=\"Yes\"),\"\",IF(Q74=\"Yes\",\"Yes\",\"\"))","v":""},{"$f":"IF(AND(S74=\"Yes\",S73=\"\",S72=\"\",S71=\"\"),\"Yes\",\"\")","v":""},{"$f":"IF(OR(T74=\"Yes\",T73=\"Yes\",T72=\"Yes\",T71=\"Yes\"),\"\",IF(S74=\"Yes\",\"Yes\",\"\"))","v":""},"","",{"$f":"IF(AND(W74=\"Yes\",W73=\"\",W72=\"\",W71=\"\"),\"Yes\",\"\")","v":""},{"$f":"IF(OR(X74=\"Yes\",X73=\"Yes\",X72=\"Yes\",X71=\"Yes\"),\"\",IF(W74=\"Yes\",\"Yes\",\"\"))","v":""},{"$f":"IF(AND(Y74=\"Yes\",Y73=\"\",Y72=\"\",Y71=\"\"),\"Yes\",\"\")","v":""},{"$f":"IF(OR(Z74=\"Yes\",Z73=\"Yes\",Z72=\"Yes\",Z71=\"Yes\"),\"\",IF(Y74=\"Yes\",\"Yes\",\"\"))","v":""},{"$f":"IF(AND(AA74=\"Yes\",AA73=\"\",AA72=\"\",AA71=\"\"),\"Yes\",\"\")","v":""},{"$f":"IF(OR(AB74=\"Yes\",AB73=\"Yes\",AB72=\"Yes\",AB71=\"Yes\"),\"\",IF(AA74=\"Yes\",\"Yes\",\"\"))","v":""},{"$f":"IF(AND(AC74=\"Yes\",AC73=\"\",AC72=\"\",AC71=\"\"),\"Yes\",\"\")","v":""},"",{"$f":"IF(AND(AE74=\"Yes\",AE73=\"\",AE72=\"\",AE71=\"\"),\"Yes\",\"\")","v":""},"",{"$f":"IF(AND(AG74=\"Yes\",AG73=\"\",AG72=\"\",AG71=\"\"),\"Yes\",\"\")","v":""},"",{"$f":"IF(AND(AI74=\"Yes\",AI73=\"\",AI72=\"\",AI71=\"\"),\"Yes\",\"\")","v":""},"",{"$f":"IF(AND(AK74=\"Yes\",AK73=\"\",AK72=\"\",AK71=\"\"),\"Yes\",\"\")","v":""},"",{"$f":"IF(AND(AM74=\"Yes\",AM73=\"\",AM72=\"\",AM71=\"\"),\"Yes\",\"\")","v":""},"",{"$f":"IF(AND(AO74=\"Yes\",AO73=\"\",AO72=\"\",AO71=\"\"),\"Yes\",\"\")","v":""},"",{"$f":"IF(AND(AQ74=\"Yes\",AQ73=\"\",AQ72=\"\",AQ71=\"\"),\"Yes\",\"\")","v":""},"",{"$f":"IF(AND(AS74=\"Yes\",AS73=\"\",AS72=\"\",AS71=\"\"),\"Yes\",\"\")","v":""},"",{"$f":"IF(AND(AU74=\"Yes\",AU73=\"\",AU72=\"\",AU71=\"\"),\"Yes\",\"\")","v":""},"",{"$f":"IF(AND(AW74=\"Yes\",AW73=\"\",AW72=\"\",AW71=\"\"),\"Yes\",\"\")","v":""},"",{"$f":"IF(AND(AY74=\"Yes\",AY73=\"\",AY72=\"\",AY71=\"\"),\"Yes\",\"\")","v":""},"",{"$f":"IF(AND(BA74=\"Yes\",BA73=\"\",BA72=\"\",BA71=\"\"),\"Yes\",\"\")","v":""},"",{"$f":"IF(AND(BC74=\"Yes\",BC73=\"\",BC72=\"\",BC71=\"\"),\"Yes\",\"\")","v":""},"",{"$f":"IF(AND(BE74=\"Yes\",BE73=\"\",BE72=\"\",BE71=\"\"),\"Yes\",\"\")","v":""},"",{"$f":"IF(AND(BG74=\"Yes\",BG73=\"\",BG72=\"\",BG71=\"\"),\"Yes\",\"\")","v":""},"",{"$f":"IF(AND(BI74=\"Yes\",BI73=\"\",BI72=\"\",BI71=\"\"),\"Yes\",\"\")","v":""},"","",{"$f":"IF(AND(N74>='Warrant 1 - MUTCD'!$M$32,OR('Traffic Volume Input'!O74>='Warrant 1 - MUTCD'!$Q$32,'Traffic Volume Input'!P74>='Warrant 1 - MUTCD'!$Q$32)),\"Yes\",\"\")","v":""},"",{"$f":"IF(OR(BN74=\"Yes\",BN73=\"Yes\",BN72=\"Yes\",BN71=\"Yes\"),\"\",IF(BM74=\"Yes\",\"Yes\",\"\"))","v":""},{"$f":"IF(AND(BO74=\"Yes\",BO73=\"\",BO72=\"\",BO71=\"\"),\"Yes\",\"\")","v":""},{"$f":"IF(OR(BP74=\"Yes\",BP73=\"Yes\",BP72=\"Yes\",BP71=\"Yes\"),\"\",IF(BO74=\"Yes\",\"Yes\",\"\"))","v":""},{"$f":"IF(AND(BQ74=\"Yes\",BQ73=\"\",BQ72=\"\",BQ71=\"\"),\"Yes\",\"\")","v":""},{"$f":"IF(OR(BR74=\"Yes\",BR73=\"Yes\",BR72=\"Yes\",BR71=\"Yes\"),\"\",IF(BQ74=\"Yes\",\"Yes\",\"\"))","v":""},{"$f":"IF(AND(BS74=\"Yes\",BS73=\"\",BS72=\"\",BS71=\"\"),\"Yes\",\"\")","v":""},{"$f":"IF(OR(BT74=\"Yes\",BT73=\"Yes\",BT72=\"Yes\",BT71=\"Yes\"),\"\",IF(BS74=\"Yes\",\"Yes\",\"\"))","v":""},{"$f":"IF(AND(BU74=\"Yes\",BU73=\"\",BU72=\"\",BU71=\"\"),\"Yes\",\"\")","v":""},{"$f":"IF(OR(BV74=\"Yes\",BV73=\"Yes\",BV72=\"Yes\",BV71=\"Yes\"),\"\",IF(BU74=\"Yes\",\"Yes\",\"\"))","v":""},{"$f":"IF(AND(BW74=\"Yes\",BW73=\"\",BW72=\"\",BW71=\"\"),\"Yes\",\"\")","v":""},{"$f":"IF(OR(BX74=\"Yes\",BX73=\"Yes\",BX72=\"Yes\",BX71=\"Yes\"),\"\",IF(BW74=\"Yes\",\"Yes\",\"\"))","v":""},{"$f":"IF(AND(BY74=\"Yes\",BY73=\"\",BY72=\"\",BY71=\"\"),\"Yes\",\"\")","v":""},"",{"$f":"IF(AND(CA74=\"Yes\",CA73=\"\",CA72=\"\",CA71=\"\"),\"Yes\",\"\")","v":""},"",{"$f":"IF(AND(CC74=\"Yes\",CC73=\"\",CC72=\"\",CC71=\"\"),\"Yes\",\"\")","v":""},"",{"$f":"IF(AND(CE74=\"Yes\",CE73=\"\",CE72=\"\",CE71=\"\"),\"Yes\",\"\")","v":""},"",{"$f":"IF(AND(CG74=\"Yes\",CG73=\"\",CG72=\"\",CG71=\"\"),\"Yes\",\"\")","v":""},"",{"$f":"IF(AND(CI74=\"Yes\",CI73=\"\",CI72=\"\",CI71=\"\"),\"Yes\",\"\")","v":""},"",{"$f":"IF(AND(CK74=\"Yes\",CK73=\"\",CK72=\"\",CK71=\"\"),\"Yes\",\"\")","v":""},"",{"$f":"IF(AND(CM74=\"Yes\",CM73=\"\",CM72=\"\",CM71=\"\"),\"Yes\",\"\")","v":""},"",{"$f":"IF(AND(CO74=\"Yes\",CO73=\"\",CO72=\"\",CO71=\"\"),\"Yes\",\"\")","v":""},"",{"$f":"IF(AND(CQ74=\"Yes\",CQ73=\"\",CQ72=\"\",CQ71=\"\"),\"Yes\",\"\")","v":""},"",{"$f":"IF(AND(CS74=\"Yes\",CS73=\"\",CS72=\"\",CS71=\"\"),\"Yes\",\"\")","v":""},"",{"$f":"IF(AND(CU74=\"Yes\",CU73=\"\",CU72=\"\",CU71=\"\"),\"Yes\",\"\")","v":""},"",{"$f":"IF(AND(CW74=\"Yes\",CW73=\"\",CW72=\"\",CW71=\"\"),\"Yes\",\"\")","v":""},"",{"$f":"IF(AND(CY74=\"Yes\",CY73=\"\",CY72=\"\",CY71=\"\"),\"Yes\",\"\")","v":""},"",{"$f":"IF(AND(DA74=\"Yes\",DA73=\"\",DA72=\"\",DA71=\"\"),\"Yes\",\"\")","v":""},"","","",{"$f":"IF(AND(DE74=\"Yes\",DE73=\"\",DE72=\"\",DE71=\"\"),\"Yes\",\"\")","v":""},"",{"$f":"IF(AND(DG74=\"Yes\",DG73=\"\",DG72=\"\",DG71=\"\"),\"Yes\",\"\")","v":""},{"$f":"IF(AND(N74>='Warrant 7 & 8 - MUTCD'!$L$16,OR('Traffic Volume Input'!O74>='Warrant 7 & 8 - MUTCD'!$N$16,'Traffic Volume Input'!P74>='Warrant 7 & 8 - MUTCD'!$N$16)),\"Yes\",\"\")","v":""},"",{"$f":"IF(OR(DJ74=\"Yes\",DJ73=\"Yes\",DJ72=\"Yes\",DJ71=\"Yes\"),\"\",IF(DI74=\"Yes\",\"Yes\",\"\"))","v":""},{"$f":"IF(AND(DK74=\"Yes\",DK73=\"\",DK72=\"\",DK71=\"\"),\"Yes\",\"\")","v":""},{"$f":"IF(OR(DL74=\"Yes\",DL73=\"Yes\",DL72=\"Yes\",DL71=\"Yes\"),\"\",IF(DK74=\"Yes\",\"Yes\",\"\"))","v":""},{"$f":"IF(AND(DM74=\"Yes\",DM73=\"\",DM72=\"\",DM71=\"\"),\"Yes\",\"\")","v":""},{"$f":"IF(OR(DN74=\"Yes\",DN73=\"Yes\",DN72=\"Yes\",DN71=\"Yes\"),\"\",IF(DM74=\"Yes\",\"Yes\",\"\"))","v":""},{"$f":"IF(AND(DO74=\"Yes\",DO73=\"\",DO72=\"\",DO71=\"\"),\"Yes\",\"\")","v":""},{"$f":"IF(OR(DP74=\"Yes\",DP73=\"Yes\",DP72=\"Yes\",DP71=\"Yes\"),\"\",IF(DO74=\"Yes\",\"Yes\",\"\"))","v":""},{"$f":"IF(AND(DQ74=\"Yes\",DQ73=\"\",DQ72=\"\",DQ71=\"\"),\"Yes\",\"\")","v":""},{"$f":"IF(OR(DR74=\"Yes\",DR73=\"Yes\",DR72=\"Yes\",DR71=\"Yes\"),\"\",IF(DQ74=\"Yes\",\"Yes\",\"\"))","v":""},{"$f":"IF(AND(DS74=\"Yes\",DS73=\"\",DS72=\"\",DS71=\"\"),\"Yes\",\"\")","v":""},{"$f":"IF(OR(DT74=\"Yes\",DT73=\"Yes\",DT72=\"Yes\",DT71=\"Yes\"),\"\",IF(DS74=\"Yes\",\"Yes\",\"\"))","v":""},{"$f":"IF(AND(DU74=\"Yes\",DU73=\"\",DU72=\"\",DU71=\"\"),\"Yes\",\"\")","v":""},"",{"$f":"IF(AND(DW74=\"Yes\",DW73=\"\",DW72=\"\",DW71=\"\"),\"Yes\",\"\")","v":""},"",{"$f":"IF(AND(DY74=\"Yes\",DY73=\"\",DY72=\"\",DY71=\"\"),\"Yes\",\"\")","v":""},"",{"$f":"IF(AND(EA74=\"Yes\",EA73=\"\",EA72=\"\",EA71=\"\"),\"Yes\",\"\")","v":""},"",{"$f":"IF(AND(EC74=\"Yes\",EC73=\"\",EC72=\"\",EC71=\"\"),\"Yes\",\"\")","v":""},"",{"$f":"IF(AND(EE74=\"Yes\",EE73=\"\",EE72=\"\",EE71=\"\"),\"Yes\",\"\")","v":""},"",{"$f":"IF(AND(EG74=\"Yes\",EG73=\"\",EG72=\"\",EG71=\"\"),\"Yes\",\"\")","v":""},"",{"$f":"IF(AND(EI74=\"Yes\",EI73=\"\",EI72=\"\",EI71=\"\"),\"Yes\",\"\")","v":""},"",{"$f":"IF(AND(EK74=\"Yes\",EK73=\"\",EK72=\"\",EK71=\"\"),\"Yes\",\"\")","v":""},"",{"$f":"IF(AND(EM74=\"Yes\",EM73=\"\",EM72=\"\",EM71=\"\"),\"Yes\",\"\")","v":""},"",{"$f":"IF(AND(EO74=\"Yes\",EO73=\"\",EO72=\"\",EO71=\"\"),\"Yes\",\"\")","v":""},"",{"$f":"IF(AND(EQ74=\"Yes\",EQ73=\"\",EQ72=\"\",EQ71=\"\"),\"Yes\",\"\")","v":""},"",{"$f":"IF(AND(ES74=\"Yes\",ES73=\"\",ES72=\"\",ES71=\"\"),\"Yes\",\"\")","v":""},"",{"$f":"IF(AND(EU74=\"Yes\",EU73=\"\",EU72=\"\",EU71=\"\"),\"Yes\",\"\")","v":""},"",{"$f":"IF(AND(EW74=\"Yes\",EW73=\"\",EW72=\"\",EW71=\"\"),\"Yes\",\"\")","v":""},"","","",{"$f":"IF(AND(FA74=\"Yes\",FA73=\"\",FA72=\"\",FA71=\"\"),\"Yes\",\"\")","v":""},"","",{"$f":"IF(AND(N74>='Warrant 7 & 8 - MUTCD'!$L$25,OR('Traffic Volume Input'!O74>='Warrant 7 & 8 - MUTCD'!$N$25,'Traffic Volume Input'!P74>='Warrant 7 & 8 - MUTCD'!$N$25)),\"Yes\",\"\")","v":""},"",{"$f":"IF(OR(FF74=\"Yes\",FF73=\"Yes\",FF72=\"Yes\",FF71=\"Yes\"),\"\",IF(FE74=\"Yes\",\"Yes\",\"\"))","v":""},{"$f":"IF(AND(FG74=\"Yes\",FG73=\"\",FG72=\"\",FG71=\"\"),\"Yes\",\"\")","v":""},{"$f":"IF(OR(FH74=\"Yes\",FH73=\"Yes\",FH72=\"Yes\",FH71=\"Yes\"),\"\",IF(FG74=\"Yes\",\"Yes\",\"\"))","v":""},{"$f":"IF(AND(FI74=\"Yes\",FI73=\"\",FI72=\"\",FI71=\"\"),\"Yes\",\"\")","v":""},{"$f":"IF(OR(FJ74=\"Yes\",FJ73=\"Yes\",FJ72=\"Yes\",FJ71=\"Yes\"),\"\",IF(FI74=\"Yes\",\"Yes\",\"\"))","v":""},{"$f":"IF(AND(FK74=\"Yes\",FK73=\"\",FK72=\"\",FK71=\"\"),\"Yes\",\"\")","v":""},{"$f":"IF(OR(FL74=\"Yes\",FL73=\"Yes\",FL72=\"Yes\",FL71=\"Yes\"),\"\",IF(FK74=\"Yes\",\"Yes\",\"\"))","v":""},{"$f":"IF(AND(FM74=\"Yes\",FM73=\"\",FM72=\"\",FM71=\"\"),\"Yes\",\"\")","v":""},{"$f":"IF(OR(FN74=\"Yes\",FN73=\"Yes\",FN72=\"Yes\",FN71=\"Yes\"),\"\",IF(FM74=\"Yes\",\"Yes\",\"\"))","v":""},{"$f":"IF(AND(FO74=\"Yes\",FO73=\"\",FO72=\"\",FO71=\"\"),\"Yes\",\"\")","v":""},{"$f":"IF(OR(FP74=\"Yes\",FP73=\"Yes\",FP72=\"Yes\",FP71=\"Yes\"),\"\",IF(FO74=\"Yes\",\"Yes\",\"\"))","v":""},{"$f":"IF(AND(FQ74=\"Yes\",FQ73=\"\",FQ72=\"\",FQ71=\"\"),\"Yes\",\"\")","v":""},"",{"$f":"IF(AND(FS74=\"Yes\",FS73=\"\",FS72=\"\",FS71=\"\"),\"Yes\",\"\")","v":""},"",{"$f":"IF(AND(FU74=\"Yes\",FU73=\"\",FU72=\"\",FU71=\"\"),\"Yes\",\"\")","v":""},"",{"$f":"IF(AND(FW74=\"Yes\",FW73=\"\",FW72=\"\",FW71=\"\"),\"Yes\",\"\")","v":""},"",{"$f":"IF(AND(FY74=\"Yes\",FY73=\"\",FY72=\"\",FY71=\"\"),\"Yes\",\"\")","v":""},"",{"$f":"IF(AND(GA74=\"Yes\",GA73=\"\",GA72=\"\",GA71=\"\"),\"Yes\",\"\")","v":""},"",{"$f":"IF(AND(GC74=\"Yes\",GC73=\"\",GC72=\"\",GC71=\"\"),\"Yes\",\"\")","v":""},"",{"$f":"IF(AND(GE74=\"Yes\",GE73=\"\",GE72=\"\",GE71=\"\"),\"Yes\",\"\")","v":""},"",{"$f":"IF(AND(GG74=\"Yes\",GG73=\"\",GG72=\"\",GG71=\"\"),\"Yes\",\"\")","v":""},"",{"$f":"IF(AND(GI74=\"Yes\",GI73=\"\",GI72=\"\",GI71=\"\"),\"Yes\",\"\")","v":""},"",{"$f":"IF(AND(GK74=\"Yes\",GK73=\"\",GK72=\"\",GK71=\"\"),\"Yes\",\"\")","v":""},"",{"$f":"IF(AND(GM74=\"Yes\",GM73=\"\",GM72=\"\",GM71=\"\"),\"Yes\",\"\")","v":""},"",{"$f":"IF(AND(GO74=\"Yes\",GO73=\"\",GO72=\"\",GO71=\"\"),\"Yes\",\"\")","v":""},"",{"$f":"IF(AND(GQ74=\"Yes\",GQ73=\"\",GQ72=\"\",GQ71=\"\"),\"Yes\",\"\")","v":""},"",{"$f":"IF(AND(GS74=\"Yes\",GS73=\"\",GS72=\"\",GS71=\"\"),\"Yes\",\"\")","v":""},"","","",{"$f":"IF(AND(GW74=\"Yes\",GW73=\"\",GW72=\"\",GW71=\"\"),\"Yes\",\"\")","v":""},"",""]
["17:15:00","17:29:00",null,null,0,null,null,null,null,"17:15:00","18:14:00",0,0,0,0,0,{"$f":"IF(AND(N75>='Warrant 1 - MUTCD'!$M$23,OR('Traffic Volume Input'!O75>='Warrant 1 - MUTCD'!$Q$23,'Traffic Volume Input'!P75>='Warrant 1 - MUTCD'!$Q$23)),\"Yes\",\"\")","v":""},"","","","","","",{"$f":"IF(AND(W75=\"Yes\",W74=\"\",W73=\"\",W72=\"\"),\"Yes\",\"\")","v":""},"",{"$f":"IF(AND(Y75=\"Yes\",Y74=\"\",Y73=\"\",Y72=\"\"),\"Yes\",\"\")","v":""},"",{"$f":"IF(AND(AA75=\"Yes\",AA74=\"\",AA73=\"\",AA72=\"\"),\"Yes\",\"\")","v":""},"",{"$f":"IF(AND(AC75=\"Yes\",AC74=\"\",AC73=\"\",AC72=\"\"),\"Yes\",\"\")","v":""},"",{"$f":"IF(AND(AE75=\"Yes\",AE74=\"\",AE73=\"\",AE72=\"\"),\"Yes\",\"\")","v":""},"",{"$f":"IF(AND(AG75=\"Yes\",AG74=\"\",AG73=\"\",AG72=\"\"),\"Yes\",\"\")","v":""},"",{"$f":"IF(AND(AI75=\"Yes\",AI74=\"\",AI73=\"\",AI72=\"\"),\"Yes\",\"\")","v":""},"",{"$f":"IF(AND(AK75=\"Yes\",AK74=\"\",AK73=\"\",AK72=\"\"),\"Yes\",\"\")","v":""},"",{"$f":"IF(AND(AM75=\"Yes\",AM74=\"\",AM73=\"\",AM72=\"\"),\"Yes\",\"\")","v":""},"",{"$f":"IF(AND(AO75=\"Yes\",AO74=\"\",AO73=\"\",AO72=\"\"),\"Yes\",\"\")","v":""},"",{"$f":"IF(AND(AQ75=\"Yes\",AQ74=\"\",AQ73=\"\",AQ72=\"\"),\"Yes\",\"\")","v":""},"",{"$f":"IF(AND(AS75=\"Yes\",AS74=\"\",AS73=\"\",AS72=\"\"),\"Yes\",\"\")","v":""},"",{"$f":"IF(AND(AU75=\"Yes\",AU74=\"\",AU73=\"\",AU72=\"\"),\"Yes\",\"\")","v":""},"",{"$f":"IF(AND(AW75=\"Yes\",AW74=\"\",AW73=\"\",AW72=\"\"),\"Yes\",\"\")","v":""},"",{"$f":"IF(AND(AY75=\"Yes\",AY74=\"\",AY73=\"\",AY72=\"\"),\"Yes\",\"\")","v":""},"",{"$f":"IF(AND(BA75=\"Yes\",BA74=\"\",BA73=\"\",BA72=\"\"),\"Yes\",\"\")","v":""},"",{"$f":"IF(AND(BC75=\"Yes\",BC74=\"\",BC73=\"\",BC72=\"\"),\"Yes\",\"\")","v":""},"",{"$f":"IF(AND(BE75=\"Yes\",BE74=\"\",BE73=\"\",BE72=\"\"),\"Yes\",\"\")","v":""},"",{"$f":"IF(AND(BG75=\"Yes\",BG74=\"\",BG73=\"\",BG72=\"\"),\"Yes\",\"\")","v":""},"",{"$f":"IF(AND(BI75=\"Yes\",BI74=\"\",BI73=\"\",BI72=\"\"),\"Yes\",\"\")","v":""},"","",{"$f":"IF(AND(N75>='Warrant 1 - MUTCD'!$M$32,OR('Traffic Volume Input'!O75>='Warrant 1 - MUTCD'!$Q$32,'Traffic Volume Input'!P75>='Warrant 1 - MUTCD'!$Q$32)),\"Yes\",\"\")","v":""},{"$f":"IF(AND(BM75=\"Yes\",BM74=\"\",BM73=\"\",BM72=\"\"),\"Yes\",\"\")","v":""},"",{"$f":"IF(AND(BO75=\"Yes\",BO74=\"\",BO73=\"\",BO72=\"\"),\"Yes\",\"\")","v":""},"",{"$f":"IF(AND(BQ75=\"Yes\",BQ74=\"\",BQ73=\"\",BQ72=\"\"),\"Yes\",\"\")","v":""},"",{"$f":"IF(AND(BS75=\"Yes\",BS74=\"\",BS73=\"\",BS72=\"\"),\"Yes\",\"\")","v":""},"",{"$f":"IF(AND(BU75=\"Yes\",BU74=\"\",BU73=\"\",BU72=\"\"),\"Yes\",\"\")","v":""},"",{"$f":"IF(AND(BW75=\"Yes\",BW74=\"\",BW73=\"\",BW72=\"\"),\"Yes\",\"\")","v":""},"",{"$f":"IF(AND(BY75=\"Yes\",BY74=\"\",BY73=\"\",BY72=\"\"),\"Yes\",\"\")","v":""},"",{"$f":"IF(AND(CA75=\"Yes\",CA74=\"\",CA73=\"\",CA72=\"\"),\"Yes\",\"\")","v":""},"",{"$f":"IF(AND(CC75=\"Yes\",CC74=\"\",CC73=\"\",CC72=\"\"),\"Yes\",\"\")","v":""},"",{"$f":"IF(AND(CE75=\"Yes\",CE74=\"\",CE73=\"\",CE72=\"\"),\"Yes\",\"\")","v":""},"",{"$f":"IF(AND(CG75=\"Yes\",CG74=\"\",CG73=\"\",CG72=\"\"),\"Yes\",\"\")","v":""},"",{"$f":"IF(AND(CI75=\"Yes\",CI74=\"\",CI73=\"\",CI72=\"\"),\"Yes\",\"\")","v":""},"",{"$f":"IF(AND(CK75=\"Yes\",CK74=\"\",CK73=\"\",CK72=\"\"),\"Yes\",\"\")","v":""},"",{"$f":"IF(AND(CM75=\"Yes\",CM74=\"\",CM73=\"\",CM72=\"\"),\"Yes\",\"\")","v":""},"",{"$f":"IF(AND(CO75=\"Yes\",CO74=\"\",CO73=\"\",CO72=\"\"),\"Yes\",\"\")","v":""},"",{"$f":"IF(AND(CQ75=\"Yes\",CQ74=\"\",CQ73=\"\",CQ72=\"\"),\"Yes\",\"\")","v":""},"",{"$f":"IF(AND(CS75=\"Yes\",CS74=\"\",CS73=\"\",CS72=\"\"),\"Yes\",\"\")","v":""},"",{"$f":"IF(AND(CU75=\"Yes\",CU74=\"\",CU73=\"\",CU72=\"\"),\"Yes\",\"\")","v":""},"",{"$f":"IF(AND(CW75=\"Yes\",CW74=\"\",CW73=\"\",CW72=\"\"),\"Yes\",\"\")","v":""},"",{"$f":"IF(AND(CY75=\"Yes\",CY74=\"\",CY73=\"\",CY72=\"\"),\"Yes\",\"\")","v":""},"",{"$f":"IF(AND(DA75=\"Yes\",DA74=\"\",DA73=\"\",DA72=\"\"),\"Yes\",\"\")","v":""},"","","",{"$f":"IF(AND(DE75=\"Yes\",DE74=\"\",DE73=\"\",DE72=\"\"),\"Yes\",\"\")","v":""},"",{"$f":"IF(AND(DG75=\"Yes\",DG74=\"\",DG73=\"\",DG72=\"\"),\"Yes\",\"\")","v":""},{"$f":"IF(AND(N75>='Warrant 7 & 8 - MUTCD'!$L$16,OR('Traffic Volume Input'!O75>='Warrant 7 & 8 - MUTCD'!$N$16,'Traffic Volume Input'!P75>='Warrant 7 & 8 - MUTCD'!$N$16)),\"Yes\",\"\")","v":""},{"$f":"IF(AND(DI75=\"Yes\",DI74=\"\",DI73=\"\",DI72=\"\"),\"Yes\",\"\")","v":""},"",{"$f":"IF(AND(DK75=\"Yes\",DK74=\"\",DK73=\"\",DK72=\"\"),\"Yes\",\"\")","v":""},"",{"$f":"IF(AND(DM75=\"Yes\",DM74=\"\",DM73=\"\",DM72=\"\"),\"Yes\",\"\")","v":""},"",{"$f":"IF(AND(DO75=\"Yes\",DO74=\"\",DO73=\"\",DO72=\"\"),\"Yes\",\"\")","v":""},"",{"$f":"IF(AND(DQ75=\"Yes\",DQ74=\"\",DQ73=\"\",DQ72=\"\"),\"Yes\",\"\")","v":""},"",{"$f":"IF(AND(DS75=\"Yes\",DS74=\"\",DS73=\"\",DS72=\"\"),\"Yes\",\"\")","v":""},"",{"$f":"IF(AND(DU75=\"Yes\",DU74=\"\",DU73=\"\",DU72=\"\"),\"Yes\",\"\")","v":""},"",{"$f":"IF(AND(DW75=\"Yes\",DW74=\"\",DW73=\"\",DW72=\"\"),\"Yes\",\"\")","v":""},"",{"$f":"IF(AND(DY75=\"Yes\",DY74=\"\",DY73=\"\",DY72=\"\"),\"Yes\",\"\")","v":""},"",{"$f":"IF(AND(EA75=\"Yes\",EA74=\"\",EA73=\"\",EA72=\"\"),\"Yes\",\"\")","v":""},"",{"$f":"IF(AND(EC75=\"Yes\",EC74=\"\",EC73=\"\",EC72=\"\"),\"Yes\",\"\")","v":""},"",{"$f":"IF(AND(EE75=\"Yes\",EE74=\"\",EE73=\"\",EE72=\"\"),\"Yes\",\"\")","v":""},"",{"$f":"IF(AND(EG75=\"Yes\",EG74=\"\",EG73=\"\",EG72=\"\"),\"Yes\",\"\")","v":""},"",{"$f":"IF(AND(EI75=\"Yes\",EI74=\"\",EI73=\"\",EI72=\"\"),\"Yes\",\"\")","v":""},"",{"$f":"IF(AND(EK75=\"Yes\",EK74=\"\",EK73=\"\",EK72=\"\"),\"Yes\",\"\")","v":""},"",{"$f":"IF(AND(EM75=\"Yes\",EM74=\"\",EM73=\"\",EM72=\"\"),\"Yes\",\"\")","v":""},"",{"$f":"IF(AND(EO75=\"Yes\",EO74=\"\",EO73=\"\",EO72=\"\"),\"Yes\",\"\")","v":""},"",{"$f":"IF(AND(EQ75=\"Yes\",EQ74=\"\",EQ73=\"\",EQ72=\"\"),\"Yes\",\"\")","v":""},"",{"$f":"IF(AND(ES75=\"Yes\",ES74=\"\",ES73=\"\",ES72=\"\"),\"Yes\",\"\")","v":""},"",{"$f":"IF(AND(EU75=\"Yes\",EU74=\"\",EU73=\"\",EU72=\"\"),\"Yes\",\"\")","v":""},"",{"$f":"IF(AND(EW75=\"Yes\",EW74=\"\",EW73=\"\",EW72=\"\"),\"Yes\",\"\")","v":""},"","","",{"$f":"IF(AND(FA75=\"Yes\",FA74=\"\",FA73=\"\",FA72=\"\"),\"Yes\",\"\")","v":""},"","",{"$f":"IF(AND(N75>='Warrant 7 & 8 - MUTCD'!$L$25,OR('Traffic Volume Input'!O75>='Warrant 7 & 8 - MUTCD'!$N$25,'Traffic Volume Input'!P75>='Warrant 7 & 8 - MUTCD'!$N$25)),\"Yes\",\"\")","v":""},{"$f":"IF(AND(FE75=\"Yes\",FE74=\"\",FE73=\"\",FE72=\"\"),\"Yes\",\"\")","v":""},"",{"$f":"IF(AND(FG75=\"Yes\",FG74=\"\",FG73=\"\",FG72=\"\"),\"Yes\",\"\")","v":""},"",{"$f":"IF(AND(FI75=\"Yes\",FI74=\"\",FI73=\"\",FI72=\"\"),\"Yes\",\"\")","v":""},"",{"$f":"IF(AND(FK75=\"Yes\",FK74=\"\",FK73=\"\",FK72=\"\"),\"Yes\",\"\")","v":""},"",{"$f":"IF(AND(FM75=\"Yes\",FM74=\"\",FM73=\"\",FM72=\"\"),\"Yes\",\"\")","v":""},"",{"$f":"IF(AND(FO75=\"Yes\",FO74=\"\",FO73=\"\",FO72=\"\"),\"Yes\",\"\")","v":""},"",{"$f":"IF(AND(FQ75=\"Yes\",FQ74=\"\",FQ73=\"\",FQ72=\"\"),\"Yes\",\"\")","v":""},"",{"$f":"IF(AND(FS75=\"Yes\",FS74=\"\",FS73=\"\",FS72=\"\"),\"Yes\",\"\")","v":""},"",{"$f":"IF(AND(FU75=\"Yes\",FU74=\"\",FU73=\"\",FU72=\"\"),\"Yes\",\"\")","v":""},"",{"$f":"IF(AND(FW75=\"Yes\",FW74=\"\",FW73=\"\",FW72=\"\"),\"Yes\",\"\")","v":""},"",{"$f":"IF(AND(FY75=\"Yes\",FY74=\"\",FY73=\"\",FY72=\"\"),\"Yes\",\"\")","v":""},"",{"$f":"IF(AND(GA75=\"Yes\",GA74=\"\",GA73=\"\",GA72=\"\"),\"Yes\",\"\")","v":""},"",{"$f":"IF(AND(GC75=\"Yes\",GC74=\"\",GC73=\"\",GC72=\"\"),\"Yes\",\"\")","v":""},"",{"$f":"IF(AND(GE75=\"Yes\",GE74=\"\",GE73=\"\",GE72=\"\"),\"Yes\",\"\")","v":""},"",{"$f":"IF(AND(GG75=\"Yes\",GG74=\"\",GG73=\"\",GG72=\"\"),\"Yes\",\"\")","v":""},"",{"$f":"IF(AND(GI75=\"Yes\",GI74=\"\",GI73=\"\",GI72=\"\"),\"Yes\",\"\")","v":""},"",{"$f":"IF(AND(GK75=\"Yes\",GK74=\"\",GK73=\"\",GK72=\"\"),\"Yes\",\"\")","v":""},"",{"$f":"IF(AND(GM75=\"Yes\",GM74=\"\",GM73=\"\",GM72=\"\"),\"Yes\",\"\")","v":""},"",{"$f":"IF(AND(GO75=\"Yes\",GO74=\"\",GO73=\"\",GO72=\"\"),\"Yes\",\"\")","v":""},"",{"$f":"IF(AND(GQ75=\"Yes\",GQ74=\"\",GQ73=\"\",GQ72=\"\"),\"Yes\",\"\")","v":""},"",{"$f":"IF(AND(GS75=\"Yes\",GS74=\"\",GS73=\"\",GS72=\"\"),\"Yes\",\"\")","v":""},"","","",{"$f":"IF(AND(GW75=\"Yes\",GW74=\"\",GW73=\"\",GW72=\"\"),\"Yes\",\"\")","v":""},"",""]
["17:30:00","17:44:00",null,null,0,null,null,null,null,"17:30:00","18:29:00",0,0,0,0,0,{"$f":"IF(AND(N76>='Warrant 1 - MUTCD'!$M$23,OR('Traffic Volume Input'!O76>='Warrant 1 - MUTCD'!$Q$23,'Traffic Volume Input'!P76>='Warrant 1 - MUTCD'!$Q$23)),\"Yes\",\"\")","v":""},"","","","","","",{"$f":"IF(AND(W76=\"Yes\",W75=\"\",W74=\"\",W73=\"\"),\"Yes\",\"\")","v":""},"",{"$f":"IF(AND(Y76=\"Yes\",Y75=\"\",Y74=\"\",Y73=\"\"),\"Yes\",\"\")","v":""},"",{"$f":"IF(AND(AA76=\"Yes\",AA75=\"\",AA74=\"\",AA73=\"\"),\"Yes\",\"\")","v":""},"",{"$f":"IF(AND(AC76=\"Yes\",AC75=\"\",AC74=\"\",AC73=\"\"),\"Yes\",\"\")","v":""},"",{"$f":"IF(AND(AE76=\"Yes\",AE75=\"\",AE74=\"\",AE73=\"\"),\"Yes\",\"\")","v":""},"",{"$f":"IF(AND(AG76=\"Yes\",AG75=\"\",AG74=\"\",AG73=\"\"),\"Yes\",\"\")","v":""},"",{"$f":"IF(AND(AI76=\"Yes\",AI75=\"\",AI74=\"\",AI73=\"\"),\"Yes\",\"\")","v":""},"",{"$f":"IF(AND(AK76=\"Yes\",AK75=\"\",AK74=\"\",AK73=\"\"),\"Yes\",\"\")","v":""},"",{"$f":"IF(AND(AM76=\"Yes\",AM75=\"\",AM74=\"\",AM73=\"\"),\"Yes\",\"\")","v":""},"",{"$f":"IF(AND(AO76=\"Yes\",AO75=\"\",AO74=\"\",AO73=\"\"),\"Yes\",\"\")","v":""},"",{"$f":"IF(AND(AQ76=\"Yes\",AQ75=\"\",AQ74=\"\",AQ73=\"\"),\"Yes\",\"\")","v":""},"",{"$f":"IF(AND(AS76=\"Yes\",AS75=\"\",AS74=\"\",AS73=\"\"),\"Yes\",\"\")","v":""},"",{"$f":"IF(AND(AU76=\"Yes\",AU75=\"\",AU74=\"\",AU73=\"\"),\"Yes\",\"\")","v":""},"",{"$f":"IF(AND(AW76=\"Yes\",AW75=\"\",AW74=\"\",AW73=\"\"),\"Yes\",\"\")","v":""},"",{"$f":"IF(AND(AY76=\"Yes\",AY75=\"\",AY74=\"\",AY73=\"\"),\"Yes\",\"\")","v":""},"",{"$f":"IF(AND(BA76=\"Yes\",BA75=\"\",BA74=\"\",BA73=\"\"),\"Yes\",\"\")","v":""},"",{"$f":"IF(AND(BC76=\"Yes\",BC75=\"\",BC74=\"\",BC73=\"\"),\"Yes\",\"\")","v":""},"",{"$f":"IF(AND(BE76=\"Yes\",BE75=\"\",BE74=\"\",BE73=\"\"),\"Yes\",\"\")","v":""},"",{"$f":"IF(AND(BG76=\"Yes\",BG75=\"\",BG74=\"\",BG73=\"\"),\"Yes\",\"\")","v":""},"",{"$f":"IF(AND(BI76=\"Yes\",BI75=\"\",BI74=\"\",BI73=\"\"),\"Yes\",\"\")","v":""},"","",{"$f":"IF(AND(N76>='Warrant 1 - MUTCD'!$M$32,OR('Traffic Volume Input'!O76>='Warrant 1 - MUTCD'!$Q$32,'Traffic Volume Input'!P76>='Warrant 1 - MUTCD'!$Q$32)),\"Yes\",\"\")","v":""},"","",{"$f":"IF(AND(BO76=\"Yes\",BO75=\"\",BO74=\"\",BO73=\"\"),\"Yes\",\"\")","v":""},"",{"$f":"IF(AND(BQ76=\"Yes\",BQ75=\"\",BQ74=\"\",BQ73=\"\"),\"Yes\",\"\")","v":""},"",{"$f":"IF(AND(BS76=\"Yes\",BS75=\"\",BS74=\"\",BS73=\"\"),\"Yes\",\"\")","v":""},"",{"$f":"IF(AND(BU76=\"Yes\",BU75=\"\",BU74=\"\",BU73=\"\"),\"Yes\",\"\")","v":""},"",{"$f":"IF(AND(BW76=\"Yes\",BW75=\"\",BW74=\"\",BW73=\"\"),\"Yes\",\"\")","v":""},"",{"$f":"IF(AND(BY76=\"Yes\",BY75=\"\",BY74=\"\",BY73=\"\"),\"Yes\",\"\")","v":""},"",{"$f":"IF(AND(CA76=\"Yes\",CA75=\"\",CA74=\"\",CA73=\"\"),\"Yes\",\"\")","v":""},"",{"$f":"IF(AND(CC76=\"Yes\",CC75=\"\",CC74=\"\",CC73=\"\"),\"Yes\",\"\")","v":""},"",{"$f":"IF(AND(CE76=\"Yes\",CE75=\"\",CE74=\"\",CE73=\"\"),\"Yes\",\"\")","v":""},"",{"$f":"IF(AND(CG76=\"Yes\",CG75=\"\",CG74=\"\",CG73=\"\"),\"Yes\",\"\")","v":""},"",{"$f":"IF(AND(CI76=\"Yes\",CI75=\"\",CI74=\"\",CI73=\"\"),\"Yes\",\"\")","v":""},"",{"$f":"IF(AND(CK76=\"Yes\",CK75=\"\",CK74=\"\",CK73=\"\"),\"Yes\",\"\")","v":""},"",{"$f":"IF(AND(CM76=\"Yes\",CM75=\"\",CM74=\"\",CM73=\"\"),\"Yes\",\"\")","v":""},"",{"$f":"IF(AND(CO76=\"Yes\",CO75=\"\",CO74=\"\",CO73=\"\"),\"Yes\",\"\")","v":""},"",{"$f":"IF(AND(CQ76=\"Yes\",CQ75=\"\",CQ74=\"\",CQ73=\"\"),\"Yes\",\"\")","v":""},"",{"$f":"IF(AND(CS76=\"Yes\",CS75=\"\",CS74=\"\",CS73=\"\"),\"Yes\",\"\")","v":""},"",{"$f":"IF(AND(CU76=\"Yes\",CU75=\"\",CU74=\"\",CU73=\"\"),\"Yes\",\"\")","v":""},"",{"$f":"IF(AND(CW76=\"Yes\",CW75=\"\",CW74=\"\",CW73=\"\"),\"Yes\",\"\")","v":""},"",{"$f":"IF(AND(CY76=\"Yes\",CY75=\"\",CY74=\"\",CY73=\"\"),\"Yes\",\"\")","v":""},"",{"$f":"IF(AND(DA76=\"Yes\",DA75=\"\",DA74=\"\",DA73=\"\"),\"Yes\",\"\")","v":""},"","","",{"$f":"IF(AND(DE76=\"Yes\",DE75=\"\",DE74=\"\",DE73=\"\"),\"Yes\",\"\")","v":""},"",{"$f":"IF(AND(DG76=\"Yes\",DG75=\"\",DG74=\"\",DG73=\"\"),\"Yes\",\"\")","v":""},{"$f":"IF(AND(N76>='Warrant 7 & 8 - MUTCD'!$L$16,OR('Traffic Volume Input'!O76>='Warrant 7 & 8 - MUTCD'!$N$16,'Traffic Volume Input'!P76>='Warrant 7 & 8 - MUTCD'!$N$16)),\"Yes\",\"\")","v":""},"","",{"$f":"IF(AND(DK76=\"Yes\",DK75=\"\",DK74=\"\",DK73=\"\"),\"Yes\",\"\")","v":""},"",{"$f":"IF(AND(DM76=\"Yes\",DM75=\"\",DM74=\"\",DM73=\"\"),\"Yes\",\"\")","v":""},"",{"$f":"IF(AND(DO76=\"Yes\",DO75=\"\",DO74=\"\",DO73=\"\"),\"Yes\",\"\")","v":""},"",{"$f":"IF(AND(DQ76=\"Yes\",DQ75=\"\",DQ74=\"\",DQ73=\"\"),\"Yes\",\"\")","v":""},"",{"$f":"IF(AND(DS76=\"Yes\",DS75=\"\",DS74=\"\",DS73=\"\"),\"Yes\",\"\")","v":""},"",{"$f":"IF(AND(DU76=\"Yes\",DU75=\"\",DU74=\"\",DU73=\"\"),\"Yes\",\"\")","v":""},"",{"$f":"IF(AND(DW76=\"Yes\",DW75=\"\",DW74=\"\",DW73=\"\"),\"Yes\",\"\")","v":""},"",{"$f":"IF(AND(DY76=\"Yes\",DY75=\"\",DY74=\"\",DY73=\"\"),\"Yes\",\"\")","v":""},"",{"$f":"IF(AND(EA76=\"Yes\",EA75=\"\",EA74=\"\",EA73=\"\"),\"Yes\",\"\")","v":""},"",{"$f":"IF(AND(EC76=\"Yes\",EC75=\"\",EC74=\"\",EC73=\"\"),\"Yes\",\"\")","v":""},"",{"$f":"IF(AND(EE76=\"Yes\",EE75=\"\",EE74=\"\",EE73=\"\"),\"Yes\",\"\")","v":""},"",{"$f":"IF(AND(EG76=\"Yes\",EG75=\"\",EG74=\"\",EG73=\"\"),\"Yes\",\"\")","v":""},"",{"$f":"IF(AND(EI76=\"Yes\",EI75=\"\",EI74=\"\",EI73=\"\"),\"Yes\",\"\")","v":""},"",{"$f":"IF(AND(EK76=\"Yes\",EK75=\"\",EK74=\"\",EK73=\"\"),\"Yes\",\"\")","v":""},"",{"$f":"IF(AND(EM76=\"Yes\",EM75=\"\",EM74=\"\",EM73=\"\"),\"Yes\",\"\")","v":""},"",{"$f":"IF(AND(EO76=\"Yes\",EO75=\"\",EO74=\"\",EO73=\"\"),\"Yes\",\"\")","v":""},"",{"$f":"IF(AND(EQ76=\"Yes\",EQ75=\"\",EQ74=\"\",EQ73=\"\"),\"Yes\",\"\")","v":""},"",{"$f":"IF(AND(ES76=\"Yes\",ES75=\"\",ES74=\"\",ES73=\"\"),\"Yes\",\"\")","v":""},"",{"$f":"IF(AND(EU76=\"Yes\",EU75=\"\",EU74=\"\",EU73=\"\"),\"Yes\",\"\")","v":""},"",{"$f":"IF(AND(EW76=\"Yes\",EW75=\"\",EW74=\"\",EW73=\"\"),\"Yes\",\"\")","v":""},"","","",{"$f":"IF(AND(FA76=\"Yes\",FA75=\"\",FA74=\"\",FA73=\"\"),\"Yes\",\"\")","v":""},"","",{"$f":"IF(AND(N76>='Warrant 7 & 8 - MUTCD'!$L$25,OR('Traffic Volume Input'!O76>='Warrant 7 & 8 - MUTCD'!$N$25,'Traffic Volume Input'!P76>='Warrant 7 & 8 - MUTCD'!$N$25)),\"Yes\",\"\")","v":""},"","",{"$f":"IF(AND(FG76=\"Yes\",FG75=\"\",FG74=\"\",FG73=\"\"),\"Yes\",\"\")","v":""},"",{"$f":"IF(AND(FI76=\"Yes\",FI75=\"\",FI74=\"\",FI73=\"\"),\"Yes\",\"\")","v":""},"",{"$f":"IF(AND(FK76=\"Yes\",FK75=\"\",FK74=\"\",FK73=\"\"),\"Yes\",\"\")","v":""},"",{"$f":"IF(AND(FM76=\"Yes\",FM75=\"\",FM74=\"\",FM73=\"\"),\"Yes\",\"\")","v":""},"",{"$f":"IF(AND(FO76=\"Yes\",FO75=\"\",FO74=\"\",FO73=\"\"),\"Yes\",\"\")","v":""},"",{"$f":"IF(AND(FQ76=\"Yes\",FQ75=\"\",FQ74=\"\",FQ73=\"\"),\"Yes\",\"\")","v":""},"",{"$f":"IF(AND(FS76=\"Yes\",FS75=\"\",FS74=\"\",FS73=\"\"),\"Yes\",\"\")","v":""},"",{"$f":"IF(AND(FU76=\"Yes\",FU75=\"\",FU74=\"\",FU73=\"\"),\"Yes\",\"\")","v":""},"",{"$f":"IF(AND(FW76=\"Yes\",FW75=\"\",FW74=\"\",FW73=\"\"),\"Yes\",\"\")","v":""},"",{"$f":"IF(AND(FY76=\"Yes\",FY75=\"\",FY74=\"\",FY73=\"\"),\"Yes\",\"\")","v":""},"",{"$f":"IF(AND(GA76=\"Yes\",GA75=\"\",GA74=\"\",GA73=\"\"),\"Yes\",\"\")","v":""},"",{"$f":"IF(AND(GC76=\"Yes\",GC75=\"\",GC74=\"\",GC73=\"\"),\"Yes\",\"\")","v":""},"",{"$f":"IF(AND(GE76=\"Yes\",GE75=\"\",GE74=\"\",GE73=\"\"),\"Yes\",\"\")","v":""},"",{"$f":"IF(AND(GG76=\"Yes\",GG75=\"\",GG74=\"\",GG73=\"\"),\"Yes\",\"\")","v":""},"",{"$f":"IF(AND(GI76=\"Yes\",GI75=\"\",GI74=\"\",GI73=\"\"),\"Yes\",\"\")","v":""},"",{"$f":"IF(AND(GK76=\"Yes\",GK75=\"\",GK74=\"\",GK73=\"\"),\"Yes\",\"\")","v":""},"",{"$f":"IF(AND(GM76=\"Yes\",GM75=\"\",GM74=\"\",GM73=\"\"),\"Yes\",\"\")","v":""},"",{"$f":"IF(AND(GO76=\"Yes\",GO75=\"\",GO74=\"\",GO73=\"\"),\"Yes\",\"\")","v":""},"",{"$f":"IF(AND(GQ76=\"Yes\",GQ75=\"\",GQ74=\"\",GQ73=\"\"),\"Yes\",\"\")","v":""},"",{"$f":"IF(AND(GS76=\"Yes\",GS75=\"\",GS74=\"\",GS73=\"\"),\"Yes\",\"\")","v":""},"","","",{"$f":"IF(AND(GW76=\"Yes\",GW75=\"\",GW74=\"\",GW73=\"\"),\"Yes\",\"\")","v":""},"",""]
["17:45:00","17:59:00",null,null,0,null,null,null,null,"17:45:00","18:44:00",0,0,0,0,0,{"$f":"IF(AND(N77>='Warrant 1 - MUTCD'!$M$23,OR('Traffic Volume Input'!O77>='Warrant 1 - MUTCD'!$Q$23,'Traffic Volume Input'!P77>='Warrant 1 - MUTCD'!$Q$23)),\"Yes\",\"\")","v":""},"","","","","","",{"$f":"IF(AND(W77=\"Yes\",W76=\"\",W75=\"\",W74=\"\"),\"Yes\",\"\")","v":""},"",{"$f":"IF(AND(Y77=\"Yes\",Y76=\"\",Y75=\"\",Y74=\"\"),\"Yes\",\"\")","v":""},"",{"$f":"IF(AND(AA77=\"Yes\",AA76=\"\",AA75=\"\",AA74=\"\"),\"Yes\",\"\")","v":""},"",{"$f":"IF(AND(AC77=\"Yes\",AC76=\"\",AC75=\"\",AC74=\"\"),\"Yes\",\"\")","v":""},"",{"$f":"IF(AND(AE77=\"Yes\",AE76=\"\",AE75=\"\",AE74=\"\"),\"Yes\",\"\")","v":""},"",{"$f":"IF(AND(AG77=\"Yes\",AG76=\"\",AG75=\"\",AG74=\"\"),\"Yes\",\"\")","v":""},"",{"$f":"IF(AND(AI77=\"Yes\",AI76=\"\",AI75=\"\",AI74=\"\"),\"Yes\",\"\")","v":""},"",{"$f":"IF(AND(AK77=\"Yes\",AK76=\"\",AK75=\"\",AK74=\"\"),\"Yes\",\"\")","v":""},"",{"$f":"IF(AND(AM77=\"Yes\",AM76=\"\",AM75=\"\",AM74=\"\"),\"Yes\",\"\")","v":""},"",{"$f":"IF(AND(AO77=\"Yes\",AO76=\"\",AO75=\"\",AO74=\"\"),\"Yes\",\"\")","v":""},"",{"$f":"IF(AND(AQ77=\"Yes\",AQ76=\"\",AQ75=\"\",AQ74=\"\"),\"Yes\",\"\")","v":""},"",{"$f":"IF(AND(AS77=\"Yes\",AS76=\"\",AS75=\"\",AS74=\"\"),\"Yes\",\"\")","v":""},"",{"$f":"IF(AND(AU77=\"Yes\",AU76=\"\",AU75=\"\",AU74=\"\"),\"Yes\",\"\")","v":""},"",{"$f":"IF(AND(AW77=\"Yes\",AW76=\"\",AW75=\"\",AW74=\"\"),\"Yes\",\"\")","v":""},"",{"$f":"IF(AND(AY77=\"Yes\",AY76=\"\",AY75=\"\",AY74=\"\"),\"Yes\",\"\")","v":""},"",{"$f":"IF(AND(BA77=\"Yes\",BA76=\"\",BA75=\"\",BA74=\"\"),\"Yes\",\"\")","v":""},"",{"$f":"IF(AND(BC77=\"Yes\",BC76=\"\",BC75=\"\",BC74=\"\"),\"Yes\",\"\")","v":""},"",{"$f":"IF(AND(BE77=\"Yes\",BE76=\"\",BE75=\"\",BE74=\"\"),\"Yes\",\"\")","v":""},"",{"$f":"IF(AND(BG77=\"Yes\",BG76=\"\",BG75=\"\",BG74=\"\"),\"Yes\",\"\")","v":""},"",{"$f":"IF(AND(BI77=\"Yes\",BI76=\"\",BI75=\"\",BI74=\"\"),\"Yes\",\"\")","v":""},"","",{"$f":"IF(AND(N77>='Warrant 1 - MUTCD'!$M$32,OR('Traffic Volume Input'!O77>='Warrant 1 - MUTCD'!$Q$32,'Traffic Volume Input'!P77>='Warrant 1 - MUTCD'!$Q$32)),\"Yes\",\"\")","v":""},"","",{"$f":"IF(AND(BO77=\"Yes\",BO76=\"\",BO75=\"\",BO74=\"\"),\"Yes\",\"\")","v":""},"",{"$f":"IF(AND(BQ77=\"Yes\",BQ76=\"\",BQ75=\"\",BQ74=\"\"),\"Yes\",\"\")","v":""},"",{"$f":"IF(AND(BS77=\"Yes\",BS76=\"\",BS75=\"\",BS74=\"\"),\"Yes\",\"\")","v":""},"",{"$f":"IF(AND(BU77=\"Yes\",BU76=\"\",BU75=\"\",BU74=\"\"),\"Yes\",\"\")","v":""},"",{"$f":"IF(AND(BW77=\"Yes\",BW76=\"\",BW75=\"\",BW74=\"\"),\"Yes\",\"\")","v":""},"",{"$f":"IF(AND(BY77=\"Yes\",BY76=\"\",BY75=\"\",BY74=\"\"),\"Yes\",\"\")","v":""},"",{"$f":"IF(AND(CA77=\"Yes\",CA76=\"\",CA75=\"\",CA74=\"\"),\"Yes\",\"\")","v":""},"",{"$f":"IF(AND(CC77=\"Yes\",CC76=\"\",CC75=\"\",CC74=\"\"),\"Yes\",\"\")","v":""},"",{"$f":"IF(AND(CE77=\"Yes\",CE76=\"\",CE75=\"\",CE74=\"\"),\"Yes\",\"\")","v":""},"",{"$f":"IF(AND(CG77=\"Yes\",CG76=\"\",CG75=\"\",CG74=\"\"),\"Yes\",\"\")","v":""},"",{"$f":"IF(AND(CI77=\"Yes\",CI76=\"\",CI75=\"\",CI74=\"\"),\"Yes\",\"\")","v":""},"",{"$f":"IF(AND(CK77=\"Yes\",CK76=\"\",CK75=\"\",CK74=\"\"),\"Yes\",\"\")","v":""},"",{"$f":"IF(AND(CM77=\"Yes\",CM76=\"\",CM75=\"\",CM74=\"\"),\"Yes\",\"\")","v":""},"",{"$f":"IF(AND(CO77=\"Yes\",CO76=\"\",CO75=\"\",CO74=\"\"),\"Yes\",\"\")","v":""},"",{"$f":"IF(AND(CQ77=\"Yes\",CQ76=\"\",CQ75=\"\",CQ74=\"\"),\"Yes\",\"\")","v":""},"",{"$f":"IF(AND(CS77=\"Yes\",CS76=\"\",CS75=\"\",CS74=\"\"),\"Yes\",\"\")","v":""},"",{"$f":"IF(AND(CU77=\"Yes\",CU76=\"\",CU75=\"\",CU74=\"\"),\"Yes\",\"\")","v":""},"",{"$f":"IF(AND(CW77=\"Yes\",CW76=\"\",CW75=\"\",CW74=\"\"),\"Yes\",\"\")","v":""},"",{"$f":"IF(AND(CY77=\"Yes\",CY76=\"\",CY75=\"\",CY74=\"\"),\"Yes\",\"\")","v":""},"",{"$f":"IF(AND(DA77=\"Yes\",DA76=\"\",DA75=\"\",DA74=\"\"),\"Yes\",\"\")","v":""},"","","",{"$f":"IF(AND(DE77=\"Yes\",DE76=\"\",DE75=\"\",DE74=\"\"),\"Yes\",\"\")","v":""},"",{"$f":"IF(AND(DG77=\"Yes\",DG76=\"\",DG75=\"\",DG74=\"\"),\"Yes\",\"\")","v":""},{"$f":"IF(AND(N77>='Warrant 7 & 8 - MUTCD'!$L$16,OR('Traffic Volume Input'!O77>='Warrant 7 & 8 - MUTCD'!$N$16,'Traffic Volume Input'!P77>='Warrant 7 & 8 - MUTCD'!$N$16)),\"Yes\",\"\")","v":""},"","",{"$f":"IF(AND(DK77=\"Yes\",DK76=\"\",DK75=\"\",DK74=\"\"),\"Yes\",\"\")","v":""},"",{"$f":"IF(AND(DM77=\"Yes\",DM76=\"\",DM75=\"\",DM74=\"\"),\"Yes\",\"\")","v":""},"",{"$f":"IF(AND(DO77=\"Yes\",DO76=\"\",DO75=\"\",DO74=\"\"),\"Yes\",\"\")","v":""},"",{"$f":"IF(AND(DQ77=\"Yes\",DQ76=\"\",DQ75=\"\",DQ74=\"\"),\"Yes\",\"\")","v":""},"",{"$f":"IF(AND(DS77=\"Yes\",DS76=\"\",DS75=\"\",DS74=\"\"),\"Yes\",\"\")","v":""},"",{"$f":"IF(AND(DU77=\"Yes\",DU76=\"\",DU75=\"\",DU74=\"\"),\"Yes\",\"\")","v":""},"",{"$f":"IF(AND(DW77=\"Yes\",DW76=\"\",DW75=\"\",DW74=\"\"),\"Yes\",\"\")","v":""},"",{"$f":"IF(AND(DY77=\"Yes\",DY76=\"\",DY75=\"\",DY74=\"\"),\"Yes\",\"\")","v":""},"",{"$f":"IF(AND(EA77=\"Yes\",EA76=\"\",EA75=\"\",EA74=\"\"),\"Yes\",\"\")","v":""},"",{"$f":"IF(AND(EC77=\"Yes\",EC76=\"\",EC75=\"\",EC74=\"\"),\"Yes\",\"\")","v":""},"",{"$f":"IF(AND(EE77=\"Yes\",EE76=\"\",EE75=\"\",EE74=\"\"),\"Yes\",\"\")","v":""},"",{"$f":"IF(AND(EG77=\"Yes\",EG76=\"\",EG75=\"\",EG74=\"\"),\"Yes\",\"\")","v":""},"",{"$f":"IF(AND(EI77=\"Yes\",EI76=\"\",EI75=\"\",EI74=\"\"),\"Yes\",\"\")","v":""},"",{"$f":"IF(AND(EK77=\"Yes\",EK76=\"\",EK75=\"\",EK74=\"\"),\"Yes\",\"\")","v":""},"",{"$f":"IF(AND(EM77=\"Yes\",EM76=\"\",EM75=\"\",EM74=\"\"),\"Yes\",\"\")","v":""},"",{"$f":"IF(AND(EO77=\"Yes\",EO76=\"\",EO75=\"\",EO74=\"\"),\"Yes\",\"\")","v":""},"",{"$f":"IF(AND(EQ77=\"Yes\",EQ76=\"\",EQ75=\"\",EQ74=\"\"),\"Yes\",\"\")","v":""},"",{"$f":"IF(AND(ES77=\"Yes\",ES76=\"\",ES75=\"\",ES74=\"\"),\"Yes\",\"\")","v":""},"",{"$f":"IF(AND(EU77=\"Yes\",EU76=\"\",EU75=\"\",EU74=\"\"),\"Yes\",\"\")","v":""},"",{"$f":"IF(AND(EW77=\"Yes\",EW76=\"\",EW75=\"\",EW74=\"\"),\"Yes\",\"\")","v":""},"","","",{"$f":"IF(AND(FA77=\"Yes\",FA76=\"\",FA75=\"\",FA74=\"\"),\"Yes\",\"\")","v":""},"","",{"$f":"IF(AND(N77>='Warrant 7 & 8 - MUTCD'!$L$25,OR('Traffic Volume Input'!O77>='Warrant 7 & 8 - MUTCD'!$N$25,'Traffic Volume Input'!P77>='Warrant 7 & 8 - MUTCD'!$N$25)),\"Yes\",\"\")","v":""},"","",{"$f":"IF(AND(FG77=\"Yes\",FG76=\"\",FG75=\"\",FG74=\"\"),\"Yes\",\"\")","v":""},"",{"$f":"IF(AND(FI77=\"Yes\",FI76=\"\",FI75=\"\",FI74=\"\"),\"Yes\",\"\")","v":""},"",{"$f":"IF(AND(FK77=\"Yes\",FK76=\"\",FK75=\"\",FK74=\"\"),\"Yes\",\"\")","v":""},"",{"$f":"IF(AND(FM77=\"Yes\",FM76=\"\",FM75=\"\",FM74=\"\"),\"Yes\",\"\")","v":""},"",{"$f":"IF(AND(FO77=\"Yes\",FO76=\"\",FO75=\"\",FO74=\"\"),\"Yes\",\"\")","v":""},"",{"$f":"IF(AND(FQ77=\"Yes\",FQ76=\"\",FQ75=\"\",FQ74=\"\"),\"Yes\",\"\")","v":""},"",{"$f":"IF(AND(FS77=\"Yes\",FS76=\"\",FS75=\"\",FS74=\"\"),\"Yes\",\"\")","v":""},"",{"$f":"IF(AND(FU77=\"Yes\",FU76=\"\",FU75=\"\",FU74=\"\"),\"Yes\",\"\")","v":""},"",{"$f":"IF(AND(FW77=\"Yes\",FW76=\"\",FW75=\"\",FW74=\"\"),\"Yes\",\"\")","v":""},"",{"$f":"IF(AND(FY77=\"Yes\",FY76=\"\",FY75=\"\",FY74=\"\"),\"Yes\",\"\")","v":""},"",{"$f":"IF(AND(GA77=\"Yes\",GA76=\"\",GA75=\"\",GA74=\"\"),\"Yes\",\"\")","v":""},"",{"$f":"IF(AND(GC77=\"Yes\",GC76=\"\",GC75=\"\",GC74=\"\"),\"Yes\",\"\")","v":""},"",{"$f":"IF(AND(GE77=\"Yes\",GE76=\"\",GE75=\"\",GE74=\"\"),\"Yes\",\"\")","v":""},"",{"$f":"IF(AND(GG77=\"Yes\",GG76=\"\",GG75=\"\",GG74=\"\"),\"Yes\",\"\")","v":""},"",{"$f":"IF(AND(GI77=\"Yes\",GI76=\"\",GI75=\"\",GI74=\"\"),\"Yes\",\"\")","v":""},"",{"$f":"IF(AND(GK77=\"Yes\",GK76=\"\",GK75=\"\",GK74=\"\"),\"Yes\",\"\")","v":""},"",{"$f":"IF(AND(GM77=\"Yes\",GM76=\"\",GM75=\"\",GM74=\"\"),\"Yes\",\"\")","v":""},"",{"$f":"IF(AND(GO77=\"Yes\",GO76=\"\",GO75=\"\",GO74=\"\"),\"Yes\",\"\")","v":""},"",{"$f":"IF(AND(GQ77=\"Yes\",GQ76=\"\",GQ75=\"\",GQ74=\"\"),\"Yes\",\"\")","v":""},"",{"$f":"IF(AND(GS77=\"Yes\",GS76=\"\",GS75=\"\",GS74=\"\"),\"Yes\",\"\")","v":""},"","","",{"$f":"IF(AND(GW77=\"Yes\",GW76=\"\",GW75=\"\",GW74=\"\"),\"Yes\",\"\")","v":""},"",""]
["18:00:00","18:14:00",null,null,0,null,null,null,null,"18:00:00","18:59:00",0,0,0,0,0,{"$f":"IF(AND(N78>='Warrant 1 - MUTCD'!$M$23,OR('Traffic Volume Input'!O78>='Warrant 1 - MUTCD'!$Q$23,'Traffic Volume Input'!P78>='Warrant 1 - MUTCD'!$Q$23)),\"Yes\",\"\")","v":""},"","","","","","",{"$f":"IF(AND(W78=\"Yes\",W77=\"\",W76=\"\",W75=\"\"),\"Yes\",\"\")","v":""},"",{"$f":"IF(AND(Y78=\"Yes\",Y77=\"\",Y76=\"\",Y75=\"\"),\"Yes\",\"\")","v":""},"",{"$f":"IF(AND(AA78=\"Yes\",AA77=\"\",AA76=\"\",AA75=\"\"),\"Yes\",\"\")","v":""},"",{"$f":"IF(AND(AC78=\"Yes\",AC77=\"\",AC76=\"\",AC75=\"\"),\"Yes\",\"\")","v":""},"",{"$f":"IF(AND(AE78=\"Yes\",AE77=\"\",AE76=\"\",AE75=\"\"),\"Yes\",\"\")","v":""},"",{"$f":"IF(AND(AG78=\"Yes\",AG77=\"\",AG76=\"\",AG75=\"\"),\"Yes\",\"\")","v":""},"",{"$f":"IF(AND(AI78=\"Yes\",AI77=\"\",AI76=\"\",AI75=\"\"),\"Yes\",\"\")","v":""},"",{"$f":"IF(AND(AK78=\"Yes\",AK77=\"\",AK76=\"\",AK75=\"\"),\"Yes\",\"\")","v":""},"",{"$f":"IF(AND(AM78=\"Yes\",AM77=\"\",AM76=\"\",AM75=\"\"),\"Yes\",\"\")","v":""},"",{"$f":"IF(AND(AO78=\"Yes\",AO77=\"\",AO76=\"\",AO75=\"\"),\"Yes\",\"\")","v":""},"",{"$f":"IF(AND(AQ78=\"Yes\",AQ77=\"\",AQ76=\"\",AQ75=\"\"),\"Yes\",\"\")","v":""},"",{"$f":"IF(AND(AS78=\"Yes\",AS77=\"\",AS76=\"\",AS75=\"\"),\"Yes\",\"\")","v":""},"",{"$f":"IF(AND(AU78=\"Yes\",AU77=\"\",AU76=\"\",AU75=\"\"),\"Yes\",\"\")","v":""},"",{"$f":"IF(AND(AW78=\"Yes\",AW77=\"\",AW76=\"\",AW75=\"\"),\"Yes\",\"\")","v":""},"",{"$f":"IF(AND(AY78=\"Yes\",AY77=\"\",AY76=\"\",AY75=\"\"),\"Yes\",\"\")","v":""},"",{"$f":"IF(AND(BA78=\"Yes\",BA77=\"\",BA76=\"\",BA75=\"\"),\"Yes\",\"\")","v":""},"",{"$f":"IF(AND(BC78=\"Yes\",BC77=\"\",BC76=\"\",BC75=\"\"),\"Yes\",\"\")","v":""},"",{"$f":"IF(AND(BE78=\"Yes\",BE77=\"\",BE76=\"\",BE75=\"\"),\"Yes\",\"\")","v":""},"",{"$f":"IF(AND(BG78=\"Yes\",BG77=\"\",BG76=\"\",BG75=\"\"),\"Yes\",\"\")","v":""},"",{"$f":"IF(AND(BI78=\"Yes\",BI77=\"\",BI76=\"\",BI75=\"\"),\"Yes\",\"\")","v":""},"","",{"$f":"IF(AND(N78>='Warrant 1 - MUTCD'!$M$32,OR('Traffic Volume Input'!O78>='Warrant 1 - MUTCD'!$Q$32,'Traffic Volume Input'!P78>='Warrant 1 - MUTCD'!$Q$32)),\"Yes\",\"\")","v":""},"","",{"$f":"IF(AND(BO78=\"Yes\",BO77=\"\",BO76=\"\",BO75=\"\"),\"Yes\",\"\")","v":""},"",{"$f":"IF(AND(BQ78=\"Yes\",BQ77=\"\",BQ76=\"\",BQ75=\"\"),\"Yes\",\"\")","v":""},"",{"$f":"IF(AND(BS78=\"Yes\",BS77=\"\",BS76=\"\",BS75=\"\"),\"Yes\",\"\")","v":""},"",{"$f":"IF(AND(BU78=\"Yes\",BU77=\"\",BU76=\"\",BU75=\"\"),\"Yes\",\"\")","v":""},"",{"$f":"IF(AND(BW78=\"Yes\",BW77=\"\",BW76=\"\",BW75=\"\"),\"Yes\",\"\")","v":""},"",{"$f":"IF(AND(BY78=\"Yes\",BY77=\"\",BY76=\"\",BY75=\"\"),\"Yes\",\"\")","v":""},"",{"$f":"IF(AND(CA78=\"Yes\",CA77=\"\",CA76=\"\",CA75=\"\"),\"Yes\",\"\")","v":""},"",{"$f":"IF(AND(CC78=\"Yes\",CC77=\"\",CC76=\"\",CC75=\"\"),\"Yes\",\"\")","v":""},"",{"$f":"IF(AND(CE78=\"Yes\",CE77=\"\",CE76=\"\",CE75=\"\"),\"Yes\",\"\")","v":""},"",{"$f":"IF(AND(CG78=\"Yes\",CG77=\"\",CG76=\"\",CG75=\"\"),\"Yes\",\"\")","v":""},"",{"$f":"IF(AND(CI78=\"Yes\",CI77=\"\",CI76=\"\",CI75=\"\"),\"Yes\",\"\")","v":""},"",{"$f":"IF(AND(CK78=\"Yes\",CK77=\"\",CK76=\"\",CK75=\"\"),\"Yes\",\"\")","v":""},"",{"$f":"IF(AND(CM78=\"Yes\",CM77=\"\",CM76=\"\",CM75=\"\"),\"Yes\",\"\")","v":""},"",{"$f":"IF(AND(CO78=\"Yes\",CO77=\"\",CO76=\"\",CO75=\"\"),\"Yes\",\"\")","v":""},"",{"$f":"IF(AND(CQ78=\"Yes\",CQ77=\"\",CQ76=\"\",CQ75=\"\"),\"Yes\",\"\")","v":""},"",{"$f":"IF(AND(CS78=\"Yes\",CS77=\"\",CS76=\"\",CS75=\"\"),\"Yes\",\"\")","v":""},"",{"$f":"IF(AND(CU78=\"Yes\",CU77=\"\",CU76=\"\",CU75=\"\"),\"Yes\",\"\")","v":""},"",{"$f":"IF(AND(CW78=\"Yes\",CW77=\"\",CW76=\"\",CW75=\"\"),\"Yes\",\"\")","v":""},"",{"$f":"IF(AND(CY78=\"Yes\",CY77=\"\",CY76=\"\",CY75=\"\"),\"Yes\",\"\")","v":""},"",{"$f":"IF(AND(DA78=\"Yes\",DA77=\"\",DA76=\"\",DA75=\"\"),\"Yes\",\"\")","v":""},"","","",{"$f":"IF(AND(DE78=\"Yes\",DE77=\"\",DE76=\"\",DE75=\"\"),\"Yes\",\"\")","v":""},"",{"$f":"IF(AND(DG78=\"Yes\",DG77=\"\",DG76=\"\",DG75=\"\"),\"Yes\",\"\")","v":""},{"$f":"IF(AND(N78>='Warrant 7 & 8 - MUTCD'!$L$16,OR('Traffic Volume Input'!O78>='Warrant 7 & 8 - MUTCD'!$N$16,'Traffic Volume Input'!P78>='Warrant 7 & 8 - MUTCD'!$N$16)),\"Yes\",\"\")","v":""},"","",{"$f":"IF(AND(DK78=\"Yes\",DK77=\"\",DK76=\"\",DK75=\"\"),\"Yes\",\"\")","v":""},"",{"$f":"IF(AND(DM78=\"Yes\",DM77=\"\",DM76=\"\",DM75=\"\"),\"Yes\",\"\")","v":""},"",{"$f":"IF(AND(DO78=\"Yes\",DO77=\"\",DO76=\"\",DO75=\"\"),\"Yes\",\"\")","v":""},"",{"$f":"IF(AND(DQ78=\"Yes\",DQ77=\"\",DQ76=\"\",DQ75=\"\"),\"Yes\",\"\")","v":""},"",{"$f":"IF(AND(DS78=\"Yes\",DS77=\"\",DS76=\"\",DS75=\"\"),\"Yes\",\"\")","v":""},"",{"$f":"IF(AND(DU78=\"Yes\",DU77=\"\",DU76=\"\",DU75=\"\"),\"Yes\",\"\")","v":""},"",{"$f":"IF(AND(DW78=\"Yes\",DW77=\"\",DW76=\"\",DW75=\"\"),\"Yes\",\"\")","v":""},"",{"$f":"IF(AND(DY78=\"Yes\",DY77=\"\",DY76=\"\",DY75=\"\"),\"Yes\",\"\")","v":""},"",{"$f":"IF(AND(EA78=\"Yes\",EA77=\"\",EA76=\"\",EA75=\"\"),\"Yes\",\"\")","v":""},"",{"$f":"IF(AND(EC78=\"Yes\",EC77=\"\",EC76=\"\",EC75=\"\"),\"Yes\",\"\")","v":""},"",{"$f":"IF(AND(EE78=\"Yes\",EE77=\"\",EE76=\"\",EE75=\"\"),\"Yes\",\"\")","v":""},"",{"$f":"IF(AND(EG78=\"Yes\",EG77=\"\",EG76=\"\",EG75=\"\"),\"Yes\",\"\")","v":""},"",{"$f":"IF(AND(EI78=\"Yes\",EI77=\"\",EI76=\"\",EI75=\"\"),\"Yes\",\"\")","v":""},"",{"$f":"IF(AND(EK78=\"Yes\",EK77=\"\",EK76=\"\",EK75=\"\"),\"Yes\",\"\")","v":""},"",{"$f":"IF(AND(EM78=\"Yes\",EM77=\"\",EM76=\"\",EM75=\"\"),\"Yes\",\"\")","v":""},"",{"$f":"IF(AND(EO78=\"Yes\",EO77=\"\",EO76=\"\",EO75=\"\"),\"Yes\",\"\")","v":""},"",{"$f":"IF(AND(EQ78=\"Yes\",EQ77=\"\",EQ76=\"\",EQ75=\"\"),\"Yes\",\"\")","v":""},"",{"$f":"IF(AND(ES78=\"Yes\",ES77=\"\",ES76=\"\",ES75=\"\"),\"Yes\",\"\")","v":""},"",{"$f":"IF(AND(EU78=\"Yes\",EU77=\"\",EU76=\"\",EU75=\"\"),\"Yes\",\"\")","v":""},"",{"$f":"IF(AND(EW78=\"Yes\",EW77=\"\",EW76=\"\",EW75=\"\"),\"Yes\",\"\")","v":""},"","","",{"$f":"IF(AND(FA78=\"Yes\",FA77=\"\",FA76=\"\",FA75=\"\"),\"Yes\",\"\")","v":""},"","",{"$f":"IF(AND(N78>='Warrant 7 & 8 - MUTCD'!$L$25,OR('Traffic Volume Input'!O78>='Warrant 7 & 8 - MUTCD'!$N$25,'Traffic Volume Input'!P78>='Warrant 7 & 8 - MUTCD'!$N$25)),\"Yes\",\"\")","v":""},"","",{"$f":"IF(AND(FG78=\"Yes\",FG77=\"\",FG76=\"\",FG75=\"\"),\"Yes\",\"\")","v":""},"",{"$f":"IF(AND(FI78=\"Yes\",FI77=\"\",FI76=\"\",FI75=\"\"),\"Yes\",\"\")","v":""},"",{"$f":"IF(AND(FK78=\"Yes\",FK77=\"\",FK76=\"\",FK75=\"\"),\"Yes\",\"\")","v":""},"",{"$f":"IF(AND(FM78=\"Yes\",FM77=\"\",FM76=\"\",FM75=\"\"),\"Yes\",\"\")","v":""},"",{"$f":"IF(AND(FO78=\"Yes\",FO77=\"\",FO76=\"\",FO75=\"\"),\"Yes\",\"\")","v":""},"",{"$f":"IF(AND(FQ78=\"Yes\",FQ77=\"\",FQ76=\"\",FQ75=\"\"),\"Yes\",\"\")","v":""},"",{"$f":"IF(AND(FS78=\"Yes\",FS77=\"\",FS76=\"\",FS75=\"\"),\"Yes\",\"\")","v":""},"",{"$f":"IF(AND(FU78=\"Yes\",FU77=\"\",FU76=\"\",FU75=\"\"),\"Yes\",\"\")","v":""},"",{"$f":"IF(AND(FW78=\"Yes\",FW77=\"\",FW76=\"\",FW75=\"\"),\"Yes\",\"\")","v":""},"",{"$f":"IF(AND(FY78=\"Yes\",FY77=\"\",FY76=\"\",FY75=\"\"),\"Yes\",\"\")","v":""},"",{"$f":"IF(AND(GA78=\"Yes\",GA77=\"\",GA76=\"\",GA75=\"\"),\"Yes\",\"\")","v":""},"",{"$f":"IF(AND(GC78=\"Yes\",GC77=\"\",GC76=\"\",GC75=\"\"),\"Yes\",\"\")","v":""},"",{"$f":"IF(AND(GE78=\"Yes\",GE77=\"\",GE76=\"\",GE75=\"\"),\"Yes\",\"\")","v":""},"",{"$f":"IF(AND(GG78=\"Yes\",GG77=\"\",GG76=\"\",GG75=\"\"),\"Yes\",\"\")","v":""},"",{"$f":"IF(AND(GI78=\"Yes\",GI77=\"\",GI76=\"\",GI75=\"\"),\"Yes\",\"\")","v":""},"",{"$f":"IF(AND(GK78=\"Yes\",GK77=\"\",GK76=\"\",GK75=\"\"),\"Yes\",\"\")","v":""},"",{"$f":"IF(AND(GM78=\"Yes\",GM77=\"\",GM76=\"\",GM75=\"\"),\"Yes\",\"\")","v":""},"",{"$f":"IF(AND(GO78=\"Yes\",GO77=\"\",GO76=\"\",GO75=\"\"),\"Yes\",\"\")","v":""},"",{"$f":"IF(AND(GQ78=\"Yes\",GQ77=\"\",GQ76=\"\",GQ75=\"\"),\"Yes\",\"\")","v":""},"",{"$f":"IF(AND(GS78=\"Yes\",GS77=\"\",GS76=\"\",GS75=\"\"),\"Yes\",\"\")","v":""},"","","",{"$f":"IF(AND(GW78=\"Yes\",GW77=\"\",GW76=\"\",GW75=\"\"),\"Yes\",\"\")","v":""},"",""]
["18:15:00","18:29:00",null,null,0,null,null,null,null,"18:15:00","19:14:00",0,0,0,0,0,{"$f":"IF(AND(N79>='Warrant 1 - MUTCD'!$M$23,OR('Traffic Volume Input'!O79>='Warrant 1 - MUTCD'!$Q$23,'Traffic Volume Input'!P79>='Warrant 1 - MUTCD'!$Q$23)),\"Yes\",\"\")","v":""},"","","","","","",{"$f":"IF(AND(W79=\"Yes\",W78=\"\",W77=\"\",W76=\"\"),\"Yes\",\"\")","v":""},"",{"$f":"IF(AND(Y79=\"Yes\",Y78=\"\",Y77=\"\",Y76=\"\"),\"Yes\",\"\")","v":""},"",{"$f":"IF(AND(AA79=\"Yes\",AA78=\"\",AA77=\"\",AA76=\"\"),\"Yes\",\"\")","v":""},"",{"$f":"IF(AND(AC79=\"Yes\",AC78=\"\",AC77=\"\",AC76=\"\"),\"Yes\",\"\")","v":""},"",{"$f":"IF(AND(AE79=\"Yes\",AE78=\"\",AE77=\"\",AE76=\"\"),\"Yes\",\"\")","v":""},"",{"$f":"IF(AND(AG79=\"Yes\",AG78=\"\",AG77=\"\",AG76=\"\"),\"Yes\",\"\")","v":""},"",{"$f":"IF(AND(AI79=\"Yes\",AI78=\"\",AI77=\"\",AI76=\"\"),\"Yes\",\"\")","v":""},"",{"$f":"IF(AND(AK79=\"Yes\",AK78=\"\",AK77=\"\",AK76=\"\"),\"Yes\",\"\")","v":""},"",{"$f":"IF(AND(AM79=\"Yes\",AM78=\"\",AM77=\"\",AM76=\"\"),\"Yes\",\"\")","v":""},"",{"$f":"IF(AND(AO79=\"Yes\",AO78=\"\",AO77=\"\",AO76=\"\"),\"Yes\",\"\")","v":""},"",{"$f":"IF(AND(AQ79=\"Yes\",AQ78=\"\",AQ77=\"\",AQ76=\"\"),\"Yes\",\"\")","v":""},"",{"$f":"IF(AND(AS79=\"Yes\",AS78=\"\",AS77=\"\",AS76=\"\"),\"Yes\",\"\")","v":""},"",{"$f":"IF(AND(AU79=\"Yes\",AU78=\"\",AU77=\"\",AU76=\"\"),\"Yes\",\"\")","v":""},"",{"$f":"IF(AND(AW79=\"Yes\",AW78=\"\",AW77=\"\",AW76=\"\"),\"Yes\",\"\")","v":""},"",{"$f":"IF(AND(AY79=\"Yes\",AY78=\"\",AY77=\"\",AY76=\"\"),\"Yes\",\"\")","v":""},"",{"$f":"IF(AND(BA79=\"Yes\",BA78=\"\",BA77=\"\",BA76=\"\"),\"Yes\",\"\")","v":""},"",{"$f":"IF(AND(BC79=\"Yes\",BC78=\"\",BC77=\"\",BC76=\"\"),\"Yes\",\"\")","v":""},"",{"$f":"IF(AND(BE79=\"Yes\",BE78=\"\",BE77=\"\",BE76=\"\"),\"Yes\",\"\")","v":""},"",{"$f":"IF(AND(BG79=\"Yes\",BG78=\"\",BG77=\"\",BG76=\"\"),\"Yes\",\"\")","v":""},"",{"$f":"IF(AND(BI79=\"Yes\",BI78=\"\",BI77=\"\",BI76=\"\"),\"Yes\",\"\")","v":""},"","",{"$f":"IF(AND(N79>='Warrant 1 - MUTCD'!$M$32,OR('Traffic Volume Input'!O79>='Warrant 1 - MUTCD'!$Q$32,'Traffic Volume Input'!P79>='Warrant 1 - MUTCD'!$Q$32)),\"Yes\",\"\")","v":""},"","",{"$f":"IF(AND(BO79=\"Yes\",BO78=\"\",BO77=\"\",BO76=\"\"),\"Yes\",\"\")","v":""},"",{"$f":"IF(AND(BQ79=\"Yes\",BQ78=\"\",BQ77=\"\",BQ76=\"\"),\"Yes\",\"\")","v":""},"",{"$f":"IF(AND(BS79=\"Yes\",BS78=\"\",BS77=\"\",BS76=\"\"),\"Yes\",\"\")","v":""},"",{"$f":"IF(AND(BU79=\"Yes\",BU78=\"\",BU77=\"\",BU76=\"\"),\"Yes\",\"\")","v":""},"",{"$f":"IF(AND(BW79=\"Yes\",BW78=\"\",BW77=\"\",BW76=\"\"),\"Yes\",\"\")","v":""},"",{"$f":"IF(AND(BY79=\"Yes\",BY78=\"\",BY77=\"\",BY76=\"\"),\"Yes\",\"\")","v":""},"",{"$f":"IF(AND(CA79=\"Yes\",CA78=\"\",CA77=\"\",CA76=\"\"),\"Yes\",\"\")","v":""},"",{"$f":"IF(AND(CC79=\"Yes\",CC78=\"\",CC77=\"\",CC76=\"\"),\"Yes\",\"\")","v":""},"",{"$f":"IF(AND(CE79=\"Yes\",CE78=\"\",CE77=\"\",CE76=\"\"),\"Yes\",\"\")","v":""},"",{"$f":"IF(AND(CG79=\"Yes\",CG78=\"\",CG77=\"\",CG76=\"\"),\"Yes\",\"\")","v":""},"",{"$f":"IF(AND(CI79=\"Yes\",CI78=\"\",CI77=\"\",CI76=\"\"),\"Yes\",\"\")","v":""},"",{"$f":"IF(AND(CK79=\"Yes\",CK78=\"\",CK77=\"\",CK76=\"\"),\"Yes\",\"\")","v":""},"",{"$f":"IF(AND(CM79=\"Yes\",CM78=\"\",CM77=\"\",CM76=\"\"),\"Yes\",\"\")","v":""},"",{"$f":"IF(AND(CO79=\"Yes\",CO78=\"\",CO77=\"\",CO76=\"\"),\"Yes\",\"\")","v":""},"",{"$f":"IF(AND(CQ79=\"Yes\",CQ78=\"\",CQ77=\"\",CQ76=\"\"),\"Yes\",\"\")","v":""},"",{"$f":"IF(AND(CS79=\"Yes\",CS78=\"\",CS77=\"\",CS76=\"\"),\"Yes\",\"\")","v":""},"",{"$f":"IF(AND(CU79=\"Yes\",CU78=\"\",CU77=\"\",CU76=\"\"),\"Yes\",\"\")","v":""},"",{"$f":"IF(AND(CW79=\"Yes\",CW78=\"\",CW77=\"\",CW76=\"\"),\"Yes\",\"\")","v":""},"",{"$f":"IF(AND(CY79=\"Yes\",CY78=\"\",CY77=\"\",CY76=\"\"),\"Yes\",\"\")","v":""},"",{"$f":"IF(AND(DA79=\"Yes\",DA78=\"\",DA77=\"\",DA76=\"\"),\"Yes\",\"\")","v":""},"","","",{"$f":"IF(AND(DE79=\"Yes\",DE78=\"\",DE77=\"\",DE76=\"\"),\"Yes\",\"\")","v":""},"",{"$f":"IF(AND(DG79=\"Yes\",DG78=\"\",DG77=\"\",DG76=\"\"),\"Yes\",\"\")","v":""},{"$f":"IF(AND(N79>='Warrant 7 & 8 - MUTCD'!$L$16,OR('Traffic Volume Input'!O79>='Warrant 7 & 8 - MUTCD'!$N$16,'Traffic Volume Input'!P79>='Warrant 7 & 8 - MUTCD'!$N$16)),\"Yes\",\"\")","v":""},"","",{"$f":"IF(AND(DK79=\"Yes\",DK78=\"\",DK77=\"\",DK76=\"\"),\"Yes\",\"\")","v":""},"",{"$f":"IF(AND(DM79=\"Yes\",DM78=\"\",DM77=\"\",DM76=\"\"),\"Yes\",\"\")","v":""},"",{"$f":"IF(AND(DO79=\"Yes\",DO78=\"\",DO77=\"\",DO76=\"\"),\"Yes\",\"\")","v":""},"",{"$f":"IF(AND(DQ79=\"Yes\",DQ78=\"\",DQ77=\"\",DQ76=\"\"),\"Yes\",\"\")","v":""},"",{"$f":"IF(AND(DS79=\"Yes\",DS78=\"\",DS77=\"\",DS76=\"\"),\"Yes\",\"\")","v":""},"",{"$f":"IF(AND(DU79=\"Yes\",DU78=\"\",DU77=\"\",DU76=\"\"),\"Yes\",\"\")","v":""},"",{"$f":"IF(AND(DW79=\"Yes\",DW78=\"\",DW77=\"\",DW76=\"\"),\"Yes\",\"\")","v":""},"",{"$f":"IF(AND(DY79=\"Yes\",DY78=\"\",DY77=\"\",DY76=\"\"),\"Yes\",\"\")","v":""},"",{"$f":"IF(AND(EA79=\"Yes\",EA78=\"\",EA77=\"\",EA76=\"\"),\"Yes\",\"\")","v":""},"",{"$f":"IF(AND(EC79=\"Yes\",EC78=\"\",EC77=\"\",EC76=\"\"),\"Yes\",\"\")","v":""},"",{"$f":"IF(AND(EE79=\"Yes\",EE78=\"\",EE77=\"\",EE76=\"\"),\"Yes\",\"\")","v":""},"",{"$f":"IF(AND(EG79=\"Yes\",EG78=\"\",EG77=\"\",EG76=\"\"),\"Yes\",\"\")","v":""},"",{"$f":"IF(AND(EI79=\"Yes\",EI78=\"\",EI77=\"\",EI76=\"\"),\"Yes\",\"\")","v":""},"",{"$f":"IF(AND(EK79=\"Yes\",EK78=\"\",EK77=\"\",EK76=\"\"),\"Yes\",\"\")","v":""},"",{"$f":"IF(AND(EM79=\"Yes\",EM78=\"\",EM77=\"\",EM76=\"\"),\"Yes\",\"\")","v":""},"",{"$f":"IF(AND(EO79=\"Yes\",EO78=\"\",EO77=\"\",EO76=\"\"),\"Yes\",\"\")","v":""},"",{"$f":"IF(AND(EQ79=\"Yes\",EQ78=\"\",EQ77=\"\",EQ76=\"\"),\"Yes\",\"\")","v":""},"",{"$f":"IF(AND(ES79=\"Yes\",ES78=\"\",ES77=\"\",ES76=\"\"),\"Yes\",\"\")","v":""},"",{"$f":"IF(AND(EU79=\"Yes\",EU78=\"\",EU77=\"\",EU76=\"\"),\"Yes\",\"\")","v":""},"",{"$f":"IF(AND(EW79=\"Yes\",EW78=\"\",EW77=\"\",EW76=\"\"),\"Yes\",\"\")","v":""},"","","",{"$f":"IF(AND(FA79=\"Yes\",FA78=\"\",FA77=\"\",FA76=\"\"),\"Yes\",\"\")","v":""},"","",{"$f":"IF(AND(N79>='Warrant 7 & 8 - MUTCD'!$L$25,OR('Traffic Volume Input'!O79>='Warrant 7 & 8 - MUTCD'!$N$25,'Traffic Volume Input'!P79>='Warrant 7 & 8 - MUTCD'!$N$25)),\"Yes\",\"\")","v":""},"","",{"$f":"IF(AND(FG79=\"Yes\",FG78=\"\",FG77=\"\",FG76=\"\"),\"Yes\",\"\")","v":""},"",{"$f":"IF(AND(FI79=\"Yes\",FI78=\"\",FI77=\"\",FI76=\"\"),\"Yes\",\"\")","v":""},"",{"$f":"IF(AND(FK79=\"Yes\",FK78=\"\",FK77=\"\",FK76=\"\"),\"Yes\",\"\")","v":""},"",{"$f":"IF(AND(FM79=\"Yes\",FM78=\"\",FM77=\"\",FM76=\"\"),\"Yes\",\"\")","v":""},"",{"$f":"IF(AND(FO79=\"Yes\",FO78=\"\",FO77=\"\",FO76=\"\"),\"Yes\",\"\")","v":""},"",{"$f":"IF(AND(FQ79=\"Yes\",FQ78=\"\",FQ77=\"\",FQ76=\"\"),\"Yes\",\"\")","v":""},"",{"$f":"IF(AND(FS79=\"Yes\",FS78=\"\",FS77=\"\",FS76=\"\"),\"Yes\",\"\")","v":""},"",{"$f":"IF(AND(FU79=\"Yes\",FU78=\"\",FU77=\"\",FU76=\"\"),\"Yes\",\"\")","v":""},"",{"$f":"IF(AND(FW79=\"Yes\",FW78=\"\",FW77=\"\",FW76=\"\"),\"Yes\",\"\")","v":""},"",{"$f":"IF(AND(FY79=\"Yes\",FY78=\"\",FY77=\"\",FY76=\"\"),\"Yes\",\"\")","v":""},"",{"$f":"IF(AND(GA79=\"Yes\",GA78=\"\",GA77=\"\",GA76=\"\"),\"Yes\",\"\")","v":""},"",{"$f":"IF(AND(GC79=\"Yes\",GC78=\"\",GC77=\"\",GC76=\"\"),\"Yes\",\"\")","v":""},"",{"$f":"IF(AND(GE79=\"Yes\",GE78=\"\",GE77=\"\",GE76=\"\"),\"Yes\",\"\")","v":""},"",{"$f":"IF(AND(GG79=\"Yes\",GG78=\"\",GG77=\"\",GG76=\"\"),\"Yes\",\"\")","v":""},"",{"$f":"IF(AND(GI79=\"Yes\",GI78=\"\",GI77=\"\",GI76=\"\"),\"Yes\",\"\")","v":""},"",{"$f":"IF(AND(GK79=\"Yes\",GK78=\"\",GK77=\"\",GK76=\"\"),\"Yes\",\"\")","v":""},"",{"$f":"IF(AND(GM79=\"Yes\",GM78=\"\",GM77=\"\",GM76=\"\"),\"Yes\",\"\")","v":""},"",{"$f":"IF(AND(GO79=\"Yes\",GO78=\"\",GO77=\"\",GO76=\"\"),\"Yes\",\"\")","v":""},"",{"$f":"IF(AND(GQ79=\"Yes\",GQ78=\"\",GQ77=\"\",GQ76=\"\"),\"Yes\",\"\")","v":""},"",{"$f":"IF(AND(GS79=\"Yes\",GS78=\"\",GS77=\"\",GS76=\"\"),\"Yes\",\"\")","v":""},"","","",{"$f":"IF(AND(GW79=\"Yes\",GW78=\"\",GW77=\"\",GW76=\"\"),\"Yes\",\"\")","v":""},"",""]
["18:30:00","18:44:00",null,null,0,null,null,null,null,"18:30:00","19:29:00",0,0,0,0,0,{"$f":"IF(AND(N80>='Warrant 1 - MUTCD'!$M$23,OR('Traffic Volume Input'!O80>='Warrant 1 - MUTCD'!$Q$23,'Traffic Volume Input'!P80>='Warrant 1 - MUTCD'!$Q$23)),\"Yes\",\"\")","v":""},"","","","","","",{"$f":"IF(AND(W80=\"Yes\",W79=\"\",W78=\"\",W77=\"\"),\"Yes\",\"\")","v":""},"",{"$f":"IF(AND(Y80=\"Yes\",Y79=\"\",Y78=\"\",Y77=\"\"),\"Yes\",\"\")","v":""},"",{"$f":"IF(AND(AA80=\"Yes\",AA79=\"\",AA78=\"\",AA77=\"\"),\"Yes\",\"\")","v":""},"",{"$f":"IF(AND(AC80=\"Yes\",AC79=\"\",AC78=\"\",AC77=\"\"),\"Yes\",\"\")","v":""},"",{"$f":"IF(AND(AE80=\"Yes\",AE79=\"\",AE78=\"\",AE77=\"\"),\"Yes\",\"\")","v":""},"",{"$f":"IF(AND(AG80=\"Yes\",AG79=\"\",AG78=\"\",AG77=\"\"),\"Yes\",\"\")","v":""},"",{"$f":"IF(AND(AI80=\"Yes\",AI79=\"\",AI78=\"\",AI77=\"\"),\"Yes\",\"\")","v":""},"",{"$f":"IF(AND(AK80=\"Yes\",AK79=\"\",AK78=\"\",AK77=\"\"),\"Yes\",\"\")","v":""},"",{"$f":"IF(AND(AM80=\"Yes\",AM79=\"\",AM78=\"\",AM77=\"\"),\"Yes\",\"\")","v":""},"",{"$f":"IF(AND(AO80=\"Yes\",AO79=\"\",AO78=\"\",AO77=\"\"),\"Yes\",\"\")","v":""},"",{"$f":"IF(AND(AQ80=\"Yes\",AQ79=\"\",AQ78=\"\",AQ77=\"\"),\"Yes\",\"\")","v":""},"",{"$f":"IF(AND(AS80=\"Yes\",AS79=\"\",AS78=\"\",AS77=\"\"),\"Yes\",\"\")","v":""},"",{"$f":"IF(AND(AU80=\"Yes\",AU79=\"\",AU78=\"\",AU77=\"\"),\"Yes\",\"\")","v":""},"",{"$f":"IF(AND(AW80=\"Yes\",AW79=\"\",AW78=\"\",AW77=\"\"),\"Yes\",\"\")","v":""},"",{"$f":"IF(AND(AY80=\"Yes\",AY79=\"\",AY78=\"\",AY77=\"\"),\"Yes\",\"\")","v":""},"",{"$f":"IF(AND(BA80=\"Yes\",BA79=\"\",BA78=\"\",BA77=\"\"),\"Yes\",\"\")","v":""},"",{"$f":"IF(AND(BC80=\"Yes\",BC79=\"\",BC78=\"\",BC77=\"\"),\"Yes\",\"\")","v":""},"",{"$f":"IF(AND(BE80=\"Yes\",BE79=\"\",BE78=\"\",BE77=\"\"),\"Yes\",\"\")","v":""},"",{"$f":"IF(AND(BG80=\"Yes\",BG79=\"\",BG78=\"\",BG77=\"\"),\"Yes\",\"\")","v":""},"",{"$f":"IF(AND(BI80=\"Yes\",BI79=\"\",BI78=\"\",BI77=\"\"),\"Yes\",\"\")","v":""},"","",{"$f":"IF(AND(N80>='Warrant 1 - MUTCD'!$M$32,OR('Traffic Volume Input'!O80>='Warrant 1 - MUTCD'!$Q$32,'Traffic Volume Input'!P80>='Warrant 1 - MUTCD'!$Q$32)),\"Yes\",\"\")","v":""},"","",{"$f":"IF(AND(BO80=\"Yes\",BO79=\"\",BO78=\"\",BO77=\"\"),\"Yes\",\"\")","v":""},"",{"$f":"IF(AND(BQ80=\"Yes\",BQ79=\"\",BQ78=\"\",BQ77=\"\"),\"Yes\",\"\")","v":""},"",{"$f":"IF(AND(BS80=\"Yes\",BS79=\"\",BS78=\"\",BS77=\"\"),\"Yes\",\"\")","v":""},"",{"$f":"IF(AND(BU80=\"Yes\",BU79=\"\",BU78=\"\",BU77=\"\"),\"Yes\",\"\")","v":""},"",{"$f":"IF(AND(BW80=\"Yes\",BW79=\"\",BW78=\"\",BW77=\"\"),\"Yes\",\"\")","v":""},"",{"$f":"IF(AND(BY80=\"Yes\",BY79=\"\",BY78=\"\",BY77=\"\"),\"Yes\",\"\")","v":""},"",{"$f":"IF(AND(CA80=\"Yes\",CA79=\"\",CA78=\"\",CA77=\"\"),\"Yes\",\"\")","v":""},"",{"$f":"IF(AND(CC80=\"Yes\",CC79=\"\",CC78=\"\",CC77=\"\"),\"Yes\",\"\")","v":""},"",{"$f":"IF(AND(CE80=\"Yes\",CE79=\"\",CE78=\"\",CE77=\"\"),\"Yes\",\"\")","v":""},"",{"$f":"IF(AND(CG80=\"Yes\",CG79=\"\",CG78=\"\",CG77=\"\"),\"Yes\",\"\")","v":""},"",{"$f":"IF(AND(CI80=\"Yes\",CI79=\"\",CI78=\"\",CI77=\"\"),\"Yes\",\"\")","v":""},"",{"$f":"IF(AND(CK80=\"Yes\",CK79=\"\",CK78=\"\",CK77=\"\"),\"Yes\",\"\")","v":""},"",{"$f":"IF(AND(CM80=\"Yes\",CM79=\"\",CM78=\"\",CM77=\"\"),\"Yes\",\"\")","v":""},"",{"$f":"IF(AND(CO80=\"Yes\",CO79=\"\",CO78=\"\",CO77=\"\"),\"Yes\",\"\")","v":""},"",{"$f":"IF(AND(CQ80=\"Yes\",CQ79=\"\",CQ78=\"\",CQ77=\"\"),\"Yes\",\"\")","v":""},"",{"$f":"IF(AND(CS80=\"Yes\",CS79=\"\",CS78=\"\",CS77=\"\"),\"Yes\",\"\")","v":""},"",{"$f":"IF(AND(CU80=\"Yes\",CU79=\"\",CU78=\"\",CU77=\"\"),\"Yes\",\"\")","v":""},"",{"$f":"IF(AND(CW80=\"Yes\",CW79=\"\",CW78=\"\",CW77=\"\"),\"Yes\",\"\")","v":""},"",{"$f":"IF(AND(CY80=\"Yes\",CY79=\"\",CY78=\"\",CY77=\"\"),\"Yes\",\"\")","v":""},"",{"$f":"IF(AND(DA80=\"Yes\",DA79=\"\",DA78=\"\",DA77=\"\"),\"Yes\",\"\")","v":""},"","","",{"$f":"IF(AND(DE80=\"Yes\",DE79=\"\",DE78=\"\",DE77=\"\"),\"Yes\",\"\")","v":""},"",{"$f":"IF(AND(DG80=\"Yes\",DG79=\"\",DG78=\"\",DG77=\"\"),\"Yes\",\"\")","v":""},{"$f":"IF(AND(N80>='Warrant 7 & 8 - MUTCD'!$L$16,OR('Traffic Volume Input'!O80>='Warrant 7 & 8 - MUTCD'!$N$16,'Traffic Volume Input'!P80>='Warrant 7 & 8 - MUTCD'!$N$16)),\"Yes\",\"\")","v":""},"","",{"$f":"IF(AND(DK80=\"Yes\",DK79=\"\",DK78=\"\",DK77=\"\"),\"Yes\",\"\")","v":""},"",{"$f":"IF(AND(DM80=\"Yes\",DM79=\"\",DM78=\"\",DM77=\"\"),\"Yes\",\"\")","v":""},"",{"$f":"IF(AND(DO80=\"Yes\",DO79=\"\",DO78=\"\",DO77=\"\"),\"Yes\",\"\")","v":""},"",{"$f":"IF(AND(DQ80=\"Yes\",DQ79=\"\",DQ78=\"\",DQ77=\"\"),\"Yes\",\"\")","v":""},"",{"$f":"IF(AND(DS80=\"Yes\",DS79=\"\",DS78=\"\",DS77=\"\"),\"Yes\",\"\")","v":""},"",{"$f":"IF(AND(DU80=\"Yes\",DU79=\"\",DU78=\"\",DU77=\"\"),\"Yes\",\"\")","v":""},"",{"$f":"IF(AND(DW80=\"Yes\",DW79=\"\",DW78=\"\",DW77=\"\"),\"Yes\",\"\")","v":""},"",{"$f":"IF(AND(DY80=\"Yes\",DY79=\"\",DY78=\"\",DY77=\"\"),\"Yes\",\"\")","v":""},"",{"$f":"IF(AND(EA80=\"Yes\",EA79=\"\",EA78=\"\",EA77=\"\"),\"Yes\",\"\")","v":""},"",{"$f":"IF(AND(EC80=\"Yes\",EC79=\"\",EC78=\"\",EC77=\"\"),\"Yes\",\"\")","v":""},"",{"$f":"IF(AND(EE80=\"Yes\",EE79=\"\",EE78=\"\",EE77=\"\"),\"Yes\",\"\")","v":""},"",{"$f":"IF(AND(EG80=\"Yes\",EG79=\"\",EG78=\"\",EG77=\"\"),\"Yes\",\"\")","v":""},"",{"$f":"IF(AND(EI80=\"Yes\",EI79=\"\",EI78=\"\",EI77=\"\"),\"Yes\",\"\")","v":""},"",{"$f":"IF(AND(EK80=\"Yes\",EK79=\"\",EK78=\"\",EK77=\"\"),\"Yes\",\"\")","v":""},"",{"$f":"IF(AND(EM80=\"Yes\",EM79=\"\",EM78=\"\",EM77=\"\"),\"Yes\",\"\")","v":""},"",{"$f":"IF(AND(EO80=\"Yes\",EO79=\"\",EO78=\"\",EO77=\"\"),\"Yes\",\"\")","v":""},"",{"$f":"IF(AND(EQ80=\"Yes\",EQ79=\"\",EQ78=\"\",EQ77=\"\"),\"Yes\",\"\")","v":""},"",{"$f":"IF(AND(ES80=\"Yes\",ES79=\"\",ES78=\"\",ES77=\"\"),\"Yes\",\"\")","v":""},"",{"$f":"IF(AND(EU80=\"Yes\",EU79=\"\",EU78=\"\",EU77=\"\"),\"Yes\",\"\")","v":""},"",{"$f":"IF(AND(EW80=\"Yes\",EW79=\"\",EW78=\"\",EW77=\"\"),\"Yes\",\"\")","v":""},"","","",{"$f":"IF(AND(FA80=\"Yes\",FA79=\"\",FA78=\"\",FA77=\"\"),\"Yes\",\"\")","v":""},"","",{"$f":"IF(AND(N80>='Warrant 7 & 8 - MUTCD'!$L$25,OR('Traffic Volume Input'!O80>='Warrant 7 & 8 - MUTCD'!$N$25,'Traffic Volume Input'!P80>='Warrant 7 & 8 - MUTCD'!$N$25)),\"Yes\",\"\")","v":""},"","",{"$f":"IF(AND(FG80=\"Yes\",FG79=\"\",FG78=\"\",FG77=\"\"),\"Yes\",\"\")","v":""},"",{"$f":"IF(AND(FI80=\"Yes\",FI79=\"\",FI78=\"\",FI77=\"\"),\"Yes\",\"\")","v":""},"",{"$f":"IF(AND(FK80=\"Yes\",FK79=\"\",FK78=\"\",FK77=\"\"),\"Yes\",\"\")","v":""},"",{"$f":"IF(AND(FM80=\"Yes\",FM79=\"\",FM78=\"\",FM77=\"\"),\"Yes\",\"\")","v":""},"",{"$f":"IF(AND(FO80=\"Yes\",FO79=\"\",FO78=\"\",FO77=\"\"),\"Yes\",\"\")","v":""},"",{"$f":"IF(AND(FQ80=\"Yes\",FQ79=\"\",FQ78=\"\",FQ77=\"\"),\"Yes\",\"\")","v":""},"",{"$f":"IF(AND(FS80=\"Yes\",FS79=\"\",FS78=\"\",FS77=\"\"),\"Yes\",\"\")","v":""},"",{"$f":"IF(AND(FU80=\"Yes\",FU79=\"\",FU78=\"\",FU77=\"\"),\"Yes\",\"\")","v":""},"",{"$f":"IF(AND(FW80=\"Yes\",FW79=\"\",FW78=\"\",FW77=\"\"),\"Yes\",\"\")","v":""},"",{"$f":"IF(AND(FY80=\"Yes\",FY79=\"\",FY78=\"\",FY77=\"\"),\"Yes\",\"\")","v":""},"",{"$f":"IF(AND(GA80=\"Yes\",GA79=\"\",GA78=\"\",GA77=\"\"),\"Yes\",\"\")","v":""},"",{"$f":"IF(AND(GC80=\"Yes\",GC79=\"\",GC78=\"\",GC77=\"\"),\"Yes\",\"\")","v":""},"",{"$f":"IF(AND(GE80=\"Yes\",GE79=\"\",GE78=\"\",GE77=\"\"),\"Yes\",\"\")","v":""},"",{"$f":"IF(AND(GG80=\"Yes\",GG79=\"\",GG78=\"\",GG77=\"\"),\"Yes\",\"\")","v":""},"",{"$f":"IF(AND(GI80=\"Yes\",GI79=\"\",GI78=\"\",GI77=\"\"),\"Yes\",\"\")","v":""},"",{"$f":"IF(AND(GK80=\"Yes\",GK79=\"\",GK78=\"\",GK77=\"\"),\"Yes\",\"\")","v":""},"",{"$f":"IF(AND(GM80=\"Yes\",GM79=\"\",GM78=\"\",GM77=\"\"),\"Yes\",\"\")","v":""},"",{"$f":"IF(AND(GO80=\"Yes\",GO79=\"\",GO78=\"\",GO77=\"\"),\"Yes\",\"\")","v":""},"",{"$f":"IF(AND(GQ80=\"Yes\",GQ79=\"\",GQ78=\"\",GQ77=\"\"),\"Yes\",\"\")","v":""},"",{"$f":"IF(AND(GS80=\"Yes\",GS79=\"\",GS78=\"\",GS77=\"\"),\"Yes\",\"\")","v":""},"","","",{"$f":"IF(AND(GW80=\"Yes\",GW79=\"\",GW78=\"\",GW77=\"\"),\"Yes\",\"\")","v":""},"",""]
["18:45:00","18:59:00",null,null,0,null,null,null,null,"18:45:00","19:44:00",0,0,{"$f":"L81+M81","v":0},0,0,{"$f":"IF(AND(N81>='Warrant 1 - MUTCD'!$M$23,OR('Traffic Volume Input'!O81>='Warrant 1 - MUTCD'!$Q$23,'Traffic Volume Input'!P81>='Warrant 1 - MUTCD'!$Q$23)),\"Yes\",\"\")","v":""},"","","","","","",{"$f":"IF(AND(W81=\"Yes\",W80=\"\",W79=\"\",W78=\"\"),\"Yes\",\"\")","v":""},"",{"$f":"IF(AND(Y81=\"Yes\",Y80=\"\",Y79=\"\",Y78=\"\"),\"Yes\",\"\")","v":""},"",{"$f":"IF(AND(AA81=\"Yes\",AA80=\"\",AA79=\"\",AA78=\"\"),\"Yes\",\"\")","v":""},"",{"$f":"IF(AND(AC81=\"Yes\",AC80=\"\",AC79=\"\",AC78=\"\"),\"Yes\",\"\")","v":""},"",{"$f":"IF(AND(AE81=\"Yes\",AE80=\"\",AE79=\"\",AE78=\"\"),\"Yes\",\"\")","v":""},"",{"$f":"IF(AND(AG81=\"Yes\",AG80=\"\",AG79=\"\",AG78=\"\"),\"Yes\",\"\")","v":""},"",{"$f":"IF(AND(AI81=\"Yes\",AI80=\"\",AI79=\"\",AI78=\"\"),\"Yes\",\"\")","v":""},"",{"$f":"IF(AND(AK81=\"Yes\",AK80=\"\",AK79=\"\",AK78=\"\"),\"Yes\",\"\")","v":""},"",{"$f":"IF(AND(AM81=\"Yes\",AM80=\"\",AM79=\"\",AM78=\"\"),\"Yes\",\"\")","v":""},"",{"$f":"IF(AND(AO81=\"Yes\",AO80=\"\",AO79=\"\",AO78=\"\"),\"Yes\",\"\")","v":""},"",{"$f":"IF(AND(AQ81=\"Yes\",AQ80=\"\",AQ79=\"\",AQ78=\"\"),\"Yes\",\"\")","v":""},"",{"$f":"IF(AND(AS81=\"Yes\",AS80=\"\",AS79=\"\",AS78=\"\"),\"Yes\",\"\")","v":""},"",{"$f":"IF(AND(AU81=\"Yes\",AU80=\"\",AU79=\"\",AU78=\"\"),\"Yes\",\"\")","v":""},"",{"$f":"IF(AND(AW81=\"Yes\",AW80=\"\",AW79=\"\",AW78=\"\"),\"Yes\",\"\")","v":""},"",{"$f":"IF(AND(AY81=\"Yes\",AY80=\"\",AY79=\"\",AY78=\"\"),\"Yes\",\"\")","v":""},"",{"$f":"IF(AND(BA81=\"Yes\",BA80=\"\",BA79=\"\",BA78=\"\"),\"Yes\",\"\")","v":""},"",{"$f":"IF(AND(BC81=\"Yes\",BC80=\"\",BC79=\"\",BC78=\"\"),\"Yes\",\"\")","v":""},"",{"$f":"IF(AND(BE81=\"Yes\",BE80=\"\",BE79=\"\",BE78=\"\"),\"Yes\",\"\")","v":""},"",{"$f":"IF(AND(BG81=\"Yes\",BG80=\"\",BG79=\"\",BG78=\"\"),\"Yes\",\"\")","v":""},"",{"$f":"IF(AND(BI81=\"Yes\",BI80=\"\",BI79=\"\",BI78=\"\"),\"Yes\",\"\")","v":""},"","",{"$f":"IF(AND(N81>='Warrant 1 - MUTCD'!$M$32,OR('Traffic Volume Input'!O81>='Warrant 1 - MUTCD'!$Q$32,'Traffic Volume Input'!P81>='Warrant 1 - MUTCD'!$Q$32)),\"Yes\",\"\")","v":""},"","",{"$f":"IF(AND(BO81=\"Yes\",BO80=\"\",BO79=\"\",BO78=\"\"),\"Yes\",\"\")","v":""},"",{"$f":"IF(AND(BQ81=\"Yes\",BQ80=\"\",BQ79=\"\",BQ78=\"\"),\"Yes\",\"\")","v":""},"",{"$f":"IF(AND(BS81=\"Yes\",BS80=\"\",BS79=\"\",BS78=\"\"),\"Yes\",\"\")","v":""},"",{"$f":"IF(AND(BU81=\"Yes\",BU80=\"\",BU79=\"\",BU78=\"\"),\"Yes\",\"\")","v":""},"",{"$f":"IF(AND(BW81=\"Yes\",BW80=\"\",BW79=\"\",BW78=\"\"),\"Yes\",\"\")","v":""},"",{"$f":"IF(AND(BY81=\"Yes\",BY80=\"\",BY79=\"\",BY78=\"\"),\"Yes\",\"\")","v":""},"",{"$f":"IF(AND(CA81=\"Yes\",CA80=\"\",CA79=\"\",CA78=\"\"),\"Yes\",\"\")","v":""},"",{"$f":"IF(AND(CC81=\"Yes\",CC80=\"\",CC79=\"\",CC78=\"\"),\"Yes\",\"\")","v":""},"",{"$f":"IF(AND(CE81=\"Yes\",CE80=\"\",CE79=\"\",CE78=\"\"),\"Yes\",\"\")","v":""},"",{"$f":"IF(AND(CG81=\"Yes\",CG80=\"\",CG79=\"\",CG78=\"\"),\"Yes\",\"\")","v":""},"",{"$f":"IF(AND(CI81=\"Yes\",CI80=\"\",CI79=\"\",CI78=\"\"),\"Yes\",\"\")","v":""},"",{"$f":"IF(AND(CK81=\"Yes\",CK80=\"\",CK79=\"\",CK78=\"\"),\"Yes\",\"\")","v":""},"",{"$f":"IF(AND(CM81=\"Yes\",CM80=\"\",CM79=\"\",CM78=\"\"),\"Yes\",\"\")","v":""},"",{"$f":"IF(AND(CO81=\"Yes\",CO80=\"\",CO79=\"\",CO78=\"\"),\"Yes\",\"\")","v":""},"",{"$f":"IF(AND(CQ81=\"Yes\",CQ80=\"\",CQ79=\"\",CQ78=\"\"),\"Yes\",\"\")","v":""},"",{"$f":"IF(AND(CS81=\"Yes\",CS80=\"\",CS79=\"\",CS78=\"\"),\"Yes\",\"\")","v":""},"",{"$f":"IF(AND(CU81=\"Yes\",CU80=\"\",CU79=\"\",CU78=\"\"),\"Yes\",\"\")","v":""},"",{"$f":"IF(AND(CW81=\"Yes\",CW80=\"\",CW79=\"\",CW78=\"\"),\"Yes\",\"\")","v":""},"",{"$f":"IF(AND(CY81=\"Yes\",CY80=\"\",CY79=\"\",CY78=\"\"),\"Yes\",\"\")","v":""},"",{"$f":"IF(AND(DA81=\"Yes\",DA80=\"\",DA79=\"\",DA78=\"\"),\"Yes\",\"\")","v":""},"","","",{"$f":"IF(AND(DE81=\"Yes\",DE80=\"\",DE79=\"\",DE78=\"\"),\"Yes\",\"\")","v":""},"",{"$f":"IF(AND(DG81=\"Yes\",DG80=\"\",DG79=\"\",DG78=\"\"),\"Yes\",\"\")","v":""},{"$f":"IF(AND(N81>='Warrant 7 & 8 - MUTCD'!$L$16,OR('Traffic Volume Input'!O81>='Warrant 7 & 8 - MUTCD'!$N$16,'Traffic Volume Input'!P81>='Warrant 7 & 8 - MUTCD'!$N$16)),\"Yes\",\"\")","v":""},"","",{"$f":"IF(AND(DK81=\"Yes\",DK80=\"\",DK79=\"\",DK78=\"\"),\"Yes\",\"\")","v":""},"",{"$f":"IF(AND(DM81=\"Yes\",DM80=\"\",DM79=\"\",DM78=\"\"),\"Yes\",\"\")","v":""},"",{"$f":"IF(AND(DO81=\"Yes\",DO80=\"\",DO79=\"\",DO78=\"\"),\"Yes\",\"\")","v":""},"",{"$f":"IF(AND(DQ81=\"Yes\",DQ80=\"\",DQ79=\"\",DQ78=\"\"),\"Yes\",\"\")","v":""},"",{"$f":"IF(AND(DS81=\"Yes\",DS80=\"\",DS79=\"\",DS78=\"\"),\"Yes\",\"\")","v":""},"",{"$f":"IF(AND(DU81=\"Yes\",DU80=\"\",DU79=\"\",DU78=\"\"),\"Yes\",\"\")","v":""},"",{"$f":"IF(AND(DW81=\"Yes\",DW80=\"\",DW79=\"\",DW78=\"\"),\"Yes\",\"\")","v":""},"",{"$f":"IF(AND(DY81=\"Yes\",DY80=\"\",DY79=\"\",DY78=\"\"),\"Yes\",\"\")","v":""},"",{"$f":"IF(AND(EA81=\"Yes\",EA80=\"\",EA79=\"\",EA78=\"\"),\"Yes\",\"\")","v":""},"",{"$f":"IF(AND(EC81=\"Yes\",EC80=\"\",EC79=\"\",EC78=\"\"),\"Yes\",\"\")","v":""},"",{"$f":"IF(AND(EE81=\"Yes\",EE80=\"\",EE79=\"\",EE78=\"\"),\"Yes\",\"\")","v":""},"",{"$f":"IF(AND(EG81=\"Yes\",EG80=\"\",EG79=\"\",EG78=\"\"),\"Yes\",\"\")","v":""},"",{"$f":"IF(AND(EI81=\"Yes\",EI80=\"\",EI79=\"\",EI78=\"\"),\"Yes\",\"\")","v":""},"",{"$f":"IF(AND(EK81=\"Yes\",EK80=\"\",EK79=\"\",EK78=\"\"),\"Yes\",\"\")","v":""},"",{"$f":"IF(AND(EM81=\"Yes\",EM80=\"\",EM79=\"\",EM78=\"\"),\"Yes\",\"\")","v":""},"",{"$f":"IF(AND(EO81=\"Yes\",EO80=\"\",EO79=\"\",EO78=\"\"),\"Yes\",\"\")","v":""},"",{"$f":"IF(AND(EQ81=\"Yes\",EQ80=\"\",EQ79=\"\",EQ78=\"\"),\"Yes\",\"\")","v":""},"",{"$f":"IF(AND(ES81=\"Yes\",ES80=\"\",ES79=\"\",ES78=\"\"),\"Yes\",\"\")","v":""},"",{"$f":"IF(AND(EU81=\"Yes\",EU80=\"\",EU79=\"\",EU78=\"\"),\"Yes\",\"\")","v":""},"",{"$f":"IF(AND(EW81=\"Yes\",EW80=\"\",EW79=\"\",EW78=\"\"),\"Yes\",\"\")","v":""},"","","",{"$f":"IF(AND(FA81=\"Yes\",FA80=\"\",FA79=\"\",FA78=\"\"),\"Yes\",\"\")","v":""},"","",{"$f":"IF(AND(N81>='Warrant 7 & 8 - MUTCD'!$L$25,OR('Traffic Volume Input'!O81>='Warrant 7 & 8 - MUTCD'!$N$25,'Traffic Volume Input'!P81>='Warrant 7 & 8 - MUTCD'!$N$25)),\"Yes\",\"\")","v":""},"","",{"$f":"IF(AND(FG81=\"Yes\",FG80=\"\",FG79=\"\",FG78=\"\"),\"Yes\",\"\")","v":""},"",{"$f":"IF(AND(FI81=\"Yes\",FI80=\"\",FI79=\"\",FI78=\"\"),\"Yes\",\"\")","v":""},"",{"$f":"IF(AND(FK81=\"Yes\",FK80=\"\",FK79=\"\",FK78=\"\"),\"Yes\",\"\")","v":""},"",{"$f":"IF(AND(FM81=\"Yes\",FM80=\"\",FM79=\"\",FM78=\"\"),\"Yes\",\"\")","v":""},"",{"$f":"IF(AND(FO81=\"Yes\",FO80=\"\",FO79=\"\",FO78=\"\"),\"Yes\",\"\")","v":""},"",{"$f":"IF(AND(FQ81=\"Yes\",FQ80=\"\",FQ79=\"\",FQ78=\"\"),\"Yes\",\"\")","v":""},"",{"$f":"IF(AND(FS81=\"Yes\",FS80=\"\",FS79=\"\",FS78=\"\"),\"Yes\",\"\")","v":""},"",{"$f":"IF(AND(FU81=\"Yes\",FU80=\"\",FU79=\"\",FU78=\"\"),\"Yes\",\"\")","v":""},"",{"$f":"IF(AND(FW81=\"Yes\",FW80=\"\",FW79=\"\",FW78=\"\"),\"Yes\",\"\")","v":""},"",{"$f":"IF(AND(FY81=\"Yes\",FY80=\"\",FY79=\"\",FY78=\"\"),\"Yes\",\"\")","v":""},"",{"$f":"IF(AND(GA81=\"Yes\",GA80=\"\",GA79=\"\",GA78=\"\"),\"Yes\",\"\")","v":""},"",{"$f":"IF(AND(GC81=\"Yes\",GC80=\"\",GC79=\"\",GC78=\"\"),\"Yes\",\"\")","v":""},"",{"$f":"IF(AND(GE81=\"Yes\",GE80=\"\",GE79=\"\",GE78=\"\"),\"Yes\",\"\")","v":""},"",{"$f":"IF(AND(GG81=\"Yes\",GG80=\"\",GG79=\"\",GG78=\"\"),\"Yes\",\"\")","v":""},"",{"$f":"IF(AND(GI81=\"Yes\",GI80=\"\",GI79=\"\",GI78=\"\"),\"Yes\",\"\")","v":""},"",{"$f":"IF(AND(GK81=\"Yes\",GK80=\"\",GK79=\"\",GK78=\"\"),\"Yes\",\"\")","v":""},"",{"$f":"IF(AND(GM81=\"Yes\",GM80=\"\",GM79=\"\",GM78=\"\"),\"Yes\",\"\")","v":""},"",{"$f":"IF(AND(GO81=\"Yes\",GO80=\"\",GO79=\"\",GO78=\"\"),\"Yes\",\"\")","v":""},"",{"$f":"IF(AND(GQ81=\"Yes\",GQ80=\"\",GQ79=\"\",GQ78=\"\"),\"Yes\",\"\")","v":""},"",{"$f":"IF(AND(GS81=\"Yes\",GS80=\"\",GS79=\"\",GS78=\"\"),\"Yes\",\"\")","v":""},"","","",{"$f":"IF(AND(GW81=\"Yes\",GW80=\"\",GW79=\"\",GW78=\"\"),\"Yes\",\"\")","v":""},"",""]
["19:00:00","19:14:00",null,null,0,null,null,null,null,"19:00:00","19:59:00",0,0,0,0,0,{"$f":"IF(AND(N82>='Warrant 1 - MUTCD'!$M$23,OR('Traffic Volume Input'!O82>='Warrant 1 - MUTCD'!$Q$23,'Traffic Volume Input'!P82>='Warrant 1 - MUTCD'!$Q$23)),\"Yes\",\"\")","v":""},"","","","","","",{"$f":"IF(AND(W82=\"Yes\",W81=\"\",W80=\"\",W79=\"\"),\"Yes\",\"\")","v":""},"",{"$f":"IF(AND(Y82=\"Yes\",Y81=\"\",Y80=\"\",Y79=\"\"),\"Yes\",\"\")","v":""},"",{"$f":"IF(AND(AA82=\"Yes\",AA81=\"\",AA80=\"\",AA79=\"\"),\"Yes\",\"\")","v":""},"",{"$f":"IF(AND(AC82=\"Yes\",AC81=\"\",AC80=\"\",AC79=\"\"),\"Yes\",\"\")","v":""},"",{"$f":"IF(AND(AE82=\"Yes\",AE81=\"\",AE80=\"\",AE79=\"\"),\"Yes\",\"\")","v":""},"",{"$f":"IF(AND(AG82=\"Yes\",AG81=\"\",AG80=\"\",AG79=\"\"),\"Yes\",\"\")","v":""},"",{"$f":"IF(AND(AI82=\"Yes\",AI81=\"\",AI80=\"\",AI79=\"\"),\"Yes\",\"\")","v":""},"",{"$f":"IF(AND(AK82=\"Yes\",AK81=\"\",AK80=\"\",AK79=\"\"),\"Yes\",\"\")","v":""},"",{"$f":"IF(AND(AM82=\"Yes\",AM81=\"\",AM80=\"\",AM79=\"\"),\"Yes\",\"\")","v":""},"",{"$f":"IF(AND(AO82=\"Yes\",AO81=\"\",AO80=\"\",AO79=\"\"),\"Yes\",\"\")","v":""},"",{"$f":"IF(AND(AQ82=\"Yes\",AQ81=\"\",AQ80=\"\",AQ79=\"\"),\"Yes\",\"\")","v":""},"",{"$f":"IF(AND(AS82=\"Yes\",AS81=\"\",AS80=\"\",AS79=\"\"),\"Yes\",\"\")","v":""},"",{"$f":"IF(AND(AU82=\"Yes\",AU81=\"\",AU80=\"\",AU79=\"\"),\"Yes\",\"\")","v":""},"",{"$f":"IF(AND(AW82=\"Yes\",AW81=\"\",AW80=\"\",AW79=\"\"),\"Yes\",\"\")","v":""},"",{"$f":"IF(AND(AY82=\"Yes\",AY81=\"\",AY80=\"\",AY79=\"\"),\"Yes\",\"\")","v":""},"",{"$f":"IF(AND(BA82=\"Yes\",BA81=\"\",BA80=\"\",BA79=\"\"),\"Yes\",\"\")","v":""},"",{"$f":"IF(AND(BC82=\"Yes\",BC81=\"\",BC80=\"\",BC79=\"\"),\"Yes\",\"\")","v":""},"",{"$f":"IF(AND(BE82=\"Yes\",BE81=\"\",BE80=\"\",BE79=\"\"),\"Yes\",\"\")","v":""},"",{"$f":"IF(AND(BG82=\"Yes\",BG81=\"\",BG80=\"\",BG79=\"\"),\"Yes\",\"\")","v":""},"",{"$f":"IF(AND(BI82=\"Yes\",BI81=\"\",BI80=\"\",BI79=\"\"),\"Yes\",\"\")","v":""},"","",{"$f":"IF(AND(N82>='Warrant 1 - MUTCD'!$M$32,OR('Traffic Volume Input'!O82>='Warrant 1 - MUTCD'!$Q$32,'Traffic Volume Input'!P82>='Warrant 1 - MUTCD'!$Q$32)),\"Yes\",\"\")","v":""},"","",{"$f":"IF(AND(BO82=\"Yes\",BO81=\"\",BO80=\"\",BO79=\"\"),\"Yes\",\"\")","v":""},"",{"$f":"IF(AND(BQ82=\"Yes\",BQ81=\"\",BQ80=\"\",BQ79=\"\"),\"Yes\",\"\")","v":""},"",{"$f":"IF(AND(BS82=\"Yes\",BS81=\"\",BS80=\"\",BS79=\"\"),\"Yes\",\"\")","v":""},"",{"$f":"IF(AND(BU82=\"Yes\",BU81=\"\",BU80=\"\",BU79=\"\"),\"Yes\",\"\")","v":""},"",{"$f":"IF(AND(BW82=\"Yes\",BW81=\"\",BW80=\"\",BW79=\"\"),\"Yes\",\"\")","v":""},"",{"$f":"IF(AND(BY82=\"Yes\",BY81=\"\",BY80=\"\",BY79=\"\"),\"Yes\",\"\")","v":""},"",{"$f":"IF(AND(CA82=\"Yes\",CA81=\"\",CA80=\"\",CA79=\"\"),\"Yes\",\"\")","v":""},"",{"$f":"IF(AND(CC82=\"Yes\",CC81=\"\",CC80=\"\",CC79=\"\"),\"Yes\",\"\")","v":""},"",{"$f":"IF(AND(CE82=\"Yes\",CE81=\"\",CE80=\"\",CE79=\"\"),\"Yes\",\"\")","v":""},"",{"$f":"IF(AND(CG82=\"Yes\",CG81=\"\",CG80=\"\",CG79=\"\"),\"Yes\",\"\")","v":""},"",{"$f":"IF(AND(CI82=\"Yes\",CI81=\"\",CI80=\"\",CI79=\"\"),\"Yes\",\"\")","v":""},"",{"$f":"IF(AND(CK82=\"Yes\",CK81=\"\",CK80=\"\",CK79=\"\"),\"Yes\",\"\")","v":""},"",{"$f":"IF(AND(CM82=\"Yes\",CM81=\"\",CM80=\"\",CM79=\"\"),\"Yes\",\"\")","v":""},"",{"$f":"IF(AND(CO82=\"Yes\",CO81=\"\",CO80=\"\",CO79=\"\"),\"Yes\",\"\")","v":""},"",{"$f":"IF(AND(CQ82=\"Yes\",CQ81=\"\",CQ80=\"\",CQ79=\"\"),\"Yes\",\"\")","v":""},"",{"$f":"IF(AND(CS82=\"Yes\",CS81=\"\",CS80=\"\",CS79=\"\"),\"Yes\",\"\")","v":""},"",{"$f":"IF(AND(CU82=\"Yes\",CU81=\"\",CU80=\"\",CU79=\"\"),\"Yes\",\"\")","v":""},"",{"$f":"IF(AND(CW82=\"Yes\",CW81=\"\",CW80=\"\",CW79=\"\"),\"Yes\",\"\")","v":""},"",{"$f":"IF(AND(CY82=\"Yes\",CY81=\"\",CY80=\"\",CY79=\"\"),\"Yes\",\"\")","v":""},"",{"$f":"IF(AND(DA82=\"Yes\",DA81=\"\",DA80=\"\",DA79=\"\"),\"Yes\",\"\")","v":""},"","","",{"$f":"IF(AND(DE82=\"Yes\",DE81=\"\",DE80=\"\",DE79=\"\"),\"Yes\",\"\")","v":""},"",{"$f":"IF(AND(DG82=\"Yes\",DG81=\"\",DG80=\"\",DG79=\"\"),\"Yes\",\"\")","v":""},{"$f":"IF(AND(N82>='Warrant 7 & 8 - MUTCD'!$L$16,OR('Traffic Volume Input'!O82>='Warrant 7 & 8 - MUTCD'!$N$16,'Traffic Volume Input'!P82>='Warrant 7 & 8 - MUTCD'!$N$16)),\"Yes\",\"\")","v":""},"","",{"$f":"IF(AND(DK82=\"Yes\",DK81=\"\",DK80=\"\",DK79=\"\"),\"Yes\",\"\")","v":""},"",{"$f":"IF(AND(DM82=\"Yes\",DM81=\"\",DM80=\"\",DM79=\"\"),\"Yes\",\"\")","v":""},"",{"$f":"IF(AND(DO82=\"Yes\",DO81=\"\",DO80=\"\",DO79=\"\"),\"Yes\",\"\")","v":""},"",{"$f":"IF(AND(DQ82=\"Yes\",DQ81=\"\",DQ80=\"\",DQ79=\"\"),\"Yes\",\"\")","v":""},"",{"$f":"IF(AND(DS82=\"Yes\",DS81=\"\",DS80=\"\",DS79=\"\"),\"Yes\",\"\")","v":""},"",{"$f":"IF(AND(DU82=\"Yes\",DU81=\"\",DU80=\"\",DU79=\"\"),\"Yes\",\"\")","v":""},"",{"$f":"IF(AND(DW82=\"Yes\",DW81=\"\",DW80=\"\",DW79=\"\"),\"Yes\",\"\")","v":""},"",{"$f":"IF(AND(DY82=\"Yes\",DY81=\"\",DY80=\"\",DY79=\"\"),\"Yes\",\"\")","v":""},"",{"$f":"IF(AND(EA82=\"Yes\",EA81=\"\",EA80=\"\",EA79=\"\"),\"Yes\",\"\")","v":""},"",{"$f":"IF(AND(EC82=\"Yes\",EC81=\"\",EC80=\"\",EC79=\"\"),\"Yes\",\"\")","v":""},"",{"$f":"IF(AND(EE82=\"Yes\",EE81=\"\",EE80=\"\",EE79=\"\"),\"Yes\",\"\")","v":""},"",{"$f":"IF(AND(EG82=\"Yes\",EG81=\"\",EG80=\"\",EG79=\"\"),\"Yes\",\"\")","v":""},"",{"$f":"IF(AND(EI82=\"Yes\",EI81=\"\",EI80=\"\",EI79=\"\"),\"Yes\",\"\")","v":""},"",{"$f":"IF(AND(EK82=\"Yes\",EK81=\"\",EK80=\"\",EK79=\"\"),\"Yes\",\"\")","v":""},"",{"$f":"IF(AND(EM82=\"Yes\",EM81=\"\",EM80=\"\",EM79=\"\"),\"Yes\",\"\")","v":""},"",{"$f":"IF(AND(EO82=\"Yes\",EO81=\"\",EO80=\"\",EO79=\"\"),\"Yes\",\"\")","v":""},"",{"$f":"IF(AND(EQ82=\"Yes\",EQ81=\"\",EQ80=\"\",EQ79=\"\"),\"Yes\",\"\")","v":""},"",{"$f":"IF(AND(ES82=\"Yes\",ES81=\"\",ES80=\"\",ES79=\"\"),\"Yes\",\"\")","v":""},"",{"$f":"IF(AND(EU82=\"Yes\",EU81=\"\",EU80=\"\",EU79=\"\"),\"Yes\",\"\")","v":""},"",{"$f":"IF(AND(EW82=\"Yes\",EW81=\"\",EW80=\"\",EW79=\"\"),\"Yes\",\"\")","v":""},"","","",{"$f":"IF(AND(FA82=\"Yes\",FA81=\"\",FA80=\"\",FA79=\"\"),\"Yes\",\"\")","v":""},"","",{"$f":"IF(AND(N82>='Warrant 7 & 8 - MUTCD'!$L$25,OR('Traffic Volume Input'!O82>='Warrant 7 & 8 - MUTCD'!$N$25,'Traffic Volume Input'!P82>='Warrant 7 & 8 - MUTCD'!$N$25)),\"Yes\",\"\")","v":""},"","",{"$f":"IF(AND(FG82=\"Yes\",FG81=\"\",FG80=\"\",FG79=\"\"),\"Yes\",\"\")","v":""},"",{"$f":"IF(AND(FI82=\"Yes\",FI81=\"\",FI80=\"\",FI79=\"\"),\"Yes\",\"\")","v":""},"",{"$f":"IF(AND(FK82=\"Yes\",FK81=\"\",FK80=\"\",FK79=\"\"),\"Yes\",\"\")","v":""},"",{"$f":"IF(AND(FM82=\"Yes\",FM81=\"\",FM80=\"\",FM79=\"\"),\"Yes\",\"\")","v":""},"",{"$f":"IF(AND(FO82=\"Yes\",FO81=\"\",FO80=\"\",FO79=\"\"),\"Yes\",\"\")","v":""},"",{"$f":"IF(AND(FQ82=\"Yes\",FQ81=\"\",FQ80=\"\",FQ79=\"\"),\"Yes\",\"\")","v":""},"",{"$f":"IF(AND(FS82=\"Yes\",FS81=\"\",FS80=\"\",FS79=\"\"),\"Yes\",\"\")","v":""},"",{"$f":"IF(AND(FU82=\"Yes\",FU81=\"\",FU80=\"\",FU79=\"\"),\"Yes\",\"\")","v":""},"",{"$f":"IF(AND(FW82=\"Yes\",FW81=\"\",FW80=\"\",FW79=\"\"),\"Yes\",\"\")","v":""},"",{"$f":"IF(AND(FY82=\"Yes\",FY81=\"\",FY80=\"\",FY79=\"\"),\"Yes\",\"\")","v":""},"",{"$f":"IF(AND(GA82=\"Yes\",GA81=\"\",GA80=\"\",GA79=\"\"),\"Yes\",\"\")","v":""},"",{"$f":"IF(AND(GC82=\"Yes\",GC81=\"\",GC80=\"\",GC79=\"\"),\"Yes\",\"\")","v":""},"",{"$f":"IF(AND(GE82=\"Yes\",GE81=\"\",GE80=\"\",GE79=\"\"),\"Yes\",\"\")","v":""},"",{"$f":"IF(AND(GG82=\"Yes\",GG81=\"\",GG80=\"\",GG79=\"\"),\"Yes\",\"\")","v":""},"",{"$f":"IF(AND(GI82=\"Yes\",GI81=\"\",GI80=\"\",GI79=\"\"),\"Yes\",\"\")","v":""},"",{"$f":"IF(AND(GK82=\"Yes\",GK81=\"\",GK80=\"\",GK79=\"\"),\"Yes\",\"\")","v":""},"",{"$f":"IF(AND(GM82=\"Yes\",GM81=\"\",GM80=\"\",GM79=\"\"),\"Yes\",\"\")","v":""},"",{"$f":"IF(AND(GO82=\"Yes\",GO81=\"\",GO80=\"\",GO79=\"\"),\"Yes\",\"\")","v":""},"",{"$f":"IF(AND(GQ82=\"Yes\",GQ81=\"\",GQ80=\"\",GQ79=\"\"),\"Yes\",\"\")","v":""},"",{"$f":"IF(AND(GS82=\"Yes\",GS81=\"\",GS80=\"\",GS79=\"\"),\"Yes\",\"\")","v":""},"","","",{"$f":"IF(AND(GW82=\"Yes\",GW81=\"\",GW80=\"\",GW79=\"\"),\"Yes\",\"\")","v":""},"",""]
["19:15:00","19:29:00",null,null,0,null,null,null,null,"19:15:00","20:14:00",0,0,0,0,0,{"$f":"IF(AND(N83>='Warrant 1 - MUTCD'!$M$23,OR('Traffic Volume Input'!O83>='Warrant 1 - MUTCD'!$Q$23,'Traffic Volume Input'!P83>='Warrant 1 - MUTCD'!$Q$23)),\"Yes\",\"\")","v":""},"","","","","","",{"$f":"IF(AND(W83=\"Yes\",W82=\"\",W81=\"\",W80=\"\"),\"Yes\",\"\")","v":""},"",{"$f":"IF(AND(Y83=\"Yes\",Y82=\"\",Y81=\"\",Y80=\"\"),\"Yes\",\"\")","v":""},"",{"$f":"IF(AND(AA83=\"Yes\",AA82=\"\",AA81=\"\",AA80=\"\"),\"Yes\",\"\")","v":""},"",{"$f":"IF(AND(AC83=\"Yes\",AC82=\"\",AC81=\"\",AC80=\"\"),\"Yes\",\"\")","v":""},"",{"$f":"IF(AND(AE83=\"Yes\",AE82=\"\",AE81=\"\",AE80=\"\"),\"Yes\",\"\")","v":""},"",{"$f":"IF(AND(AG83=\"Yes\",AG82=\"\",AG81=\"\",AG80=\"\"),\"Yes\",\"\")","v":""},"",{"$f":"IF(AND(AI83=\"Yes\",AI82=\"\",AI81=\"\",AI80=\"\"),\"Yes\",\"\")","v":""},"",{"$f":"IF(AND(AK83=\"Yes\",AK82=\"\",AK81=\"\",AK80=\"\"),\"Yes\",\"\")","v":""},"",{"$f":"IF(AND(AM83=\"Yes\",AM82=\"\",AM81=\"\",AM80=\"\"),\"Yes\",\"\")","v":""},"",{"$f":"IF(AND(AO83=\"Yes\",AO82=\"\",AO81=\"\",AO80=\"\"),\"Yes\",\"\")","v":""},"",{"$f":"IF(AND(AQ83=\"Yes\",AQ82=\"\",AQ81=\"\",AQ80=\"\"),\"Yes\",\"\")","v":""},"",{"$f":"IF(AND(AS83=\"Yes\",AS82=\"\",AS81=\"\",AS80=\"\"),\"Yes\",\"\")","v":""},"",{"$f":"IF(AND(AU83=\"Yes\",AU82=\"\",AU81=\"\",AU80=\"\"),\"Yes\",\"\")","v":""},"",{"$f":"IF(AND(AW83=\"Yes\",AW82=\"\",AW81=\"\",AW80=\"\"),\"Yes\",\"\")","v":""},"",{"$f":"IF(AND(AY83=\"Yes\",AY82=\"\",AY81=\"\",AY80=\"\"),\"Yes\",\"\")","v":""},"",{"$f":"IF(AND(BA83=\"Yes\",BA82=\"\",BA81=\"\",BA80=\"\"),\"Yes\",\"\")","v":""},"",{"$f":"IF(AND(BC83=\"Yes\",BC82=\"\",BC81=\"\",BC80=\"\"),\"Yes\",\"\")","v":""},"",{"$f":"IF(AND(BE83=\"Yes\",BE82=\"\",BE81=\"\",BE80=\"\"),\"Yes\",\"\")","v":""},"",{"$f":"IF(AND(BG83=\"Yes\",BG82=\"\",BG81=\"\",BG80=\"\"),\"Yes\",\"\")","v":""},"",{"$f":"IF(AND(BI83=\"Yes\",BI82=\"\",BI81=\"\",BI80=\"\"),\"Yes\",\"\")","v":""},"","",{"$f":"IF(AND(N83>='Warrant 1 - MUTCD'!$M$32,OR('Traffic Volume Input'!O83>='Warrant 1 - MUTCD'!$Q$32,'Traffic Volume Input'!P83>='Warrant 1 - MUTCD'!$Q$32)),\"Yes\",\"\")","v":""},"","",{"$f":"IF(AND(BO83=\"Yes\",BO82=\"\",BO81=\"\",BO80=\"\"),\"Yes\",\"\")","v":""},"",{"$f":"IF(AND(BQ83=\"Yes\",BQ82=\"\",BQ81=\"\",BQ80=\"\"),\"Yes\",\"\")","v":""},"",{"$f":"IF(AND(BS83=\"Yes\",BS82=\"\",BS81=\"\",BS80=\"\"),\"Yes\",\"\")","v":""},"",{"$f":"IF(AND(BU83=\"Yes\",BU82=\"\",BU81=\"\",BU80=\"\"),\"Yes\",\"\")","v":""},"",{"$f":"IF(AND(BW83=\"Yes\",BW82=\"\",BW81=\"\",BW80=\"\"),\"Yes\",\"\")","v":""},"",{"$f":"IF(AND(BY83=\"Yes\",BY82=\"\",BY81=\"\",BY80=\"\"),\"Yes\",\"\")","v":""},"",{"$f":"IF(AND(CA83=\"Yes\",CA82=\"\",CA81=\"\",CA80=\"\"),\"Yes\",\"\")","v":""},"",{"$f":"IF(AND(CC83=\"Yes\",CC82=\"\",CC81=\"\",CC80=\"\"),\"Yes\",\"\")","v":""},"",{"$f":"IF(AND(CE83=\"Yes\",CE82=\"\",CE81=\"\",CE80=\"\"),\"Yes\",\"\")","v":""},"",{"$f":"IF(AND(CG83=\"Yes\",CG82=\"\",CG81=\"\",CG80=\"\"),\"Yes\",\"\")","v":""},"",{"$f":"IF(AND(CI83=\"Yes\",CI82=\"\",CI81=\"\",CI80=\"\"),\"Yes\",\"\")","v":""},"",{"$f":"IF(AND(CK83=\"Yes\",CK82=\"\",CK81=\"\",CK80=\"\"),\"Yes\",\"\")","v":""},"",{"$f":"IF(AND(CM83=\"Yes\",CM82=\"\",CM81=\"\",CM80=\"\"),\"Yes\",\"\")","v":""},"",{"$f":"IF(AND(CO83=\"Yes\",CO82=\"\",CO81=\"\",CO80=\"\"),\"Yes\",\"\")","v":""},"",{"$f":"IF(AND(CQ83=\"Yes\",CQ82=\"\",CQ81=\"\",CQ80=\"\"),\"Yes\",\"\")","v":""},"",{"$f":"IF(AND(CS83=\"Yes\",CS82=\"\",CS81=\"\",CS80=\"\"),\"Yes\",\"\")","v":""},"",{"$f":"IF(AND(CU83=\"Yes\",CU82=\"\",CU81=\"\",CU80=\"\"),\"Yes\",\"\")","v":""},"",{"$f":"IF(AND(CW83=\"Yes\",CW82=\"\",CW81=\"\",CW80=\"\"),\"Yes\",\"\")","v":""},"",{"$f":"IF(AND(CY83=\"Yes\",CY82=\"\",CY81=\"\",CY80=\"\"),\"Yes\",\"\")","v":""},"",{"$f":"IF(AND(DA83=\"Yes\",DA82=\"\",DA81=\"\",DA80=\"\"),\"Yes\",\"\")","v":""},"","","",{"$f":"IF(AND(DE83=\"Yes\",DE82=\"\",DE81=\"\",DE80=\"\"),\"Yes\",\"\")","v":""},"",{"$f":"IF(AND(DG83=\"Yes\",DG82=\"\",DG81=\"\",DG80=\"\"),\"Yes\",\"\")","v":""},{"$f":"IF(AND(N83>='Warrant 7 & 8 - MUTCD'!$L$16,OR('Traffic Volume Input'!O83>='Warrant 7 & 8 - MUTCD'!$N$16,'Traffic Volume Input'!P83>='Warrant 7 & 8 - MUTCD'!$N$16)),\"Yes\",\"\")","v":""},"","",{"$f":"IF(AND(DK83=\"Yes\",DK82=\"\",DK81=\"\",DK80=\"\"),\"Yes\",\"\")","v":""},"",{"$f":"IF(AND(DM83=\"Yes\",DM82=\"\",DM81=\"\",DM80=\"\"),\"Yes\",\"\")","v":""},"",{"$f":"IF(AND(DO83=\"Yes\",DO82=\"\",DO81=\"\",DO80=\"\"),\"Yes\",\"\")","v":""},"",{"$f":"IF(AND(DQ83=\"Yes\",DQ82=\"\",DQ81=\"\",DQ80=\"\"),\"Yes\",\"\")","v":""},"",{"$f":"IF(AND(DS83=\"Yes\",DS82=\"\",DS81=\"\",DS80=\"\"),\"Yes\",\"\")","v":""},"",{"$f":"IF(AND(DU83=\"Yes\",DU82=\"\",DU81=\"\",DU80=\"\"),\"Yes\",\"\")","v":""},"",{"$f":"IF(AND(DW83=\"Yes\",DW82=\"\",DW81=\"\",DW80=\"\"),\"Yes\",\"\")","v":""},"",{"$f":"IF(AND(DY83=\"Yes\",DY82=\"\",DY81=\"\",DY80=\"\"),\"Yes\",\"\")","v":""},"",{"$f":"IF(AND(EA83=\"Yes\",EA82=\"\",EA81=\"\",EA80=\"\"),\"Yes\",\"\")","v":""},"",{"$f":"IF(AND(EC83=\"Yes\",EC82=\"\",EC81=\"\",EC80=\"\"),\"Yes\",\"\")","v":""},"",{"$f":"IF(AND(EE83=\"Yes\",EE82=\"\",EE81=\"\",EE80=\"\"),\"Yes\",\"\")","v":""},"",{"$f":"IF(AND(EG83=\"Yes\",EG82=\"\",EG81=\"\",EG80=\"\"),\"Yes\",\"\")","v":""},"",{"$f":"IF(AND(EI83=\"Yes\",EI82=\"\",EI81=\"\",EI80=\"\"),\"Yes\",\"\")","v":""},"",{"$f":"IF(AND(EK83=\"Yes\",EK82=\"\",EK81=\"\",EK80=\"\"),\"Yes\",\"\")","v":""},"",{"$f":"IF(AND(EM83=\"Yes\",EM82=\"\",EM81=\"\",EM80=\"\"),\"Yes\",\"\")","v":""},"",{"$f":"IF(AND(EO83=\"Yes\",EO82=\"\",EO81=\"\",EO80=\"\"),\"Yes\",\"\")","v":""},"",{"$f":"IF(AND(EQ83=\"Yes\",EQ82=\"\",EQ81=\"\",EQ80=\"\"),\"Yes\",\"\")","v":""},"",{"$f":"IF(AND(ES83=\"Yes\",ES82=\"\",ES81=\"\",ES80=\"\"),\"Yes\",\"\")","v":""},"",{"$f":"IF(AND(EU83=\"Yes\",EU82=\"\",EU81=\"\",EU80=\"\"),\"Yes\",\"\")","v":""},"",{"$f":"IF(AND(EW83=\"Yes\",EW82=\"\",EW81=\"\",EW80=\"\"),\"Yes\",\"\")","v":""},"","","",{"$f":"IF(AND(FA83=\"Yes\",FA82=\"\",FA81=\"\",FA80=\"\"),\"Yes\",\"\")","v":""},"","",{"$f":"IF(AND(N83>='Warrant 7 & 8 - MUTCD'!$L$25,OR('Traffic Volume Input'!O83>='Warrant 7 & 8 - MUTCD'!$N$25,'Traffic Volume Input'!P83>='Warrant 7 & 8 - MUTCD'!$N$25)),\"Yes\",\"\")","v":""},"","",{"$f":"IF(AND(FG83=\"Yes\",FG82=\"\",FG81=\"\",FG80=\"\"),\"Yes\",\"\")","v":""},"",{"$f":"IF(AND(FI83=\"Yes\",FI82=\"\",FI81=\"\",FI80=\"\"),\"Yes\",\"\")","v":""},"",{"$f":"IF(AND(FK83=\"Yes\",FK82=\"\",FK81=\"\",FK80=\"\"),\"Yes\",\"\")","v":""},"",{"$f":"IF(AND(FM83=\"Yes\",FM82=\"\",FM81=\"\",FM80=\"\"),\"Yes\",\"\")","v":""},"",{"$f":"IF(AND(FO83=\"Yes\",FO82=\"\",FO81=\"\",FO80=\"\"),\"Yes\",\"\")","v":""},"",{"$f":"IF(AND(FQ83=\"Yes\",FQ82=\"\",FQ81=\"\",FQ80=\"\"),\"Yes\",\"\")","v":""},"",{"$f":"IF(AND(FS83=\"Yes\",FS82=\"\",FS81=\"\",FS80=\"\"),\"Yes\",\"\")","v":""},"",{"$f":"IF(AND(FU83=\"Yes\",FU82=\"\",FU81=\"\",FU80=\"\"),\"Yes\",\"\")","v":""},"",{"$f":"IF(AND(FW83=\"Yes\",FW82=\"\",FW81=\"\",FW80=\"\"),\"Yes\",\"\")","v":""},"",{"$f":"IF(AND(FY83=\"Yes\",FY82=\"\",FY81=\"\",FY80=\"\"),\"Yes\",\"\")","v":""},"",{"$f":"IF(AND(GA83=\"Yes\",GA82=\"\",GA81=\"\",GA80=\"\"),\"Yes\",\"\")","v":""},"",{"$f":"IF(AND(GC83=\"Yes\",GC82=\"\",GC81=\"\",GC80=\"\"),\"Yes\",\"\")","v":""},"",{"$f":"IF(AND(GE83=\"Yes\",GE82=\"\",GE81=\"\",GE80=\"\"),\"Yes\",\"\")","v":""},"",{"$f":"IF(AND(GG83=\"Yes\",GG82=\"\",GG81=\"\",GG80=\"\"),\"Yes\",\"\")","v":""},"",{"$f":"IF(AND(GI83=\"Yes\",GI82=\"\",GI81=\"\",GI80=\"\"),\"Yes\",\"\")","v":""},"",{"$f":"IF(AND(GK83=\"Yes\",GK82=\"\",GK81=\"\",GK80=\"\"),\"Yes\",\"\")","v":""},"",{"$f":"IF(AND(GM83=\"Yes\",GM82=\"\",GM81=\"\",GM80=\"\"),\"Yes\",\"\")","v":""},"",{"$f":"IF(AND(GO83=\"Yes\",GO82=\"\",GO81=\"\",GO80=\"\"),\"Yes\",\"\")","v":""},"",{"$f":"IF(AND(GQ83=\"Yes\",GQ82=\"\",GQ81=\"\",GQ80=\"\"),\"Yes\",\"\")","v":""},"",{"$f":"IF(AND(GS83=\"Yes\",GS82=\"\",GS81=\"\",GS80=\"\"),\"Yes\",\"\")","v":""},"","","",{"$f":"IF(AND(GW83=\"Yes\",GW82=\"\",GW81=\"\",GW80=\"\"),\"Yes\",\"\")","v":""},"",""]
["19:30:00","19:44:00",null,null,0,null,null,null,null,"19:30:00","20:29:00",0,0,0,0,0,{"$f":"IF(AND(N84>='Warrant 1 - MUTCD'!$M$23,OR('Traffic Volume Input'!O84>='Warrant 1 - MUTCD'!$Q$23,'Traffic Volume Input'!P84>='Warrant 1 - MUTCD'!$Q$23)),\"Yes\",\"\")","v":""},"","","","","","",{"$f":"IF(AND(W84=\"Yes\",W83=\"\",W82=\"\",W81=\"\"),\"Yes\",\"\")","v":""},"",{"$f":"IF(AND(Y84=\"Yes\",Y83=\"\",Y82=\"\",Y81=\"\"),\"Yes\",\"\")","v":""},"",{"$f":"IF(AND(AA84=\"Yes\",AA83=\"\",AA82=\"\",AA81=\"\"),\"Yes\",\"\")","v":""},"",{"$f":"IF(AND(AC84=\"Yes\",AC83=\"\",AC82=\"\",AC81=\"\"),\"Yes\",\"\")","v":""},"",{"$f":"IF(AND(AE84=\"Yes\",AE83=\"\",AE82=\"\",AE81=\"\"),\"Yes\",\"\")","v":""},"",{"$f":"IF(AND(AG84=\"Yes\",AG83=\"\",AG82=\"\",AG81=\"\"),\"Yes\",\"\")","v":""},"",{"$f":"IF(AND(AI84=\"Yes\",AI83=\"\",AI82=\"\",AI81=\"\"),\"Yes\",\"\")","v":""},"",{"$f":"IF(AND(AK84=\"Yes\",AK83=\"\",AK82=\"\",AK81=\"\"),\"Yes\",\"\")","v":""},"",{"$f":"IF(AND(AM84=\"Yes\",AM83=\"\",AM82=\"\",AM81=\"\"),\"Yes\",\"\")","v":""},"",{"$f":"IF(AND(AO84=\"Yes\",AO83=\"\",AO82=\"\",AO81=\"\"),\"Yes\",\"\")","v":""},"",{"$f":"IF(AND(AQ84=\"Yes\",AQ83=\"\",AQ82=\"\",AQ81=\"\"),\"Yes\",\"\")","v":""},"",{"$f":"IF(AND(AS84=\"Yes\",AS83=\"\",AS82=\"\",AS81=\"\"),\"Yes\",\"\")","v":""},"",{"$f":"IF(AND(AU84=\"Yes\",AU83=\"\",AU82=\"\",AU81=\"\"),\"Yes\",\"\")","v":""},"",{"$f":"IF(AND(AW84=\"Yes\",AW83=\"\",AW82=\"\",AW81=\"\"),\"Yes\",\"\")","v":""},"",{"$f":"IF(AND(AY84=\"Yes\",AY83=\"\",AY82=\"\",AY81=\"\"),\"Yes\",\"\")","v":""},"",{"$f":"IF(AND(BA84=\"Yes\",BA83=\"\",BA82=\"\",BA81=\"\"),\"Yes\",\"\")","v":""},"",{"$f":"IF(AND(BC84=\"Yes\",BC83=\"\",BC82=\"\",BC81=\"\"),\"Yes\",\"\")","v":""},"",{"$f":"IF(AND(BE84=\"Yes\",BE83=\"\",BE82=\"\",BE81=\"\"),\"Yes\",\"\")","v":""},"",{"$f":"IF(AND(BG84=\"Yes\",BG83=\"\",BG82=\"\",BG81=\"\"),\"Yes\",\"\")","v":""},"",{"$f":"IF(AND(BI84=\"Yes\",BI83=\"\",BI82=\"\",BI81=\"\"),\"Yes\",\"\")","v":""},"","",{"$f":"IF(AND(N84>='Warrant 1 - MUTCD'!$M$32,OR('Traffic Volume Input'!O84>='Warrant 1 - MUTCD'!$Q$32,'Traffic Volume Input'!P84>='Warrant 1 - MUTCD'!$Q$32)),\"Yes\",\"\")","v":""},"","",{"$f":"IF(AND(BO84=\"Yes\",BO83=\"\",BO82=\"\",BO81=\"\"),\"Yes\",\"\")","v":""},"",{"$f":"IF(AND(BQ84=\"Yes\",BQ83=\"\",BQ82=\"\",BQ81=\"\"),\"Yes\",\"\")","v":""},"",{"$f":"IF(AND(BS84=\"Yes\",BS83=\"\",BS82=\"\",BS81=\"\"),\"Yes\",\"\")","v":""},"",{"$f":"IF(AND(BU84=\"Yes\",BU83=\"\",BU82=\"\",BU81=\"\"),\"Yes\",\"\")","v":""},"",{"$f":"IF(AND(BW84=\"Yes\",BW83=\"\",BW82=\"\",BW81=\"\"),\"Yes\",\"\")","v":""},"",{"$f":"IF(AND(BY84=\"Yes\",BY83=\"\",BY82=\"\",BY81=\"\"),\"Yes\",\"\")","v":""},"",{"$f":"IF(AND(CA84=\"Yes\",CA83=\"\",CA82=\"\",CA81=\"\"),\"Yes\",\"\")","v":""},"",{"$f":"IF(AND(CC84=\"Yes\",CC83=\"\",CC82=\"\",CC81=\"\"),\"Yes\",\"\")","v":""},"",{"$f":"IF(AND(CE84=\"Yes\",CE83=\"\",CE82=\"\",CE81=\"\"),\"Yes\",\"\")","v":""},"",{"$f":"IF(AND(CG84=\"Yes\",CG83=\"\",CG82=\"\",CG81=\"\"),\"Yes\",\"\")","v":""},"",{"$f":"IF(AND(CI84=\"Yes\",CI83=\"\",CI82=\"\",CI81=\"\"),\"Yes\",\"\")","v":""},"",{"$f":"IF(AND(CK84=\"Yes\",CK83=\"\",CK82=\"\",CK81=\"\"),\"Yes\",\"\")","v":""},"",{"$f":"IF(AND(CM84=\"Yes\",CM83=\"\",CM82=\"\",CM81=\"\"),\"Yes\",\"\")","v":""},"",{"$f":"IF(AND(CO84=\"Yes\",CO83=\"\",CO82=\"\",CO81=\"\"),\"Yes\",\"\")","v":""},"",{"$f":"IF(AND(CQ84=\"Yes\",CQ83=\"\",CQ82=\"\",CQ81=\"\"),\"Yes\",\"\")","v":""},"",{"$f":"IF(AND(CS84=\"Yes\",CS83=\"\",CS82=\"\",CS81=\"\"),\"Yes\",\"\")","v":""},"",{"$f":"IF(AND(CU84=\"Yes\",CU83=\"\",CU82=\"\",CU81=\"\"),\"Yes\",\"\")","v":""},"",{"$f":"IF(AND(CW84=\"Yes\",CW83=\"\",CW82=\"\",CW81=\"\"),\"Yes\",\"\")","v":""},"",{"$f":"IF(AND(CY84=\"Yes\",CY83=\"\",CY82=\"\",CY81=\"\"),\"Yes\",\"\")","v":""},"",{"$f":"IF(AND(DA84=\"Yes\",DA83=\"\",DA82=\"\",DA81=\"\"),\"Yes\",\"\")","v":""},"","","",{"$f":"IF(AND(DE84=\"Yes\",DE83=\"\",DE82=\"\",DE81=\"\"),\"Yes\",\"\")","v":""},"",{"$f":"IF(AND(DG84=\"Yes\",DG83=\"\",DG82=\"\",DG81=\"\"),\"Yes\",\"\")","v":""},{"$f":"IF(AND(N84>='Warrant 7 & 8 - MUTCD'!$L$16,OR('Traffic Volume Input'!O84>='Warrant 7 & 8 - MUTCD'!$N$16,'Traffic Volume Input'!P84>='Warrant 7 & 8 - MUTCD'!$N$16)),\"Yes\",\"\")","v":""},"","",{"$f":"IF(AND(DK84=\"Yes\",DK83=\"\",DK82=\"\",DK81=\"\"),\"Yes\",\"\")","v":""},"",{"$f":"IF(AND(DM84=\"Yes\",DM83=\"\",DM82=\"\",DM81=\"\"),\"Yes\",\"\")","v":""},"",{"$f":"IF(AND(DO84=\"Yes\",DO83=\"\",DO82=\"\",DO81=\"\"),\"Yes\",\"\")","v":""},"",{"$f":"IF(AND(DQ84=\"Yes\",DQ83=\"\",DQ82=\"\",DQ81=\"\"),\"Yes\",\"\")","v":""},"",{"$f":"IF(AND(DS84=\"Yes\",DS83=\"\",DS82=\"\",DS81=\"\"),\"Yes\",\"\")","v":""},"",{"$f":"IF(AND(DU84=\"Yes\",DU83=\"\",DU82=\"\",DU81=\"\"),\"Yes\",\"\")","v":""},"",{"$f":"IF(AND(DW84=\"Yes\",DW83=\"\",DW82=\"\",DW81=\"\"),\"Yes\",\"\")","v":""},"",{"$f":"IF(AND(DY84=\"Yes\",DY83=\"\",DY82=\"\",DY81=\"\"),\"Yes\",\"\")","v":""},"",{"$f":"IF(AND(EA84=\"Yes\",EA83=\"\",EA82=\"\",EA81=\"\"),\"Yes\",\"\")","v":""},"",{"$f":"IF(AND(EC84=\"Yes\",EC83=\"\",EC82=\"\",EC81=\"\"),\"Yes\",\"\")","v":""},"",{"$f":"IF(AND(EE84=\"Yes\",EE83=\"\",EE82=\"\",EE81=\"\"),\"Yes\",\"\")","v":""},"",{"$f":"IF(AND(EG84=\"Yes\",EG83=\"\",EG82=\"\",EG81=\"\"),\"Yes\",\"\")","v":""},"",{"$f":"IF(AND(EI84=\"Yes\",EI83=\"\",EI82=\"\",EI81=\"\"),\"Yes\",\"\")","v":""},"",{"$f":"IF(AND(EK84=\"Yes\",EK83=\"\",EK82=\"\",EK81=\"\"),\"Yes\",\"\")","v":""},"",{"$f":"IF(AND(EM84=\"Yes\",EM83=\"\",EM82=\"\",EM81=\"\"),\"Yes\",\"\")","v":""},"",{"$f":"IF(AND(EO84=\"Yes\",EO83=\"\",EO82=\"\",EO81=\"\"),\"Yes\",\"\")","v":""},"",{"$f":"IF(AND(EQ84=\"Yes\",EQ83=\"\",EQ82=\"\",EQ81=\"\"),\"Yes\",\"\")","v":""},"",{"$f":"IF(AND(ES84=\"Yes\",ES83=\"\",ES82=\"\",ES81=\"\"),\"Yes\",\"\")","v":""},"",{"$f":"IF(AND(EU84=\"Yes\",EU83=\"\",EU82=\"\",EU81=\"\"),\"Yes\",\"\")","v":""},"",{"$f":"IF(AND(EW84=\"Yes\",EW83=\"\",EW82=\"\",EW81=\"\"),\"Yes\",\"\")","v":""},"","","",{"$f":"IF(AND(FA84=\"Yes\",FA83=\"\",FA82=\"\",FA81=\"\"),\"Yes\",\"\")","v":""},"","",{"$f":"IF(AND(N84>='Warrant 7 & 8 - MUTCD'!$L$25,OR('Traffic Volume Input'!O84>='Warrant 7 & 8 - MUTCD'!$N$25,'Traffic Volume Input'!P84>='Warrant 7 & 8 - MUTCD'!$N$25)),\"Yes\",\"\")","v":""},"","",{"$f":"IF(AND(FG84=\"Yes\",FG83=\"\",FG82=\"\",FG81=\"\"),\"Yes\",\"\")","v":""},"",{"$f":"IF(AND(FI84=\"Yes\",FI83=\"\",FI82=\"\",FI81=\"\"),\"Yes\",\"\")","v":""},"",{"$f":"IF(AND(FK84=\"Yes\",FK83=\"\",FK82=\"\",FK81=\"\"),\"Yes\",\"\")","v":""},"",{"$f":"IF(AND(FM84=\"Yes\",FM83=\"\",FM82=\"\",FM81=\"\"),\"Yes\",\"\")","v":""},"",{"$f":"IF(AND(FO84=\"Yes\",FO83=\"\",FO82=\"\",FO81=\"\"),\"Yes\",\"\")","v":""},"",{"$f":"IF(AND(FQ84=\"Yes\",FQ83=\"\",FQ82=\"\",FQ81=\"\"),\"Yes\",\"\")","v":""},"",{"$f":"IF(AND(FS84=\"Yes\",FS83=\"\",FS82=\"\",FS81=\"\"),\"Yes\",\"\")","v":""},"",{"$f":"IF(AND(FU84=\"Yes\",FU83=\"\",FU82=\"\",FU81=\"\"),\"Yes\",\"\")","v":""},"",{"$f":"IF(AND(FW84=\"Yes\",FW83=\"\",FW82=\"\",FW81=\"\"),\"Yes\",\"\")","v":""},"",{"$f":"IF(AND(FY84=\"Yes\",FY83=\"\",FY82=\"\",FY81=\"\"),\"Yes\",\"\")","v":""},"",{"$f":"IF(AND(GA84=\"Yes\",GA83=\"\",GA82=\"\",GA81=\"\"),\"Yes\",\"\")","v":""},"",{"$f":"IF(AND(GC84=\"Yes\",GC83=\"\",GC82=\"\",GC81=\"\"),\"Yes\",\"\")","v":""},"",{"$f":"IF(AND(GE84=\"Yes\",GE83=\"\",GE82=\"\",GE81=\"\"),\"Yes\",\"\")","v":""},"",{"$f":"IF(AND(GG84=\"Yes\",GG83=\"\",GG82=\"\",GG81=\"\"),\"Yes\",\"\")","v":""},"",{"$f":"IF(AND(GI84=\"Yes\",GI83=\"\",GI82=\"\",GI81=\"\"),\"Yes\",\"\")","v":""},"",{"$f":"IF(AND(GK84=\"Yes\",GK83=\"\",GK82=\"\",GK81=\"\"),\"Yes\",\"\")","v":""},"",{"$f":"IF(AND(GM84=\"Yes\",GM83=\"\",GM82=\"\",GM81=\"\"),\"Yes\",\"\")","v":""},"",{"$f":"IF(AND(GO84=\"Yes\",GO83=\"\",GO82=\"\",GO81=\"\"),\"Yes\",\"\")","v":""},"",{"$f":"IF(AND(GQ84=\"Yes\",GQ83=\"\",GQ82=\"\",GQ81=\"\"),\"Yes\",\"\")","v":""},"",{"$f":"IF(AND(GS84=\"Yes\",GS83=\"\",GS82=\"\",GS81=\"\"),\"Yes\",\"\")","v":""},"","","",{"$f":"IF(AND(GW84=\"Yes\",GW83=\"\",GW82=\"\",GW81=\"\"),\"Yes\",\"\")","v":""},"",""]
["19:45:00","19:59:00",null,null,0,null,null,null,null,"19:45:00","20:44:00",0,0,0,0,0,{"$f":"IF(AND(N85>='Warrant 1 - MUTCD'!$M$23,OR('Traffic Volume Input'!O85>='Warrant 1 - MUTCD'!$Q$23,'Traffic Volume Input'!P85>='Warrant 1 - MUTCD'!$Q$23)),\"Yes\",\"\")","v":""},"","","","","","",{"$f":"IF(AND(W85=\"Yes\",W84=\"\",W83=\"\",W82=\"\"),\"Yes\",\"\")","v":""},"",{"$f":"IF(AND(Y85=\"Yes\",Y84=\"\",Y83=\"\",Y82=\"\"),\"Yes\",\"\")","v":""},"",{"$f":"IF(AND(AA85=\"Yes\",AA84=\"\",AA83=\"\",AA82=\"\"),\"Yes\",\"\")","v":""},"",{"$f":"IF(AND(AC85=\"Yes\",AC84=\"\",AC83=\"\",AC82=\"\"),\"Yes\",\"\")","v":""},"",{"$f":"IF(AND(AE85=\"Yes\",AE84=\"\",AE83=\"\",AE82=\"\"),\"Yes\",\"\")","v":""},"",{"$f":"IF(AND(AG85=\"Yes\",AG84=\"\",AG83=\"\",AG82=\"\"),\"Yes\",\"\")","v":""},"",{"$f":"IF(AND(AI85=\"Yes\",AI84=\"\",AI83=\"\",AI82=\"\"),\"Yes\",\"\")","v":""},"",{"$f":"IF(AND(AK85=\"Yes\",AK84=\"\",AK83=\"\",AK82=\"\"),\"Yes\",\"\")","v":""},"",{"$f":"IF(AND(AM85=\"Yes\",AM84=\"\",AM83=\"\",AM82=\"\"),\"Yes\",\"\")","v":""},"",{"$f":"IF(AND(AO85=\"Yes\",AO84=\"\",AO83=\"\",AO82=\"\"),\"Yes\",\"\")","v":""},"",{"$f":"IF(AND(AQ85=\"Yes\",AQ84=\"\",AQ83=\"\",AQ82=\"\"),\"Yes\",\"\")","v":""},"",{"$f":"IF(AND(AS85=\"Yes\",AS84=\"\",AS83=\"\",AS82=\"\"),\"Yes\",\"\")","v":""},"",{"$f":"IF(AND(AU85=\"Yes\",AU84=\"\",AU83=\"\",AU82=\"\"),\"Yes\",\"\")","v":""},"",{"$f":"IF(AND(AW85=\"Yes\",AW84=\"\",AW83=\"\",AW82=\"\"),\"Yes\",\"\")","v":""},"",{"$f":"IF(AND(AY85=\"Yes\",AY84=\"\",AY83=\"\",AY82=\"\"),\"Yes\",\"\")","v":""},"",{"$f":"IF(AND(BA85=\"Yes\",BA84=\"\",BA83=\"\",BA82=\"\"),\"Yes\",\"\")","v":""},"",{"$f":"IF(AND(BC85=\"Yes\",BC84=\"\",BC83=\"\",BC82=\"\"),\"Yes\",\"\")","v":""},"",{"$f":"IF(AND(BE85=\"Yes\",BE84=\"\",BE83=\"\",BE82=\"\"),\"Yes\",\"\")","v":""},"",{"$f":"IF(AND(BG85=\"Yes\",BG84=\"\",BG83=\"\",BG82=\"\"),\"Yes\",\"\")","v":""},"",{"$f":"IF(AND(BI85=\"Yes\",BI84=\"\",BI83=\"\",BI82=\"\"),\"Yes\",\"\")","v":""},"","",{"$f":"IF(AND(N85>='Warrant 1 - MUTCD'!$M$32,OR('Traffic Volume Input'!O85>='Warrant 1 - MUTCD'!$Q$32,'Traffic Volume Input'!P85>='Warrant 1 - MUTCD'!$Q$32)),\"Yes\",\"\")","v":""},"","",{"$f":"IF(AND(BO85=\"Yes\",BO84=\"\",BO83=\"\",BO82=\"\"),\"Yes\",\"\")","v":""},"",{"$f":"IF(AND(BQ85=\"Yes\",BQ84=\"\",BQ83=\"\",BQ82=\"\"),\"Yes\",\"\")","v":""},"",{"$f":"IF(AND(BS85=\"Yes\",BS84=\"\",BS83=\"\",BS82=\"\"),\"Yes\",\"\")","v":""},"",{"$f":"IF(AND(BU85=\"Yes\",BU84=\"\",BU83=\"\",BU82=\"\"),\"Yes\",\"\")","v":""},"",{"$f":"IF(AND(BW85=\"Yes\",BW84=\"\",BW83=\"\",BW82=\"\"),\"Yes\",\"\")","v":""},"",{"$f":"IF(AND(BY85=\"Yes\",BY84=\"\",BY83=\"\",BY82=\"\"),\"Yes\",\"\")","v":""},"",{"$f":"IF(AND(CA85=\"Yes\",CA84=\"\",CA83=\"\",CA82=\"\"),\"Yes\",\"\")","v":""},"",{"$f":"IF(AND(CC85=\"Yes\",CC84=\"\",CC83=\"\",CC82=\"\"),\"Yes\",\"\")","v":""},"",{"$f":"IF(AND(CE85=\"Yes\",CE84=\"\",CE83=\"\",CE82=\"\"),\"Yes\",\"\")","v":""},"",{"$f":"IF(AND(CG85=\"Yes\",CG84=\"\",CG83=\"\",CG82=\"\"),\"Yes\",\"\")","v":""},"",{"$f":"IF(AND(CI85=\"Yes\",CI84=\"\",CI83=\"\",CI82=\"\"),\"Yes\",\"\")","v":""},"",{"$f":"IF(AND(CK85=\"Yes\",CK84=\"\",CK83=\"\",CK82=\"\"),\"Yes\",\"\")","v":""},"",{"$f":"IF(AND(CM85=\"Yes\",CM84=\"\",CM83=\"\",CM82=\"\"),\"Yes\",\"\")","v":""},"",{"$f":"IF(AND(CO85=\"Yes\",CO84=\"\",CO83=\"\",CO82=\"\"),\"Yes\",\"\")","v":""},"",{"$f":"IF(AND(CQ85=\"Yes\",CQ84=\"\",CQ83=\"\",CQ82=\"\"),\"Yes\",\"\")","v":""},"",{"$f":"IF(AND(CS85=\"Yes\",CS84=\"\",CS83=\"\",CS82=\"\"),\"Yes\",\"\")","v":""},"",{"$f":"IF(AND(CU85=\"Yes\",CU84=\"\",CU83=\"\",CU82=\"\"),\"Yes\",\"\")","v":""},"",{"$f":"IF(AND(CW85=\"Yes\",CW84=\"\",CW83=\"\",CW82=\"\"),\"Yes\",\"\")","v":""},"",{"$f":"IF(AND(CY85=\"Yes\",CY84=\"\",CY83=\"\",CY82=\"\"),\"Yes\",\"\")","v":""},"",{"$f":"IF(AND(DA85=\"Yes\",DA84=\"\",DA83=\"\",DA82=\"\"),\"Yes\",\"\")","v":""},"","","",{"$f":"IF(AND(DE85=\"Yes\",DE84=\"\",DE83=\"\",DE82=\"\"),\"Yes\",\"\")","v":""},"",{"$f":"IF(AND(DG85=\"Yes\",DG84=\"\",DG83=\"\",DG82=\"\"),\"Yes\",\"\")","v":""},{"$f":"IF(AND(N85>='Warrant 7 & 8 - MUTCD'!$L$16,OR('Traffic Volume Input'!O85>='Warrant 7 & 8 - MUTCD'!$N$16,'Traffic Volume Input'!P85>='Warrant 7 & 8 - MUTCD'!$N$16)),\"Yes\",\"\")","v":""},"","",{"$f":"IF(AND(DK85=\"Yes\",DK84=\"\",DK83=\"\",DK82=\"\"),\"Yes\",\"\")","v":""},"",{"$f":"IF(AND(DM85=\"Yes\",DM84=\"\",DM83=\"\",DM82=\"\"),\"Yes\",\"\")","v":""},"",{"$f":"IF(AND(DO85=\"Yes\",DO84=\"\",DO83=\"\",DO82=\"\"),\"Yes\",\"\")","v":""},"",{"$f":"IF(AND(DQ85=\"Yes\",DQ84=\"\",DQ83=\"\",DQ82=\"\"),\"Yes\",\"\")","v":""},"",{"$f":"IF(AND(DS85=\"Yes\",DS84=\"\",DS83=\"\",DS82=\"\"),\"Yes\",\"\")","v":""},"",{"$f":"IF(AND(DU85=\"Yes\",DU84=\"\",DU83=\"\",DU82=\"\"),\"Yes\",\"\")","v":""},"",{"$f":"IF(AND(DW85=\"Yes\",DW84=\"\",DW83=\"\",DW82=\"\"),\"Yes\",\"\")","v":""},"",{"$f":"IF(AND(DY85=\"Yes\",DY84=\"\",DY83=\"\",DY82=\"\"),\"Yes\",\"\")","v":""},"",{"$f":"IF(AND(EA85=\"Yes\",EA84=\"\",EA83=\"\",EA82=\"\"),\"Yes\",\"\")","v":""},"",{"$f":"IF(AND(EC85=\"Yes\",EC84=\"\",EC83=\"\",EC82=\"\"),\"Yes\",\"\")","v":""},"",{"$f":"IF(AND(EE85=\"Yes\",EE84=\"\",EE83=\"\",EE82=\"\"),\"Yes\",\"\")","v":""},"",{"$f":"IF(AND(EG85=\"Yes\",EG84=\"\",EG83=\"\",EG82=\"\"),\"Yes\",\"\")","v":""},"",{"$f":"IF(AND(EI85=\"Yes\",EI84=\"\",EI83=\"\",EI82=\"\"),\"Yes\",\"\")","v":""},"",{"$f":"IF(AND(EK85=\"Yes\",EK84=\"\",EK83=\"\",EK82=\"\"),\"Yes\",\"\")","v":""},"",{"$f":"IF(AND(EM85=\"Yes\",EM84=\"\",EM83=\"\",EM82=\"\"),\"Yes\",\"\")","v":""},"",{"$f":"IF(AND(EO85=\"Yes\",EO84=\"\",EO83=\"\",EO82=\"\"),\"Yes\",\"\")","v":""},"",{"$f":"IF(AND(EQ85=\"Yes\",EQ84=\"\",EQ83=\"\",EQ82=\"\"),\"Yes\",\"\")","v":""},"",{"$f":"IF(AND(ES85=\"Yes\",ES84=\"\",ES83=\"\",ES82=\"\"),\"Yes\",\"\")","v":""},"",{"$f":"IF(AND(EU85=\"Yes\",EU84=\"\",EU83=\"\",EU82=\"\"),\"Yes\",\"\")","v":""},"",{"$f":"IF(AND(EW85=\"Yes\",EW84=\"\",EW83=\"\",EW82=\"\"),\"Yes\",\"\")","v":""},"","","",{"$f":"IF(AND(FA85=\"Yes\",FA84=\"\",FA83=\"\",FA82=\"\"),\"Yes\",\"\")","v":""},"","",{"$f":"IF(AND(N85>='Warrant 7 & 8 - MUTCD'!$L$25,OR('Traffic Volume Input'!O85>='Warrant 7 & 8 - MUTCD'!$N$25,'Traffic Volume Input'!P85>='Warrant 7 & 8 - MUTCD'!$N$25)),\"Yes\",\"\")","v":""},"","",{"$f":"IF(AND(FG85=\"Yes\",FG84=\"\",FG83=\"\",FG82=\"\"),\"Yes\",\"\")","v":""},"",{"$f":"IF(AND(FI85=\"Yes\",FI84=\"\",FI83=\"\",FI82=\"\"),\"Yes\",\"\")","v":""},"",{"$f":"IF(AND(FK85=\"Yes\",FK84=\"\",FK83=\"\",FK82=\"\"),\"Yes\",\"\")","v":""},"",{"$f":"IF(AND(FM85=\"Yes\",FM84=\"\",FM83=\"\",FM82=\"\"),\"Yes\",\"\")","v":""},"",{"$f":"IF(AND(FO85=\"Yes\",FO84=\"\",FO83=\"\",FO82=\"\"),\"Yes\",\"\")","v":""},"",{"$f":"IF(AND(FQ85=\"Yes\",FQ84=\"\",FQ83=\"\",FQ82=\"\"),\"Yes\",\"\")","v":""},"",{"$f":"IF(AND(FS85=\"Yes\",FS84=\"\",FS83=\"\",FS82=\"\"),\"Yes\",\"\")","v":""},"",{"$f":"IF(AND(FU85=\"Yes\",FU84=\"\",FU83=\"\",FU82=\"\"),\"Yes\",\"\")","v":""},"",{"$f":"IF(AND(FW85=\"Yes\",FW84=\"\",FW83=\"\",FW82=\"\"),\"Yes\",\"\")","v":""},"",{"$f":"IF(AND(FY85=\"Yes\",FY84=\"\",FY83=\"\",FY82=\"\"),\"Yes\",\"\")","v":""},"",{"$f":"IF(AND(GA85=\"Yes\",GA84=\"\",GA83=\"\",GA82=\"\"),\"Yes\",\"\")","v":""},"",{"$f":"IF(AND(GC85=\"Yes\",GC84=\"\",GC83=\"\",GC82=\"\"),\"Yes\",\"\")","v":""},"",{"$f":"IF(AND(GE85=\"Yes\",GE84=\"\",GE83=\"\",GE82=\"\"),\"Yes\",\"\")","v":""},"",{"$f":"IF(AND(GG85=\"Yes\",GG84=\"\",GG83=\"\",GG82=\"\"),\"Yes\",\"\")","v":""},"",{"$f":"IF(AND(GI85=\"Yes\",GI84=\"\",GI83=\"\",GI82=\"\"),\"Yes\",\"\")","v":""},"",{"$f":"IF(AND(GK85=\"Yes\",GK84=\"\",GK83=\"\",GK82=\"\"),\"Yes\",\"\")","v":""},"",{"$f":"IF(AND(GM85=\"Yes\",GM84=\"\",GM83=\"\",GM82=\"\"),\"Yes\",\"\")","v":""},"",{"$f":"IF(AND(GO85=\"Yes\",GO84=\"\",GO83=\"\",GO82=\"\"),\"Yes\",\"\")","v":""},"",{"$f":"IF(AND(GQ85=\"Yes\",GQ84=\"\",GQ83=\"\",GQ82=\"\"),\"Yes\",\"\")","v":""},"",{"$f":"IF(AND(GS85=\"Yes\",GS84=\"\",GS83=\"\",GS82=\"\"),\"Yes\",\"\")","v":""},"","","",{"$f":"IF(AND(GW85=\"Yes\",GW84=\"\",GW83=\"\",GW82=\"\"),\"Yes\",\"\")","v":""},"",""]
["20:00:00","20:14:00",null,null,0,null,null,null,null,"20:00:00","20:59:00",0,0,0,0,0,{"$f":"IF(AND(N86>='Warrant 1 - MUTCD'!$M$23,OR('Traffic Volume Input'!O86>='Warrant 1 - MUTCD'!$Q$23,'Traffic Volume Input'!P86>='Warrant 1 - MUTCD'!$Q$23)),\"Yes\",\"\")","v":""},"","","","","","",{"$f":"IF(AND(W86=\"Yes\",W85=\"\",W84=\"\",W83=\"\"),\"Yes\",\"\")","v":""},"",{"$f":"IF(AND(Y86=\"Yes\",Y85=\"\",Y84=\"\",Y83=\"\"),\"Yes\",\"\")","v":""},"",{"$f":"IF(AND(AA86=\"Yes\",AA85=\"\",AA84=\"\",AA83=\"\"),\"Yes\",\"\")","v":""},"",{"$f":"IF(AND(AC86=\"Yes\",AC85=\"\",AC84=\"\",AC83=\"\"),\"Yes\",\"\")","v":""},"",{"$f":"IF(AND(AE86=\"Yes\",AE85=\"\",AE84=\"\",AE83=\"\"),\"Yes\",\"\")","v":""},"",{"$f":"IF(AND(AG86=\"Yes\",AG85=\"\",AG84=\"\",AG83=\"\"),\"Yes\",\"\")","v":""},"",{"$f":"IF(AND(AI86=\"Yes\",AI85=\"\",AI84=\"\",AI83=\"\"),\"Yes\",\"\")","v":""},"",{"$f":"IF(AND(AK86=\"Yes\",AK85=\"\",AK84=\"\",AK83=\"\"),\"Yes\",\"\")","v":""},"",{"$f":"IF(AND(AM86=\"Yes\",AM85=\"\",AM84=\"\",AM83=\"\"),\"Yes\",\"\")","v":""},"",{"$f":"IF(AND(AO86=\"Yes\",AO85=\"\",AO84=\"\",AO83=\"\"),\"Yes\",\"\")","v":""},"",{"$f":"IF(AND(AQ86=\"Yes\",AQ85=\"\",AQ84=\"\",AQ83=\"\"),\"Yes\",\"\")","v":""},"",{"$f":"IF(AND(AS86=\"Yes\",AS85=\"\",AS84=\"\",AS83=\"\"),\"Yes\",\"\")","v":""},"",{"$f":"IF(AND(AU86=\"Yes\",AU85=\"\",AU84=\"\",AU83=\"\"),\"Yes\",\"\")","v":""},"",{"$f":"IF(AND(AW86=\"Yes\",AW85=\"\",AW84=\"\",AW83=\"\"),\"Yes\",\"\")","v":""},"",{"$f":"IF(AND(AY86=\"Yes\",AY85=\"\",AY84=\"\",AY83=\"\"),\"Yes\",\"\")","v":""},"",{"$f":"IF(AND(BA86=\"Yes\",BA85=\"\",BA84=\"\",BA83=\"\"),\"Yes\",\"\")","v":""},"",{"$f":"IF(AND(BC86=\"Yes\",BC85=\"\",BC84=\"\",BC83=\"\"),\"Yes\",\"\")","v":""},"",{"$f":"IF(AND(BE86=\"Yes\",BE85=\"\",BE84=\"\",BE83=\"\"),\"Yes\",\"\")","v":""},"",{"$f":"IF(AND(BG86=\"Yes\",BG85=\"\",BG84=\"\",BG83=\"\"),\"Yes\",\"\")","v":""},"",{"$f":"IF(AND(BI86=\"Yes\",BI85=\"\",BI84=\"\",BI83=\"\"),\"Yes\",\"\")","v":""},"","",{"$f":"IF(AND(N86>='Warrant 1 - MUTCD'!$M$32,OR('Traffic Volume Input'!O86>='Warrant 1 - MUTCD'!$Q$32,'Traffic Volume Input'!P86>='Warrant 1 - MUTCD'!$Q$32)),\"Yes\",\"\")","v":""},"","",{"$f":"IF(AND(BO86=\"Yes\",BO85=\"\",BO84=\"\",BO83=\"\"),\"Yes\",\"\")","v":""},"",{"$f":"IF(AND(BQ86=\"Yes\",BQ85=\"\",BQ84=\"\",BQ83=\"\"),\"Yes\",\"\")","v":""},"",{"$f":"IF(AND(BS86=\"Yes\",BS85=\"\",BS84=\"\",BS83=\"\"),\"Yes\",\"\")","v":""},"",{"$f":"IF(AND(BU86=\"Yes\",BU85=\"\",BU84=\"\",BU83=\"\"),\"Yes\",\"\")","v":""},"",{"$f":"IF(AND(BW86=\"Yes\",BW85=\"\",BW84=\"\",BW83=\"\"),\"Yes\",\"\")","v":""},"",{"$f":"IF(AND(BY86=\"Yes\",BY85=\"\",BY84=\"\",BY83=\"\"),\"Yes\",\"\")","v":""},"",{"$f":"IF(AND(CA86=\"Yes\",CA85=\"\",CA84=\"\",CA83=\"\"),\"Yes\",\"\")","v":""},"",{"$f":"IF(AND(CC86=\"Yes\",CC85=\"\",CC84=\"\",CC83=\"\"),\"Yes\",\"\")","v":""},"",{"$f":"IF(AND(CE86=\"Yes\",CE85=\"\",CE84=\"\",CE83=\"\"),\"Yes\",\"\")","v":""},"",{"$f":"IF(AND(CG86=\"Yes\",CG85=\"\",CG84=\"\",CG83=\"\"),\"Yes\",\"\")","v":""},"",{"$f":"IF(AND(CI86=\"Yes\",CI85=\"\",CI84=\"\",CI83=\"\"),\"Yes\",\"\")","v":""},"",{"$f":"IF(AND(CK86=\"Yes\",CK85=\"\",CK84=\"\",CK83=\"\"),\"Yes\",\"\")","v":""},"",{"$f":"IF(AND(CM86=\"Yes\",CM85=\"\",CM84=\"\",CM83=\"\"),\"Yes\",\"\")","v":""},"",{"$f":"IF(AND(CO86=\"Yes\",CO85=\"\",CO84=\"\",CO83=\"\"),\"Yes\",\"\")","v":""},"",{"$f":"IF(AND(CQ86=\"Yes\",CQ85=\"\",CQ84=\"\",CQ83=\"\"),\"Yes\",\"\")","v":""},"",{"$f":"IF(AND(CS86=\"Yes\",CS85=\"\",CS84=\"\",CS83=\"\"),\"Yes\",\"\")","v":""},"",{"$f":"IF(AND(CU86=\"Yes\",CU85=\"\",CU84=\"\",CU83=\"\"),\"Yes\",\"\")","v":""},"",{"$f":"IF(AND(CW86=\"Yes\",CW85=\"\",CW84=\"\",CW83=\"\"),\"Yes\",\"\")","v":""},"",{"$f":"IF(AND(CY86=\"Yes\",CY85=\"\",CY84=\"\",CY83=\"\"),\"Yes\",\"\")","v":""},"",{"$f":"IF(AND(DA86=\"Yes\",DA85=\"\",DA84=\"\",DA83=\"\"),\"Yes\",\"\")","v":""},"","","",{"$f":"IF(AND(DE86=\"Yes\",DE85=\"\",DE84=\"\",DE83=\"\"),\"Yes\",\"\")","v":""},"",{"$f":"IF(AND(DG86=\"Yes\",DG85=\"\",DG84=\"\",DG83=\"\"),\"Yes\",\"\")","v":""},{"$f":"IF(AND(N86>='Warrant 7 & 8 - MUTCD'!$L$16,OR('Traffic Volume Input'!O86>='Warrant 7 & 8 - MUTCD'!$N$16,'Traffic Volume Input'!P86>='Warrant 7 & 8 - MUTCD'!$N$16)),\"Yes\",\"\")","v":""},"","",{"$f":"IF(AND(DK86=\"Yes\",DK85=\"\",DK84=\"\",DK83=\"\"),\"Yes\",\"\")","v":""},"",{"$f":"IF(AND(DM86=\"Yes\",DM85=\"\",DM84=\"\",DM83=\"\"),\"Yes\",\"\")","v":""},"",{"$f":"IF(AND(DO86=\"Yes\",DO85=\"\",DO84=\"\",DO83=\"\"),\"Yes\",\"\")","v":""},"",{"$f":"IF(AND(DQ86=\"Yes\",DQ85=\"\",DQ84=\"\",DQ83=\"\"),\"Yes\",\"\")","v":""},"",{"$f":"IF(AND(DS86=\"Yes\",DS85=\"\",DS84=\"\",DS83=\"\"),\"Yes\",\"\")","v":""},"",{"$f":"IF(AND(DU86=\"Yes\",DU85=\"\",DU84=\"\",DU83=\"\"),\"Yes\",\"\")","v":""},"",{"$f":"IF(AND(DW86=\"Yes\",DW85=\"\",DW84=\"\",DW83=\"\"),\"Yes\",\"\")","v":""},"",{"$f":"IF(AND(DY86=\"Yes\",DY85=\"\",DY84=\"\",DY83=\"\"),\"Yes\",\"\")","v":""},"",{"$f":"IF(AND(EA86=\"Yes\",EA85=\"\",EA84=\"\",EA83=\"\"),\"Yes\",\"\")","v":""},"",{"$f":"IF(AND(EC86=\"Yes\",EC85=\"\",EC84=\"\",EC83=\"\"),\"Yes\",\"\")","v":""},"",{"$f":"IF(AND(EE86=\"Yes\",EE85=\"\",EE84=\"\",EE83=\"\"),\"Yes\",\"\")","v":""},"",{"$f":"IF(AND(EG86=\"Yes\",EG85=\"\",EG84=\"\",EG83=\"\"),\"Yes\",\"\")","v":""},"",{"$f":"IF(AND(EI86=\"Yes\",EI85=\"\",EI84=\"\",EI83=\"\"),\"Yes\",\"\")","v":""},"",{"$f":"IF(AND(EK86=\"Yes\",EK85=\"\",EK84=\"\",EK83=\"\"),\"Yes\",\"\")","v":""},"",{"$f":"IF(AND(EM86=\"Yes\",EM85=\"\",EM84=\"\",EM83=\"\"),\"Yes\",\"\")","v":""},"",{"$f":"IF(AND(EO86=\"Yes\",EO85=\"\",EO84=\"\",EO83=\"\"),\"Yes\",\"\")","v":""},"",{"$f":"IF(AND(EQ86=\"Yes\",EQ85=\"\",EQ84=\"\",EQ83=\"\"),\"Yes\",\"\")","v":""},"",{"$f":"IF(AND(ES86=\"Yes\",ES85=\"\",ES84=\"\",ES83=\"\"),\"Yes\",\"\")","v":""},"",{"$f":"IF(AND(EU86=\"Yes\",EU85=\"\",EU84=\"\",EU83=\"\"),\"Yes\",\"\")","v":""},"",{"$f":"IF(AND(EW86=\"Yes\",EW85=\"\",EW84=\"\",EW83=\"\"),\"Yes\",\"\")","v":""},"","","",{"$f":"IF(AND(FA86=\"Yes\",FA85=\"\",FA84=\"\",FA83=\"\"),\"Yes\",\"\")","v":""},"","",{"$f":"IF(AND(N86>='Warrant 7 & 8 - MUTCD'!$L$25,OR('Traffic Volume Input'!O86>='Warrant 7 & 8 - MUTCD'!$N$25,'Traffic Volume Input'!P86>='Warrant 7 & 8 - MUTCD'!$N$25)),\"Yes\",\"\")","v":""},"","",{"$f":"IF(AND(FG86=\"Yes\",FG85=\"\",FG84=\"\",FG83=\"\"),\"Yes\",\"\")","v":""},"",{"$f":"IF(AND(FI86=\"Yes\",FI85=\"\",FI84=\"\",FI83=\"\"),\"Yes\",\"\")","v":""},"",{"$f":"IF(AND(FK86=\"Yes\",FK85=\"\",FK84=\"\",FK83=\"\"),\"Yes\",\"\")","v":""},"",{"$f":"IF(AND(FM86=\"Yes\",FM85=\"\",FM84=\"\",FM83=\"\"),\"Yes\",\"\")","v":""},"",{"$f":"IF(AND(FO86=\"Yes\",FO85=\"\",FO84=\"\",FO83=\"\"),\"Yes\",\"\")","v":""},"",{"$f":"IF(AND(FQ86=\"Yes\",FQ85=\"\",FQ84=\"\",FQ83=\"\"),\"Yes\",\"\")","v":""},"",{"$f":"IF(AND(FS86=\"Yes\",FS85=\"\",FS84=\"\",FS83=\"\"),\"Yes\",\"\")","v":""},"",{"$f":"IF(AND(FU86=\"Yes\",FU85=\"\",FU84=\"\",FU83=\"\"),\"Yes\",\"\")","v":""},"",{"$f":"IF(AND(FW86=\"Yes\",FW85=\"\",FW84=\"\",FW83=\"\"),\"Yes\",\"\")","v":""},"",{"$f":"IF(AND(FY86=\"Yes\",FY85=\"\",FY84=\"\",FY83=\"\"),\"Yes\",\"\")","v":""},"",{"$f":"IF(AND(GA86=\"Yes\",GA85=\"\",GA84=\"\",GA83=\"\"),\"Yes\",\"\")","v":""},"",{"$f":"IF(AND(GC86=\"Yes\",GC85=\"\",GC84=\"\",GC83=\"\"),\"Yes\",\"\")","v":""},"",{"$f":"IF(AND(GE86=\"Yes\",GE85=\"\",GE84=\"\",GE83=\"\"),\"Yes\",\"\")","v":""},"",{"$f":"IF(AND(GG86=\"Yes\",GG85=\"\",GG84=\"\",GG83=\"\"),\"Yes\",\"\")","v":""},"",{"$f":"IF(AND(GI86=\"Yes\",GI85=\"\",GI84=\"\",GI83=\"\"),\"Yes\",\"\")","v":""},"",{"$f":"IF(AND(GK86=\"Yes\",GK85=\"\",GK84=\"\",GK83=\"\"),\"Yes\",\"\")","v":""},"",{"$f":"IF(AND(GM86=\"Yes\",GM85=\"\",GM84=\"\",GM83=\"\"),\"Yes\",\"\")","v":""},"",{"$f":"IF(AND(GO86=\"Yes\",GO85=\"\",GO84=\"\",GO83=\"\"),\"Yes\",\"\")","v":""},"",{"$f":"IF(AND(GQ86=\"Yes\",GQ85=\"\",GQ84=\"\",GQ83=\"\"),\"Yes\",\"\")","v":""},"",{"$f":"IF(AND(GS86=\"Yes\",GS85=\"\",GS84=\"\",GS83=\"\"),\"Yes\",\"\")","v":""},"","","",{"$f":"IF(AND(GW86=\"Yes\",GW85=\"\",GW84=\"\",GW83=\"\"),\"Yes\",\"\")","v":""},"",""]
["20:15:00","20:29:00",null,null,0,null,null,null,null,"20:15:00","21:14:00",0,0,0,0,0,{"$f":"IF(AND(N87>='Warrant 1 - MUTCD'!$M$23,OR('Traffic Volume Input'!O87>='Warrant 1 - MUTCD'!$Q$23,'Traffic Volume Input'!P87>='Warrant 1 - MUTCD'!$Q$23)),\"Yes\",\"\")","v":""},"","","","","","",{"$f":"IF(AND(W87=\"Yes\",W86=\"\",W85=\"\",W84=\"\"),\"Yes\",\"\")","v":""},"",{"$f":"IF(AND(Y87=\"Yes\",Y86=\"\",Y85=\"\",Y84=\"\"),\"Yes\",\"\")","v":""},"",{"$f":"IF(AND(AA87=\"Yes\",AA86=\"\",AA85=\"\",AA84=\"\"),\"Yes\",\"\")","v":""},"",{"$f":"IF(AND(AC87=\"Yes\",AC86=\"\",AC85=\"\",AC84=\"\"),\"Yes\",\"\")","v":""},"",{"$f":"IF(AND(AE87=\"Yes\",AE86=\"\",AE85=\"\",AE84=\"\"),\"Yes\",\"\")","v":""},"",{"$f":"IF(AND(AG87=\"Yes\",AG86=\"\",AG85=\"\",AG84=\"\"),\"Yes\",\"\")","v":""},"",{"$f":"IF(AND(AI87=\"Yes\",AI86=\"\",AI85=\"\",AI84=\"\"),\"Yes\",\"\")","v":""},"",{"$f":"IF(AND(AK87=\"Yes\",AK86=\"\",AK85=\"\",AK84=\"\"),\"Yes\",\"\")","v":""},"",{"$f":"IF(AND(AM87=\"Yes\",AM86=\"\",AM85=\"\",AM84=\"\"),\"Yes\",\"\")","v":""},"",{"$f":"IF(AND(AO87=\"Yes\",AO86=\"\",AO85=\"\",AO84=\"\"),\"Yes\",\"\")","v":""},"",{"$f":"IF(AND(AQ87=\"Yes\",AQ86=\"\",AQ85=\"\",AQ84=\"\"),\"Yes\",\"\")","v":""},"",{"$f":"IF(AND(AS87=\"Yes\",AS86=\"\",AS85=\"\",AS84=\"\"),\"Yes\",\"\")","v":""},"",{"$f":"IF(AND(AU87=\"Yes\",AU86=\"\",AU85=\"\",AU84=\"\"),\"Yes\",\"\")","v":""},"",{"$f":"IF(AND(AW87=\"Yes\",AW86=\"\",AW85=\"\",AW84=\"\"),\"Yes\",\"\")","v":""},"",{"$f":"IF(AND(AY87=\"Yes\",AY86=\"\",AY85=\"\",AY84=\"\"),\"Yes\",\"\")","v":""},"",{"$f":"IF(AND(BA87=\"Yes\",BA86=\"\",BA85=\"\",BA84=\"\"),\"Yes\",\"\")","v":""},"",{"$f":"IF(AND(BC87=\"Yes\",BC86=\"\",BC85=\"\",BC84=\"\"),\"Yes\",\"\")","v":""},"",{"$f":"IF(AND(BE87=\"Yes\",BE86=\"\",BE85=\"\",BE84=\"\"),\"Yes\",\"\")","v":""},"",{"$f":"IF(AND(BG87=\"Yes\",BG86=\"\",BG85=\"\",BG84=\"\"),\"Yes\",\"\")","v":""},"",{"$f":"IF(AND(BI87=\"Yes\",BI86=\"\",BI85=\"\",BI84=\"\"),\"Yes\",\"\")","v":""},"","",{"$f":"IF(AND(N87>='Warrant 1 - MUTCD'!$M$32,OR('Traffic Volume Input'!O87>='Warrant 1 - MUTCD'!$Q$32,'Traffic Volume Input'!P87>='Warrant 1 - MUTCD'!$Q$32)),\"Yes\",\"\")","v":""},"","",{"$f":"IF(AND(BO87=\"Yes\",BO86=\"\",BO85=\"\",BO84=\"\"),\"Yes\",\"\")","v":""},"",{"$f":"IF(AND(BQ87=\"Yes\",BQ86=\"\",BQ85=\"\",BQ84=\"\"),\"Yes\",\"\")","v":""},"",{"$f":"IF(AND(BS87=\"Yes\",BS86=\"\",BS85=\"\",BS84=\"\"),\"Yes\",\"\")","v":""},"",{"$f":"IF(AND(BU87=\"Yes\",BU86=\"\",BU85=\"\",BU84=\"\"),\"Yes\",\"\")","v":""},"",{"$f":"IF(AND(BW87=\"Yes\",BW86=\"\",BW85=\"\",BW84=\"\"),\"Yes\",\"\")","v":""},"",{"$f":"IF(AND(BY87=\"Yes\",BY86=\"\",BY85=\"\",BY84=\"\"),\"Yes\",\"\")","v":""},"",{"$f":"IF(AND(CA87=\"Yes\",CA86=\"\",CA85=\"\",CA84=\"\"),\"Yes\",\"\")","v":""},"",{"$f":"IF(AND(CC87=\"Yes\",CC86=\"\",CC85=\"\",CC84=\"\"),\"Yes\",\"\")","v":""},"",{"$f":"IF(AND(CE87=\"Yes\",CE86=\"\",CE85=\"\",CE84=\"\"),\"Yes\",\"\")","v":""},"",{"$f":"IF(AND(CG87=\"Yes\",CG86=\"\",CG85=\"\",CG84=\"\"),\"Yes\",\"\")","v":""},"",{"$f":"IF(AND(CI87=\"Yes\",CI86=\"\",CI85=\"\",CI84=\"\"),\"Yes\",\"\")","v":""},"",{"$f":"IF(AND(CK87=\"Yes\",CK86=\"\",CK85=\"\",CK84=\"\"),\"Yes\",\"\")","v":""},"",{"$f":"IF(AND(CM87=\"Yes\",CM86=\"\",CM85=\"\",CM84=\"\"),\"Yes\",\"\")","v":""},"",{"$f":"IF(AND(CO87=\"Yes\",CO86=\"\",CO85=\"\",CO84=\"\"),\"Yes\",\"\")","v":""},"",{"$f":"IF(AND(CQ87=\"Yes\",CQ86=\"\",CQ85=\"\",CQ84=\"\"),\"Yes\",\"\")","v":""},"",{"$f":"IF(AND(CS87=\"Yes\",CS86=\"\",CS85=\"\",CS84=\"\"),\"Yes\",\"\")","v":""},"",{"$f":"IF(AND(CU87=\"Yes\",CU86=\"\",CU85=\"\",CU84=\"\"),\"Yes\",\"\")","v":""},"",{"$f":"IF(AND(CW87=\"Yes\",CW86=\"\",CW85=\"\",CW84=\"\"),\"Yes\",\"\")","v":""},"",{"$f":"IF(AND(CY87=\"Yes\",CY86=\"\",CY85=\"\",CY84=\"\"),\"Yes\",\"\")","v":""},"",{"$f":"IF(AND(DA87=\"Yes\",DA86=\"\",DA85=\"\",DA84=\"\"),\"Yes\",\"\")","v":""},"","","",{"$f":"IF(AND(DE87=\"Yes\",DE86=\"\",DE85=\"\",DE84=\"\"),\"Yes\",\"\")","v":""},"",{"$f":"IF(AND(DG87=\"Yes\",DG86=\"\",DG85=\"\",DG84=\"\"),\"Yes\",\"\")","v":""},{"$f":"IF(AND(N87>='Warrant 7 & 8 - MUTCD'!$L$16,OR('Traffic Volume Input'!O87>='Warrant 7 & 8 - MUTCD'!$N$16,'Traffic Volume Input'!P87>='Warrant 7 & 8 - MUTCD'!$N$16)),\"Yes\",\"\")","v":""},"","",{"$f":"IF(AND(DK87=\"Yes\",DK86=\"\",DK85=\"\",DK84=\"\"),\"Yes\",\"\")","v":""},"",{"$f":"IF(AND(DM87=\"Yes\",DM86=\"\",DM85=\"\",DM84=\"\"),\"Yes\",\"\")","v":""},"",{"$f":"IF(AND(DO87=\"Yes\",DO86=\"\",DO85=\"\",DO84=\"\"),\"Yes\",\"\")","v":""},"",{"$f":"IF(AND(DQ87=\"Yes\",DQ86=\"\",DQ85=\"\",DQ84=\"\"),\"Yes\",\"\")","v":""},"",{"$f":"IF(AND(DS87=\"Yes\",DS86=\"\",DS85=\"\",DS84=\"\"),\"Yes\",\"\")","v":""},"",{"$f":"IF(AND(DU87=\"Yes\",DU86=\"\",DU85=\"\",DU84=\"\"),\"Yes\",\"\")","v":""},"",{"$f":"IF(AND(DW87=\"Yes\",DW86=\"\",DW85=\"\",DW84=\"\"),\"Yes\",\"\")","v":""},"",{"$f":"IF(AND(DY87=\"Yes\",DY86=\"\",DY85=\"\",DY84=\"\"),\"Yes\",\"\")","v":""},"",{"$f":"IF(AND(EA87=\"Yes\",EA86=\"\",EA85=\"\",EA84=\"\"),\"Yes\",\"\")","v":""},"",{"$f":"IF(AND(EC87=\"Yes\",EC86=\"\",EC85=\"\",EC84=\"\"),\"Yes\",\"\")","v":""},"",{"$f":"IF(AND(EE87=\"Yes\",EE86=\"\",EE85=\"\",EE84=\"\"),\"Yes\",\"\")","v":""},"",{"$f":"IF(AND(EG87=\"Yes\",EG86=\"\",EG85=\"\",EG84=\"\"),\"Yes\",\"\")","v":""},"",{"$f":"IF(AND(EI87=\"Yes\",EI86=\"\",EI85=\"\",EI84=\"\"),\"Yes\",\"\")","v":""},"",{"$f":"IF(AND(EK87=\"Yes\",EK86=\"\",EK85=\"\",EK84=\"\"),\"Yes\",\"\")","v":""},"",{"$f":"IF(AND(EM87=\"Yes\",EM86=\"\",EM85=\"\",EM84=\"\"),\"Yes\",\"\")","v":""},"",{"$f":"IF(AND(EO87=\"Yes\",EO86=\"\",EO85=\"\",EO84=\"\"),\"Yes\",\"\")","v":""},"",{"$f":"IF(AND(EQ87=\"Yes\",EQ86=\"\",EQ85=\"\",EQ84=\"\"),\"Yes\",\"\")","v":""},"",{"$f":"IF(AND(ES87=\"Yes\",ES86=\"\",ES85=\"\",ES84=\"\"),\"Yes\",\"\")","v":""},"",{"$f":"IF(AND(EU87=\"Yes\",EU86=\"\",EU85=\"\",EU84=\"\"),\"Yes\",\"\")","v":""},"",{"$f":"IF(AND(EW87=\"Yes\",EW86=\"\",EW85=\"\",EW84=\"\"),\"Yes\",\"\")","v":""},"","","",{"$f":"IF(AND(FA87=\"Yes\",FA86=\"\",FA85=\"\",FA84=\"\"),\"Yes\",\"\")","v":""},"","",{"$f":"IF(AND(N87>='Warrant 7 & 8 - MUTCD'!$L$25,OR('Traffic Volume Input'!O87>='Warrant 7 & 8 - MUTCD'!$N$25,'Traffic Volume Input'!P87>='Warrant 7 & 8 - MUTCD'!$N$25)),\"Yes\",\"\")","v":""},"","",{"$f":"IF(AND(FG87=\"Yes\",FG86=\"\",FG85=\"\",FG84=\"\"),\"Yes\",\"\")","v":""},"",{"$f":"IF(AND(FI87=\"Yes\",FI86=\"\",FI85=\"\",FI84=\"\"),\"Yes\",\"\")","v":""},"",{"$f":"IF(AND(FK87=\"Yes\",FK86=\"\",FK85=\"\",FK84=\"\"),\"Yes\",\"\")","v":""},"",{"$f":"IF(AND(FM87=\"Yes\",FM86=\"\",FM85=\"\",FM84=\"\"),\"Yes\",\"\")","v":""},"",{"$f":"IF(AND(FO87=\"Yes\",FO86=\"\",FO85=\"\",FO84=\"\"),\"Yes\",\"\")","v":""},"",{"$f":"IF(AND(FQ87=\"Yes\",FQ86=\"\",FQ85=\"\",FQ84=\"\"),\"Yes\",\"\")","v":""},"",{"$f":"IF(AND(FS87=\"Yes\",FS86=\"\",FS85=\"\",FS84=\"\"),\"Yes\",\"\")","v":""},"",{"$f":"IF(AND(FU87=\"Yes\",FU86=\"\",FU85=\"\",FU84=\"\"),\"Yes\",\"\")","v":""},"",{"$f":"IF(AND(FW87=\"Yes\",FW86=\"\",FW85=\"\",FW84=\"\"),\"Yes\",\"\")","v":""},"",{"$f":"IF(AND(FY87=\"Yes\",FY86=\"\",FY85=\"\",FY84=\"\"),\"Yes\",\"\")","v":""},"",{"$f":"IF(AND(GA87=\"Yes\",GA86=\"\",GA85=\"\",GA84=\"\"),\"Yes\",\"\")","v":""},"",{"$f":"IF(AND(GC87=\"Yes\",GC86=\"\",GC85=\"\",GC84=\"\"),\"Yes\",\"\")","v":""},"",{"$f":"IF(AND(GE87=\"Yes\",GE86=\"\",GE85=\"\",GE84=\"\"),\"Yes\",\"\")","v":""},"",{"$f":"IF(AND(GG87=\"Yes\",GG86=\"\",GG85=\"\",GG84=\"\"),\"Yes\",\"\")","v":""},"",{"$f":"IF(AND(GI87=\"Yes\",GI86=\"\",GI85=\"\",GI84=\"\"),\"Yes\",\"\")","v":""},"",{"$f":"IF(AND(GK87=\"Yes\",GK86=\"\",GK85=\"\",GK84=\"\"),\"Yes\",\"\")","v":""},"",{"$f":"IF(AND(GM87=\"Yes\",GM86=\"\",GM85=\"\",GM84=\"\"),\"Yes\",\"\")","v":""},"",{"$f":"IF(AND(GO87=\"Yes\",GO86=\"\",GO85=\"\",GO84=\"\"),\"Yes\",\"\")","v":""},"",{"$f":"IF(AND(GQ87=\"Yes\",GQ86=\"\",GQ85=\"\",GQ84=\"\"),\"Yes\",\"\")","v":""},"",{"$f":"IF(AND(GS87=\"Yes\",GS86=\"\",GS85=\"\",GS84=\"\"),\"Yes\",\"\")","v":""},"","","",{"$f":"IF(AND(GW87=\"Yes\",GW86=\"\",GW85=\"\",GW84=\"\"),\"Yes\",\"\")","v":""},"",""]
["20:30:00","20:44:00",null,null,0,null,null,null,null,"20:30:00","21:29:00",0,0,{"$f":"L88+M88","v":0},0,0,{"$f":"IF(AND(N88>='Warrant 1 - MUTCD'!$M$23,OR('Traffic Volume Input'!O88>='Warrant 1 - MUTCD'!$Q$23,'Traffic Volume Input'!P88>='Warrant 1 - MUTCD'!$Q$23)),\"Yes\",\"\")","v":""},"","","","","","",{"$f":"IF(AND(W88=\"Yes\",W87=\"\",W86=\"\",W85=\"\"),\"Yes\",\"\")","v":""},"",{"$f":"IF(AND(Y88=\"Yes\",Y87=\"\",Y86=\"\",Y85=\"\"),\"Yes\",\"\")","v":""},"",{"$f":"IF(AND(AA88=\"Yes\",AA87=\"\",AA86=\"\",AA85=\"\"),\"Yes\",\"\")","v":""},"",{"$f":"IF(AND(AC88=\"Yes\",AC87=\"\",AC86=\"\",AC85=\"\"),\"Yes\",\"\")","v":""},"",{"$f":"IF(AND(AE88=\"Yes\",AE87=\"\",AE86=\"\",AE85=\"\"),\"Yes\",\"\")","v":""},"",{"$f":"IF(AND(AG88=\"Yes\",AG87=\"\",AG86=\"\",AG85=\"\"),\"Yes\",\"\")","v":""},"",{"$f":"IF(AND(AI88=\"Yes\",AI87=\"\",AI86=\"\",AI85=\"\"),\"Yes\",\"\")","v":""},"",{"$f":"IF(AND(AK88=\"Yes\",AK87=\"\",AK86=\"\",AK85=\"\"),\"Yes\",\"\")","v":""},"",{"$f":"IF(AND(AM88=\"Yes\",AM87=\"\",AM86=\"\",AM85=\"\"),\"Yes\",\"\")","v":""},"",{"$f":"IF(AND(AO88=\"Yes\",AO87=\"\",AO86=\"\",AO85=\"\"),\"Yes\",\"\")","v":""},"",{"$f":"IF(AND(AQ88=\"Yes\",AQ87=\"\",AQ86=\"\",AQ85=\"\"),\"Yes\",\"\")","v":""},"",{"$f":"IF(AND(AS88=\"Yes\",AS87=\"\",AS86=\"\",AS85=\"\"),\"Yes\",\"\")","v":""},"",{"$f":"IF(AND(AU88=\"Yes\",AU87=\"\",AU86=\"\",AU85=\"\"),\"Yes\",\"\")","v":""},"",{"$f":"IF(AND(AW88=\"Yes\",AW87=\"\",AW86=\"\",AW85=\"\"),\"Yes\",\"\")","v":""},"",{"$f":"IF(AND(AY88=\"Yes\",AY87=\"\",AY86=\"\",AY85=\"\"),\"Yes\",\"\")","v":""},"",{"$f":"IF(AND(BA88=\"Yes\",BA87=\"\",BA86=\"\",BA85=\"\"),\"Yes\",\"\")","v":""},"",{"$f":"IF(AND(BC88=\"Yes\",BC87=\"\",BC86=\"\",BC85=\"\"),\"Yes\",\"\")","v":""},"",{"$f":"IF(AND(BE88=\"Yes\",BE87=\"\",BE86=\"\",BE85=\"\"),\"Yes\",\"\")","v":""},"",{"$f":"IF(AND(BG88=\"Yes\",BG87=\"\",BG86=\"\",BG85=\"\"),\"Yes\",\"\")","v":""},"",{"$f":"IF(AND(BI88=\"Yes\",BI87=\"\",BI86=\"\",BI85=\"\"),\"Yes\",\"\")","v":""},"","",{"$f":"IF(AND(N88>='Warrant 1 - MUTCD'!$M$32,OR('Traffic Volume Input'!O88>='Warrant 1 - MUTCD'!$Q$32,'Traffic Volume Input'!P88>='Warrant 1 - MUTCD'!$Q$32)),\"Yes\",\"\")","v":""},"","",{"$f":"IF(AND(BO88=\"Yes\",BO87=\"\",BO86=\"\",BO85=\"\"),\"Yes\",\"\")","v":""},"",{"$f":"IF(AND(BQ88=\"Yes\",BQ87=\"\",BQ86=\"\",BQ85=\"\"),\"Yes\",\"\")","v":""},"",{"$f":"IF(AND(BS88=\"Yes\",BS87=\"\",BS86=\"\",BS85=\"\"),\"Yes\",\"\")","v":""},"",{"$f":"IF(AND(BU88=\"Yes\",BU87=\"\",BU86=\"\",BU85=\"\"),\"Yes\",\"\")","v":""},"",{"$f":"IF(AND(BW88=\"Yes\",BW87=\"\",BW86=\"\",BW85=\"\"),\"Yes\",\"\")","v":""},"",{"$f":"IF(AND(BY88=\"Yes\",BY87=\"\",BY86=\"\",BY85=\"\"),\"Yes\",\"\")","v":""},"",{"$f":"IF(AND(CA88=\"Yes\",CA87=\"\",CA86=\"\",CA85=\"\"),\"Yes\",\"\")","v":""},"",{"$f":"IF(AND(CC88=\"Yes\",CC87=\"\",CC86=\"\",CC85=\"\"),\"Yes\",\"\")","v":""},"",{"$f":"IF(AND(CE88=\"Yes\",CE87=\"\",CE86=\"\",CE85=\"\"),\"Yes\",\"\")","v":""},"",{"$f":"IF(AND(CG88=\"Yes\",CG87=\"\",CG86=\"\",CG85=\"\"),\"Yes\",\"\")","v":""},"",{"$f":"IF(AND(CI88=\"Yes\",CI87=\"\",CI86=\"\",CI85=\"\"),\"Yes\",\"\")","v":""},"",{"$f":"IF(AND(CK88=\"Yes\",CK87=\"\",CK86=\"\",CK85=\"\"),\"Yes\",\"\")","v":""},"",{"$f":"IF(AND(CM88=\"Yes\",CM87=\"\",CM86=\"\",CM85=\"\"),\"Yes\",\"\")","v":""},"",{"$f":"IF(AND(CO88=\"Yes\",CO87=\"\",CO86=\"\",CO85=\"\"),\"Yes\",\"\")","v":""},"",{"$f":"IF(AND(CQ88=\"Yes\",CQ87=\"\",CQ86=\"\",CQ85=\"\"),\"Yes\",\"\")","v":""},"",{"$f":"IF(AND(CS88=\"Yes\",CS87=\"\",CS86=\"\",CS85=\"\"),\"Yes\",\"\")","v":""},"",{"$f":"IF(AND(CU88=\"Yes\",CU87=\"\",CU86=\"\",CU85=\"\"),\"Yes\",\"\")","v":""},"",{"$f":"IF(AND(CW88=\"Yes\",CW87=\"\",CW86=\"\",CW85=\"\"),\"Yes\",\"\")","v":""},"",{"$f":"IF(AND(CY88=\"Yes\",CY87=\"\",CY86=\"\",CY85=\"\"),\"Yes\",\"\")","v":""},"",{"$f":"IF(AND(DA88=\"Yes\",DA87=\"\",DA86=\"\",DA85=\"\"),\"Yes\",\"\")","v":""},"","","",{"$f":"IF(AND(DE88=\"Yes\",DE87=\"\",DE86=\"\",DE85=\"\"),\"Yes\",\"\")","v":""},"",{"$f":"IF(AND(DG88=\"Yes\",DG87=\"\",DG86=\"\",DG85=\"\"),\"Yes\",\"\")","v":""},{"$f":"IF(AND(N88>='Warrant 7 & 8 - MUTCD'!$L$16,OR('Traffic Volume Input'!O88>='Warrant 7 & 8 - MUTCD'!$N$16,'Traffic Volume Input'!P88>='Warrant 7 & 8 - MUTCD'!$N$16)),\"Yes\",\"\")","v":""},"","",{"$f":"IF(AND(DK88=\"Yes\",DK87=\"\",DK86=\"\",DK85=\"\"),\"Yes\",\"\")","v":""},"",{"$f":"IF(AND(DM88=\"Yes\",DM87=\"\",DM86=\"\",DM85=\"\"),\"Yes\",\"\")","v":""},"",{"$f":"IF(AND(DO88=\"Yes\",DO87=\"\",DO86=\"\",DO85=\"\"),\"Yes\",\"\")","v":""},"",{"$f":"IF(AND(DQ88=\"Yes\",DQ87=\"\",DQ86=\"\",DQ85=\"\"),\"Yes\",\"\")","v":""},"",{"$f":"IF(AND(DS88=\"Yes\",DS87=\"\",DS86=\"\",DS85=\"\"),\"Yes\",\"\")","v":""},"",{"$f":"IF(AND(DU88=\"Yes\",DU87=\"\",DU86=\"\",DU85=\"\"),\"Yes\",\"\")","v":""},"",{"$f":"IF(AND(DW88=\"Yes\",DW87=\"\",DW86=\"\",DW85=\"\"),\"Yes\",\"\")","v":""},"",{"$f":"IF(AND(DY88=\"Yes\",DY87=\"\",DY86=\"\",DY85=\"\"),\"Yes\",\"\")","v":""},"",{"$f":"IF(AND(EA88=\"Yes\",EA87=\"\",EA86=\"\",EA85=\"\"),\"Yes\",\"\")","v":""},"",{"$f":"IF(AND(EC88=\"Yes\",EC87=\"\",EC86=\"\",EC85=\"\"),\"Yes\",\"\")","v":""},"",{"$f":"IF(AND(EE88=\"Yes\",EE87=\"\",EE86=\"\",EE85=\"\"),\"Yes\",\"\")","v":""},"",{"$f":"IF(AND(EG88=\"Yes\",EG87=\"\",EG86=\"\",EG85=\"\"),\"Yes\",\"\")","v":""},"",{"$f":"IF(AND(EI88=\"Yes\",EI87=\"\",EI86=\"\",EI85=\"\"),\"Yes\",\"\")","v":""},"",{"$f":"IF(AND(EK88=\"Yes\",EK87=\"\",EK86=\"\",EK85=\"\"),\"Yes\",\"\")","v":""},"",{"$f":"IF(AND(EM88=\"Yes\",EM87=\"\",EM86=\"\",EM85=\"\"),\"Yes\",\"\")","v":""},"",{"$f":"IF(AND(EO88=\"Yes\",EO87=\"\",EO86=\"\",EO85=\"\"),\"Yes\",\"\")","v":""},"",{"$f":"IF(AND(EQ88=\"Yes\",EQ87=\"\",EQ86=\"\",EQ85=\"\"),\"Yes\",\"\")","v":""},"",{"$f":"IF(AND(ES88=\"Yes\",ES87=\"\",ES86=\"\",ES85=\"\"),\"Yes\",\"\")","v":""},"",{"$f":"IF(AND(EU88=\"Yes\",EU87=\"\",EU86=\"\",EU85=\"\"),\"Yes\",\"\")","v":""},"",{"$f":"IF(AND(EW88=\"Yes\",EW87=\"\",EW86=\"\",EW85=\"\"),\"Yes\",\"\")","v":""},"","","",{"$f":"IF(AND(FA88=\"Yes\",FA87=\"\",FA86=\"\",FA85=\"\"),\"Yes\",\"\")","v":""},"","",{"$f":"IF(AND(N88>='Warrant 7 & 8 - MUTCD'!$L$25,OR('Traffic Volume Input'!O88>='Warrant 7 & 8 - MUTCD'!$N$25,'Traffic Volume Input'!P88>='Warrant 7 & 8 - MUTCD'!$N$25)),\"Yes\",\"\")","v":""},"","",{"$f":"IF(AND(FG88=\"Yes\",FG87=\"\",FG86=\"\",FG85=\"\"),\"Yes\",\"\")","v":""},"",{"$f":"IF(AND(FI88=\"Yes\",FI87=\"\",FI86=\"\",FI85=\"\"),\"Yes\",\"\")","v":""},"",{"$f":"IF(AND(FK88=\"Yes\",FK87=\"\",FK86=\"\",FK85=\"\"),\"Yes\",\"\")","v":""},"",{"$f":"IF(AND(FM88=\"Yes\",FM87=\"\",FM86=\"\",FM85=\"\"),\"Yes\",\"\")","v":""},"",{"$f":"IF(AND(FO88=\"Yes\",FO87=\"\",FO86=\"\",FO85=\"\"),\"Yes\",\"\")","v":""},"",{"$f":"IF(AND(FQ88=\"Yes\",FQ87=\"\",FQ86=\"\",FQ85=\"\"),\"Yes\",\"\")","v":""},"",{"$f":"IF(AND(FS88=\"Yes\",FS87=\"\",FS86=\"\",FS85=\"\"),\"Yes\",\"\")","v":""},"",{"$f":"IF(AND(FU88=\"Yes\",FU87=\"\",FU86=\"\",FU85=\"\"),\"Yes\",\"\")","v":""},"",{"$f":"IF(AND(FW88=\"Yes\",FW87=\"\",FW86=\"\",FW85=\"\"),\"Yes\",\"\")","v":""},"",{"$f":"IF(AND(FY88=\"Yes\",FY87=\"\",FY86=\"\",FY85=\"\"),\"Yes\",\"\")","v":""},"",{"$f":"IF(AND(GA88=\"Yes\",GA87=\"\",GA86=\"\",GA85=\"\"),\"Yes\",\"\")","v":""},"",{"$f":"IF(AND(GC88=\"Yes\",GC87=\"\",GC86=\"\",GC85=\"\"),\"Yes\",\"\")","v":""},"",{"$f":"IF(AND(GE88=\"Yes\",GE87=\"\",GE86=\"\",GE85=\"\"),\"Yes\",\"\")","v":""},"",{"$f":"IF(AND(GG88=\"Yes\",GG87=\"\",GG86=\"\",GG85=\"\"),\"Yes\",\"\")","v":""},"",{"$f":"IF(AND(GI88=\"Yes\",GI87=\"\",GI86=\"\",GI85=\"\"),\"Yes\",\"\")","v":""},"",{"$f":"IF(AND(GK88=\"Yes\",GK87=\"\",GK86=\"\",GK85=\"\"),\"Yes\",\"\")","v":""},"",{"$f":"IF(AND(GM88=\"Yes\",GM87=\"\",GM86=\"\",GM85=\"\"),\"Yes\",\"\")","v":""},"",{"$f":"IF(AND(GO88=\"Yes\",GO87=\"\",GO86=\"\",GO85=\"\"),\"Yes\",\"\")","v":""},"",{"$f":"IF(AND(GQ88=\"Yes\",GQ87=\"\",GQ86=\"\",GQ85=\"\"),\"Yes\",\"\")","v":""},"",{"$f":"IF(AND(GS88=\"Yes\",GS87=\"\",GS86=\"\",GS85=\"\"),\"Yes\",\"\")","v":""},"","","",{"$f":"IF(AND(GW88=\"Yes\",GW87=\"\",GW86=\"\",GW85=\"\"),\"Yes\",\"\")","v":""},"",""]
["20:45:00","20:59:00",null,null,0,null,null,null,null,"20:45:00","21:44:00",0,{"$f":"SUM(D89:D92)","v":0},{"$f":"L89+M89","v":0},0,0,{"$f":"IF(AND(N89>='Warrant 1 - MUTCD'!$M$23,OR('Traffic Volume Input'!O89>='Warrant 1 - MUTCD'!$Q$23,'Traffic Volume Input'!P89>='Warrant 1 - MUTCD'!$Q$23)),\"Yes\",\"\")","v":""},"","","","","","",{"$f":"IF(AND(W89=\"Yes\",W88=\"\",W87=\"\",W86=\"\"),\"Yes\",\"\")","v":""},"",{"$f":"IF(AND(Y89=\"Yes\",Y88=\"\",Y87=\"\",Y86=\"\"),\"Yes\",\"\")","v":""},"",{"$f":"IF(AND(AA89=\"Yes\",AA88=\"\",AA87=\"\",AA86=\"\"),\"Yes\",\"\")","v":""},"",{"$f":"IF(AND(AC89=\"Yes\",AC88=\"\",AC87=\"\",AC86=\"\"),\"Yes\",\"\")","v":""},"",{"$f":"IF(AND(AE89=\"Yes\",AE88=\"\",AE87=\"\",AE86=\"\"),\"Yes\",\"\")","v":""},"",{"$f":"IF(AND(AG89=\"Yes\",AG88=\"\",AG87=\"\",AG86=\"\"),\"Yes\",\"\")","v":""},"",{"$f":"IF(AND(AI89=\"Yes\",AI88=\"\",AI87=\"\",AI86=\"\"),\"Yes\",\"\")","v":""},"",{"$f":"IF(AND(AK89=\"Yes\",AK88=\"\",AK87=\"\",AK86=\"\"),\"Yes\",\"\")","v":""},"",{"$f":"IF(AND(AM89=\"Yes\",AM88=\"\",AM87=\"\",AM86=\"\"),\"Yes\",\"\")","v":""},"",{"$f":"IF(AND(AO89=\"Yes\",AO88=\"\",AO87=\"\",AO86=\"\"),\"Yes\",\"\")","v":""},"",{"$f":"IF(AND(AQ89=\"Yes\",AQ88=\"\",AQ87=\"\",AQ86=\"\"),\"Yes\",\"\")","v":""},"",{"$f":"IF(AND(AS89=\"Yes\",AS88=\"\",AS87=\"\",AS86=\"\"),\"Yes\",\"\")","v":""},"",{"$f":"IF(AND(AU89=\"Yes\",AU88=\"\",AU87=\"\",AU86=\"\"),\"Yes\",\"\")","v":""},"",{"$f":"IF(AND(AW89=\"Yes\",AW88=\"\",AW87=\"\",AW86=\"\"),\"Yes\",\"\")","v":""},"",{"$f":"IF(AND(AY89=\"Yes\",AY88=\"\",AY87=\"\",AY86=\"\"),\"Yes\",\"\")","v":""},"",{"$f":"IF(AND(BA89=\"Yes\",BA88=\"\",BA87=\"\",BA86=\"\"),\"Yes\",\"\")","v":""},"",{"$f":"IF(AND(BC89=\"Yes\",BC88=\"\",BC87=\"\",BC86=\"\"),\"Yes\",\"\")","v":""},"",{"$f":"IF(AND(BE89=\"Yes\",BE88=\"\",BE87=\"\",BE86=\"\"),\"Yes\",\"\")","v":""},"",{"$f":"IF(AND(BG89=\"Yes\",BG88=\"\",BG87=\"\",BG86=\"\"),\"Yes\",\"\")","v":""},"",{"$f":"IF(AND(BI89=\"Yes\",BI88=\"\",BI87=\"\",BI86=\"\"),\"Yes\",\"\")","v":""},"","",{"$f":"IF(AND(N89>='Warrant 1 - MUTCD'!$M$32,OR('Traffic Volume Input'!O89>='Warrant 1 - MUTCD'!$Q$32,'Traffic Volume Input'!P89>='Warrant 1 - MUTCD'!$Q$32)),\"Yes\",\"\")","v":""},"","",{"$f":"IF(AND(BO89=\"Yes\",BO88=\"\",BO87=\"\",BO86=\"\"),\"Yes\",\"\")","v":""},"",{"$f":"IF(AND(BQ89=\"Yes\",BQ88=\"\",BQ87=\"\",BQ86=\"\"),\"Yes\",\"\")","v":""},"",{"$f":"IF(AND(BS89=\"Yes\",BS88=\"\",BS87=\"\",BS86=\"\"),\"Yes\",\"\")","v":""},"",{"$f":"IF(AND(BU89=\"Yes\",BU88=\"\",BU87=\"\",BU86=\"\"),\"Yes\",\"\")","v":""},"",{"$f":"IF(AND(BW89=\"Yes\",BW88=\"\",BW87=\"\",BW86=\"\"),\"Yes\",\"\")","v":""},"",{"$f":"IF(AND(BY89=\"Yes\",BY88=\"\",BY87=\"\",BY86=\"\"),\"Yes\",\"\")","v":""},"",{"$f":"IF(AND(CA89=\"Yes\",CA88=\"\",CA87=\"\",CA86=\"\"),\"Yes\",\"\")","v":""},"",{"$f":"IF(AND(CC89=\"Yes\",CC88=\"\",CC87=\"\",CC86=\"\"),\"Yes\",\"\")","v":""},"",{"$f":"IF(AND(CE89=\"Yes\",CE88=\"\",CE87=\"\",CE86=\"\"),\"Yes\",\"\")","v":""},"",{"$f":"IF(AND(CG89=\"Yes\",CG88=\"\",CG87=\"\",CG86=\"\"),\"Yes\",\"\")","v":""},"",{"$f":"IF(AND(CI89=\"Yes\",CI88=\"\",CI87=\"\",CI86=\"\"),\"Yes\",\"\")","v":""},"",{"$f":"IF(AND(CK89=\"Yes\",CK88=\"\",CK87=\"\",CK86=\"\"),\"Yes\",\"\")","v":""},"",{"$f":"IF(AND(CM89=\"Yes\",CM88=\"\",CM87=\"\",CM86=\"\"),\"Yes\",\"\")","v":""},"",{"$f":"IF(AND(CO89=\"Yes\",CO88=\"\",CO87=\"\",CO86=\"\"),\"Yes\",\"\")","v":""},"",{"$f":"IF(AND(CQ89=\"Yes\",CQ88=\"\",CQ87=\"\",CQ86=\"\"),\"Yes\",\"\")","v":""},"",{"$f":"IF(AND(CS89=\"Yes\",CS88=\"\",CS87=\"\",CS86=\"\"),\"Yes\",\"\")","v":""},"",{"$f":"IF(AND(CU89=\"Yes\",CU88=\"\",CU87=\"\",CU86=\"\"),\"Yes\",\"\")","v":""},"",{"$f":"IF(AND(CW89=\"Yes\",CW88=\"\",CW87=\"\",CW86=\"\"),\"Yes\",\"\")","v":""},"",{"$f":"IF(AND(CY89=\"Yes\",CY88=\"\",CY87=\"\",CY86=\"\"),\"Yes\",\"\")","v":""},"",{"$f":"IF(AND(DA89=\"Yes\",DA88=\"\",DA87=\"\",DA86=\"\"),\"Yes\",\"\")","v":""},"","","",{"$f":"IF(AND(DE89=\"Yes\",DE88=\"\",DE87=\"\",DE86=\"\"),\"Yes\",\"\")","v":""},"",{"$f":"IF(AND(DG89=\"Yes\",DG88=\"\",DG87=\"\",DG86=\"\"),\"Yes\",\"\")","v":""},{"$f":"IF(AND(N89>='Warrant 7 & 8 - MUTCD'!$L$16,OR('Traffic Volume Input'!O89>='Warrant 7 & 8 - MUTCD'!$N$16,'Traffic Volume Input'!P89>='Warrant 7 & 8 - MUTCD'!$N$16)),\"Yes\",\"\")","v":""},"","",{"$f":"IF(AND(DK89=\"Yes\",DK88=\"\",DK87=\"\",DK86=\"\"),\"Yes\",\"\")","v":""},"",{"$f":"IF(AND(DM89=\"Yes\",DM88=\"\",DM87=\"\",DM86=\"\"),\"Yes\",\"\")","v":""},"",{"$f":"IF(AND(DO89=\"Yes\",DO88=\"\",DO87=\"\",DO86=\"\"),\"Yes\",\"\")","v":""},"",{"$f":"IF(AND(DQ89=\"Yes\",DQ88=\"\",DQ87=\"\",DQ86=\"\"),\"Yes\",\"\")","v":""},"",{"$f":"IF(AND(DS89=\"Yes\",DS88=\"\",DS87=\"\",DS86=\"\"),\"Yes\",\"\")","v":""},"",{"$f":"IF(AND(DU89=\"Yes\",DU88=\"\",DU87=\"\",DU86=\"\"),\"Yes\",\"\")","v":""},"",{"$f":"IF(AND(DW89=\"Yes\",DW88=\"\",DW87=\"\",DW86=\"\"),\"Yes\",\"\")","v":""},"",{"$f":"IF(AND(DY89=\"Yes\",DY88=\"\",DY87=\"\",DY86=\"\"),\"Yes\",\"\")","v":""},"",{"$f":"IF(AND(EA89=\"Yes\",EA88=\"\",EA87=\"\",EA86=\"\"),\"Yes\",\"\")","v":""},"",{"$f":"IF(AND(EC89=\"Yes\",EC88=\"\",EC87=\"\",EC86=\"\"),\"Yes\",\"\")","v":""},"",{"$f":"IF(AND(EE89=\"Yes\",EE88=\"\",EE87=\"\",EE86=\"\"),\"Yes\",\"\")","v":""},"",{"$f":"IF(AND(EG89=\"Yes\",EG88=\"\",EG87=\"\",EG86=\"\"),\"Yes\",\"\")","v":""},"",{"$f":"IF(AND(EI89=\"Yes\",EI88=\"\",EI87=\"\",EI86=\"\"),\"Yes\",\"\")","v":""},"",{"$f":"IF(AND(EK89=\"Yes\",EK88=\"\",EK87=\"\",EK86=\"\"),\"Yes\",\"\")","v":""},"",{"$f":"IF(AND(EM89=\"Yes\",EM88=\"\",EM87=\"\",EM86=\"\"),\"Yes\",\"\")","v":""},"",{"$f":"IF(AND(EO89=\"Yes\",EO88=\"\",EO87=\"\",EO86=\"\"),\"Yes\",\"\")","v":""},"",{"$f":"IF(AND(EQ89=\"Yes\",EQ88=\"\",EQ87=\"\",EQ86=\"\"),\"Yes\",\"\")","v":""},"",{"$f":"IF(AND(ES89=\"Yes\",ES88=\"\",ES87=\"\",ES86=\"\"),\"Yes\",\"\")","v":""},"",{"$f":"IF(AND(EU89=\"Yes\",EU88=\"\",EU87=\"\",EU86=\"\"),\"Yes\",\"\")","v":""},"",{"$f":"IF(AND(EW89=\"Yes\",EW88=\"\",EW87=\"\",EW86=\"\"),\"Yes\",\"\")","v":""},"","","",{"$f":"IF(AND(FA89=\"Yes\",FA88=\"\",FA87=\"\",FA86=\"\"),\"Yes\",\"\")","v":""},"","",{"$f":"IF(AND(N89>='Warrant 7 & 8 - MUTCD'!$L$25,OR('Traffic Volume Input'!O89>='Warrant 7 & 8 - MUTCD'!$N$25,'Traffic Volume Input'!P89>='Warrant 7 & 8 - MUTCD'!$N$25)),\"Yes\",\"\")","v":""},"","",{"$f":"IF(AND(FG89=\"Yes\",FG88=\"\",FG87=\"\",FG86=\"\"),\"Yes\",\"\")","v":""},"",{"$f":"IF(AND(FI89=\"Yes\",FI88=\"\",FI87=\"\",FI86=\"\"),\"Yes\",\"\")","v":""},"",{"$f":"IF(AND(FK89=\"Yes\",FK88=\"\",FK87=\"\",FK86=\"\"),\"Yes\",\"\")","v":""},"",{"$f":"IF(AND(FM89=\"Yes\",FM88=\"\",FM87=\"\",FM86=\"\"),\"Yes\",\"\")","v":""},"",{"$f":"IF(AND(FO89=\"Yes\",FO88=\"\",FO87=\"\",FO86=\"\"),\"Yes\",\"\")","v":""},"",{"$f":"IF(AND(FQ89=\"Yes\",FQ88=\"\",FQ87=\"\",FQ86=\"\"),\"Yes\",\"\")","v":""},"",{"$f":"IF(AND(FS89=\"Yes\",FS88=\"\",FS87=\"\",FS86=\"\"),\"Yes\",\"\")","v":""},"",{"$f":"IF(AND(FU89=\"Yes\",FU88=\"\",FU87=\"\",FU86=\"\"),\"Yes\",\"\")","v":""},"",{"$f":"IF(AND(FW89=\"Yes\",FW88=\"\",FW87=\"\",FW86=\"\"),\"Yes\",\"\")","v":""},"",{"$f":"IF(AND(FY89=\"Yes\",FY88=\"\",FY87=\"\",FY86=\"\"),\"Yes\",\"\")","v":""},"",{"$f":"IF(AND(GA89=\"Yes\",GA88=\"\",GA87=\"\",GA86=\"\"),\"Yes\",\"\")","v":""},"",{"$f":"IF(AND(GC89=\"Yes\",GC88=\"\",GC87=\"\",GC86=\"\"),\"Yes\",\"\")","v":""},"",{"$f":"IF(AND(GE89=\"Yes\",GE88=\"\",GE87=\"\",GE86=\"\"),\"Yes\",\"\")","v":""},"",{"$f":"IF(AND(GG89=\"Yes\",GG88=\"\",GG87=\"\",GG86=\"\"),\"Yes\",\"\")","v":""},"",{"$f":"IF(AND(GI89=\"Yes\",GI88=\"\",GI87=\"\",GI86=\"\"),\"Yes\",\"\")","v":""},"",{"$f":"IF(AND(GK89=\"Yes\",GK88=\"\",GK87=\"\",GK86=\"\"),\"Yes\",\"\")","v":""},"",{"$f":"IF(AND(GM89=\"Yes\",GM88=\"\",GM87=\"\",GM86=\"\"),\"Yes\",\"\")","v":""},"",{"$f":"IF(AND(GO89=\"Yes\",GO88=\"\",GO87=\"\",GO86=\"\"),\"Yes\",\"\")","v":""},"",{"$f":"IF(AND(GQ89=\"Yes\",GQ88=\"\",GQ87=\"\",GQ86=\"\"),\"Yes\",\"\")","v":""},"",{"$f":"IF(AND(GS89=\"Yes\",GS88=\"\",GS87=\"\",GS86=\"\"),\"Yes\",\"\")","v":""},"","","",{"$f":"IF(AND(GW89=\"Yes\",GW88=\"\",GW87=\"\",GW86=\"\"),\"Yes\",\"\")","v":""},"",""]
["21:00:00","21:14:00",null,null,0,null,null,null,null,"21:00:00","21:59:00",0,0,0,0,0,{"$f":"IF(AND(N90>='Warrant 1 - MUTCD'!$M$23,OR('Traffic Volume Input'!O90>='Warrant 1 - MUTCD'!$Q$23,'Traffic Volume Input'!P90>='Warrant 1 - MUTCD'!$Q$23)),\"Yes\",\"\")","v":""},"","","","","","",{"$f":"IF(AND(W90=\"Yes\",W89=\"\",W88=\"\",W87=\"\"),\"Yes\",\"\")","v":""},"",{"$f":"IF(AND(Y90=\"Yes\",Y89=\"\",Y88=\"\",Y87=\"\"),\"Yes\",\"\")","v":""},"",{"$f":"IF(AND(AA90=\"Yes\",AA89=\"\",AA88=\"\",AA87=\"\"),\"Yes\",\"\")","v":""},"",{"$f":"IF(AND(AC90=\"Yes\",AC89=\"\",AC88=\"\",AC87=\"\"),\"Yes\",\"\")","v":""},"",{"$f":"IF(AND(AE90=\"Yes\",AE89=\"\",AE88=\"\",AE87=\"\"),\"Yes\",\"\")","v":""},"",{"$f":"IF(AND(AG90=\"Yes\",AG89=\"\",AG88=\"\",AG87=\"\"),\"Yes\",\"\")","v":""},"",{"$f":"IF(AND(AI90=\"Yes\",AI89=\"\",AI88=\"\",AI87=\"\"),\"Yes\",\"\")","v":""},"",{"$f":"IF(AND(AK90=\"Yes\",AK89=\"\",AK88=\"\",AK87=\"\"),\"Yes\",\"\")","v":""},"",{"$f":"IF(AND(AM90=\"Yes\",AM89=\"\",AM88=\"\",AM87=\"\"),\"Yes\",\"\")","v":""},"",{"$f":"IF(AND(AO90=\"Yes\",AO89=\"\",AO88=\"\",AO87=\"\"),\"Yes\",\"\")","v":""},"",{"$f":"IF(AND(AQ90=\"Yes\",AQ89=\"\",AQ88=\"\",AQ87=\"\"),\"Yes\",\"\")","v":""},"",{"$f":"IF(AND(AS90=\"Yes\",AS89=\"\",AS88=\"\",AS87=\"\"),\"Yes\",\"\")","v":""},"",{"$f":"IF(AND(AU90=\"Yes\",AU89=\"\",AU88=\"\",AU87=\"\"),\"Yes\",\"\")","v":""},"",{"$f":"IF(AND(AW90=\"Yes\",AW89=\"\",AW88=\"\",AW87=\"\"),\"Yes\",\"\")","v":""},"",{"$f":"IF(AND(AY90=\"Yes\",AY89=\"\",AY88=\"\",AY87=\"\"),\"Yes\",\"\")","v":""},"",{"$f":"IF(AND(BA90=\"Yes\",BA89=\"\",BA88=\"\",BA87=\"\"),\"Yes\",\"\")","v":""},"",{"$f":"IF(AND(BC90=\"Yes\",BC89=\"\",BC88=\"\",BC87=\"\"),\"Yes\",\"\")","v":""},"",{"$f":"IF(AND(BE90=\"Yes\",BE89=\"\",BE88=\"\",BE87=\"\"),\"Yes\",\"\")","v":""},"",{"$f":"IF(AND(BG90=\"Yes\",BG89=\"\",BG88=\"\",BG87=\"\"),\"Yes\",\"\")","v":""},"",{"$f":"IF(AND(BI90=\"Yes\",BI89=\"\",BI88=\"\",BI87=\"\"),\"Yes\",\"\")","v":""},"","",{"$f":"IF(AND(N90>='Warrant 1 - MUTCD'!$M$32,OR('Traffic Volume Input'!O90>='Warrant 1 - MUTCD'!$Q$32,'Traffic Volume Input'!P90>='Warrant 1 - MUTCD'!$Q$32)),\"Yes\",\"\")","v":""},"","",{"$f":"IF(AND(BO90=\"Yes\",BO89=\"\",BO88=\"\",BO87=\"\"),\"Yes\",\"\")","v":""},"",{"$f":"IF(AND(BQ90=\"Yes\",BQ89=\"\",BQ88=\"\",BQ87=\"\"),\"Yes\",\"\")","v":""},"",{"$f":"IF(AND(BS90=\"Yes\",BS89=\"\",BS88=\"\",BS87=\"\"),\"Yes\",\"\")","v":""},"",{"$f":"IF(AND(BU90=\"Yes\",BU89=\"\",BU88=\"\",BU87=\"\"),\"Yes\",\"\")","v":""},"",{"$f":"IF(AND(BW90=\"Yes\",BW89=\"\",BW88=\"\",BW87=\"\"),\"Yes\",\"\")","v":""},"",{"$f":"IF(AND(BY90=\"Yes\",BY89=\"\",BY88=\"\",BY87=\"\"),\"Yes\",\"\")","v":""},"",{"$f":"IF(AND(CA90=\"Yes\",CA89=\"\",CA88=\"\",CA87=\"\"),\"Yes\",\"\")","v":""},"",{"$f":"IF(AND(CC90=\"Yes\",CC89=\"\",CC88=\"\",CC87=\"\"),\"Yes\",\"\")","v":""},"",{"$f":"IF(AND(CE90=\"Yes\",CE89=\"\",CE88=\"\",CE87=\"\"),\"Yes\",\"\")","v":""},"",{"$f":"IF(AND(CG90=\"Yes\",CG89=\"\",CG88=\"\",CG87=\"\"),\"Yes\",\"\")","v":""},"",{"$f":"IF(AND(CI90=\"Yes\",CI89=\"\",CI88=\"\",CI87=\"\"),\"Yes\",\"\")","v":""},"",{"$f":"IF(AND(CK90=\"Yes\",CK89=\"\",CK88=\"\",CK87=\"\"),\"Yes\",\"\")","v":""},"",{"$f":"IF(AND(CM90=\"Yes\",CM89=\"\",CM88=\"\",CM87=\"\"),\"Yes\",\"\")","v":""},"",{"$f":"IF(AND(CO90=\"Yes\",CO89=\"\",CO88=\"\",CO87=\"\"),\"Yes\",\"\")","v":""},"",{"$f":"IF(AND(CQ90=\"Yes\",CQ89=\"\",CQ88=\"\",CQ87=\"\"),\"Yes\",\"\")","v":""},"",{"$f":"IF(AND(CS90=\"Yes\",CS89=\"\",CS88=\"\",CS87=\"\"),\"Yes\",\"\")","v":""},"",{"$f":"IF(AND(CU90=\"Yes\",CU89=\"\",CU88=\"\",CU87=\"\"),\"Yes\",\"\")","v":""},"",{"$f":"IF(AND(CW90=\"Yes\",CW89=\"\",CW88=\"\",CW87=\"\"),\"Yes\",\"\")","v":""},"",{"$f":"IF(AND(CY90=\"Yes\",CY89=\"\",CY88=\"\",CY87=\"\"),\"Yes\",\"\")","v":""},"",{"$f":"IF(AND(DA90=\"Yes\",DA89=\"\",DA88=\"\",DA87=\"\"),\"Yes\",\"\")","v":""},"","","",{"$f":"IF(AND(DE90=\"Yes\",DE89=\"\",DE88=\"\",DE87=\"\"),\"Yes\",\"\")","v":""},"",{"$f":"IF(AND(DG90=\"Yes\",DG89=\"\",DG88=\"\",DG87=\"\"),\"Yes\",\"\")","v":""},{"$f":"IF(AND(N90>='Warrant 7 & 8 - MUTCD'!$L$16,OR('Traffic Volume Input'!O90>='Warrant 7 & 8 - MUTCD'!$N$16,'Traffic Volume Input'!P90>='Warrant 7 & 8 - MUTCD'!$N$16)),\"Yes\",\"\")","v":""},"","",{"$f":"IF(AND(DK90=\"Yes\",DK89=\"\",DK88=\"\",DK87=\"\"),\"Yes\",\"\")","v":""},"",{"$f":"IF(AND(DM90=\"Yes\",DM89=\"\",DM88=\"\",DM87=\"\"),\"Yes\",\"\")","v":""},"",{"$f":"IF(AND(DO90=\"Yes\",DO89=\"\",DO88=\"\",DO87=\"\"),\"Yes\",\"\")","v":""},"",{"$f":"IF(AND(DQ90=\"Yes\",DQ89=\"\",DQ88=\"\",DQ87=\"\"),\"Yes\",\"\")","v":""},"",{"$f":"IF(AND(DS90=\"Yes\",DS89=\"\",DS88=\"\",DS87=\"\"),\"Yes\",\"\")","v":""},"",{"$f":"IF(AND(DU90=\"Yes\",DU89=\"\",DU88=\"\",DU87=\"\"),\"Yes\",\"\")","v":""},"",{"$f":"IF(AND(DW90=\"Yes\",DW89=\"\",DW88=\"\",DW87=\"\"),\"Yes\",\"\")","v":""},"",{"$f":"IF(AND(DY90=\"Yes\",DY89=\"\",DY88=\"\",DY87=\"\"),\"Yes\",\"\")","v":""},"",{"$f":"IF(AND(EA90=\"Yes\",EA89=\"\",EA88=\"\",EA87=\"\"),\"Yes\",\"\")","v":""},"",{"$f":"IF(AND(EC90=\"Yes\",EC89=\"\",EC88=\"\",EC87=\"\"),\"Yes\",\"\")","v":""},"",{"$f":"IF(AND(EE90=\"Yes\",EE89=\"\",EE88=\"\",EE87=\"\"),\"Yes\",\"\")","v":""},"",{"$f":"IF(AND(EG90=\"Yes\",EG89=\"\",EG88=\"\",EG87=\"\"),\"Yes\",\"\")","v":""},"",{"$f":"IF(AND(EI90=\"Yes\",EI89=\"\",EI88=\"\",EI87=\"\"),\"Yes\",\"\")","v":""},"",{"$f":"IF(AND(EK90=\"Yes\",EK89=\"\",EK88=\"\",EK87=\"\"),\"Yes\",\"\")","v":""},"",{"$f":"IF(AND(EM90=\"Yes\",EM89=\"\",EM88=\"\",EM87=\"\"),\"Yes\",\"\")","v":""},"",{"$f":"IF(AND(EO90=\"Yes\",EO89=\"\",EO88=\"\",EO87=\"\"),\"Yes\",\"\")","v":""},"",{"$f":"IF(AND(EQ90=\"Yes\",EQ89=\"\",EQ88=\"\",EQ87=\"\"),\"Yes\",\"\")","v":""},"",{"$f":"IF(AND(ES90=\"Yes\",ES89=\"\",ES88=\"\",ES87=\"\"),\"Yes\",\"\")","v":""},"",{"$f":"IF(AND(EU90=\"Yes\",EU89=\"\",EU88=\"\",EU87=\"\"),\"Yes\",\"\")","v":""},"",{"$f":"IF(AND(EW90=\"Yes\",EW89=\"\",EW88=\"\",EW87=\"\"),\"Yes\",\"\")","v":""},"","","",{"$f":"IF(AND(FA90=\"Yes\",FA89=\"\",FA88=\"\",FA87=\"\"),\"Yes\",\"\")","v":""},"","",{"$f":"IF(AND(N90>='Warrant 7 & 8 - MUTCD'!$L$25,OR('Traffic Volume Input'!O90>='Warrant 7 & 8 - MUTCD'!$N$25,'Traffic Volume Input'!P90>='Warrant 7 & 8 - MUTCD'!$N$25)),\"Yes\",\"\")","v":""},"","",{"$f":"IF(AND(FG90=\"Yes\",FG89=\"\",FG88=\"\",FG87=\"\"),\"Yes\",\"\")","v":""},"",{"$f":"IF(AND(FI90=\"Yes\",FI89=\"\",FI88=\"\",FI87=\"\"),\"Yes\",\"\")","v":""},"",{"$f":"IF(AND(FK90=\"Yes\",FK89=\"\",FK88=\"\",FK87=\"\"),\"Yes\",\"\")","v":""},"",{"$f":"IF(AND(FM90=\"Yes\",FM89=\"\",FM88=\"\",FM87=\"\"),\"Yes\",\"\")","v":""},"",{"$f":"IF(AND(FO90=\"Yes\",FO89=\"\",FO88=\"\",FO87=\"\"),\"Yes\",\"\")","v":""},"",{"$f":"IF(AND(FQ90=\"Yes\",FQ89=\"\",FQ88=\"\",FQ87=\"\"),\"Yes\",\"\")","v":""},"",{"$f":"IF(AND(FS90=\"Yes\",FS89=\"\",FS88=\"\",FS87=\"\"),\"Yes\",\"\")","v":""},"",{"$f":"IF(AND(FU90=\"Yes\",FU89=\"\",FU88=\"\",FU87=\"\"),\"Yes\",\"\")","v":""},"",{"$f":"IF(AND(FW90=\"Yes\",FW89=\"\",FW88=\"\",FW87=\"\"),\"Yes\",\"\")","v":""},"",{"$f":"IF(AND(FY90=\"Yes\",FY89=\"\",FY88=\"\",FY87=\"\"),\"Yes\",\"\")","v":""},"",{"$f":"IF(AND(GA90=\"Yes\",GA89=\"\",GA88=\"\",GA87=\"\"),\"Yes\",\"\")","v":""},"",{"$f":"IF(AND(GC90=\"Yes\",GC89=\"\",GC88=\"\",GC87=\"\"),\"Yes\",\"\")","v":""},"",{"$f":"IF(AND(GE90=\"Yes\",GE89=\"\",GE88=\"\",GE87=\"\"),\"Yes\",\"\")","v":""},"",{"$f":"IF(AND(GG90=\"Yes\",GG89=\"\",GG88=\"\",GG87=\"\"),\"Yes\",\"\")","v":""},"",{"$f":"IF(AND(GI90=\"Yes\",GI89=\"\",GI88=\"\",GI87=\"\"),\"Yes\",\"\")","v":""},"",{"$f":"IF(AND(GK90=\"Yes\",GK89=\"\",GK88=\"\",GK87=\"\"),\"Yes\",\"\")","v":""},"",{"$f":"IF(AND(GM90=\"Yes\",GM89=\"\",GM88=\"\",GM87=\"\"),\"Yes\",\"\")","v":""},"",{"$f":"IF(AND(GO90=\"Yes\",GO89=\"\",GO88=\"\",GO87=\"\"),\"Yes\",\"\")","v":""},"",{"$f":"IF(AND(GQ90=\"Yes\",GQ89=\"\",GQ88=\"\",GQ87=\"\"),\"Yes\",\"\")","v":""},"",{"$f":"IF(AND(GS90=\"Yes\",GS89=\"\",GS88=\"\",GS87=\"\"),\"Yes\",\"\")","v":""},"","","",{"$f":"IF(AND(GW90=\"Yes\",GW89=\"\",GW88=\"\",GW87=\"\"),\"Yes\",\"\")","v":""},"",""]
["21:15:00","21:29:00",null,null,0,null,null,null,null,"21:15:00","22:14:00",0,0,0,0,0,{"$f":"IF(AND(N91>='Warrant 1 - MUTCD'!$M$23,OR('Traffic Volume Input'!O91>='Warrant 1 - MUTCD'!$Q$23,'Traffic Volume Input'!P91>='Warrant 1 - MUTCD'!$Q$23)),\"Yes\",\"\")","v":""},"","","","","","",{"$f":"IF(AND(W91=\"Yes\",W90=\"\",W89=\"\",W88=\"\"),\"Yes\",\"\")","v":""},"",{"$f":"IF(AND(Y91=\"Yes\",Y90=\"\",Y89=\"\",Y88=\"\"),\"Yes\",\"\")","v":""},"",{"$f":"IF(AND(AA91=\"Yes\",AA90=\"\",AA89=\"\",AA88=\"\"),\"Yes\",\"\")","v":""},"",{"$f":"IF(AND(AC91=\"Yes\",AC90=\"\",AC89=\"\",AC88=\"\"),\"Yes\",\"\")","v":""},"",{"$f":"IF(AND(AE91=\"Yes\",AE90=\"\",AE89=\"\",AE88=\"\"),\"Yes\",\"\")","v":""},"",{"$f":"IF(AND(AG91=\"Yes\",AG90=\"\",AG89=\"\",AG88=\"\"),\"Yes\",\"\")","v":""},"",{"$f":"IF(AND(AI91=\"Yes\",AI90=\"\",AI89=\"\",AI88=\"\"),\"Yes\",\"\")","v":""},"",{"$f":"IF(AND(AK91=\"Yes\",AK90=\"\",AK89=\"\",AK88=\"\"),\"Yes\",\"\")","v":""},"",{"$f":"IF(AND(AM91=\"Yes\",AM90=\"\",AM89=\"\",AM88=\"\"),\"Yes\",\"\")","v":""},"",{"$f":"IF(AND(AO91=\"Yes\",AO90=\"\",AO89=\"\",AO88=\"\"),\"Yes\",\"\")","v":""},"",{"$f":"IF(AND(AQ91=\"Yes\",AQ90=\"\",AQ89=\"\",AQ88=\"\"),\"Yes\",\"\")","v":""},"",{"$f":"IF(AND(AS91=\"Yes\",AS90=\"\",AS89=\"\",AS88=\"\"),\"Yes\",\"\")","v":""},"",{"$f":"IF(AND(AU91=\"Yes\",AU90=\"\",AU89=\"\",AU88=\"\"),\"Yes\",\"\")","v":""},"",{"$f":"IF(AND(AW91=\"Yes\",AW90=\"\",AW89=\"\",AW88=\"\"),\"Yes\",\"\")","v":""},"",{"$f":"IF(AND(AY91=\"Yes\",AY90=\"\",AY89=\"\",AY88=\"\"),\"Yes\",\"\")","v":""},"",{"$f":"IF(AND(BA91=\"Yes\",BA90=\"\",BA89=\"\",BA88=\"\"),\"Yes\",\"\")","v":""},"",{"$f":"IF(AND(BC91=\"Yes\",BC90=\"\",BC89=\"\",BC88=\"\"),\"Yes\",\"\")","v":""},"",{"$f":"IF(AND(BE91=\"Yes\",BE90=\"\",BE89=\"\",BE88=\"\"),\"Yes\",\"\")","v":""},"",{"$f":"IF(AND(BG91=\"Yes\",BG90=\"\",BG89=\"\",BG88=\"\"),\"Yes\",\"\")","v":""},"",{"$f":"IF(AND(BI91=\"Yes\",BI90=\"\",BI89=\"\",BI88=\"\"),\"Yes\",\"\")","v":""},"","",{"$f":"IF(AND(N91>='Warrant 1 - MUTCD'!$M$32,OR('Traffic Volume Input'!O91>='Warrant 1 - MUTCD'!$Q$32,'Traffic Volume Input'!P91>='Warrant 1 - MUTCD'!$Q$32)),\"Yes\",\"\")","v":""},"","",{"$f":"IF(AND(BO91=\"Yes\",BO90=\"\",BO89=\"\",BO88=\"\"),\"Yes\",\"\")","v":""},"",{"$f":"IF(AND(BQ91=\"Yes\",BQ90=\"\",BQ89=\"\",BQ88=\"\"),\"Yes\",\"\")","v":""},"",{"$f":"IF(AND(BS91=\"Yes\",BS90=\"\",BS89=\"\",BS88=\"\"),\"Yes\",\"\")","v":""},"",{"$f":"IF(AND(BU91=\"Yes\",BU90=\"\",BU89=\"\",BU88=\"\"),\"Yes\",\"\")","v":""},"",{"$f":"IF(AND(BW91=\"Yes\",BW90=\"\",BW89=\"\",BW88=\"\"),\"Yes\",\"\")","v":""},"",{"$f":"IF(AND(BY91=\"Yes\",BY90=\"\",BY89=\"\",BY88=\"\"),\"Yes\",\"\")","v":""},"",{"$f":"IF(AND(CA91=\"Yes\",CA90=\"\",CA89=\"\",CA88=\"\"),\"Yes\",\"\")","v":""},"",{"$f":"IF(AND(CC91=\"Yes\",CC90=\"\",CC89=\"\",CC88=\"\"),\"Yes\",\"\")","v":""},"",{"$f":"IF(AND(CE91=\"Yes\",CE90=\"\",CE89=\"\",CE88=\"\"),\"Yes\",\"\")","v":""},"",{"$f":"IF(AND(CG91=\"Yes\",CG90=\"\",CG89=\"\",CG88=\"\"),\"Yes\",\"\")","v":""},"",{"$f":"IF(AND(CI91=\"Yes\",CI90=\"\",CI89=\"\",CI88=\"\"),\"Yes\",\"\")","v":""},"",{"$f":"IF(AND(CK91=\"Yes\",CK90=\"\",CK89=\"\",CK88=\"\"),\"Yes\",\"\")","v":""},"",{"$f":"IF(AND(CM91=\"Yes\",CM90=\"\",CM89=\"\",CM88=\"\"),\"Yes\",\"\")","v":""},"",{"$f":"IF(AND(CO91=\"Yes\",CO90=\"\",CO89=\"\",CO88=\"\"),\"Yes\",\"\")","v":""},"",{"$f":"IF(AND(CQ91=\"Yes\",CQ90=\"\",CQ89=\"\",CQ88=\"\"),\"Yes\",\"\")","v":""},"",{"$f":"IF(AND(CS91=\"Yes\",CS90=\"\",CS89=\"\",CS88=\"\"),\"Yes\",\"\")","v":""},"",{"$f":"IF(AND(CU91=\"Yes\",CU90=\"\",CU89=\"\",CU88=\"\"),\"Yes\",\"\")","v":""},"",{"$f":"IF(AND(CW91=\"Yes\",CW90=\"\",CW89=\"\",CW88=\"\"),\"Yes\",\"\")","v":""},"",{"$f":"IF(AND(CY91=\"Yes\",CY90=\"\",CY89=\"\",CY88=\"\"),\"Yes\",\"\")","v":""},"",{"$f":"IF(AND(DA91=\"Yes\",DA90=\"\",DA89=\"\",DA88=\"\"),\"Yes\",\"\")","v":""},"","","",{"$f":"IF(AND(DE91=\"Yes\",DE90=\"\",DE89=\"\",DE88=\"\"),\"Yes\",\"\")","v":""},"",{"$f":"IF(AND(DG91=\"Yes\",DG90=\"\",DG89=\"\",DG88=\"\"),\"Yes\",\"\")","v":""},{"$f":"IF(AND(N91>='Warrant 7 & 8 - MUTCD'!$L$16,OR('Traffic Volume Input'!O91>='Warrant 7 & 8 - MUTCD'!$N$16,'Traffic Volume Input'!P91>='Warrant 7 & 8 - MUTCD'!$N$16)),\"Yes\",\"\")","v":""},"","",{"$f":"IF(AND(DK91=\"Yes\",DK90=\"\",DK89=\"\",DK88=\"\"),\"Yes\",\"\")","v":""},"",{"$f":"IF(AND(DM91=\"Yes\",DM90=\"\",DM89=\"\",DM88=\"\"),\"Yes\",\"\")","v":""},"",{"$f":"IF(AND(DO91=\"Yes\",DO90=\"\",DO89=\"\",DO88=\"\"),\"Yes\",\"\")","v":""},"",{"$f":"IF(AND(DQ91=\"Yes\",DQ90=\"\",DQ89=\"\",DQ88=\"\"),\"Yes\",\"\")","v":""},"",{"$f":"IF(AND(DS91=\"Yes\",DS90=\"\",DS89=\"\",DS88=\"\"),\"Yes\",\"\")","v":""},"",{"$f":"IF(AND(DU91=\"Yes\",DU90=\"\",DU89=\"\",DU88=\"\"),\"Yes\",\"\")","v":""},"",{"$f":"IF(AND(DW91=\"Yes\",DW90=\"\",DW89=\"\",DW88=\"\"),\"Yes\",\"\")","v":""},"",{"$f":"IF(AND(DY91=\"Yes\",DY90=\"\",DY89=\"\",DY88=\"\"),\"Yes\",\"\")","v":""},"",{"$f":"IF(AND(EA91=\"Yes\",EA90=\"\",EA89=\"\",EA88=\"\"),\"Yes\",\"\")","v":""},"",{"$f":"IF(AND(EC91=\"Yes\",EC90=\"\",EC89=\"\",EC88=\"\"),\"Yes\",\"\")","v":""},"",{"$f":"IF(AND(EE91=\"Yes\",EE90=\"\",EE89=\"\",EE88=\"\"),\"Yes\",\"\")","v":""},"",{"$f":"IF(AND(EG91=\"Yes\",EG90=\"\",EG89=\"\",EG88=\"\"),\"Yes\",\"\")","v":""},"",{"$f":"IF(AND(EI91=\"Yes\",EI90=\"\",EI89=\"\",EI88=\"\"),\"Yes\",\"\")","v":""},"",{"$f":"IF(AND(EK91=\"Yes\",EK90=\"\",EK89=\"\",EK88=\"\"),\"Yes\",\"\")","v":""},"",{"$f":"IF(AND(EM91=\"Yes\",EM90=\"\",EM89=\"\",EM88=\"\"),\"Yes\",\"\")","v":""},"",{"$f":"IF(AND(EO91=\"Yes\",EO90=\"\",EO89=\"\",EO88=\"\"),\"Yes\",\"\")","v":""},"",{"$f":"IF(AND(EQ91=\"Yes\",EQ90=\"\",EQ89=\"\",EQ88=\"\"),\"Yes\",\"\")","v":""},"",{"$f":"IF(AND(ES91=\"Yes\",ES90=\"\",ES89=\"\",ES88=\"\"),\"Yes\",\"\")","v":""},"",{"$f":"IF(AND(EU91=\"Yes\",EU90=\"\",EU89=\"\",EU88=\"\"),\"Yes\",\"\")","v":""},"",{"$f":"IF(AND(EW91=\"Yes\",EW90=\"\",EW89=\"\",EW88=\"\"),\"Yes\",\"\")","v":""},"","","",{"$f":"IF(AND(FA91=\"Yes\",FA90=\"\",FA89=\"\",FA88=\"\"),\"Yes\",\"\")","v":""},"","",{"$f":"IF(AND(N91>='Warrant 7 & 8 - MUTCD'!$L$25,OR('Traffic Volume Input'!O91>='Warrant 7 & 8 - MUTCD'!$N$25,'Traffic Volume Input'!P91>='Warrant 7 & 8 - MUTCD'!$N$25)),\"Yes\",\"\")","v":""},"","",{"$f":"IF(AND(FG91=\"Yes\",FG90=\"\",FG89=\"\",FG88=\"\"),\"Yes\",\"\")","v":""},"",{"$f":"IF(AND(FI91=\"Yes\",FI90=\"\",FI89=\"\",FI88=\"\"),\"Yes\",\"\")","v":""},"",{"$f":"IF(AND(FK91=\"Yes\",FK90=\"\",FK89=\"\",FK88=\"\"),\"Yes\",\"\")","v":""},"",{"$f":"IF(AND(FM91=\"Yes\",FM90=\"\",FM89=\"\",FM88=\"\"),\"Yes\",\"\")","v":""},"",{"$f":"IF(AND(FO91=\"Yes\",FO90=\"\",FO89=\"\",FO88=\"\"),\"Yes\",\"\")","v":""},"",{"$f":"IF(AND(FQ91=\"Yes\",FQ90=\"\",FQ89=\"\",FQ88=\"\"),\"Yes\",\"\")","v":""},"",{"$f":"IF(AND(FS91=\"Yes\",FS90=\"\",FS89=\"\",FS88=\"\"),\"Yes\",\"\")","v":""},"",{"$f":"IF(AND(FU91=\"Yes\",FU90=\"\",FU89=\"\",FU88=\"\"),\"Yes\",\"\")","v":""},"",{"$f":"IF(AND(FW91=\"Yes\",FW90=\"\",FW89=\"\",FW88=\"\"),\"Yes\",\"\")","v":""},"",{"$f":"IF(AND(FY91=\"Yes\",FY90=\"\",FY89=\"\",FY88=\"\"),\"Yes\",\"\")","v":""},"",{"$f":"IF(AND(GA91=\"Yes\",GA90=\"\",GA89=\"\",GA88=\"\"),\"Yes\",\"\")","v":""},"",{"$f":"IF(AND(GC91=\"Yes\",GC90=\"\",GC89=\"\",GC88=\"\"),\"Yes\",\"\")","v":""},"",{"$f":"IF(AND(GE91=\"Yes\",GE90=\"\",GE89=\"\",GE88=\"\"),\"Yes\",\"\")","v":""},"",{"$f":"IF(AND(GG91=\"Yes\",GG90=\"\",GG89=\"\",GG88=\"\"),\"Yes\",\"\")","v":""},"",{"$f":"IF(AND(GI91=\"Yes\",GI90=\"\",GI89=\"\",GI88=\"\"),\"Yes\",\"\")","v":""},"",{"$f":"IF(AND(GK91=\"Yes\",GK90=\"\",GK89=\"\",GK88=\"\"),\"Yes\",\"\")","v":""},"",{"$f":"IF(AND(GM91=\"Yes\",GM90=\"\",GM89=\"\",GM88=\"\"),\"Yes\",\"\")","v":""},"",{"$f":"IF(AND(GO91=\"Yes\",GO90=\"\",GO89=\"\",GO88=\"\"),\"Yes\",\"\")","v":""},"",{"$f":"IF(AND(GQ91=\"Yes\",GQ90=\"\",GQ89=\"\",GQ88=\"\"),\"Yes\",\"\")","v":""},"",{"$f":"IF(AND(GS91=\"Yes\",GS90=\"\",GS89=\"\",GS88=\"\"),\"Yes\",\"\")","v":""},"","","",{"$f":"IF(AND(GW91=\"Yes\",GW90=\"\",GW89=\"\",GW88=\"\"),\"Yes\",\"\")","v":""},"",""]
["21:30:00","21:44:00",null,null,0,null,null,null,null,"21:30:00","22:29:00",0,0,0,0,0,{"$f":"IF(AND(N92>='Warrant 1 - MUTCD'!$M$23,OR('Traffic Volume Input'!O92>='Warrant 1 - MUTCD'!$Q$23,'Traffic Volume Input'!P92>='Warrant 1 - MUTCD'!$Q$23)),\"Yes\",\"\")","v":""},"","","","","","",{"$f":"IF(AND(W92=\"Yes\",W91=\"\",W90=\"\",W89=\"\"),\"Yes\",\"\")","v":""},"",{"$f":"IF(AND(Y92=\"Yes\",Y91=\"\",Y90=\"\",Y89=\"\"),\"Yes\",\"\")","v":""},"",{"$f":"IF(AND(AA92=\"Yes\",AA91=\"\",AA90=\"\",AA89=\"\"),\"Yes\",\"\")","v":""},"",{"$f":"IF(AND(AC92=\"Yes\",AC91=\"\",AC90=\"\",AC89=\"\"),\"Yes\",\"\")","v":""},"",{"$f":"IF(AND(AE92=\"Yes\",AE91=\"\",AE90=\"\",AE89=\"\"),\"Yes\",\"\")","v":""},"",{"$f":"IF(AND(AG92=\"Yes\",AG91=\"\",AG90=\"\",AG89=\"\"),\"Yes\",\"\")","v":""},"",{"$f":"IF(AND(AI92=\"Yes\",AI91=\"\",AI90=\"\",AI89=\"\"),\"Yes\",\"\")","v":""},"",{"$f":"IF(AND(AK92=\"Yes\",AK91=\"\",AK90=\"\",AK89=\"\"),\"Yes\",\"\")","v":""},"",{"$f":"IF(AND(AM92=\"Yes\",AM91=\"\",AM90=\"\",AM89=\"\"),\"Yes\",\"\")","v":""},"",{"$f":"IF(AND(AO92=\"Yes\",AO91=\"\",AO90=\"\",AO89=\"\"),\"Yes\",\"\")","v":""},"",{"$f":"IF(AND(AQ92=\"Yes\",AQ91=\"\",AQ90=\"\",AQ89=\"\"),\"Yes\",\"\")","v":""},"",{"$f":"IF(AND(AS92=\"Yes\",AS91=\"\",AS90=\"\",AS89=\"\"),\"Yes\",\"\")","v":""},"",{"$f":"IF(AND(AU92=\"Yes\",AU91=\"\",AU90=\"\",AU89=\"\"),\"Yes\",\"\")","v":""},"",{"$f":"IF(AND(AW92=\"Yes\",AW91=\"\",AW90=\"\",AW89=\"\"),\"Yes\",\"\")","v":""},"",{"$f":"IF(AND(AY92=\"Yes\",AY91=\"\",AY90=\"\",AY89=\"\"),\"Yes\",\"\")","v":""},"",{"$f":"IF(AND(BA92=\"Yes\",BA91=\"\",BA90=\"\",BA89=\"\"),\"Yes\",\"\")","v":""},"",{"$f":"IF(AND(BC92=\"Yes\",BC91=\"\",BC90=\"\",BC89=\"\"),\"Yes\",\"\")","v":""},"",{"$f":"IF(AND(BE92=\"Yes\",BE91=\"\",BE90=\"\",BE89=\"\"),\"Yes\",\"\")","v":""},"",{"$f":"IF(AND(BG92=\"Yes\",BG91=\"\",BG90=\"\",BG89=\"\"),\"Yes\",\"\")","v":""},"",{"$f":"IF(AND(BI92=\"Yes\",BI91=\"\",BI90=\"\",BI89=\"\"),\"Yes\",\"\")","v":""},"","",{"$f":"IF(AND(N92>='Warrant 1 - MUTCD'!$M$32,OR('Traffic Volume Input'!O92>='Warrant 1 - MUTCD'!$Q$32,'Traffic Volume Input'!P92>='Warrant 1 - MUTCD'!$Q$32)),\"Yes\",\"\")","v":""},"","",{"$f":"IF(AND(BO92=\"Yes\",BO91=\"\",BO90=\"\",BO89=\"\"),\"Yes\",\"\")","v":""},"",{"$f":"IF(AND(BQ92=\"Yes\",BQ91=\"\",BQ90=\"\",BQ89=\"\"),\"Yes\",\"\")","v":""},"",{"$f":"IF(AND(BS92=\"Yes\",BS91=\"\",BS90=\"\",BS89=\"\"),\"Yes\",\"\")","v":""},"",{"$f":"IF(AND(BU92=\"Yes\",BU91=\"\",BU90=\"\",BU89=\"\"),\"Yes\",\"\")","v":""},"",{"$f":"IF(AND(BW92=\"Yes\",BW91=\"\",BW90=\"\",BW89=\"\"),\"Yes\",\"\")","v":""},"",{"$f":"IF(AND(BY92=\"Yes\",BY91=\"\",BY90=\"\",BY89=\"\"),\"Yes\",\"\")","v":""},"",{"$f":"IF(AND(CA92=\"Yes\",CA91=\"\",CA90=\"\",CA89=\"\"),\"Yes\",\"\")","v":""},"",{"$f":"IF(AND(CC92=\"Yes\",CC91=\"\",CC90=\"\",CC89=\"\"),\"Yes\",\"\")","v":""},"",{"$f":"IF(AND(CE92=\"Yes\",CE91=\"\",CE90=\"\",CE89=\"\"),\"Yes\",\"\")","v":""},"",{"$f":"IF(AND(CG92=\"Yes\",CG91=\"\",CG90=\"\",CG89=\"\"),\"Yes\",\"\")","v":""},"",{"$f":"IF(AND(CI92=\"Yes\",CI91=\"\",CI90=\"\",CI89=\"\"),\"Yes\",\"\")","v":""},"",{"$f":"IF(AND(CK92=\"Yes\",CK91=\"\",CK90=\"\",CK89=\"\"),\"Yes\",\"\")","v":""},"",{"$f":"IF(AND(CM92=\"Yes\",CM91=\"\",CM90=\"\",CM89=\"\"),\"Yes\",\"\")","v":""},"",{"$f":"IF(AND(CO92=\"Yes\",CO91=\"\",CO90=\"\",CO89=\"\"),\"Yes\",\"\")","v":""},"",{"$f":"IF(AND(CQ92=\"Yes\",CQ91=\"\",CQ90=\"\",CQ89=\"\"),\"Yes\",\"\")","v":""},"",{"$f":"IF(AND(CS92=\"Yes\",CS91=\"\",CS90=\"\",CS89=\"\"),\"Yes\",\"\")","v":""},"",{"$f":"IF(AND(CU92=\"Yes\",CU91=\"\",CU90=\"\",CU89=\"\"),\"Yes\",\"\")","v":""},"",{"$f":"IF(AND(CW92=\"Yes\",CW91=\"\",CW90=\"\",CW89=\"\"),\"Yes\",\"\")","v":""},"",{"$f":"IF(AND(CY92=\"Yes\",CY91=\"\",CY90=\"\",CY89=\"\"),\"Yes\",\"\")","v":""},"",{"$f":"IF(AND(DA92=\"Yes\",DA91=\"\",DA90=\"\",DA89=\"\"),\"Yes\",\"\")","v":""},"","","",{"$f":"IF(AND(DE92=\"Yes\",DE91=\"\",DE90=\"\",DE89=\"\"),\"Yes\",\"\")","v":""},"",{"$f":"IF(AND(DG92=\"Yes\",DG91=\"\",DG90=\"\",DG89=\"\"),\"Yes\",\"\")","v":""},{"$f":"IF(AND(N92>='Warrant 7 & 8 - MUTCD'!$L$16,OR('Traffic Volume Input'!O92>='Warrant 7 & 8 - MUTCD'!$N$16,'Traffic Volume Input'!P92>='Warrant 7 & 8 - MUTCD'!$N$16)),\"Yes\",\"\")","v":""},"","",{"$f":"IF(AND(DK92=\"Yes\",DK91=\"\",DK90=\"\",DK89=\"\"),\"Yes\",\"\")","v":""},"",{"$f":"IF(AND(DM92=\"Yes\",DM91=\"\",DM90=\"\",DM89=\"\"),\"Yes\",\"\")","v":""},"",{"$f":"IF(AND(DO92=\"Yes\",DO91=\"\",DO90=\"\",DO89=\"\"),\"Yes\",\"\")","v":""},"",{"$f":"IF(AND(DQ92=\"Yes\",DQ91=\"\",DQ90=\"\",DQ89=\"\"),\"Yes\",\"\")","v":""},"",{"$f":"IF(AND(DS92=\"Yes\",DS91=\"\",DS90=\"\",DS89=\"\"),\"Yes\",\"\")","v":""},"",{"$f":"IF(AND(DU92=\"Yes\",DU91=\"\",DU90=\"\",DU89=\"\"),\"Yes\",\"\")","v":""},"",{"$f":"IF(AND(DW92=\"Yes\",DW91=\"\",DW90=\"\",DW89=\"\"),\"Yes\",\"\")","v":""},"",{"$f":"IF(AND(DY92=\"Yes\",DY91=\"\",DY90=\"\",DY89=\"\"),\"Yes\",\"\")","v":""},"",{"$f":"IF(AND(EA92=\"Yes\",EA91=\"\",EA90=\"\",EA89=\"\"),\"Yes\",\"\")","v":""},"",{"$f":"IF(AND(EC92=\"Yes\",EC91=\"\",EC90=\"\",EC89=\"\"),\"Yes\",\"\")","v":""},"",{"$f":"IF(AND(EE92=\"Yes\",EE91=\"\",EE90=\"\",EE89=\"\"),\"Yes\",\"\")","v":""},"",{"$f":"IF(AND(EG92=\"Yes\",EG91=\"\",EG90=\"\",EG89=\"\"),\"Yes\",\"\")","v":""},"",{"$f":"IF(AND(EI92=\"Yes\",EI91=\"\",EI90=\"\",EI89=\"\"),\"Yes\",\"\")","v":""},"",{"$f":"IF(AND(EK92=\"Yes\",EK91=\"\",EK90=\"\",EK89=\"\"),\"Yes\",\"\")","v":""},"",{"$f":"IF(AND(EM92=\"Yes\",EM91=\"\",EM90=\"\",EM89=\"\"),\"Yes\",\"\")","v":""},"",{"$f":"IF(AND(EO92=\"Yes\",EO91=\"\",EO90=\"\",EO89=\"\"),\"Yes\",\"\")","v":""},"",{"$f":"IF(AND(EQ92=\"Yes\",EQ91=\"\",EQ90=\"\",EQ89=\"\"),\"Yes\",\"\")","v":""},"",{"$f":"IF(AND(ES92=\"Yes\",ES91=\"\",ES90=\"\",ES89=\"\"),\"Yes\",\"\")","v":""},"",{"$f":"IF(AND(EU92=\"Yes\",EU91=\"\",EU90=\"\",EU89=\"\"),\"Yes\",\"\")","v":""},"",{"$f":"IF(AND(EW92=\"Yes\",EW91=\"\",EW90=\"\",EW89=\"\"),\"Yes\",\"\")","v":""},"","","",{"$f":"IF(AND(FA92=\"Yes\",FA91=\"\",FA90=\"\",FA89=\"\"),\"Yes\",\"\")","v":""},"","",{"$f":"IF(AND(N92>='Warrant 7 & 8 - MUTCD'!$L$25,OR('Traffic Volume Input'!O92>='Warrant 7 & 8 - MUTCD'!$N$25,'Traffic Volume Input'!P92>='Warrant 7 & 8 - MUTCD'!$N$25)),\"Yes\",\"\")","v":""},"","",{"$f":"IF(AND(FG92=\"Yes\",FG91=\"\",FG90=\"\",FG89=\"\"),\"Yes\",\"\")","v":""},"",{"$f":"IF(AND(FI92=\"Yes\",FI91=\"\",FI90=\"\",FI89=\"\"),\"Yes\",\"\")","v":""},"",{"$f":"IF(AND(FK92=\"Yes\",FK91=\"\",FK90=\"\",FK89=\"\"),\"Yes\",\"\")","v":""},"",{"$f":"IF(AND(FM92=\"Yes\",FM91=\"\",FM90=\"\",FM89=\"\"),\"Yes\",\"\")","v":""},"",{"$f":"IF(AND(FO92=\"Yes\",FO91=\"\",FO90=\"\",FO89=\"\"),\"Yes\",\"\")","v":""},"",{"$f":"IF(AND(FQ92=\"Yes\",FQ91=\"\",FQ90=\"\",FQ89=\"\"),\"Yes\",\"\")","v":""},"",{"$f":"IF(AND(FS92=\"Yes\",FS91=\"\",FS90=\"\",FS89=\"\"),\"Yes\",\"\")","v":""},"",{"$f":"IF(AND(FU92=\"Yes\",FU91=\"\",FU90=\"\",FU89=\"\"),\"Yes\",\"\")","v":""},"",{"$f":"IF(AND(FW92=\"Yes\",FW91=\"\",FW90=\"\",FW89=\"\"),\"Yes\",\"\")","v":""},"",{"$f":"IF(AND(FY92=\"Yes\",FY91=\"\",FY90=\"\",FY89=\"\"),\"Yes\",\"\")","v":""},"",{"$f":"IF(AND(GA92=\"Yes\",GA91=\"\",GA90=\"\",GA89=\"\"),\"Yes\",\"\")","v":""},"",{"$f":"IF(AND(GC92=\"Yes\",GC91=\"\",GC90=\"\",GC89=\"\"),\"Yes\",\"\")","v":""},"",{"$f":"IF(AND(GE92=\"Yes\",GE91=\"\",GE90=\"\",GE89=\"\"),\"Yes\",\"\")","v":""},"",{"$f":"IF(AND(GG92=\"Yes\",GG91=\"\",GG90=\"\",GG89=\"\"),\"Yes\",\"\")","v":""},"",{"$f":"IF(AND(GI92=\"Yes\",GI91=\"\",GI90=\"\",GI89=\"\"),\"Yes\",\"\")","v":""},"",{"$f":"IF(AND(GK92=\"Yes\",GK91=\"\",GK90=\"\",GK89=\"\"),\"Yes\",\"\")","v":""},"",{"$f":"IF(AND(GM92=\"Yes\",GM91=\"\",GM90=\"\",GM89=\"\"),\"Yes\",\"\")","v":""},"",{"$f":"IF(AND(GO92=\"Yes\",GO91=\"\",GO90=\"\",GO89=\"\"),\"Yes\",\"\")","v":""},"",{"$f":"IF(AND(GQ92=\"Yes\",GQ91=\"\",GQ90=\"\",GQ89=\"\"),\"Yes\",\"\")","v":""},"",{"$f":"IF(AND(GS92=\"Yes\",GS91=\"\",GS90=\"\",GS89=\"\"),\"Yes\",\"\")","v":""},"","","",{"$f":"IF(AND(GW92=\"Yes\",GW91=\"\",GW90=\"\",GW89=\"\"),\"Yes\",\"\")","v":""},"",""]
["21:45:00","21:59:00",null,null,0,null,null,null,null,"21:45:00","22:44:00",0,0,{"$f":"L93+M93","v":0},{"$f":"SUM(F93:F96)","v":0},0,{"$f":"IF(AND(N93>='Warrant 1 - MUTCD'!$M$23,OR('Traffic Volume Input'!O93>='Warrant 1 - MUTCD'!$Q$23,'Traffic Volume Input'!P93>='Warrant 1 - MUTCD'!$Q$23)),\"Yes\",\"\")","v":""},"","","","","","",{"$f":"IF(AND(W93=\"Yes\",W92=\"\",W91=\"\",W90=\"\"),\"Yes\",\"\")","v":""},"",{"$f":"IF(AND(Y93=\"Yes\",Y92=\"\",Y91=\"\",Y90=\"\"),\"Yes\",\"\")","v":""},"",{"$f":"IF(AND(AA93=\"Yes\",AA92=\"\",AA91=\"\",AA90=\"\"),\"Yes\",\"\")","v":""},"",{"$f":"IF(AND(AC93=\"Yes\",AC92=\"\",AC91=\"\",AC90=\"\"),\"Yes\",\"\")","v":""},"",{"$f":"IF(AND(AE93=\"Yes\",AE92=\"\",AE91=\"\",AE90=\"\"),\"Yes\",\"\")","v":""},"",{"$f":"IF(AND(AG93=\"Yes\",AG92=\"\",AG91=\"\",AG90=\"\"),\"Yes\",\"\")","v":""},"",{"$f":"IF(AND(AI93=\"Yes\",AI92=\"\",AI91=\"\",AI90=\"\"),\"Yes\",\"\")","v":""},"",{"$f":"IF(AND(AK93=\"Yes\",AK92=\"\",AK91=\"\",AK90=\"\"),\"Yes\",\"\")","v":""},"",{"$f":"IF(AND(AM93=\"Yes\",AM92=\"\",AM91=\"\",AM90=\"\"),\"Yes\",\"\")","v":""},"",{"$f":"IF(AND(AO93=\"Yes\",AO92=\"\",AO91=\"\",AO90=\"\"),\"Yes\",\"\")","v":""},"",{"$f":"IF(AND(AQ93=\"Yes\",AQ92=\"\",AQ91=\"\",AQ90=\"\"),\"Yes\",\"\")","v":""},"",{"$f":"IF(AND(AS93=\"Yes\",AS92=\"\",AS91=\"\",AS90=\"\"),\"Yes\",\"\")","v":""},"",{"$f":"IF(AND(AU93=\"Yes\",AU92=\"\",AU91=\"\",AU90=\"\"),\"Yes\",\"\")","v":""},"",{"$f":"IF(AND(AW93=\"Yes\",AW92=\"\",AW91=\"\",AW90=\"\"),\"Yes\",\"\")","v":""},"",{"$f":"IF(AND(AY93=\"Yes\",AY92=\"\",AY91=\"\",AY90=\"\"),\"Yes\",\"\")","v":""},"",{"$f":"IF(AND(BA93=\"Yes\",BA92=\"\",BA91=\"\",BA90=\"\"),\"Yes\",\"\")","v":""},"",{"$f":"IF(AND(BC93=\"Yes\",BC92=\"\",BC91=\"\",BC90=\"\"),\"Yes\",\"\")","v":""},"",{"$f":"IF(AND(BE93=\"Yes\",BE92=\"\",BE91=\"\",BE90=\"\"),\"Yes\",\"\")","v":""},"",{"$f":"IF(AND(BG93=\"Yes\",BG92=\"\",BG91=\"\",BG90=\"\"),\"Yes\",\"\")","v":""},"",{"$f":"IF(AND(BI93=\"Yes\",BI92=\"\",BI91=\"\",BI90=\"\"),\"Yes\",\"\")","v":""},"","",{"$f":"IF(AND(N93>='Warrant 1 - MUTCD'!$M$32,OR('Traffic Volume Input'!O93>='Warrant 1 - MUTCD'!$Q$32,'Traffic Volume Input'!P93>='Warrant 1 - MUTCD'!$Q$32)),\"Yes\",\"\")","v":""},"","",{"$f":"IF(AND(BO93=\"Yes\",BO92=\"\",BO91=\"\",BO90=\"\"),\"Yes\",\"\")","v":""},"",{"$f":"IF(AND(BQ93=\"Yes\",BQ92=\"\",BQ91=\"\",BQ90=\"\"),\"Yes\",\"\")","v":""},"",{"$f":"IF(AND(BS93=\"Yes\",BS92=\"\",BS91=\"\",BS90=\"\"),\"Yes\",\"\")","v":""},"",{"$f":"IF(AND(BU93=\"Yes\",BU92=\"\",BU91=\"\",BU90=\"\"),\"Yes\",\"\")","v":""},"",{"$f":"IF(AND(BW93=\"Yes\",BW92=\"\",BW91=\"\",BW90=\"\"),\"Yes\",\"\")","v":""},"",{"$f":"IF(AND(BY93=\"Yes\",BY92=\"\",BY91=\"\",BY90=\"\"),\"Yes\",\"\")","v":""},"",{"$f":"IF(AND(CA93=\"Yes\",CA92=\"\",CA91=\"\",CA90=\"\"),\"Yes\",\"\")","v":""},"",{"$f":"IF(AND(CC93=\"Yes\",CC92=\"\",CC91=\"\",CC90=\"\"),\"Yes\",\"\")","v":""},"",{"$f":"IF(AND(CE93=\"Yes\",CE92=\"\",CE91=\"\",CE90=\"\"),\"Yes\",\"\")","v":""},"",{"$f":"IF(AND(CG93=\"Yes\",CG92=\"\",CG91=\"\",CG90=\"\"),\"Yes\",\"\")","v":""},"",{"$f":"IF(AND(CI93=\"Yes\",CI92=\"\",CI91=\"\",CI90=\"\"),\"Yes\",\"\")","v":""},"",{"$f":"IF(AND(CK93=\"Yes\",CK92=\"\",CK91=\"\",CK90=\"\"),\"Yes\",\"\")","v":""},"",{"$f":"IF(AND(CM93=\"Yes\",CM92=\"\",CM91=\"\",CM90=\"\"),\"Yes\",\"\")","v":""},"",{"$f":"IF(AND(CO93=\"Yes\",CO92=\"\",CO91=\"\",CO90=\"\"),\"Yes\",\"\")","v":""},"",{"$f":"IF(AND(CQ93=\"Yes\",CQ92=\"\",CQ91=\"\",CQ90=\"\"),\"Yes\",\"\")","v":""},"",{"$f":"IF(AND(CS93=\"Yes\",CS92=\"\",CS91=\"\",CS90=\"\"),\"Yes\",\"\")","v":""},"",{"$f":"IF(AND(CU93=\"Yes\",CU92=\"\",CU91=\"\",CU90=\"\"),\"Yes\",\"\")","v":""},"",{"$f":"IF(AND(CW93=\"Yes\",CW92=\"\",CW91=\"\",CW90=\"\"),\"Yes\",\"\")","v":""},"",{"$f":"IF(AND(CY93=\"Yes\",CY92=\"\",CY91=\"\",CY90=\"\"),\"Yes\",\"\")","v":""},"",{"$f":"IF(AND(DA93=\"Yes\",DA92=\"\",DA91=\"\",DA90=\"\"),\"Yes\",\"\")","v":""},"","","",{"$f":"IF(AND(DE93=\"Yes\",DE92=\"\",DE91=\"\",DE90=\"\"),\"Yes\",\"\")","v":""},"",{"$f":"IF(AND(DG93=\"Yes\",DG92=\"\",DG91=\"\",DG90=\"\"),\"Yes\",\"\")","v":""},{"$f":"IF(AND(N93>='Warrant 7 & 8 - MUTCD'!$L$16,OR('Traffic Volume Input'!O93>='Warrant 7 & 8 - MUTCD'!$N$16,'Traffic Volume Input'!P93>='Warrant 7 & 8 - MUTCD'!$N$16)),\"Yes\",\"\")","v":""},"","",{"$f":"IF(AND(DK93=\"Yes\",DK92=\"\",DK91=\"\",DK90=\"\"),\"Yes\",\"\")","v":""},"",{"$f":"IF(AND(DM93=\"Yes\",DM92=\"\",DM91=\"\",DM90=\"\"),\"Yes\",\"\")","v":""},"",{"$f":"IF(AND(DO93=\"Yes\",DO92=\"\",DO91=\"\",DO90=\"\"),\"Yes\",\"\")","v":""},"",{"$f":"IF(AND(DQ93=\"Yes\",DQ92=\"\",DQ91=\"\",DQ90=\"\"),\"Yes\",\"\")","v":""},"",{"$f":"IF(AND(DS93=\"Yes\",DS92=\"\",DS91=\"\",DS90=\"\"),\"Yes\",\"\")","v":""},"",{"$f":"IF(AND(DU93=\"Yes\",DU92=\"\",DU91=\"\",DU90=\"\"),\"Yes\",\"\")","v":""},"",{"$f":"IF(AND(DW93=\"Yes\",DW92=\"\",DW91=\"\",DW90=\"\"),\"Yes\",\"\")","v":""},"",{"$f":"IF(AND(DY93=\"Yes\",DY92=\"\",DY91=\"\",DY90=\"\"),\"Yes\",\"\")","v":""},"",{"$f":"IF(AND(EA93=\"Yes\",EA92=\"\",EA91=\"\",EA90=\"\"),\"Yes\",\"\")","v":""},"",{"$f":"IF(AND(EC93=\"Yes\",EC92=\"\",EC91=\"\",EC90=\"\"),\"Yes\",\"\")","v":""},"",{"$f":"IF(AND(EE93=\"Yes\",EE92=\"\",EE91=\"\",EE90=\"\"),\"Yes\",\"\")","v":""},"",{"$f":"IF(AND(EG93=\"Yes\",EG92=\"\",EG91=\"\",EG90=\"\"),\"Yes\",\"\")","v":""},"",{"$f":"IF(AND(EI93=\"Yes\",EI92=\"\",EI91=\"\",EI90=\"\"),\"Yes\",\"\")","v":""},"",{"$f":"IF(AND(EK93=\"Yes\",EK92=\"\",EK91=\"\",EK90=\"\"),\"Yes\",\"\")","v":""},"",{"$f":"IF(AND(EM93=\"Yes\",EM92=\"\",EM91=\"\",EM90=\"\"),\"Yes\",\"\")","v":""},"",{"$f":"IF(AND(EO93=\"Yes\",EO92=\"\",EO91=\"\",EO90=\"\"),\"Yes\",\"\")","v":""},"",{"$f":"IF(AND(EQ93=\"Yes\",EQ92=\"\",EQ91=\"\",EQ90=\"\"),\"Yes\",\"\")","v":""},"",{"$f":"IF(AND(ES93=\"Yes\",ES92=\"\",ES91=\"\",ES90=\"\"),\"Yes\",\"\")","v":""},"",{"$f":"IF(AND(EU93=\"Yes\",EU92=\"\",EU91=\"\",EU90=\"\"),\"Yes\",\"\")","v":""},"",{"$f":"IF(AND(EW93=\"Yes\",EW92=\"\",EW91=\"\",EW90=\"\"),\"Yes\",\"\")","v":""},"","","",{"$f":"IF(AND(FA93=\"Yes\",FA92=\"\",FA91=\"\",FA90=\"\"),\"Yes\",\"\")","v":""},"","",{"$f":"IF(AND(N93>='Warrant 7 & 8 - MUTCD'!$L$25,OR('Traffic Volume Input'!O93>='Warrant 7 & 8 - MUTCD'!$N$25,'Traffic Volume Input'!P93>='Warrant 7 & 8 - MUTCD'!$N$25)),\"Yes\",\"\")","v":""},"","",{"$f":"IF(AND(FG93=\"Yes\",FG92=\"\",FG91=\"\",FG90=\"\"),\"Yes\",\"\")","v":""},"",{"$f":"IF(AND(FI93=\"Yes\",FI92=\"\",FI91=\"\",FI90=\"\"),\"Yes\",\"\")","v":""},"",{"$f":"IF(AND(FK93=\"Yes\",FK92=\"\",FK91=\"\",FK90=\"\"),\"Yes\",\"\")","v":""},"",{"$f":"IF(AND(FM93=\"Yes\",FM92=\"\",FM91=\"\",FM90=\"\"),\"Yes\",\"\")","v":""},"",{"$f":"IF(AND(FO93=\"Yes\",FO92=\"\",FO91=\"\",FO90=\"\"),\"Yes\",\"\")","v":""},"",{"$f":"IF(AND(FQ93=\"Yes\",FQ92=\"\",FQ91=\"\",FQ90=\"\"),\"Yes\",\"\")","v":""},"",{"$f":"IF(AND(FS93=\"Yes\",FS92=\"\",FS91=\"\",FS90=\"\"),\"Yes\",\"\")","v":""},"",{"$f":"IF(AND(FU93=\"Yes\",FU92=\"\",FU91=\"\",FU90=\"\"),\"Yes\",\"\")","v":""},"",{"$f":"IF(AND(FW93=\"Yes\",FW92=\"\",FW91=\"\",FW90=\"\"),\"Yes\",\"\")","v":""},"",{"$f":"IF(AND(FY93=\"Yes\",FY92=\"\",FY91=\"\",FY90=\"\"),\"Yes\",\"\")","v":""},"",{"$f":"IF(AND(GA93=\"Yes\",GA92=\"\",GA91=\"\",GA90=\"\"),\"Yes\",\"\")","v":""},"",{"$f":"IF(AND(GC93=\"Yes\",GC92=\"\",GC91=\"\",GC90=\"\"),\"Yes\",\"\")","v":""},"",{"$f":"IF(AND(GE93=\"Yes\",GE92=\"\",GE91=\"\",GE90=\"\"),\"Yes\",\"\")","v":""},"",{"$f":"IF(AND(GG93=\"Yes\",GG92=\"\",GG91=\"\",GG90=\"\"),\"Yes\",\"\")","v":""},"",{"$f":"IF(AND(GI93=\"Yes\",GI92=\"\",GI91=\"\",GI90=\"\"),\"Yes\",\"\")","v":""},"",{"$f":"IF(AND(GK93=\"Yes\",GK92=\"\",GK91=\"\",GK90=\"\"),\"Yes\",\"\")","v":""},"",{"$f":"IF(AND(GM93=\"Yes\",GM92=\"\",GM91=\"\",GM90=\"\"),\"Yes\",\"\")","v":""},"",{"$f":"IF(AND(GO93=\"Yes\",GO92=\"\",GO91=\"\",GO90=\"\"),\"Yes\",\"\")","v":""},"",{"$f":"IF(AND(GQ93=\"Yes\",GQ92=\"\",GQ91=\"\",GQ90=\"\"),\"Yes\",\"\")","v":""},"",{"$f":"IF(AND(GS93=\"Yes\",GS92=\"\",GS91=\"\",GS90=\"\"),\"Yes\",\"\")","v":""},"","","",{"$f":"IF(AND(GW93=\"Yes\",GW92=\"\",GW91=\"\",GW90=\"\"),\"Yes\",\"\")","v":""},"",""]
["22:00:00","22:14:00",null,null,0,null,null,null,null,"22:00:00","22:59:00",0,{"$f":"SUM(D94:D97)","v":0},{"$f":"L94+M94","v":0},{"$f":"SUM(F94:F97)","v":0},0,{"$f":"IF(AND(N94>='Warrant 1 - MUTCD'!$M$23,OR('Traffic Volume Input'!O94>='Warrant 1 - MUTCD'!$Q$23,'Traffic Volume Input'!P94>='Warrant 1 - MUTCD'!$Q$23)),\"Yes\",\"\")","v":""},"","","","","","",{"$f":"IF(AND(W94=\"Yes\",W93=\"\",W92=\"\",W91=\"\"),\"Yes\",\"\")","v":""},"",{"$f":"IF(AND(Y94=\"Yes\",Y93=\"\",Y92=\"\",Y91=\"\"),\"Yes\",\"\")","v":""},"",{"$f":"IF(AND(AA94=\"Yes\",AA93=\"\",AA92=\"\",AA91=\"\"),\"Yes\",\"\")","v":""},"",{"$f":"IF(AND(AC94=\"Yes\",AC93=\"\",AC92=\"\",AC91=\"\"),\"Yes\",\"\")","v":""},"",{"$f":"IF(AND(AE94=\"Yes\",AE93=\"\",AE92=\"\",AE91=\"\"),\"Yes\",\"\")","v":""},"",{"$f":"IF(AND(AG94=\"Yes\",AG93=\"\",AG92=\"\",AG91=\"\"),\"Yes\",\"\")","v":""},"",{"$f":"IF(AND(AI94=\"Yes\",AI93=\"\",AI92=\"\",AI91=\"\"),\"Yes\",\"\")","v":""},"",{"$f":"IF(AND(AK94=\"Yes\",AK93=\"\",AK92=\"\",AK91=\"\"),\"Yes\",\"\")","v":""},"",{"$f":"IF(AND(AM94=\"Yes\",AM93=\"\",AM92=\"\",AM91=\"\"),\"Yes\",\"\")","v":""},"",{"$f":"IF(AND(AO94=\"Yes\",AO93=\"\",AO92=\"\",AO91=\"\"),\"Yes\",\"\")","v":""},"",{"$f":"IF(AND(AQ94=\"Yes\",AQ93=\"\",AQ92=\"\",AQ91=\"\"),\"Yes\",\"\")","v":""},"",{"$f":"IF(AND(AS94=\"Yes\",AS93=\"\",AS92=\"\",AS91=\"\"),\"Yes\",\"\")","v":""},"",{"$f":"IF(AND(AU94=\"Yes\",AU93=\"\",AU92=\"\",AU91=\"\"),\"Yes\",\"\")","v":""},"",{"$f":"IF(AND(AW94=\"Yes\",AW93=\"\",AW92=\"\",AW91=\"\"),\"Yes\",\"\")","v":""},"",{"$f":"IF(AND(AY94=\"Yes\",AY93=\"\",AY92=\"\",AY91=\"\"),\"Yes\",\"\")","v":""},"",{"$f":"IF(AND(BA94=\"Yes\",BA93=\"\",BA92=\"\",BA91=\"\"),\"Yes\",\"\")","v":""},"",{"$f":"IF(AND(BC94=\"Yes\",BC93=\"\",BC92=\"\",BC91=\"\"),\"Yes\",\"\")","v":""},"",{"$f":"IF(AND(BE94=\"Yes\",BE93=\"\",BE92=\"\",BE91=\"\"),\"Yes\",\"\")","v":""},"",{"$f":"IF(AND(BG94=\"Yes\",BG93=\"\",BG92=\"\",BG91=\"\"),\"Yes\",\"\")","v":""},"",{"$f":"IF(AND(BI94=\"Yes\",BI93=\"\",BI92=\"\",BI91=\"\"),\"Yes\",\"\")","v":""},"","",{"$f":"IF(AND(N94>='Warrant 1 - MUTCD'!$M$32,OR('Traffic Volume Input'!O94>='Warrant 1 - MUTCD'!$Q$32,'Traffic Volume Input'!P94>='Warrant 1 - MUTCD'!$Q$32)),\"Yes\",\"\")","v":""},"","",{"$f":"IF(AND(BO94=\"Yes\",BO93=\"\",BO92=\"\",BO91=\"\"),\"Yes\",\"\")","v":""},"",{"$f":"IF(AND(BQ94=\"Yes\",BQ93=\"\",BQ92=\"\",BQ91=\"\"),\"Yes\",\"\")","v":""},"",{"$f":"IF(AND(BS94=\"Yes\",BS93=\"\",BS92=\"\",BS91=\"\"),\"Yes\",\"\")","v":""},"",{"$f":"IF(AND(BU94=\"Yes\",BU93=\"\",BU92=\"\",BU91=\"\"),\"Yes\",\"\")","v":""},"",{"$f":"IF(AND(BW94=\"Yes\",BW93=\"\",BW92=\"\",BW91=\"\"),\"Yes\",\"\")","v":""},"",{"$f":"IF(AND(BY94=\"Yes\",BY93=\"\",BY92=\"\",BY91=\"\"),\"Yes\",\"\")","v":""},"",{"$f":"IF(AND(CA94=\"Yes\",CA93=\"\",CA92=\"\",CA91=\"\"),\"Yes\",\"\")","v":""},"",{"$f":"IF(AND(CC94=\"Yes\",CC93=\"\",CC92=\"\",CC91=\"\"),\"Yes\",\"\")","v":""},"",{"$f":"IF(AND(CE94=\"Yes\",CE93=\"\",CE92=\"\",CE91=\"\"),\"Yes\",\"\")","v":""},"",{"$f":"IF(AND(CG94=\"Yes\",CG93=\"\",CG92=\"\",CG91=\"\"),\"Yes\",\"\")","v":""},"",{"$f":"IF(AND(CI94=\"Yes\",CI93=\"\",CI92=\"\",CI91=\"\"),\"Yes\",\"\")","v":""},"",{"$f":"IF(AND(CK94=\"Yes\",CK93=\"\",CK92=\"\",CK91=\"\"),\"Yes\",\"\")","v":""},"",{"$f":"IF(AND(CM94=\"Yes\",CM93=\"\",CM92=\"\",CM91=\"\"),\"Yes\",\"\")","v":""},"",{"$f":"IF(AND(CO94=\"Yes\",CO93=\"\",CO92=\"\",CO91=\"\"),\"Yes\",\"\")","v":""},"",{"$f":"IF(AND(CQ94=\"Yes\",CQ93=\"\",CQ92=\"\",CQ91=\"\"),\"Yes\",\"\")","v":""},"",{"$f":"IF(AND(CS94=\"Yes\",CS93=\"\",CS92=\"\",CS91=\"\"),\"Yes\",\"\")","v":""},"",{"$f":"IF(AND(CU94=\"Yes\",CU93=\"\",CU92=\"\",CU91=\"\"),\"Yes\",\"\")","v":""},"",{"$f":"IF(AND(CW94=\"Yes\",CW93=\"\",CW92=\"\",CW91=\"\"),\"Yes\",\"\")","v":""},"",{"$f":"IF(AND(CY94=\"Yes\",CY93=\"\",CY92=\"\",CY91=\"\"),\"Yes\",\"\")","v":""},"",{"$f":"IF(AND(DA94=\"Yes\",DA93=\"\",DA92=\"\",DA91=\"\"),\"Yes\",\"\")","v":""},"","","",{"$f":"IF(AND(DE94=\"Yes\",DE93=\"\",DE92=\"\",DE91=\"\"),\"Yes\",\"\")","v":""},"",{"$f":"IF(AND(DG94=\"Yes\",DG93=\"\",DG92=\"\",DG91=\"\"),\"Yes\",\"\")","v":""},{"$f":"IF(AND(N94>='Warrant 7 & 8 - MUTCD'!$L$16,OR('Traffic Volume Input'!O94>='Warrant 7 & 8 - MUTCD'!$N$16,'Traffic Volume Input'!P94>='Warrant 7 & 8 - MUTCD'!$N$16)),\"Yes\",\"\")","v":""},"","",{"$f":"IF(AND(DK94=\"Yes\",DK93=\"\",DK92=\"\",DK91=\"\"),\"Yes\",\"\")","v":""},"",{"$f":"IF(AND(DM94=\"Yes\",DM93=\"\",DM92=\"\",DM91=\"\"),\"Yes\",\"\")","v":""},"",{"$f":"IF(AND(DO94=\"Yes\",DO93=\"\",DO92=\"\",DO91=\"\"),\"Yes\",\"\")","v":""},"",{"$f":"IF(AND(DQ94=\"Yes\",DQ93=\"\",DQ92=\"\",DQ91=\"\"),\"Yes\",\"\")","v":""},"",{"$f":"IF(AND(DS94=\"Yes\",DS93=\"\",DS92=\"\",DS91=\"\"),\"Yes\",\"\")","v":""},"",{"$f":"IF(AND(DU94=\"Yes\",DU93=\"\",DU92=\"\",DU91=\"\"),\"Yes\",\"\")","v":""},"",{"$f":"IF(AND(DW94=\"Yes\",DW93=\"\",DW92=\"\",DW91=\"\"),\"Yes\",\"\")","v":""},"",{"$f":"IF(AND(DY94=\"Yes\",DY93=\"\",DY92=\"\",DY91=\"\"),\"Yes\",\"\")","v":""},"",{"$f":"IF(AND(EA94=\"Yes\",EA93=\"\",EA92=\"\",EA91=\"\"),\"Yes\",\"\")","v":""},"",{"$f":"IF(AND(EC94=\"Yes\",EC93=\"\",EC92=\"\",EC91=\"\"),\"Yes\",\"\")","v":""},"",{"$f":"IF(AND(EE94=\"Yes\",EE93=\"\",EE92=\"\",EE91=\"\"),\"Yes\",\"\")","v":""},"",{"$f":"IF(AND(EG94=\"Yes\",EG93=\"\",EG92=\"\",EG91=\"\"),\"Yes\",\"\")","v":""},"",{"$f":"IF(AND(EI94=\"Yes\",EI93=\"\",EI92=\"\",EI91=\"\"),\"Yes\",\"\")","v":""},"",{"$f":"IF(AND(EK94=\"Yes\",EK93=\"\",EK92=\"\",EK91=\"\"),\"Yes\",\"\")","v":""},"",{"$f":"IF(AND(EM94=\"Yes\",EM93=\"\",EM92=\"\",EM91=\"\"),\"Yes\",\"\")","v":""},"",{"$f":"IF(AND(EO94=\"Yes\",EO93=\"\",EO92=\"\",EO91=\"\"),\"Yes\",\"\")","v":""},"",{"$f":"IF(AND(EQ94=\"Yes\",EQ93=\"\",EQ92=\"\",EQ91=\"\"),\"Yes\",\"\")","v":""},"",{"$f":"IF(AND(ES94=\"Yes\",ES93=\"\",ES92=\"\",ES91=\"\"),\"Yes\",\"\")","v":""},"",{"$f":"IF(AND(EU94=\"Yes\",EU93=\"\",EU92=\"\",EU91=\"\"),\"Yes\",\"\")","v":""},"",{"$f":"IF(AND(EW94=\"Yes\",EW93=\"\",EW92=\"\",EW91=\"\"),\"Yes\",\"\")","v":""},"","","",{"$f":"IF(AND(FA94=\"Yes\",FA93=\"\",FA92=\"\",FA91=\"\"),\"Yes\",\"\")","v":""},"","",{"$f":"IF(AND(N94>='Warrant 7 & 8 - MUTCD'!$L$25,OR('Traffic Volume Input'!O94>='Warrant 7 & 8 - MUTCD'!$N$25,'Traffic Volume Input'!P94>='Warrant 7 & 8 - MUTCD'!$N$25)),\"Yes\",\"\")","v":""},"","",{"$f":"IF(AND(FG94=\"Yes\",FG93=\"\",FG92=\"\",FG91=\"\"),\"Yes\",\"\")","v":""},"",{"$f":"IF(AND(FI94=\"Yes\",FI93=\"\",FI92=\"\",FI91=\"\"),\"Yes\",\"\")","v":""},"",{"$f":"IF(AND(FK94=\"Yes\",FK93=\"\",FK92=\"\",FK91=\"\"),\"Yes\",\"\")","v":""},"",{"$f":"IF(AND(FM94=\"Yes\",FM93=\"\",FM92=\"\",FM91=\"\"),\"Yes\",\"\")","v":""},"",{"$f":"IF(AND(FO94=\"Yes\",FO93=\"\",FO92=\"\",FO91=\"\"),\"Yes\",\"\")","v":""},"",{"$f":"IF(AND(FQ94=\"Yes\",FQ93=\"\",FQ92=\"\",FQ91=\"\"),\"Yes\",\"\")","v":""},"",{"$f":"IF(AND(FS94=\"Yes\",FS93=\"\",FS92=\"\",FS91=\"\"),\"Yes\",\"\")","v":""},"",{"$f":"IF(AND(FU94=\"Yes\",FU93=\"\",FU92=\"\",FU91=\"\"),\"Yes\",\"\")","v":""},"",{"$f":"IF(AND(FW94=\"Yes\",FW93=\"\",FW92=\"\",FW91=\"\"),\"Yes\",\"\")","v":""},"",{"$f":"IF(AND(FY94=\"Yes\",FY93=\"\",FY92=\"\",FY91=\"\"),\"Yes\",\"\")","v":""},"",{"$f":"IF(AND(GA94=\"Yes\",GA93=\"\",GA92=\"\",GA91=\"\"),\"Yes\",\"\")","v":""},"",{"$f":"IF(AND(GC94=\"Yes\",GC93=\"\",GC92=\"\",GC91=\"\"),\"Yes\",\"\")","v":""},"",{"$f":"IF(AND(GE94=\"Yes\",GE93=\"\",GE92=\"\",GE91=\"\"),\"Yes\",\"\")","v":""},"",{"$f":"IF(AND(GG94=\"Yes\",GG93=\"\",GG92=\"\",GG91=\"\"),\"Yes\",\"\")","v":""},"",{"$f":"IF(AND(GI94=\"Yes\",GI93=\"\",GI92=\"\",GI91=\"\"),\"Yes\",\"\")","v":""},"",{"$f":"IF(AND(GK94=\"Yes\",GK93=\"\",GK92=\"\",GK91=\"\"),\"Yes\",\"\")","v":""},"",{"$f":"IF(AND(GM94=\"Yes\",GM93=\"\",GM92=\"\",GM91=\"\"),\"Yes\",\"\")","v":""},"",{"$f":"IF(AND(GO94=\"Yes\",GO93=\"\",GO92=\"\",GO91=\"\"),\"Yes\",\"\")","v":""},"",{"$f":"IF(AND(GQ94=\"Yes\",GQ93=\"\",GQ92=\"\",GQ91=\"\"),\"Yes\",\"\")","v":""},"",{"$f":"IF(AND(GS94=\"Yes\",GS93=\"\",GS92=\"\",GS91=\"\"),\"Yes\",\"\")","v":""},"","","",{"$f":"IF(AND(GW94=\"Yes\",GW93=\"\",GW92=\"\",GW91=\"\"),\"Yes\",\"\")","v":""},"",""]
["22:15:00","22:29:00",null,null,0,null,null,null,null,"22:15:00","23:14:00",0,0,0,0,0,{"$f":"IF(AND(N95>='Warrant 1 - MUTCD'!$M$23,OR('Traffic Volume Input'!O95>='Warrant 1 - MUTCD'!$Q$23,'Traffic Volume Input'!P95>='Warrant 1 - MUTCD'!$Q$23)),\"Yes\",\"\")","v":""},"","","","","","",{"$f":"IF(AND(W95=\"Yes\",W94=\"\",W93=\"\",W92=\"\"),\"Yes\",\"\")","v":""},"",{"$f":"IF(AND(Y95=\"Yes\",Y94=\"\",Y93=\"\",Y92=\"\"),\"Yes\",\"\")","v":""},"",{"$f":"IF(AND(AA95=\"Yes\",AA94=\"\",AA93=\"\",AA92=\"\"),\"Yes\",\"\")","v":""},"",{"$f":"IF(AND(AC95=\"Yes\",AC94=\"\",AC93=\"\",AC92=\"\"),\"Yes\",\"\")","v":""},"",{"$f":"IF(AND(AE95=\"Yes\",AE94=\"\",AE93=\"\",AE92=\"\"),\"Yes\",\"\")","v":""},"",{"$f":"IF(AND(AG95=\"Yes\",AG94=\"\",AG93=\"\",AG92=\"\"),\"Yes\",\"\")","v":""},"",{"$f":"IF(AND(AI95=\"Yes\",AI94=\"\",AI93=\"\",AI92=\"\"),\"Yes\",\"\")","v":""},"",{"$f":"IF(AND(AK95=\"Yes\",AK94=\"\",AK93=\"\",AK92=\"\"),\"Yes\",\"\")","v":""},"",{"$f":"IF(AND(AM95=\"Yes\",AM94=\"\",AM93=\"\",AM92=\"\"),\"Yes\",\"\")","v":""},"",{"$f":"IF(AND(AO95=\"Yes\",AO94=\"\",AO93=\"\",AO92=\"\"),\"Yes\",\"\")","v":""},"",{"$f":"IF(AND(AQ95=\"Yes\",AQ94=\"\",AQ93=\"\",AQ92=\"\"),\"Yes\",\"\")","v":""},"",{"$f":"IF(AND(AS95=\"Yes\",AS94=\"\",AS93=\"\",AS92=\"\"),\"Yes\",\"\")","v":""},"",{"$f":"IF(AND(AU95=\"Yes\",AU94=\"\",AU93=\"\",AU92=\"\"),\"Yes\",\"\")","v":""},"",{"$f":"IF(AND(AW95=\"Yes\",AW94=\"\",AW93=\"\",AW92=\"\"),\"Yes\",\"\")","v":""},"",{"$f":"IF(AND(AY95=\"Yes\",AY94=\"\",AY93=\"\",AY92=\"\"),\"Yes\",\"\")","v":""},"",{"$f":"IF(AND(BA95=\"Yes\",BA94=\"\",BA93=\"\",BA92=\"\"),\"Yes\",\"\")","v":""},"",{"$f":"IF(AND(BC95=\"Yes\",BC94=\"\",BC93=\"\",BC92=\"\"),\"Yes\",\"\")","v":""},"",{"$f":"IF(AND(BE95=\"Yes\",BE94=\"\",BE93=\"\",BE92=\"\"),\"Yes\",\"\")","v":""},"",{"$f":"IF(AND(BG95=\"Yes\",BG94=\"\",BG93=\"\",BG92=\"\"),\"Yes\",\"\")","v":""},"",{"$f":"IF(AND(BI95=\"Yes\",BI94=\"\",BI93=\"\",BI92=\"\"),\"Yes\",\"\")","v":""},"","",{"$f":"IF(AND(N95>='Warrant 1 - MUTCD'!$M$32,OR('Traffic Volume Input'!O95>='Warrant 1 - MUTCD'!$Q$32,'Traffic Volume Input'!P95>='Warrant 1 - MUTCD'!$Q$32)),\"Yes\",\"\")","v":""},"","",{"$f":"IF(AND(BO95=\"Yes\",BO94=\"\",BO93=\"\",BO92=\"\"),\"Yes\",\"\")","v":""},"",{"$f":"IF(AND(BQ95=\"Yes\",BQ94=\"\",BQ93=\"\",BQ92=\"\"),\"Yes\",\"\")","v":""},"",{"$f":"IF(AND(BS95=\"Yes\",BS94=\"\",BS93=\"\",BS92=\"\"),\"Yes\",\"\")","v":""},"",{"$f":"IF(AND(BU95=\"Yes\",BU94=\"\",BU93=\"\",BU92=\"\"),\"Yes\",\"\")","v":""},"",{"$f":"IF(AND(BW95=\"Yes\",BW94=\"\",BW93=\"\",BW92=\"\"),\"Yes\",\"\")","v":""},"",{"$f":"IF(AND(BY95=\"Yes\",BY94=\"\",BY93=\"\",BY92=\"\"),\"Yes\",\"\")","v":""},"",{"$f":"IF(AND(CA95=\"Yes\",CA94=\"\",CA93=\"\",CA92=\"\"),\"Yes\",\"\")","v":""},"",{"$f":"IF(AND(CC95=\"Yes\",CC94=\"\",CC93=\"\",CC92=\"\"),\"Yes\",\"\")","v":""},"",{"$f":"IF(AND(CE95=\"Yes\",CE94=\"\",CE93=\"\",CE92=\"\"),\"Yes\",\"\")","v":""},"",{"$f":"IF(AND(CG95=\"Yes\",CG94=\"\",CG93=\"\",CG92=\"\"),\"Yes\",\"\")","v":""},"",{"$f":"IF(AND(CI95=\"Yes\",CI94=\"\",CI93=\"\",CI92=\"\"),\"Yes\",\"\")","v":""},"",{"$f":"IF(AND(CK95=\"Yes\",CK94=\"\",CK93=\"\",CK92=\"\"),\"Yes\",\"\")","v":""},"",{"$f":"IF(AND(CM95=\"Yes\",CM94=\"\",CM93=\"\",CM92=\"\"),\"Yes\",\"\")","v":""},"",{"$f":"IF(AND(CO95=\"Yes\",CO94=\"\",CO93=\"\",CO92=\"\"),\"Yes\",\"\")","v":""},"",{"$f":"IF(AND(CQ95=\"Yes\",CQ94=\"\",CQ93=\"\",CQ92=\"\"),\"Yes\",\"\")","v":""},"",{"$f":"IF(AND(CS95=\"Yes\",CS94=\"\",CS93=\"\",CS92=\"\"),\"Yes\",\"\")","v":""},"",{"$f":"IF(AND(CU95=\"Yes\",CU94=\"\",CU93=\"\",CU92=\"\"),\"Yes\",\"\")","v":""},"",{"$f":"IF(AND(CW95=\"Yes\",CW94=\"\",CW93=\"\",CW92=\"\"),\"Yes\",\"\")","v":""},"",{"$f":"IF(AND(CY95=\"Yes\",CY94=\"\",CY93=\"\",CY92=\"\"),\"Yes\",\"\")","v":""},"",{"$f":"IF(AND(DA95=\"Yes\",DA94=\"\",DA93=\"\",DA92=\"\"),\"Yes\",\"\")","v":""},"","","",{"$f":"IF(AND(DE95=\"Yes\",DE94=\"\",DE93=\"\",DE92=\"\"),\"Yes\",\"\")","v":""},"",{"$f":"IF(AND(DG95=\"Yes\",DG94=\"\",DG93=\"\",DG92=\"\"),\"Yes\",\"\")","v":""},{"$f":"IF(AND(N95>='Warrant 7 & 8 - MUTCD'!$L$16,OR('Traffic Volume Input'!O95>='Warrant 7 & 8 - MUTCD'!$N$16,'Traffic Volume Input'!P95>='Warrant 7 & 8 - MUTCD'!$N$16)),\"Yes\",\"\")","v":""},"","",{"$f":"IF(AND(DK95=\"Yes\",DK94=\"\",DK93=\"\",DK92=\"\"),\"Yes\",\"\")","v":""},"",{"$f":"IF(AND(DM95=\"Yes\",DM94=\"\",DM93=\"\",DM92=\"\"),\"Yes\",\"\")","v":""},"",{"$f":"IF(AND(DO95=\"Yes\",DO94=\"\",DO93=\"\",DO92=\"\"),\"Yes\",\"\")","v":""},"",{"$f":"IF(AND(DQ95=\"Yes\",DQ94=\"\",DQ93=\"\",DQ92=\"\"),\"Yes\",\"\")","v":""},"",{"$f":"IF(AND(DS95=\"Yes\",DS94=\"\",DS93=\"\",DS92=\"\"),\"Yes\",\"\")","v":""},"",{"$f":"IF(AND(DU95=\"Yes\",DU94=\"\",DU93=\"\",DU92=\"\"),\"Yes\",\"\")","v":""},"",{"$f":"IF(AND(DW95=\"Yes\",DW94=\"\",DW93=\"\",DW92=\"\"),\"Yes\",\"\")","v":""},"",{"$f":"IF(AND(DY95=\"Yes\",DY94=\"\",DY93=\"\",DY92=\"\"),\"Yes\",\"\")","v":""},"",{"$f":"IF(AND(EA95=\"Yes\",EA94=\"\",EA93=\"\",EA92=\"\"),\"Yes\",\"\")","v":""},"",{"$f":"IF(AND(EC95=\"Yes\",EC94=\"\",EC93=\"\",EC92=\"\"),\"Yes\",\"\")","v":""},"",{"$f":"IF(AND(EE95=\"Yes\",EE94=\"\",EE93=\"\",EE92=\"\"),\"Yes\",\"\")","v":""},"",{"$f":"IF(AND(EG95=\"Yes\",EG94=\"\",EG93=\"\",EG92=\"\"),\"Yes\",\"\")","v":""},"",{"$f":"IF(AND(EI95=\"Yes\",EI94=\"\",EI93=\"\",EI92=\"\"),\"Yes\",\"\")","v":""},"",{"$f":"IF(AND(EK95=\"Yes\",EK94=\"\",EK93=\"\",EK92=\"\"),\"Yes\",\"\")","v":""},"",{"$f":"IF(AND(EM95=\"Yes\",EM94=\"\",EM93=\"\",EM92=\"\"),\"Yes\",\"\")","v":""},"",{"$f":"IF(AND(EO95=\"Yes\",EO94=\"\",EO93=\"\",EO92=\"\"),\"Yes\",\"\")","v":""},"",{"$f":"IF(AND(EQ95=\"Yes\",EQ94=\"\",EQ93=\"\",EQ92=\"\"),\"Yes\",\"\")","v":""},"",{"$f":"IF(AND(ES95=\"Yes\",ES94=\"\",ES93=\"\",ES92=\"\"),\"Yes\",\"\")","v":""},"",{"$f":"IF(AND(EU95=\"Yes\",EU94=\"\",EU93=\"\",EU92=\"\"),\"Yes\",\"\")","v":""},"",{"$f":"IF(AND(EW95=\"Yes\",EW94=\"\",EW93=\"\",EW92=\"\"),\"Yes\",\"\")","v":""},"","","",{"$f":"IF(AND(FA95=\"Yes\",FA94=\"\",FA93=\"\",FA92=\"\"),\"Yes\",\"\")","v":""},"","",{"$f":"IF(AND(N95>='Warrant 7 & 8 - MUTCD'!$L$25,OR('Traffic Volume Input'!O95>='Warrant 7 & 8 - MUTCD'!$N$25,'Traffic Volume Input'!P95>='Warrant 7 & 8 - MUTCD'!$N$25)),\"Yes\",\"\")","v":""},"","",{"$f":"IF(AND(FG95=\"Yes\",FG94=\"\",FG93=\"\",FG92=\"\"),\"Yes\",\"\")","v":""},"",{"$f":"IF(AND(FI95=\"Yes\",FI94=\"\",FI93=\"\",FI92=\"\"),\"Yes\",\"\")","v":""},"",{"$f":"IF(AND(FK95=\"Yes\",FK94=\"\",FK93=\"\",FK92=\"\"),\"Yes\",\"\")","v":""},"",{"$f":"IF(AND(FM95=\"Yes\",FM94=\"\",FM93=\"\",FM92=\"\"),\"Yes\",\"\")","v":""},"",{"$f":"IF(AND(FO95=\"Yes\",FO94=\"\",FO93=\"\",FO92=\"\"),\"Yes\",\"\")","v":""},"",{"$f":"IF(AND(FQ95=\"Yes\",FQ94=\"\",FQ93=\"\",FQ92=\"\"),\"Yes\",\"\")","v":""},"",{"$f":"IF(AND(FS95=\"Yes\",FS94=\"\",FS93=\"\",FS92=\"\"),\"Yes\",\"\")","v":""},"",{"$f":"IF(AND(FU95=\"Yes\",FU94=\"\",FU93=\"\",FU92=\"\"),\"Yes\",\"\")","v":""},"",{"$f":"IF(AND(FW95=\"Yes\",FW94=\"\",FW93=\"\",FW92=\"\"),\"Yes\",\"\")","v":""},"",{"$f":"IF(AND(FY95=\"Yes\",FY94=\"\",FY93=\"\",FY92=\"\"),\"Yes\",\"\")","v":""},"",{"$f":"IF(AND(GA95=\"Yes\",GA94=\"\",GA93=\"\",GA92=\"\"),\"Yes\",\"\")","v":""},"",{"$f":"IF(AND(GC95=\"Yes\",GC94=\"\",GC93=\"\",GC92=\"\"),\"Yes\",\"\")","v":""},"",{"$f":"IF(AND(GE95=\"Yes\",GE94=\"\",GE93=\"\",GE92=\"\"),\"Yes\",\"\")","v":""},"",{"$f":"IF(AND(GG95=\"Yes\",GG94=\"\",GG93=\"\",GG92=\"\"),\"Yes\",\"\")","v":""},"",{"$f":"IF(AND(GI95=\"Yes\",GI94=\"\",GI93=\"\",GI92=\"\"),\"Yes\",\"\")","v":""},"",{"$f":"IF(AND(GK95=\"Yes\",GK94=\"\",GK93=\"\",GK92=\"\"),\"Yes\",\"\")","v":""},"",{"$f":"IF(AND(GM95=\"Yes\",GM94=\"\",GM93=\"\",GM92=\"\"),\"Yes\",\"\")","v":""},"",{"$f":"IF(AND(GO95=\"Yes\",GO94=\"\",GO93=\"\",GO92=\"\"),\"Yes\",\"\")","v":""},"",{"$f":"IF(AND(GQ95=\"Yes\",GQ94=\"\",GQ93=\"\",GQ92=\"\"),\"Yes\",\"\")","v":""},"",{"$f":"IF(AND(GS95=\"Yes\",GS94=\"\",GS93=\"\",GS92=\"\"),\"Yes\",\"\")","v":""},"","","",{"$f":"IF(AND(GW95=\"Yes\",GW94=\"\",GW93=\"\",GW92=\"\"),\"Yes\",\"\")","v":""},"",""]
["22:30:00","22:44:00",null,null,0,null,null,null,null,"22:30:00","23:29:00",0,0,0,0,0,{"$f":"IF(AND(N96>='Warrant 1 - MUTCD'!$M$23,OR('Traffic Volume Input'!O96>='Warrant 1 - MUTCD'!$Q$23,'Traffic Volume Input'!P96>='Warrant 1 - MUTCD'!$Q$23)),\"Yes\",\"\")","v":""},"","","","","","",{"$f":"IF(AND(W96=\"Yes\",W95=\"\",W94=\"\",W93=\"\"),\"Yes\",\"\")","v":""},"",{"$f":"IF(AND(Y96=\"Yes\",Y95=\"\",Y94=\"\",Y93=\"\"),\"Yes\",\"\")","v":""},"",{"$f":"IF(AND(AA96=\"Yes\",AA95=\"\",AA94=\"\",AA93=\"\"),\"Yes\",\"\")","v":""},"",{"$f":"IF(AND(AC96=\"Yes\",AC95=\"\",AC94=\"\",AC93=\"\"),\"Yes\",\"\")","v":""},"",{"$f":"IF(AND(AE96=\"Yes\",AE95=\"\",AE94=\"\",AE93=\"\"),\"Yes\",\"\")","v":""},"",{"$f":"IF(AND(AG96=\"Yes\",AG95=\"\",AG94=\"\",AG93=\"\"),\"Yes\",\"\")","v":""},"",{"$f":"IF(AND(AI96=\"Yes\",AI95=\"\",AI94=\"\",AI93=\"\"),\"Yes\",\"\")","v":""},"",{"$f":"IF(AND(AK96=\"Yes\",AK95=\"\",AK94=\"\",AK93=\"\"),\"Yes\",\"\")","v":""},"",{"$f":"IF(AND(AM96=\"Yes\",AM95=\"\",AM94=\"\",AM93=\"\"),\"Yes\",\"\")","v":""},"",{"$f":"IF(AND(AO96=\"Yes\",AO95=\"\",AO94=\"\",AO93=\"\"),\"Yes\",\"\")","v":""},"",{"$f":"IF(AND(AQ96=\"Yes\",AQ95=\"\",AQ94=\"\",AQ93=\"\"),\"Yes\",\"\")","v":""},"",{"$f":"IF(AND(AS96=\"Yes\",AS95=\"\",AS94=\"\",AS93=\"\"),\"Yes\",\"\")","v":""},"",{"$f":"IF(AND(AU96=\"Yes\",AU95=\"\",AU94=\"\",AU93=\"\"),\"Yes\",\"\")","v":""},"",{"$f":"IF(AND(AW96=\"Yes\",AW95=\"\",AW94=\"\",AW93=\"\"),\"Yes\",\"\")","v":""},"",{"$f":"IF(AND(AY96=\"Yes\",AY95=\"\",AY94=\"\",AY93=\"\"),\"Yes\",\"\")","v":""},"",{"$f":"IF(AND(BA96=\"Yes\",BA95=\"\",BA94=\"\",BA93=\"\"),\"Yes\",\"\")","v":""},"",{"$f":"IF(AND(BC96=\"Yes\",BC95=\"\",BC94=\"\",BC93=\"\"),\"Yes\",\"\")","v":""},"",{"$f":"IF(AND(BE96=\"Yes\",BE95=\"\",BE94=\"\",BE93=\"\"),\"Yes\",\"\")","v":""},"",{"$f":"IF(AND(BG96=\"Yes\",BG95=\"\",BG94=\"\",BG93=\"\"),\"Yes\",\"\")","v":""},"",{"$f":"IF(AND(BI96=\"Yes\",BI95=\"\",BI94=\"\",BI93=\"\"),\"Yes\",\"\")","v":""},"","",{"$f":"IF(AND(N96>='Warrant 1 - MUTCD'!$M$32,OR('Traffic Volume Input'!O96>='Warrant 1 - MUTCD'!$Q$32,'Traffic Volume Input'!P96>='Warrant 1 - MUTCD'!$Q$32)),\"Yes\",\"\")","v":""},"","",{"$f":"IF(AND(BO96=\"Yes\",BO95=\"\",BO94=\"\",BO93=\"\"),\"Yes\",\"\")","v":""},"",{"$f":"IF(AND(BQ96=\"Yes\",BQ95=\"\",BQ94=\"\",BQ93=\"\"),\"Yes\",\"\")","v":""},"",{"$f":"IF(AND(BS96=\"Yes\",BS95=\"\",BS94=\"\",BS93=\"\"),\"Yes\",\"\")","v":""},"",{"$f":"IF(AND(BU96=\"Yes\",BU95=\"\",BU94=\"\",BU93=\"\"),\"Yes\",\"\")","v":""},"",{"$f":"IF(AND(BW96=\"Yes\",BW95=\"\",BW94=\"\",BW93=\"\"),\"Yes\",\"\")","v":""},"",{"$f":"IF(AND(BY96=\"Yes\",BY95=\"\",BY94=\"\",BY93=\"\"),\"Yes\",\"\")","v":""},"",{"$f":"IF(AND(CA96=\"Yes\",CA95=\"\",CA94=\"\",CA93=\"\"),\"Yes\",\"\")","v":""},"",{"$f":"IF(AND(CC96=\"Yes\",CC95=\"\",CC94=\"\",CC93=\"\"),\"Yes\",\"\")","v":""},"",{"$f":"IF(AND(CE96=\"Yes\",CE95=\"\",CE94=\"\",CE93=\"\"),\"Yes\",\"\")","v":""},"",{"$f":"IF(AND(CG96=\"Yes\",CG95=\"\",CG94=\"\",CG93=\"\"),\"Yes\",\"\")","v":""},"",{"$f":"IF(AND(CI96=\"Yes\",CI95=\"\",CI94=\"\",CI93=\"\"),\"Yes\",\"\")","v":""},"",{"$f":"IF(AND(CK96=\"Yes\",CK95=\"\",CK94=\"\",CK93=\"\"),\"Yes\",\"\")","v":""},"",{"$f":"IF(AND(CM96=\"Yes\",CM95=\"\",CM94=\"\",CM93=\"\"),\"Yes\",\"\")","v":""},"",{"$f":"IF(AND(CO96=\"Yes\",CO95=\"\",CO94=\"\",CO93=\"\"),\"Yes\",\"\")","v":""},"",{"$f":"IF(AND(CQ96=\"Yes\",CQ95=\"\",CQ94=\"\",CQ93=\"\"),\"Yes\",\"\")","v":""},"",{"$f":"IF(AND(CS96=\"Yes\",CS95=\"\",CS94=\"\",CS93=\"\"),\"Yes\",\"\")","v":""},"",{"$f":"IF(AND(CU96=\"Yes\",CU95=\"\",CU94=\"\",CU93=\"\"),\"Yes\",\"\")","v":""},"",{"$f":"IF(AND(CW96=\"Yes\",CW95=\"\",CW94=\"\",CW93=\"\"),\"Yes\",\"\")","v":""},"",{"$f":"IF(AND(CY96=\"Yes\",CY95=\"\",CY94=\"\",CY93=\"\"),\"Yes\",\"\")","v":""},"",{"$f":"IF(AND(DA96=\"Yes\",DA95=\"\",DA94=\"\",DA93=\"\"),\"Yes\",\"\")","v":""},"","","",{"$f":"IF(AND(DE96=\"Yes\",DE95=\"\",DE94=\"\",DE93=\"\"),\"Yes\",\"\")","v":""},"",{"$f":"IF(AND(DG96=\"Yes\",DG95=\"\",DG94=\"\",DG93=\"\"),\"Yes\",\"\")","v":""},{"$f":"IF(AND(N96>='Warrant 7 & 8 - MUTCD'!$L$16,OR('Traffic Volume Input'!O96>='Warrant 7 & 8 - MUTCD'!$N$16,'Traffic Volume Input'!P96>='Warrant 7 & 8 - MUTCD'!$N$16)),\"Yes\",\"\")","v":""},"","",{"$f":"IF(AND(DK96=\"Yes\",DK95=\"\",DK94=\"\",DK93=\"\"),\"Yes\",\"\")","v":""},"",{"$f":"IF(AND(DM96=\"Yes\",DM95=\"\",DM94=\"\",DM93=\"\"),\"Yes\",\"\")","v":""},"",{"$f":"IF(AND(DO96=\"Yes\",DO95=\"\",DO94=\"\",DO93=\"\"),\"Yes\",\"\")","v":""},"",{"$f":"IF(AND(DQ96=\"Yes\",DQ95=\"\",DQ94=\"\",DQ93=\"\"),\"Yes\",\"\")","v":""},"",{"$f":"IF(AND(DS96=\"Yes\",DS95=\"\",DS94=\"\",DS93=\"\"),\"Yes\",\"\")","v":""},"",{"$f":"IF(AND(DU96=\"Yes\",DU95=\"\",DU94=\"\",DU93=\"\"),\"Yes\",\"\")","v":""},"",{"$f":"IF(AND(DW96=\"Yes\",DW95=\"\",DW94=\"\",DW93=\"\"),\"Yes\",\"\")","v":""},"",{"$f":"IF(AND(DY96=\"Yes\",DY95=\"\",DY94=\"\",DY93=\"\"),\"Yes\",\"\")","v":""},"",{"$f":"IF(AND(EA96=\"Yes\",EA95=\"\",EA94=\"\",EA93=\"\"),\"Yes\",\"\")","v":""},"",{"$f":"IF(AND(EC96=\"Yes\",EC95=\"\",EC94=\"\",EC93=\"\"),\"Yes\",\"\")","v":""},"",{"$f":"IF(AND(EE96=\"Yes\",EE95=\"\",EE94=\"\",EE93=\"\"),\"Yes\",\"\")","v":""},"",{"$f":"IF(AND(EG96=\"Yes\",EG95=\"\",EG94=\"\",EG93=\"\"),\"Yes\",\"\")","v":""},"",{"$f":"IF(AND(EI96=\"Yes\",EI95=\"\",EI94=\"\",EI93=\"\"),\"Yes\",\"\")","v":""},"",{"$f":"IF(AND(EK96=\"Yes\",EK95=\"\",EK94=\"\",EK93=\"\"),\"Yes\",\"\")","v":""},"",{"$f":"IF(AND(EM96=\"Yes\",EM95=\"\",EM94=\"\",EM93=\"\"),\"Yes\",\"\")","v":""},"",{"$f":"IF(AND(EO96=\"Yes\",EO95=\"\",EO94=\"\",EO93=\"\"),\"Yes\",\"\")","v":""},"",{"$f":"IF(AND(EQ96=\"Yes\",EQ95=\"\",EQ94=\"\",EQ93=\"\"),\"Yes\",\"\")","v":""},"",{"$f":"IF(AND(ES96=\"Yes\",ES95=\"\",ES94=\"\",ES93=\"\"),\"Yes\",\"\")","v":""},"",{"$f":"IF(AND(EU96=\"Yes\",EU95=\"\",EU94=\"\",EU93=\"\"),\"Yes\",\"\")","v":""},"",{"$f":"IF(AND(EW96=\"Yes\",EW95=\"\",EW94=\"\",EW93=\"\"),\"Yes\",\"\")","v":""},"","","",{"$f":"IF(AND(FA96=\"Yes\",FA95=\"\",FA94=\"\",FA93=\"\"),\"Yes\",\"\")","v":""},"","",{"$f":"IF(AND(N96>='Warrant 7 & 8 - MUTCD'!$L$25,OR('Traffic Volume Input'!O96>='Warrant 7 & 8 - MUTCD'!$N$25,'Traffic Volume Input'!P96>='Warrant 7 & 8 - MUTCD'!$N$25)),\"Yes\",\"\")","v":""},"","",{"$f":"IF(AND(FG96=\"Yes\",FG95=\"\",FG94=\"\",FG93=\"\"),\"Yes\",\"\")","v":""},"",{"$f":"IF(AND(FI96=\"Yes\",FI95=\"\",FI94=\"\",FI93=\"\"),\"Yes\",\"\")","v":""},"",{"$f":"IF(AND(FK96=\"Yes\",FK95=\"\",FK94=\"\",FK93=\"\"),\"Yes\",\"\")","v":""},"",{"$f":"IF(AND(FM96=\"Yes\",FM95=\"\",FM94=\"\",FM93=\"\"),\"Yes\",\"\")","v":""},"",{"$f":"IF(AND(FO96=\"Yes\",FO95=\"\",FO94=\"\",FO93=\"\"),\"Yes\",\"\")","v":""},"",{"$f":"IF(AND(FQ96=\"Yes\",FQ95=\"\",FQ94=\"\",FQ93=\"\"),\"Yes\",\"\")","v":""},"",{"$f":"IF(AND(FS96=\"Yes\",FS95=\"\",FS94=\"\",FS93=\"\"),\"Yes\",\"\")","v":""},"",{"$f":"IF(AND(FU96=\"Yes\",FU95=\"\",FU94=\"\",FU93=\"\"),\"Yes\",\"\")","v":""},"",{"$f":"IF(AND(FW96=\"Yes\",FW95=\"\",FW94=\"\",FW93=\"\"),\"Yes\",\"\")","v":""},"",{"$f":"IF(AND(FY96=\"Yes\",FY95=\"\",FY94=\"\",FY93=\"\"),\"Yes\",\"\")","v":""},"",{"$f":"IF(AND(GA96=\"Yes\",GA95=\"\",GA94=\"\",GA93=\"\"),\"Yes\",\"\")","v":""},"",{"$f":"IF(AND(GC96=\"Yes\",GC95=\"\",GC94=\"\",GC93=\"\"),\"Yes\",\"\")","v":""},"",{"$f":"IF(AND(GE96=\"Yes\",GE95=\"\",GE94=\"\",GE93=\"\"),\"Yes\",\"\")","v":""},"",{"$f":"IF(AND(GG96=\"Yes\",GG95=\"\",GG94=\"\",GG93=\"\"),\"Yes\",\"\")","v":""},"",{"$f":"IF(AND(GI96=\"Yes\",GI95=\"\",GI94=\"\",GI93=\"\"),\"Yes\",\"\")","v":""},"",{"$f":"IF(AND(GK96=\"Yes\",GK95=\"\",GK94=\"\",GK93=\"\"),\"Yes\",\"\")","v":""},"",{"$f":"IF(AND(GM96=\"Yes\",GM95=\"\",GM94=\"\",GM93=\"\"),\"Yes\",\"\")","v":""},"",{"$f":"IF(AND(GO96=\"Yes\",GO95=\"\",GO94=\"\",GO93=\"\"),\"Yes\",\"\")","v":""},"",{"$f":"IF(AND(GQ96=\"Yes\",GQ95=\"\",GQ94=\"\",GQ93=\"\"),\"Yes\",\"\")","v":""},"",{"$f":"IF(AND(GS96=\"Yes\",GS95=\"\",GS94=\"\",GS93=\"\"),\"Yes\",\"\")","v":""},"","","",{"$f":"IF(AND(GW96=\"Yes\",GW95=\"\",GW94=\"\",GW93=\"\"),\"Yes\",\"\")","v":""},"",""]
["22:45:00","22:59:00",null,null,0,null,null,null,null,"22:45:00","23:44:00",{"$f":"SUM(C97:C100)","v":0},{"$f":"SUM(D97:D100)","v":0},{"$f":"L97+M97","v":0},0,0,{"$f":"IF(AND(N97>='Warrant 1 - MUTCD'!$M$23,OR('Traffic Volume Input'!O97>='Warrant 1 - MUTCD'!$Q$23,'Traffic Volume Input'!P97>='Warrant 1 - MUTCD'!$Q$23)),\"Yes\",\"\")","v":""},{"$f":"IF(AND(Q97=\"Yes\",Q96=\"\",Q95=\"\",Q94=\"\"),\"Yes\",\"\")","v":""},"","","","","",{"$f":"IF(AND(W97=\"Yes\",W96=\"\",W95=\"\",W94=\"\"),\"Yes\",\"\")","v":""},"",{"$f":"IF(AND(Y97=\"Yes\",Y96=\"\",Y95=\"\",Y94=\"\"),\"Yes\",\"\")","v":""},"",{"$f":"IF(AND(AA97=\"Yes\",AA96=\"\",AA95=\"\",AA94=\"\"),\"Yes\",\"\")","v":""},"",{"$f":"IF(AND(AC97=\"Yes\",AC96=\"\",AC95=\"\",AC94=\"\"),\"Yes\",\"\")","v":""},"",{"$f":"IF(AND(AE97=\"Yes\",AE96=\"\",AE95=\"\",AE94=\"\"),\"Yes\",\"\")","v":""},"",{"$f":"IF(AND(AG97=\"Yes\",AG96=\"\",AG95=\"\",AG94=\"\"),\"Yes\",\"\")","v":""},"",{"$f":"IF(AND(AI97=\"Yes\",AI96=\"\",AI95=\"\",AI94=\"\"),\"Yes\",\"\")","v":""},"",{"$f":"IF(AND(AK97=\"Yes\",AK96=\"\",AK95=\"\",AK94=\"\"),\"Yes\",\"\")","v":""},"",{"$f":"IF(AND(AM97=\"Yes\",AM96=\"\",AM95=\"\",AM94=\"\"),\"Yes\",\"\")","v":""},"",{"$f":"IF(AND(AO97=\"Yes\",AO96=\"\",AO95=\"\",AO94=\"\"),\"Yes\",\"\")","v":""},"",{"$f":"IF(AND(AQ97=\"Yes\",AQ96=\"\",AQ95=\"\",AQ94=\"\"),\"Yes\",\"\")","v":""},"",{"$f":"IF(AND(AS97=\"Yes\",AS96=\"\",AS95=\"\",AS94=\"\"),\"Yes\",\"\")","v":""},"",{"$f":"IF(AND(AU97=\"Yes\",AU96=\"\",AU95=\"\",AU94=\"\"),\"Yes\",\"\")","v":""},"",{"$f":"IF(AND(AW97=\"Yes\",AW96=\"\",AW95=\"\",AW94=\"\"),\"Yes\",\"\")","v":""},"",{"$f":"IF(AND(AY97=\"Yes\",AY96=\"\",AY95=\"\",AY94=\"\"),\"Yes\",\"\")","v":""},"",{"$f":"IF(AND(BA97=\"Yes\",BA96=\"\",BA95=\"\",BA94=\"\"),\"Yes\",\"\")","v":""},"",{"$f":"IF(AND(BC97=\"Yes\",BC96=\"\",BC95=\"\",BC94=\"\"),\"Yes\",\"\")","v":""},"",{"$f":"IF(AND(BE97=\"Yes\",BE96=\"\",BE95=\"\",BE94=\"\"),\"Yes\",\"\")","v":""},"",{"$f":"IF(AND(BG97=\"Yes\",BG96=\"\",BG95=\"\",BG94=\"\"),\"Yes\",\"\")","v":""},"",{"$f":"IF(AND(BI97=\"Yes\",BI96=\"\",BI95=\"\",BI94=\"\"),\"Yes\",\"\")","v":""},"","",{"$f":"IF(AND(N97>='Warrant 1 - MUTCD'!$M$32,OR('Traffic Volume Input'!O97>='Warrant 1 - MUTCD'!$Q$32,'Traffic Volume Input'!P97>='Warrant 1 - MUTCD'!$Q$32)),\"Yes\",\"\")","v":""},{"$f":"IF(AND(BM97=\"Yes\",BM96=\"\",BM95=\"\",BM94=\"\"),\"Yes\",\"\")","v":""},"",{"$f":"IF(AND(BO97=\"Yes\",BO96=\"\",BO95=\"\",BO94=\"\"),\"Yes\",\"\")","v":""},"",{"$f":"IF(AND(BQ97=\"Yes\",BQ96=\"\",BQ95=\"\",BQ94=\"\"),\"Yes\",\"\")","v":""},"",{"$f":"IF(AND(BS97=\"Yes\",BS96=\"\",BS95=\"\",BS94=\"\"),\"Yes\",\"\")","v":""},"",{"$f":"IF(AND(BU97=\"Yes\",BU96=\"\",BU95=\"\",BU94=\"\"),\"Yes\",\"\")","v":""},"",{"$f":"IF(AND(BW97=\"Yes\",BW96=\"\",BW95=\"\",BW94=\"\"),\"Yes\",\"\")","v":""},"",{"$f":"IF(AND(BY97=\"Yes\",BY96=\"\",BY95=\"\",BY94=\"\"),\"Yes\",\"\")","v":""},"",{"$f":"IF(AND(CA97=\"Yes\",CA96=\"\",CA95=\"\",CA94=\"\"),\"Yes\",\"\")","v":""},"",{"$f":"IF(AND(CC97=\"Yes\",CC96=\"\",CC95=\"\",CC94=\"\"),\"Yes\",\"\")","v":""},"",{"$f":"IF(AND(CE97=\"Yes\",CE96=\"\",CE95=\"\",CE94=\"\"),\"Yes\",\"\")","v":""},"",{"$f":"IF(AND(CG97=\"Yes\",CG96=\"\",CG95=\"\",CG94=\"\"),\"Yes\",\"\")","v":""},"",{"$f":"IF(AND(CI97=\"Yes\",CI96=\"\",CI95=\"\",CI94=\"\"),\"Yes\",\"\")","v":""},"",{"$f":"IF(AND(CK97=\"Yes\",CK96=\"\",CK95=\"\",CK94=\"\"),\"Yes\",\"\")","v":""},"",{"$f":"IF(AND(CM97=\"Yes\",CM96=\"\",CM95=\"\",CM94=\"\"),\"Yes\",\"\")","v":""},"",{"$f":"IF(AND(CO97=\"Yes\",CO96=\"\",CO95=\"\",CO94=\"\"),\"Yes\",\"\")","v":""},"",{"$f":"IF(AND(CQ97=\"Yes\",CQ96=\"\",CQ95=\"\",CQ94=\"\"),\"Yes\",\"\")","v":""},"",{"$f":"IF(AND(CS97=\"Yes\",CS96=\"\",CS95=\"\",CS94=\"\"),\"Yes\",\"\")","v":""},"",{"$f":"IF(AND(CU97=\"Yes\",CU96=\"\",CU95=\"\",CU94=\"\"),\"Yes\",\"\")","v":""},"",{"$f":"IF(AND(CW97=\"Yes\",CW96=\"\",CW95=\"\",CW94=\"\"),\"Yes\",\"\")","v":""},"",{"$f":"IF(AND(CY97=\"Yes\",CY96=\"\",CY95=\"\",CY94=\"\"),\"Yes\",\"\")","v":""},"",{"$f":"IF(AND(DA97=\"Yes\",DA96=\"\",DA95=\"\",DA94=\"\"),\"Yes\",\"\")","v":""},"","","",{"$f":"IF(AND(DE97=\"Yes\",DE96=\"\",DE95=\"\",DE94=\"\"),\"Yes\",\"\")","v":""},"",{"$f":"IF(AND(DG97=\"Yes\",DG96=\"\",DG95=\"\",DG94=\"\"),\"Yes\",\"\")","v":""},{"$f":"IF(AND(N97>='Warrant 7 & 8 - MUTCD'!$L$16,OR('Traffic Volume Input'!O97>='Warrant 7 & 8 - MUTCD'!$N$16,'Traffic Volume Input'!P97>='Warrant 7 & 8 - MUTCD'!$N$16)),\"Yes\",\"\")","v":""},{"$f":"IF(AND(DI97=\"Yes\",DI96=\"\",DI95=\"\",DI94=\"\"),\"Yes\",\"\")","v":""},"",{"$f":"IF(AND(DK97=\"Yes\",DK96=\"\",DK95=\"\",DK94=\"\"),\"Yes\",\"\")","v":""},"",{"$f":"IF(AND(DM97=\"Yes\",DM96=\"\",DM95=\"\",DM94=\"\"),\"Yes\",\"\")","v":""},"",{"$f":"IF(AND(DO97=\"Yes\",DO96=\"\",DO95=\"\",DO94=\"\"),\"Yes\",\"\")","v":""},"",{"$f":"IF(AND(DQ97=\"Yes\",DQ96=\"\",DQ95=\"\",DQ94=\"\"),\"Yes\",\"\")","v":""},"",{"$f":"IF(AND(DS97=\"Yes\",DS96=\"\",DS95=\"\",DS94=\"\"),\"Yes\",\"\")","v":""},"",{"$f":"IF(AND(DU97=\"Yes\",DU96=\"\",DU95=\"\",DU94=\"\"),\"Yes\",\"\")","v":""},"",{"$f":"IF(AND(DW97=\"Yes\",DW96=\"\",DW95=\"\",DW94=\"\"),\"Yes\",\"\")","v":""},"",{"$f":"IF(AND(DY97=\"Yes\",DY96=\"\",DY95=\"\",DY94=\"\"),\"Yes\",\"\")","v":""},"",{"$f":"IF(AND(EA97=\"Yes\",EA96=\"\",EA95=\"\",EA94=\"\"),\"Yes\",\"\")","v":""},"",{"$f":"IF(AND(EC97=\"Yes\",EC96=\"\",EC95=\"\",EC94=\"\"),\"Yes\",\"\")","v":""},"",{"$f":"IF(AND(EE97=\"Yes\",EE96=\"\",EE95=\"\",EE94=\"\"),\"Yes\",\"\")","v":""},"",{"$f":"IF(AND(EG97=\"Yes\",EG96=\"\",EG95=\"\",EG94=\"\"),\"Yes\",\"\")","v":""},"",{"$f":"IF(AND(EI97=\"Yes\",EI96=\"\",EI95=\"\",EI94=\"\"),\"Yes\",\"\")","v":""},"",{"$f":"IF(AND(EK97=\"Yes\",EK96=\"\",EK95=\"\",EK94=\"\"),\"Yes\",\"\")","v":""},"",{"$f":"IF(AND(EM97=\"Yes\",EM96=\"\",EM95=\"\",EM94=\"\"),\"Yes\",\"\")","v":""},"",{"$f":"IF(AND(EO97=\"Yes\",EO96=\"\",EO95=\"\",EO94=\"\"),\"Yes\",\"\")","v":""},"",{"$f":"IF(AND(EQ97=\"Yes\",EQ96=\"\",EQ95=\"\",EQ94=\"\"),\"Yes\",\"\")","v":""},"",{"$f":"IF(AND(ES97=\"Yes\",ES96=\"\",ES95=\"\",ES94=\"\"),\"Yes\",\"\")","v":""},"",{"$f":"IF(AND(EU97=\"Yes\",EU96=\"\",EU95=\"\",EU94=\"\"),\"Yes\",\"\")","v":""},"",{"$f":"IF(AND(EW97=\"Yes\",EW96=\"\",EW95=\"\",EW94=\"\"),\"Yes\",\"\")","v":""},"","","",{"$f":"IF(AND(FA97=\"Yes\",FA96=\"\",FA95=\"\",FA94=\"\"),\"Yes\",\"\")","v":""},"","",{"$f":"IF(AND(N97>='Warrant 7 & 8 - MUTCD'!$L$25,OR('Traffic Volume Input'!O97>='Warrant 7 & 8 - MUTCD'!$N$25,'Traffic Volume Input'!P97>='Warrant 7 & 8 - MUTCD'!$N$25)),\"Yes\",\"\")","v":""},{"$f":"IF(AND(FE97=\"Yes\",FE96=\"\",FE95=\"\",FE94=\"\"),\"Yes\",\"\")","v":""},"",{"$f":"IF(AND(FG97=\"Yes\",FG96=\"\",FG95=\"\",FG94=\"\"),\"Yes\",\"\")","v":""},"",{"$f":"IF(AND(FI97=\"Yes\",FI96=\"\",FI95=\"\",FI94=\"\"),\"Yes\",\"\")","v":""},"",{"$f":"IF(AND(FK97=\"Yes\",FK96=\"\",FK95=\"\",FK94=\"\"),\"Yes\",\"\")","v":""},"",{"$f":"IF(AND(FM97=\"Yes\",FM96=\"\",FM95=\"\",FM94=\"\"),\"Yes\",\"\")","v":""},"",{"$f":"IF(AND(FO97=\"Yes\",FO96=\"\",FO95=\"\",FO94=\"\"),\"Yes\",\"\")","v":""},"",{"$f":"IF(AND(FQ97=\"Yes\",FQ96=\"\",FQ95=\"\",FQ94=\"\"),\"Yes\",\"\")","v":""},"",{"$f":"IF(AND(FS97=\"Yes\",FS96=\"\",FS95=\"\",FS94=\"\"),\"Yes\",\"\")","v":""},"",{"$f":"IF(AND(FU97=\"Yes\",FU96=\"\",FU95=\"\",FU94=\"\"),\"Yes\",\"\")","v":""},"",{"$f":"IF(AND(FW97=\"Yes\",FW96=\"\",FW95=\"\",FW94=\"\"),\"Yes\",\"\")","v":""},"",{"$f":"IF(AND(FY97=\"Yes\",FY96=\"\",FY95=\"\",FY94=\"\"),\"Yes\",\"\")","v":""},"",{"$f":"IF(AND(GA97=\"Yes\",GA96=\"\",GA95=\"\",GA94=\"\"),\"Yes\",\"\")","v":""},"",{"$f":"IF(AND(GC97=\"Yes\",GC96=\"\",GC95=\"\",GC94=\"\"),\"Yes\",\"\")","v":""},"",{"$f":"IF(AND(GE97=\"Yes\",GE96=\"\",GE95=\"\",GE94=\"\"),\"Yes\",\"\")","v":""},"",{"$f":"IF(AND(GG97=\"Yes\",GG96=\"\",GG95=\"\",GG94=\"\"),\"Yes\",\"\")","v":""},"",{"$f":"IF(AND(GI97=\"Yes\",GI96=\"\",GI95=\"\",GI94=\"\"),\"Yes\",\"\")","v":""},"",{"$f":"IF(AND(GK97=\"Yes\",GK96=\"\",GK95=\"\",GK94=\"\"),\"Yes\",\"\")","v":""},"",{"$f":"IF(AND(GM97=\"Yes\",GM96=\"\",GM95=\"\",GM94=\"\"),\"Yes\",\"\")","v":""},"",{"$f":"IF(AND(GO97=\"Yes\",GO96=\"\",GO95=\"\",GO94=\"\"),\"Yes\",\"\")","v":""},"",{"$f":"IF(AND(GQ97=\"Yes\",GQ96=\"\",GQ95=\"\",GQ94=\"\"),\"Yes\",\"\")","v":""},"",{"$f":"IF(AND(GS97=\"Yes\",GS96=\"\",GS95=\"\",GS94=\"\"),\"Yes\",\"\")","v":""},"","","",{"$f":"IF(AND(GW97=\"Yes\",GW96=\"\",GW95=\"\",GW94=\"\"),\"Yes\",\"\")","v":""},"",""]
["23:00:00","23:14:00",null,null,0,null,null,null,null,"23:00:00","23:59:00",{"$f":"SUM(C98:C101)","v":0},{"$f":"SUM(D98:D101)","v":0},0,0,{"$f":"SUM(G98:G101)","v":0},{"$f":"IF(AND(N98>='Warrant 1 - MUTCD'!$M$23,OR('Traffic Volume Input'!O98>='Warrant 1 - MUTCD'!$Q$23,'Traffic Volume Input'!P98>='Warrant 1 - MUTCD'!$Q$23)),\"Yes\",\"\")","v":""},{"$f":"IF(AND(Q98=\"Yes\",Q97=\"\",Q96=\"\",Q95=\"\"),\"Yes\",\"\")","v":""},"","","","","",{"$f":"IF(AND(W98=\"Yes\",W97=\"\",W96=\"\",W95=\"\"),\"Yes\",\"\")","v":""},"",{"$f":"IF(AND(Y98=\"Yes\",Y97=\"\",Y96=\"\",Y95=\"\"),\"Yes\",\"\")","v":""},"",{"$f":"IF(AND(AA98=\"Yes\",AA97=\"\",AA96=\"\",AA95=\"\"),\"Yes\",\"\")","v":""},"",{"$f":"IF(AND(AC98=\"Yes\",AC97=\"\",AC96=\"\",AC95=\"\"),\"Yes\",\"\")","v":""},"",{"$f":"IF(AND(AE98=\"Yes\",AE97=\"\",AE96=\"\",AE95=\"\"),\"Yes\",\"\")","v":""},"",{"$f":"IF(AND(AG98=\"Yes\",AG97=\"\",AG96=\"\",AG95=\"\"),\"Yes\",\"\")","v":""},"",{"$f":"IF(AND(AI98=\"Yes\",AI97=\"\",AI96=\"\",AI95=\"\"),\"Yes\",\"\")","v":""},"",{"$f":"IF(AND(AK98=\"Yes\",AK97=\"\",AK96=\"\",AK95=\"\"),\"Yes\",\"\")","v":""},"",{"$f":"IF(AND(AM98=\"Yes\",AM97=\"\",AM96=\"\",AM95=\"\"),\"Yes\",\"\")","v":""},"",{"$f":"IF(AND(AO98=\"Yes\",AO97=\"\",AO96=\"\",AO95=\"\"),\"Yes\",\"\")","v":""},"",{"$f":"IF(AND(AQ98=\"Yes\",AQ97=\"\",AQ96=\"\",AQ95=\"\"),\"Yes\",\"\")","v":""},"",{"$f":"IF(AND(AS98=\"Yes\",AS97=\"\",AS96=\"\",AS95=\"\"),\"Yes\",\"\")","v":""},"",{"$f":"IF(AND(AU98=\"Yes\",AU97=\"\",AU96=\"\",AU95=\"\"),\"Yes\",\"\")","v":""},"",{"$f":"IF(AND(AW98=\"Yes\",AW97=\"\",AW96=\"\",AW95=\"\"),\"Yes\",\"\")","v":""},"",{"$f":"IF(AND(AY98=\"Yes\",AY97=\"\",AY96=\"\",AY95=\"\"),\"Yes\",\"\")","v":""},"",{"$f":"IF(AND(BA98=\"Yes\",BA97=\"\",BA96=\"\",BA95=\"\"),\"Yes\",\"\")","v":""},"",{"$f":"IF(AND(BC98=\"Yes\",BC97=\"\",BC96=\"\",BC95=\"\"),\"Yes\",\"\")","v":""},"",{"$f":"IF(AND(BE98=\"Yes\",BE97=\"\",BE96=\"\",BE95=\"\"),\"Yes\",\"\")","v":""},"",{"$f":"IF(AND(BG98=\"Yes\",BG97=\"\",BG96=\"\",BG95=\"\"),\"Yes\",\"\")","v":""},"",{"$f":"IF(AND(BI98=\"Yes\",BI97=\"\",BI96=\"\",BI95=\"\"),\"Yes\",\"\")","v":""},"","",{"$f":"IF(AND(N98>='Warrant 1 - MUTCD'!$M$32,OR('Traffic Volume Input'!O98>='Warrant 1 - MUTCD'!$Q$32,'Traffic Volume Input'!P98>='Warrant 1 - MUTCD'!$Q$32)),\"Yes\",\"\")","v":""},{"$f":"IF(AND(BM98=\"Yes\",BM97=\"\",BM96=\"\",BM95=\"\"),\"Yes\",\"\")","v":""},"",{"$f":"IF(AND(BO98=\"Yes\",BO97=\"\",BO96=\"\",BO95=\"\"),\"Yes\",\"\")","v":""},"",{"$f":"IF(AND(BQ98=\"Yes\",BQ97=\"\",BQ96=\"\",BQ95=\"\"),\"Yes\",\"\")","v":""},"",{"$f":"IF(AND(BS98=\"Yes\",BS97=\"\",BS96=\"\",BS95=\"\"),\"Yes\",\"\")","v":""},"",{"$f":"IF(AND(BU98=\"Yes\",BU97=\"\",BU96=\"\",BU95=\"\"),\"Yes\",\"\")","v":""},"",{"$f":"IF(AND(BW98=\"Yes\",BW97=\"\",BW96=\"\",BW95=\"\"),\"Yes\",\"\")","v":""},"",{"$f":"IF(AND(BY98=\"Yes\",BY97=\"\",BY96=\"\",BY95=\"\"),\"Yes\",\"\")","v":""},"",{"$f":"IF(AND(CA98=\"Yes\",CA97=\"\",CA96=\"\",CA95=\"\"),\"Yes\",\"\")","v":""},"",{"$f":"IF(AND(CC98=\"Yes\",CC97=\"\",CC96=\"\",CC95=\"\"),\"Yes\",\"\")","v":""},"",{"$f":"IF(AND(CE98=\"Yes\",CE97=\"\",CE96=\"\",CE95=\"\"),\"Yes\",\"\")","v":""},"",{"$f":"IF(AND(CG98=\"Yes\",CG97=\"\",CG96=\"\",CG95=\"\"),\"Yes\",\"\")","v":""},"",{"$f":"IF(AND(CI98=\"Yes\",CI97=\"\",CI96=\"\",CI95=\"\"),\"Yes\",\"\")","v":""},"",{"$f":"IF(AND(CK98=\"Yes\",CK97=\"\",CK96=\"\",CK95=\"\"),\"Yes\",\"\")","v":""},"",{"$f":"IF(AND(CM98=\"Yes\",CM97=\"\",CM96=\"\",CM95=\"\"),\"Yes\",\"\")","v":""},"",{"$f":"IF(AND(CO98=\"Yes\",CO97=\"\",CO96=\"\",CO95=\"\"),\"Yes\",\"\")","v":""},"",{"$f":"IF(AND(CQ98=\"Yes\",CQ97=\"\",CQ96=\"\",CQ95=\"\"),\"Yes\",\"\")","v":""},"",{"$f":"IF(AND(CS98=\"Yes\",CS97=\"\",CS96=\"\",CS95=\"\"),\"Yes\",\"\")","v":""},"",{"$f":"IF(AND(CU98=\"Yes\",CU97=\"\",CU96=\"\",CU95=\"\"),\"Yes\",\"\")","v":""},"",{"$f":"IF(AND(CW98=\"Yes\",CW97=\"\",CW96=\"\",CW95=\"\"),\"Yes\",\"\")","v":""},"",{"$f":"IF(AND(CY98=\"Yes\",CY97=\"\",CY96=\"\",CY95=\"\"),\"Yes\",\"\")","v":""},"",{"$f":"IF(AND(DA98=\"Yes\",DA97=\"\",DA96=\"\",DA95=\"\"),\"Yes\",\"\")","v":""},"","","",{"$f":"IF(AND(DE98=\"Yes\",DE97=\"\",DE96=\"\",DE95=\"\"),\"Yes\",\"\")","v":""},"",{"$f":"IF(AND(DG98=\"Yes\",DG97=\"\",DG96=\"\",DG95=\"\"),\"Yes\",\"\")","v":""},{"$f":"IF(AND(N98>='Warrant 7 & 8 - MUTCD'!$L$16,OR('Traffic Volume Input'!O98>='Warrant 7 & 8 - MUTCD'!$N$16,'Traffic Volume Input'!P98>='Warrant 7 & 8 - MUTCD'!$N$16)),\"Yes\",\"\")","v":""},{"$f":"IF(AND(DI98=\"Yes\",DI97=\"\",DI96=\"\",DI95=\"\"),\"Yes\",\"\")","v":""},"",{"$f":"IF(AND(DK98=\"Yes\",DK97=\"\",DK96=\"\",DK95=\"\"),\"Yes\",\"\")","v":""},"",{"$f":"IF(AND(DM98=\"Yes\",DM97=\"\",DM96=\"\",DM95=\"\"),\"Yes\",\"\")","v":""},"",{"$f":"IF(AND(DO98=\"Yes\",DO97=\"\",DO96=\"\",DO95=\"\"),\"Yes\",\"\")","v":""},"",{"$f":"IF(AND(DQ98=\"Yes\",DQ97=\"\",DQ96=\"\",DQ95=\"\"),\"Yes\",\"\")","v":""},"",{"$f":"IF(AND(DS98=\"Yes\",DS97=\"\",DS96=\"\",DS95=\"\"),\"Yes\",\"\")","v":""},"",{"$f":"IF(AND(DU98=\"Yes\",DU97=\"\",DU96=\"\",DU95=\"\"),\"Yes\",\"\")","v":""},"",{"$f":"IF(AND(DW98=\"Yes\",DW97=\"\",DW96=\"\",DW95=\"\"),\"Yes\",\"\")","v":""},"",{"$f":"IF(AND(DY98=\"Yes\",DY97=\"\",DY96=\"\",DY95=\"\"),\"Yes\",\"\")","v":""},"",{"$f":"IF(AND(EA98=\"Yes\",EA97=\"\",EA96=\"\",EA95=\"\"),\"Yes\",\"\")","v":""},"",{"$f":"IF(AND(EC98=\"Yes\",EC97=\"\",EC96=\"\",EC95=\"\"),\"Yes\",\"\")","v":""},"",{"$f":"IF(AND(EE98=\"Yes\",EE97=\"\",EE96=\"\",EE95=\"\"),\"Yes\",\"\")","v":""},"",{"$f":"IF(AND(EG98=\"Yes\",EG97=\"\",EG96=\"\",EG95=\"\"),\"Yes\",\"\")","v":""},"",{"$f":"IF(AND(EI98=\"Yes\",EI97=\"\",EI96=\"\",EI95=\"\"),\"Yes\",\"\")","v":""},"",{"$f":"IF(AND(EK98=\"Yes\",EK97=\"\",EK96=\"\",EK95=\"\"),\"Yes\",\"\")","v":""},"",{"$f":"IF(AND(EM98=\"Yes\",EM97=\"\",EM96=\"\",EM95=\"\"),\"Yes\",\"\")","v":""},"",{"$f":"IF(AND(EO98=\"Yes\",EO97=\"\",EO96=\"\",EO95=\"\"),\"Yes\",\"\")","v":""},"",{"$f":"IF(AND(EQ98=\"Yes\",EQ97=\"\",EQ96=\"\",EQ95=\"\"),\"Yes\",\"\")","v":""},"",{"$f":"IF(AND(ES98=\"Yes\",ES97=\"\",ES96=\"\",ES95=\"\"),\"Yes\",\"\")","v":""},"",{"$f":"IF(AND(EU98=\"Yes\",EU97=\"\",EU96=\"\",EU95=\"\"),\"Yes\",\"\")","v":""},"",{"$f":"IF(AND(EW98=\"Yes\",EW97=\"\",EW96=\"\",EW95=\"\"),\"Yes\",\"\")","v":""},"","","",{"$f":"IF(AND(FA98=\"Yes\",FA97=\"\",FA96=\"\",FA95=\"\"),\"Yes\",\"\")","v":""},"","",{"$f":"IF(AND(N98>='Warrant 7 & 8 - MUTCD'!$L$25,OR('Traffic Volume Input'!O98>='Warrant 7 & 8 - MUTCD'!$N$25,'Traffic Volume Input'!P98>='Warrant 7 & 8 - MUTCD'!$N$25)),\"Yes\",\"\")","v":""},{"$f":"IF(AND(FE98=\"Yes\",FE97=\"\",FE96=\"\",FE95=\"\"),\"Yes\",\"\")","v":""},"",{"$f":"IF(AND(FG98=\"Yes\",FG97=\"\",FG96=\"\",FG95=\"\"),\"Yes\",\"\")","v":""},"",{"$f":"IF(AND(FI98=\"Yes\",FI97=\"\",FI96=\"\",FI95=\"\"),\"Yes\",\"\")","v":""},"",{"$f":"IF(AND(FK98=\"Yes\",FK97=\"\",FK96=\"\",FK95=\"\"),\"Yes\",\"\")","v":""},"",{"$f":"IF(AND(FM98=\"Yes\",FM97=\"\",FM96=\"\",FM95=\"\"),\"Yes\",\"\")","v":""},"",{"$f":"IF(AND(FO98=\"Yes\",FO97=\"\",FO96=\"\",FO95=\"\"),\"Yes\",\"\")","v":""},"",{"$f":"IF(AND(FQ98=\"Yes\",FQ97=\"\",FQ96=\"\",FQ95=\"\"),\"Yes\",\"\")","v":""},"",{"$f":"IF(AND(FS98=\"Yes\",FS97=\"\",FS96=\"\",FS95=\"\"),\"Yes\",\"\")","v":""},"",{"$f":"IF(AND(FU98=\"Yes\",FU97=\"\",FU96=\"\",FU95=\"\"),\"Yes\",\"\")","v":""},"",{"$f":"IF(AND(FW98=\"Yes\",FW97=\"\",FW96=\"\",FW95=\"\"),\"Yes\",\"\")","v":""},"",{"$f":"IF(AND(FY98=\"Yes\",FY97=\"\",FY96=\"\",FY95=\"\"),\"Yes\",\"\")","v":""},"",{"$f":"IF(AND(GA98=\"Yes\",GA97=\"\",GA96=\"\",GA95=\"\"),\"Yes\",\"\")","v":""},"",{"$f":"IF(AND(GC98=\"Yes\",GC97=\"\",GC96=\"\",GC95=\"\"),\"Yes\",\"\")","v":""},"",{"$f":"IF(AND(GE98=\"Yes\",GE97=\"\",GE96=\"\",GE95=\"\"),\"Yes\",\"\")","v":""},"",{"$f":"IF(AND(GG98=\"Yes\",GG97=\"\",GG96=\"\",GG95=\"\"),\"Yes\",\"\")","v":""},"",{"$f":"IF(AND(GI98=\"Yes\",GI97=\"\",GI96=\"\",GI95=\"\"),\"Yes\",\"\")","v":""},"",{"$f":"IF(AND(GK98=\"Yes\",GK97=\"\",GK96=\"\",GK95=\"\"),\"Yes\",\"\")","v":""},"",{"$f":"IF(AND(GM98=\"Yes\",GM97=\"\",GM96=\"\",GM95=\"\"),\"Yes\",\"\")","v":""},"",{"$f":"IF(AND(GO98=\"Yes\",GO97=\"\",GO96=\"\",GO95=\"\"),\"Yes\",\"\")","v":""},"",{"$f":"IF(AND(GQ98=\"Yes\",GQ97=\"\",GQ96=\"\",GQ95=\"\"),\"Yes\",\"\")","v":""},"",{"$f":"IF(AND(GS98=\"Yes\",GS97=\"\",GS96=\"\",GS95=\"\"),\"Yes\",\"\")","v":""},"","","",{"$f":"IF(AND(GW98=\"Yes\",GW97=\"\",GW96=\"\",GW95=\"\"),\"Yes\",\"\")","v":""},"",""]
["23:15:00","23:29:00",null,null,0,null,null,null,null,null,null,null,null,null,null,null,null,{"$f":"COUNTIF(R6:R98,\"Yes\")","v":0},null,{"$f":"COUNTIF(T6:T98,\"Yes\")","v":0},null,{"$f":"COUNTIF(V6:V98,\"Yes\")","v":0},null,{"$f":"COUNTIF(X6:X98,\"Yes\")","v":0},null,{"$f":"COUNTIF(Z6:Z98,\"Yes\")","v":0},null,{"$f":"COUNTIF(AB6:AB98,\"Yes\")","v":0},null,{"$f":"COUNTIF(AD6:AD98,\"Yes\")","v":0},null,{"$f":"COUNTIF(AF6:AF98,\"Yes\")","v":0},null,{"$f":"COUNTIF(AH6:AH98,\"Yes\")","v":0},null,{"$f":"COUNTIF(AJ6:AJ98,\"Yes\")","v":0},null,{"$f":"COUNTIF(AL6:AL98,\"Yes\")","v":0},null,{"$f":"COUNTIF(AN6:AN98,\"Yes\")","v":0},null,{"$f":"COUNTIF(AP6:AP98,\"Yes\")","v":0},null,{"$f":"COUNTIF(AR6:AR98,\"Yes\")","v":0},null,{"$f":"COUNTIF(AT6:AT98,\"Yes\")","v":0},null,{"$f":"COUNTIF(AV6:AV98,\"Yes\")","v":0},null,{"$f":"COUNTIF(AX6:AX98,\"Yes\")","v":0},null,{"$f":"COUNTIF(AZ6:AZ98,\"Yes\")","v":0},null,{"$f":"COUNTIF(BB6:BB98,\"Yes\")","v":0},null,{"$f":"COUNTIF(BD6:BD98,\"Yes\")","v":0},null,{"$f":"COUNTIF(BF6:BF98,\"Yes\")","v":0},null,{"$f":"COUNTIF(BH6:BH98,\"Yes\")","v":0},null,{"$f":"COUNTIF(BJ6:BJ98,\"Yes\")","v":0},null,{"$f":"COUNTIF(BL6:BL98,\"Yes\")","v":0},null,{"$f":"COUNTIF(BN6:BN98,\"Yes\")","v":0},null,{"$f":"COUNTIF(BP6:BP98,\"Yes\")","v":0},null,{"$f":"COUNTIF(BR6:BR98,\"Yes\")","v":0},null,{"$f":"COUNTIF(BT6:BT98,\"Yes\")","v":0},null,{"$f":"COUNTIF(BV6:BV98,\"Yes\")","v":0},null,{"$f":"COUNTIF(BX6:BX98,\"Yes\")","v":0},null,{"$f":"COUNTIF(BZ6:BZ98,\"Yes\")","v":0},null,{"$f":"COUNTIF(CB6:CB98,\"Yes\")","v":0},null,{"$f":"COUNTIF(CD6:CD98,\"Yes\")","v":0},null,{"$f":"COUNTIF(CF6:CF98,\"Yes\")","v":0},null,{"$f":"COUNTIF(CH6:CH98,\"Yes\")","v":0},null,{"$f":"COUNTIF(CJ6:CJ98,\"Yes\")","v":0},null,{"$f":"COUNTIF(CL6:CL98,\"Yes\")","v":0},null,{"$f":"COUNTIF(CN6:CN98,\"Yes\")","v":0},null,{"$f":"COUNTIF(CP6:CP98,\"Yes\")","v":0},null,{"$f":"COUNTIF(CR6:CR98,\"Yes\")","v":0},null,{"$f":"COUNTIF(CT6:CT98,\"Yes\")","v":0},null,{"$f":"COUNTIF(CV6:CV98,\"Yes\")","v":0},null,{"$f":"COUNTIF(CX6:CX98,\"Yes\")","v":0},null,{"$f":"COUNTIF(CZ6:CZ98,\"Yes\")","v":0},null,{"$f":"COUNTIF(DB6:DB98,\"Yes\")","v":0},null,{"$f":"COUNTIF(DD6:DD98,\"Yes\")","v":0},null,{"$f":"COUNTIF(DF6:DF98,\"Yes\")","v":0},null,{"$f":"COUNTIF(DH6:DH98,\"Yes\")","v":0},null,{"$f":"COUNTIF(DJ6:DJ98,\"Yes\")","v":0},null,{"$f":"COUNTIF(DL6:DL98,\"Yes\")","v":0},null,{"$f":"COUNTIF(DN6:DN98,\"Yes\")","v":0},null,{"$f":"COUNTIF(DP6:DP98,\"Yes\")","v":0},null,{"$f":"COUNTIF(DR6:DR98,\"Yes\")","v":0},null,{"$f":"COUNTIF(DT6:DT98,\"Yes\")","v":0},null,{"$f":"COUNTIF(DV6:DV98,\"Yes\")","v":0},null,{"$f":"COUNTIF(DX6:DX98,\"Yes\")","v":0},null,{"$f":"COUNTIF(DZ6:DZ98,\"Yes\")","v":0},null,{"$f":"COUNTIF(EB6:EB98,\"Yes\")","v":0},null,{"$f":"COUNTIF(ED6:ED98,\"Yes\")","v":0},null,{"$f":"COUNTIF(EF6:EF98,\"Yes\")","v":0},null,{"$f":"COUNTIF(EH6:EH98,\"Yes\")","v":0},null,{"$f":"COUNTIF(EJ6:EJ98,\"Yes\")","v":0},null,{"$f":"COUNTIF(EL6:EL98,\"Yes\")","v":0},null,{"$f":"COUNTIF(EN6:EN98,\"Yes\")","v":0},null,{"$f":"COUNTIF(EP6:EP98,\"Yes\")","v":0},null,{"$f":"COUNTIF(ER6:ER98,\"Yes\")","v":0},null,{"$f":"COUNTIF(ET6:ET98,\"Yes\")","v":0},null,{"$f":"COUNTIF(EV6:EV98,\"Yes\")","v":0},null,{"$f":"COUNTIF(EX6:EX98,\"Yes\")","v":0},null,{"$f":"COUNTIF(EZ6:EZ98,\"Yes\")","v":0},null,{"$f":"COUNTIF(FB6:FB98,\"Yes\")","v":0},null,{"$f":"COUNTIF(FD6:FD98,\"Yes\")","v":0},null,{"$f":"COUNTIF(FF6:FF98,\"Yes\")","v":0},null,{"$f":"COUNTIF(FH6:FH98,\"Yes\")","v":0},null,{"$f":"COUNTIF(FJ6:FJ98,\"Yes\")","v":0},null,{"$f":"COUNTIF(FL6:FL98,\"Yes\")","v":0},null,{"$f":"COUNTIF(FN6:FN98,\"Yes\")","v":0},null,{"$f":"COUNTIF(FP6:FP98,\"Yes\")","v":0},null,{"$f":"COUNTIF(FR6:FR98,\"Yes\")","v":0},null,{"$f":"COUNTIF(FT6:FT98,\"Yes\")","v":0},null,{"$f":"COUNTIF(FV6:FV98,\"Yes\")","v":0},null,{"$f":"COUNTIF(FX6:FX98,\"Yes\")","v":0},null,{"$f":"COUNTIF(FZ6:FZ98,\"Yes\")","v":0},null,{"$f":"COUNTIF(GB6:GB98,\"Yes\")","v":0},null,{"$f":"COUNTIF(GD6:GD98,\"Yes\")","v":0},null,{"$f":"COUNTIF(GF6:GF98,\"Yes\")","v":0},null,{"$f":"COUNTIF(GH6:GH98,\"Yes\")","v":0},null,{"$f":"COUNTIF(GJ6:GJ98,\"Yes\")","v":0},null,{"$f":"COUNTIF(GL6:GL98,\"Yes\")","v":0},null,{"$f":"COUNTIF(GN6:GN98,\"Yes\")","v":0},null,{"$f":"COUNTIF(GP6:GP98,\"Yes\")","v":0},null,{"$f":"COUNTIF(GR6:GR98,\"Yes\")","v":0},null,{"$f":"COUNTIF(GT6:GT98,\"Yes\")","v":0},null,{"$f":"COUNTIF(GV6:GV98,\"Yes\")","v":0},null,{"$f":"COUNTIF(GX6:GX98,\"Yes\")","v":0},null,{"$f":"COUNTIF(GZ6:GZ98,\"Yes\")","v":0}]
["23:30:00","23:44:00",null,null,0]
["23:45:00","23:59:00",null,null,0]
["Approach Totals:",null,{"$f":"SUM(C6:C101)","v":0},{"$f":"SUM(D6:D101)","v":0},{"$f":"SUM(E6:E101)","v":0},{"$f":"SUM(F6:F101)","v":0},{"$f":"SUM(G6:G101)","v":0},null,null,null,null,null,null,null,null,null,"Total Hours Meeting Condition A:",null,null,null,null,{"$f":"SUM(Q99:BL99)","v":0},null,null,null,null,null,null,null,null,null,null,null,null,null,null,null,null,null,null,null,null,null,null,null,null,null,null,null,null,null,null,null,null,null,null,null,null,null,null,null,null,null,null,"Total Hours Meeting Condition B:",null,null,null,null,{"$f":"SUM(BM99:DH99)","v":0},null,null,null,null,null,null,null,null,null,null,null,null,null,null,null,null,null,null,null,null,null,null,null,null,null,null,null,null,null,null,null,null,null,null,null,null,null,null,null,null,null,null,"Total Hours Meeting Condition A:",null,null,null,null,{"$f":"SUM(DI99:FD99)","v":0},null,null,null,null,null,null,null,null,null,null,null,null,null,null,null,null,null,null,null,null,null,null,null,null,null,null,null,null,null,null,null,null,null,null,null,null,null,null,null,null,null,null,"Total Hours Meeting Condition B:",null,null,null,null,{"$f":"SUM(FE99:GZ99)","v":0}]

{"sheet":"Warrant 1 - MUTCD","index":3,"n_rows":47,"n_cols":20,"rows_kept":47,"cut":false,"hidden":false,"merged":[[26,12,26,19],[38,0,38,1],[17,12,17,19],[36,0,36,9],[10,0,10,3],[40,0,40,9],[11,0,12,8],[32,0,32,9],[38,4,38,5],[46,0,46,3],[44,0,44,3],[42,0,42,3],[0,0,0,9],[34,4,34,5],[14,0,14,9],[15,0,16,1],[15,2,16,5],[15,6,16,9],[2,0,3,1],[7,4,8,4],[23,0,23,9],[24,0,25,1],[24,2,25,5],[24,6,25,9],[34,0,34,1],[7,0,8,3]]}
["MUTCD WARRANT 1, EIGHT-HOUR VEHICULAR VOLUME",null,null,null,null,null,null,null,null,null,null,"↓"]
[]
["Number of Lanes for Moving Traffic on Each Approach"]
[]
["Major Street:",{"$f":"IF('Input&Findings'!$D$20=1,\"1 Lane\",\"2 or More Lanes\")","v":"1 Lane"}]
["Minor Street:",{"$f":"IF('Input&Findings'!$D$29=1,\"1 Lane\",\"2 or More Lanes\")","v":"1 Lane"}]
[]
["Built-up Isolated Community With Less Than 10,000 Population or Above 40 MPH on Major Street?",null,null,null,{"$f":"IF(OR('Input&Findings'!$E$12=\"Yes\",'Input&Findings'!$D$21>40),\"Yes\",\"No\")","v":"No"}]
[]
[]
["Combination of Conditions A and B Necessary?*:",null,null,null,"No"]
["*Only applicable for Warrant 1 if after an adequate trial of other alternatives that could cause less delay and inconvenience to traffic has failed to solve the traffic problems. See Section 4C.02 of the 2009 MUTCD for application."]
[]
[]
["Condition A - Minimum Vehicular Volume"]
["Number of lanes for moving traffic on each approach",null,"Vehicles per hour on major street (total of both approaches)",null,null,null,"Vehicles per hour on higher-volume minor street approach (one direction only)"]
[]
["Major Street","Minor Street",1,0.8,0.7,0.56000000000000005,1,0.8,0.7,0.56000000000000005,null,null,"Decision Chart"]
[1,1,500,400,350,280,150,120,105,84,null,null,{"$f":"IF(AND('Input&Findings'!$D$20=1,'Input&Findings'!$D$29=1,NOT(OR('Input&Findings'!$E$12=\"Yes\",'Warrant 1 - MUTCD'!$E$11=\"Yes\",'Input&Findings'!$D$21>40))),'Warrant 1 - MUTCD'!C19,\"\")","v":500},{"$f":"IF(AND('Input&Findings'!$D$20=1,'Input&Findings'!$D$29=1,'Warrant 1 - MUTCD'!$E$11=\"Yes\",NOT(OR('Input&Findings'!$E$12=\"Yes\",'Input&Findings'!$D$21>40))),'Warrant 1 - MUTCD'!D19,\"\")","v":""},{"$f":"IF(AND('Input&Findings'!$D$20=1,'Input&Findings'!$D$29=1,OR('Input&Findings'!$D$21>40,'Input&Findings'!$E$12=\"Yes\"),NOT('Warrant 1 - MUTCD'!$E$11=\"Yes\")),'Warrant 1 - MUTCD'!E19,\"\")","v":""},{"$f":"IF(AND('Input&Findings'!$D$20=1,'Input&Findings'!$D$29=1,'Warrant 1 - MUTCD'!$E$11=\"Yes\",OR('Input&Findings'!$D$21>40,'Input&Findings'!$E$12=\"Yes\")),'Warrant 1 - MUTCD'!F19,\"\")","v":""},{"$f":"IF(AND('Input&Findings'!$D$20=1,'Input&Findings'!$D$29=1,NOT(OR('Input&Findings'!$E$12=\"Yes\",'Warrant 1 - MUTCD'!$E$11=\"Yes\",'Input&Findings'!$D$21>40))),'Warrant 1 - MUTCD'!G19,\"\")","v":150},{"$f":"IF(AND('Input&Findings'!$D$20=1,'Input&Findings'!$D$29=1,'Warrant 1 - MUTCD'!$E$11=\"Yes\",NOT(OR('Input&Findings'!$E$12=\"Yes\",'Input&Findings'!$D$21>40))),'Warrant 1 - MUTCD'!H19,\"\")","v":""},{"$f":"IF(AND('Input&Findings'!$D$20=1,'Input&Findings'!$D$29=1,OR('Input&Findings'!$D$21>40,'Input&Findings'!$E$12=\"Yes\"),NOT('Warrant 1 - MUTCD'!$E$11=\"Yes\")),'Warrant 1 - MUTCD'!I19,\"\")","v":""},{"$f":"IF(AND('Input&Findings'!$D$20=1,'Input&Findings'!$D$29=1,'Warrant 1 - MUTCD'!$E$11=\"Yes\",OR('Input&Findings'!$D$21>40,'Input&Findings'!$E$12=\"Yes\")),'Warrant 1 - MUTCD'!J19,\"\")","v":""}]
["2 or More",1,600,480,420,336,150,120,105,84,null,null,{"$f":"IF(AND('Input&Findings'!$D$20>1,'Input&Findings'!$D$29=1,NOT(OR('Input&Findings'!$E$12=\"Yes\",'Warrant 1 - MUTCD'!$E$11=\"Yes\",'Input&Findings'!$D$21>40))),'Warrant 1 - MUTCD'!C20,\"\")","v":""},{"$f":"IF(AND('Input&Findings'!$D$20>1,'Input&Findings'!$D$29=1,'Warrant 1 - MUTCD'!$E$11=\"Yes\",NOT(OR('Input&Findings'!$E$12=\"Yes\",'Input&Findings'!$D$21>40))),'Warrant 1 - MUTCD'!D20,\"\")","v":""},{"$f":"IF(AND('Input&Findings'!$D$20>1,'Input&Findings'!$D$29=1,OR('Input&Findings'!$D$21>40,'Input&Findings'!$E$12=\"Yes\"),NOT('Warrant 1 - MUTCD'!$E$11=\"Yes\")),'Warrant 1 - MUTCD'!E20,\"\")","v":""},{"$f":"IF(AND('Input&Findings'!$D$20>1,'Input&Findings'!$D$29=1,'Warrant 1 - MUTCD'!$E$11=\"Yes\",OR('Input&Findings'!$D$21>40,'Input&Findings'!$E$12=\"Yes\")),'Warrant 1 - MUTCD'!F20,\"\")","v":""},{"$f":"IF(AND('Input&Findings'!$D$20>1,'Input&Findings'!$D$29=1,NOT(OR('Input&Findings'!$E$12=\"Yes\",'Warrant 1 - MUTCD'!$E$11=\"Yes\",'Input&Findings'!$D$21>40))),'Warrant 1 - MUTCD'!G20,\"\")","v":""},{"$f":"IF(AND('Input&Findings'!$D$20>1,'Input&Findings'!$D$29=1,'Warrant 1 - MUTCD'!$E$11=\"Yes\",NOT(OR('Input&Findings'!$E$12=\"Yes\",'Input&Findings'!$D$21>40))),'Warrant 1 - MUTCD'!H20,\"\")","v":""},{"$f":"IF(AND('Input&Findings'!$D$20>1,'Input&Findings'!$D$29=1,OR('Input&Findings'!$D$21>40,'Input&Findings'!$E$12=\"Yes\"),NOT('Warrant 1 - MUTCD'!$E$11=\"Yes\")),'Warrant 1 - MUTCD'!I20,\"\")","v":""},{"$f":"IF(AND('Input&Findings'!$D$20>1,'Input&Findings'!$D$29=1,'Warrant 1 - MUTCD'!$E$11=\"Yes\",OR('Input&Findings'!$D$21>40,'Input&Findings'!$E$12=\"Yes\")),'Warrant 1 - MUTCD'!J20,\"\")","v":""}]
["2 or More","2 or More",600,480,420,336,200,160,140,112,null,null,{"$f":"IF(AND('Input&Findings'!$D$20>1,'Input&Findings'!$D$29>1,NOT(OR('Input&Findings'!$E$12=\"Yes\",'Warrant 1 - MUTCD'!$E$11=\"Yes\",'Input&Findings'!$D$21>40))),'Warrant 1 - MUTCD'!C21,\"\")","v":""},{"$f":"IF(AND('Input&Findings'!$D$20>1,'Input&Findings'!$D$29>1,'Warrant 1 - MUTCD'!$E$11=\"Yes\",NOT(OR('Input&Findings'!$E$12=\"Yes\",'Input&Findings'!$D$21>40))),'Warrant 1 - MUTCD'!D21,\"\")","v":""},{"$f":"IF(AND('Input&Findings'!$D$20>1,'Input&Findings'!$D$29>1,OR('Input&Findings'!$D$21>40,'Input&Findings'!$E$12=\"Yes\"),NOT('Warrant 1 - MUTCD'!$E$11=\"Yes\")),'Warrant 1 - MUTCD'!E21,\"\")","v":""},{"$f":"IF(AND('Input&Findings'!$D$20>1,'Input&Findings'!$D$29>1,'Warrant 1 - MUTCD'!$E$11=\"Yes\",OR('Input&Findings'!$D$21>40,'Input&Findings'!$E$12=\"Yes\")),'Warrant 1 - MUTCD'!F21,\"\")","v":""},{"$f":"IF(AND('Input&Findings'!$D$20>1,'Input&Findings'!$D$29>1,NOT(OR('Input&Findings'!$E$12=\"Yes\",'Warrant 1 - MUTCD'!$E$11=\"Yes\",'Input&Findings'!$D$21>40))),'Warrant 1 - MUTCD'!G21,\"\")","v":""},{"$f":"IF(AND('Input&Findings'!$D$20>1,'Input&Findings'!$D$29>1,'Warrant 1 - MUTCD'!$E$11=\"Yes\",NOT(OR('Input&Findings'!$E$12=\"Yes\",'Input&Findings'!$D$21>40))),'Warrant 1 - MUTCD'!H21,\"\")","v":""},{"$f":"IF(AND('Input&Findings'!$D$20>1,'Input&Findings'!$D$29>1,OR('Input&Findings'!$D$21>40,'Input&Findings'!$E$12=\"Yes\"),NOT('Warrant 1 - MUTCD'!$E$11=\"Yes\")),'Warrant 1 - MUTCD'!I21,\"\")","v":""},{"$f":"IF(AND('Input&Findings'!$D$20>1,'Input&Findings'!$D$29>1,'Warrant 1 - MUTCD'!$E$11=\"Yes\",OR('Input&Findings'!$D$21>40,'Input&Findings'!$E$12=\"Yes\")),'Warrant 1 - MUTCD'!J21,\"\")","v":""}]
[1,"2 or More",500,400,350,280,200,160,140,112,null,null,{"$f":"IF(AND('Input&Findings'!$D$20=1,'Input&Findings'!$D$29>1,NOT(OR('Input&Findings'!$E$12=\"Yes\",'Warrant 1 - MUTCD'!$E$11=\"Yes\",'Input&Findings'!$D$21>40))),'Warrant 1 - MUTCD'!C22,\"\")","v":""},{"$f":"IF(AND('Input&Findings'!$D$20=1,'Input&Findings'!$D$29>1,'Warrant 1 - MUTCD'!$E$11=\"Yes\",NOT(OR('Input&Findings'!$E$12=\"Yes\",'Input&Findings'!$D$21>40))),'Warrant 1 - MUTCD'!D22,\"\")","v":""},{"$f":"IF(AND('Input&Findings'!$D$20=1,'Input&Findings'!$D$29>1,OR('Input&Findings'!$D$21>40,'Input&Findings'!$E$12=\"Yes\"),NOT('Warrant 1 - MUTCD'!$E$11=\"Yes\")),'Warrant 1 - MUTCD'!E22,\"\")","v":""},{"$f":"IF(AND('Input&Findings'!$D$20=1,'Input&Findings'!$D$29>1,'Warrant 1 - MUTCD'!$E$11=\"Yes\",OR('Input&Findings'!$D$21>40,'Input&Findings'!$E$12=\"Yes\")),'Warrant 1 - MUTCD'!F22,\"\")","v":""},{"$f":"IF(AND('Input&Findings'!$D$20=1,'Input&Findings'!$D$29>1,NOT(OR('Input&Findings'!$E$12=\"Yes\",'Warrant 1 - MUTCD'!$E$11=\"Yes\",'Input&Findings'!$D$21>40))),'Warrant 1 - MUTCD'!G22,\"\")","v":""},{"$f":"IF(AND('Input&Findings'!$D$20=1,'Input&Findings'!$D$29>1,'Warrant 1 - MUTCD'!$E$11=\"Yes\",NOT(OR('Input&Findings'!$E$12=\"Yes\",'Input&Findings'!$D$21>40))),'Warrant 1 - MUTCD'!H22,\"\")","v":""},{"$f":"IF(AND('Input&Findings'!$D$20=1,'Input&Findings'!$D$29>1,OR('Input&Findings'!$D$21>40,'Input&Findings'!$E$12=\"Yes\"),NOT('Warrant 1 - MUTCD'!$E$11=\"Yes\")),'Warrant 1 - MUTCD'!I22,\"\")","v":""},{"$f":"IF(AND('Input&Findings'!$D$20=1,'Input&Findings'!$D$29>1,'Warrant 1 - MUTCD'!$E$11=\"Yes\",OR('Input&Findings'!$D$21>40,'Input&Findings'!$E$12=\"Yes\")),'Warrant 1 - MUTCD'!J22,\"\")","v":""}]
[null,null,null,null,null,null,null,null,null,null,null,null,{"$f":"SUM(M19:P22)","v":500},null,null,null,{"$f":"SUM(Q19:T22)","v":150}]
["Condition B - Interruption of Continuous Traffic"]
["Number of lanes for moving traffic on each approach",null,"Vehicles per hour on major street (total of both approaches)",null,null,null,"Vehicles per hour on higher-volume minor street approach (one direction only)"]
[]
["Major Street","Minor Street",1,0.8,0.7,0.56000000000000005,1,0.8,0.7,0.56000000000000005,null,null,"Decision Chart"]
[1,1,750,600,525,420,75,60,53,42,null,null,{"$f":"IF(AND('Input&Findings'!$D$20=1,'Input&Findings'!$D$29=1,NOT(OR('Input&Findings'!$E$12=\"Yes\",'Warrant 1 - MUTCD'!$E$11=\"Yes\",'Input&Findings'!$D$21>40))),'Warrant 1 - MUTCD'!C28,\"\")","v":750},{"$f":"IF(AND('Input&Findings'!$D$20=1,'Input&Findings'!$D$29=1,'Warrant 1 - MUTCD'!$E$11=\"Yes\",NOT(OR('Input&Findings'!$E$12=\"Yes\",'Input&Findings'!$D$21>40))),'Warrant 1 - MUTCD'!D28,\"\")","v":""},{"$f":"IF(AND('Input&Findings'!$D$20=1,'Input&Findings'!$D$29=1,OR('Input&Findings'!$D$21>40,'Input&Findings'!$E$12=\"Yes\"),NOT('Warrant 1 - MUTCD'!$E$11=\"Yes\")),'Warrant 1 - MUTCD'!E28,\"\")","v":""},{"$f":"IF(AND('Input&Findings'!$D$20=1,'Input&Findings'!$D$29=1,'Warrant 1 - MUTCD'!$E$11=\"Yes\",OR('Input&Findings'!$D$21>40,'Input&Findings'!$E$12=\"Yes\")),'Warrant 1 - MUTCD'!F28,\"\")","v":""},{"$f":"IF(AND('Input&Findings'!$D$20=1,'Input&Findings'!$D$29=1,NOT(OR('Input&Findings'!$E$12=\"Yes\",'Warrant 1 - MUTCD'!$E$11=\"Yes\",'Input&Findings'!$D$21>40))),'Warrant 1 - MUTCD'!G28,\"\")","v":75},{"$f":"IF(AND('Input&Findings'!$D$20=1,'Input&Findings'!$D$29=1,'Warrant 1 - MUTCD'!$E$11=\"Yes\",NOT(OR('Input&Findings'!$E$12=\"Yes\",'Input&Findings'!$D$21>40))),'Warrant 1 - MUTCD'!H28,\"\")","v":""},{"$f":"IF(AND('Input&Findings'!$D$20=1,'Input&Findings'!$D$29=1,OR('Input&Findings'!$D$21>40,'Input&Findings'!$E$12=\"Yes\"),NOT('Warrant 1 - MUTCD'!$E$11=\"Yes\")),'Warrant 1 - MUTCD'!I28,\"\")","v":""},{"$f":"IF(AND('Input&Findings'!$D$20=1,'Input&Findings'!$D$29=1,'Warrant 1 - MUTCD'!$E$11=\"Yes\",OR('Input&Findings'!$D$21>40,'Input&Findings'!$E$12=\"Yes\")),'Warrant 1 - MUTCD'!J28,\"\")","v":""}]
["2 or More",1,900,720,630,504,75,60,53,42,null,null,{"$f":"IF(AND('Input&Findings'!$D$20>1,'Input&Findings'!$D$29=1,NOT(OR('Input&Findings'!$E$12=\"Yes\",'Warrant 1 - MUTCD'!$E$11=\"Yes\",'Input&Findings'!$D$21>40))),'Warrant 1 - MUTCD'!C29,\"\")","v":""},{"$f":"IF(AND('Input&Findings'!$D$20>1,'Input&Findings'!$D$29=1,'Warrant 1 - MUTCD'!$E$11=\"Yes\",NOT(OR('Input&Findings'!$E$12=\"Yes\",'Input&Findings'!$D$21>40))),'Warrant 1 - MUTCD'!D29,\"\")","v":""},{"$f":"IF(AND('Input&Findings'!$D$20>1,'Input&Findings'!$D$29=1,OR('Input&Findings'!$D$21>40,'Input&Findings'!$E$12=\"Yes\"),NOT('Warrant 1 - MUTCD'!$E$11=\"Yes\")),'Warrant 1 - MUTCD'!E29,\"\")","v":""},{"$f":"IF(AND('Input&Findings'!$D$20>1,'Input&Findings'!$D$29=1,'Warrant 1 - MUTCD'!$E$11=\"Yes\",OR('Input&Findings'!$D$21>40,'Input&Findings'!$E$12=\"Yes\")),'Warrant 1 - MUTCD'!F29,\"\")","v":""},{"$f":"IF(AND('Input&Findings'!$D$20>1,'Input&Findings'!$D$29=1,NOT(OR('Input&Findings'!$E$12=\"Yes\",'Warrant 1 - MUTCD'!$E$11=\"Yes\",'Input&Findings'!$D$21>40))),'Warrant 1 - MUTCD'!G29,\"\")","v":""},{"$f":"IF(AND('Input&Findings'!$D$20>1,'Input&Findings'!$D$29=1,'Warrant 1 - MUTCD'!$E$11=\"Yes\",NOT(OR('Input&Findings'!$E$12=\"Yes\",'Input&Findings'!$D$21>40))),'Warrant 1 - MUTCD'!H29,\"\")","v":""},{"$f":"IF(AND('Input&Findings'!$D$20>1,'Input&Findings'!$D$29=1,OR('Input&Findings'!$D$21>40,'Input&Findings'!$E$12=\"Yes\"),NOT('Warrant 1 - MUTCD'!$E$11=\"Yes\")),'Warrant 1 - MUTCD'!I29,\"\")","v":""},{"$f":"IF(AND('Input&Findings'!$D$20>1,'Input&Findings'!$D$29=1,'Warrant 1 - MUTCD'!$E$11=\"Yes\",OR('Input&Findings'!$D$21>40,'Input&Findings'!$E$12=\"Yes\")),'Warrant 1 - MUTCD'!J29,\"\")","v":""}]
["2 or More","2 or More",900,720,630,504,100,80,70,56,null,null,{"$f":"IF(AND('Input&Findings'!$D$20>1,'Input&Findings'!$D$29>1,NOT(OR('Input&Findings'!$E$12=\"Yes\",'Warrant 1 - MUTCD'!$E$11=\"Yes\",'Input&Findings'!$D$21>40))),'Warrant 1 - MUTCD'!C30,\"\")","v":""},{"$f":"IF(AND('Input&Findings'!$D$20>1,'Input&Findings'!$D$29>1,'Warrant 1 - MUTCD'!$E$11=\"Yes\",NOT(OR('Input&Findings'!$E$12=\"Yes\",'Input&Findings'!$D$21>40))),'Warrant 1 - MUTCD'!D30,\"\")","v":""},{"$f":"IF(AND('Input&Findings'!$D$20>1,'Input&Findings'!$D$29>1,OR('Input&Findings'!$D$21>40,'Input&Findings'!$E$12=\"Yes\"),NOT('Warrant 1 - MUTCD'!$E$11=\"Yes\")),'Warrant 1 - MUTCD'!E30,\"\")","v":""},{"$f":"IF(AND('Input&Findings'!$D$20>1,'Input&Findings'!$D$29>1,'Warrant 1 - MUTCD'!$E$11=\"Yes\",OR('Input&Findings'!$D$21>40,'Input&Findings'!$E$12=\"Yes\")),'Warrant 1 - MUTCD'!F30,\"\")","v":""},{"$f":"IF(AND('Input&Findings'!$D$20>1,'Input&Findings'!$D$29>1,NOT(OR('Input&Findings'!$E$12=\"Yes\",'Warrant 1 - MUTCD'!$E$11=\"Yes\",'Input&Findings'!$D$21>40))),'Warrant 1 - MUTCD'!G30,\"\")","v":""},{"$f":"IF(AND('Input&Findings'!$D$20>1,'Input&Findings'!$D$29>1,'Warrant 1 - MUTCD'!$E$11=\"Yes\",NOT(OR('Input&Findings'!$E$12=\"Yes\",'Input&Findings'!$D$21>40))),'Warrant 1 - MUTCD'!H30,\"\")","v":""},{"$f":"IF(AND('Input&Findings'!$D$20>1,'Input&Findings'!$D$29>1,OR('Input&Findings'!$D$21>40,'Input&Findings'!$E$12=\"Yes\"),NOT('Warrant 1 - MUTCD'!$E$11=\"Yes\")),'Warrant 1 - MUTCD'!I30,\"\")","v":""},{"$f":"IF(AND('Input&Findings'!$D$20>1,'Input&Findings'!$D$29>1,'Warrant 1 - MUTCD'!$E$11=\"Yes\",OR('Input&Findings'!$D$21>40,'Input&Findings'!$E$12=\"Yes\")),'Warrant 1 - MUTCD'!J30,\"\")","v":""}]
[1,"2 or More",750,600,525,420,100,80,70,56,null,null,{"$f":"IF(AND('Input&Findings'!$D$20=1,'Input&Findings'!$D$29>1,NOT(OR('Input&Findings'!$E$12=\"Yes\",'Warrant 1 - MUTCD'!$E$11=\"Yes\",'Input&Findings'!$D$21>40))),'Warrant 1 - MUTCD'!C31,\"\")","v":""},{"$f":"IF(AND('Input&Findings'!$D$20=1,'Input&Findings'!$D$29>1,'Warrant 1 - MUTCD'!$E$11=\"Yes\",NOT(OR('Input&Findings'!$E$12=\"Yes\",'Input&Findings'!$D$21>40))),'Warrant 1 - MUTCD'!D31,\"\")","v":""},{"$f":"IF(AND('Input&Findings'!$D$20=1,'Input&Findings'!$D$29>1,OR('Input&Findings'!$D$21>40,'Input&Findings'!$E$12=\"Yes\"),NOT('Warrant 1 - MUTCD'!$E$11=\"Yes\")),'Warrant 1 - MUTCD'!E31,\"\")","v":""},{"$f":"IF(AND('Input&Findings'!$D$20=1,'Input&Findings'!$D$29>1,'Warrant 1 - MUTCD'!$E$11=\"Yes\",OR('Input&Findings'!$D$21>40,'Input&Findings'!$E$12=\"Yes\")),'Warrant 1 - MUTCD'!F31,\"\")","v":""},{"$f":"IF(AND('Input&Findings'!$D$20=1,'Input&Findings'!$D$29>1,NOT(OR('Input&Findings'!$E$12=\"Yes\",'Warrant 1 - MUTCD'!$E$11=\"Yes\",'Input&Findings'!$D$21>40))),'Warrant 1 - MUTCD'!G31,\"\")","v":""},{"$f":"IF(AND('Input&Findings'!$D$20=1,'Input&Findings'!$D$29>1,'Warrant 1 - MUTCD'!$E$11=\"Yes\",NOT(OR('Input&Findings'!$E$12=\"Yes\",'Input&Findings'!$D$21>40))),'Warrant 1 - MUTCD'!H31,\"\")","v":""},{"$f":"IF(AND('Input&Findings'!$D$20=1,'Input&Findings'!$D$29>1,OR('Input&Findings'!$D$21>40,'Input&Findings'!$E$12=\"Yes\"),NOT('Warrant 1 - MUTCD'!$E$11=\"Yes\")),'Warrant 1 - MUTCD'!I31,\"\")","v":""},{"$f":"IF(AND('Input&Findings'!$D$20=1,'Input&Findings'!$D$29>1,'Warrant 1 - MUTCD'!$E$11=\"Yes\",OR('Input&Findings'!$D$21>40,'Input&Findings'!$E$12=\"Yes\")),'Warrant 1 - MUTCD'!J31,\"\")","v":""}]
[null,null,null,null,null,null,null,null,null,null,null,null,{"$f":"SUM(M28:P31)","v":750},null,null,null,{"$f":"SUM(Q28:T31)","v":75}]
["Condition A Evaluation"]
[]
["Number of Unique Hours Met:",null,{"$f":"IF($E$11=\"Yes\",\"N/A\",'Traffic Volume Input'!$V$102)","v":0},null,"Condition A Satisfied?",null,{"$f":"IF('Warrant 1 - MUTCD'!$E$11=\"Yes\",\"N/A\",IF($C$35>=8,\"Yes\",\"No\"))","v":"No"}]
[]
["Condition B Evaluation"]
[]
["Number of Unique Hours Met:",null,{"$f":"IF($E$11=\"Yes\",\"N/A\",'Traffic Volume Input'!$BR$102)","v":0},null,"Condition B Satisfied?",null,{"$f":"IF('Warrant 1 - MUTCD'!E11=\"Yes\",\"N/A\",IF($C$39>=8,\"Yes\",\"No\"))","v":"No"}]
[]
["Combination of Condition A and Condition B Evaluation"]
[]
["Number of Unique Hours Met for Condition A:",null,null,null,{"$f":"IF('Warrant 1 - MUTCD'!$E$11=\"No\",\"N/A\",'Traffic Volume Input'!$V$102)","v":"N/A"}]
[]
["Number of Unique Hours Met for Condition B:",null,null,null,{"$f":"IF('Warrant 1 - MUTCD'!$E$11=\"No\",\"N/A\",'Traffic Volume Input'!$BR$102)","v":"N/A"}]
[]
["Combination of Condition A and Condition B Satisfied?",null,null,null,{"$f":"IF('Warrant 1 - MUTCD'!$E$11=\"No\",\"N/A\",IF(AND($E$43>=8,$E$45>=8),\"Yes\",\"No\"))","v":"N/A"}]

{"sheet":"Warrant 2 - MUTCD","index":4,"n_rows":107,"n_cols":88,"rows_kept":107,"cut":false,"hidden":false,"merged":[[11,76,11,78],[33,76,33,78],[11,85,11,87],[33,85,33,87],[11,79,11,81],[33,79,33,81],[11,82,11,84],[33,82,33,84],[64,76,64,78],[64,79,64,81],[64,82,64,84],[64,85,64,87],[41,76,42,78],[41,79,42,81],[41,82,42,84],[41,85,42,87],[0,0,0,3],[11,54,11,57],[11,58,11,61],[7,3,8,3],[10,0,10,3],[11,3,12,3],[2,0,3,1],[11,6,12,53],[7,0,8,2]]}
["MUTCD WARRANT 2, FOUR-HOUR VEHICULAR VOLUME",null,null,null,null,"↓"]
[]
["Number of Lanes for Moving Traffic on Each Approach",null,null,"Total Number of Unique Hours Met"]
[null,null,null,{"$f":"IF($D$8=\"No\",\"On Figure 4C-1\",\"On Figure 4C-2\")","v":"On Figure 4C-1"}]
["Major Street:",{"$f":"IF('Input&Findings'!$D$20=1,\"1 Lane\",\"2 or More Lanes\")","v":"1 Lane"},null,{"$f":"SUM(G107:BB107)","v":0}]
["Minor Street:",{"$f":"IF('Input&Findings'!$D$29=1,\"1 Lane\",\"2 or More Lanes\")","v":"1 Lane"}]
[]
["Built-up Isolated Community With Less Than 10,000 Population or Above 40 MPH on Major Street?",null,null,{"$f":"IF(OR('Input&Findings'!$E$12=\"Yes\",'Input&Findings'!$D$21>40),\"Yes\",\"No\")","v":"No"}]
[]
[]
["Hourly Vehicular Volume"]
["Hour Interval","Major Street Combined","Highest Minor Street Approach","Hour Met?",null,null,"Unique Hour Validations",null,null,null,null,null,null,null,null,null,null,null,null,null,null,null,null,null,null,null,null,null,null,null,null,null,null,null,null,null,null,null,null,null,null,null,null,null,null,null,null,null,null,null,null,null,null,null,"Figure 4C-1 Validations",null,null,null,"Figure 4C-2 Validations",null,null,null,null,null,null,null,null,null,null,null,null,null,null,null,null,null,"4C-1: 1Lane/1Lane",null,null,"4C-1: 2Lane(Major)/1Lane",null,null,"4C-1: 2Lane(Minor)/1Lane",null,null,"4C-1: 2Lane/2Lane"]
["Beginning At","Vehicles Per Hour (VPH)","Vehicles Per Hour (VPH)",null,null,null,null,null,null,null,null,null,null,null,null,null,null,null,null,null,null,null,null,null,null,null,null,null,null,null,null,null,null,null,null,null,null,null,null,null,null,null,null,null,null,null,null,null,null,null,null,null,null,null,"1Lane/1Lane","2MajorLanes/1Lane","2MinorLanes/1Lane","2Lanes/2Lanes","1Lane/1Lane","2MajorLanes/1Lane","2MinorLanes/1Lane","2Lanes/2Lanes",null,null,null,null,null,null,null,null,null,null,null,null,null,null,"Trend","Trend","Test","Trend","Trend","Test","Trend","Trend","Test","Trend","Trend","Test"]
["00:00:00",{"$f":"'Traffic Volume Input'!N6","v":0},{"$f":"IF('Traffic Volume Input'!O6>'Traffic Volume Input'!P6,'Traffic Volume Input'!O6,'Traffic Volume Input'!P6)","v":0},{"$f":"IF(AND(B14=0,C14=0),\"\",IF(OR(BC14=\"Met\",BD14=\"Met\",BE14=\"Met\",BF14=\"Met\",BG14=\"Met\",BH14=\"Met\",BI14=\"Met\",BJ14=\"Met\"),\"Met\",\"\"))","v":""},null,null,{"$f":"D14","v":""},{"$f":"IF(G14=\"Met\",\"Met\",\"\")","v":""},{"$f":"IF(AND(H14=\"Met\",G14=\"Met\"),\"\",\"\")","v":""},{"$f":"IF(I14=\"Met\",\"Met\",\"\")","v":""},{"$f":"IF(AND(J14=\"Met\",I14=\"Met\"),\"\",\"\")","v":""},{"$f":"IF(K14=\"Met\",\"Met\",\"\")","v":""},{"$f":"IF(AND(L14=\"Met\",K14=\"Met\"),\"\",\"\")","v":""},{"$f":"IF(M14=\"Met\",\"Met\",\"\")","v":""},{"$f":"IF(AND(N14=\"Met\",M14=\"Met\"),\"\",\"\")","v":""},{"$f":"IF(O14=\"Met\",\"Met\",\"\")","v":""},{"$f":"IF(AND(P14=\"Met\",O14=\"Met\"),\"\",\"\")","v":""},{"$f":"IF(Q14=\"Met\",\"Met\",\"\")","v":""},{"$f":"IF(AND(R14=\"Met\",Q14=\"Met\"),\"\",\"\")","v":""},{"$f":"IF(S14=\"Met\",\"Met\",\"\")","v":""},{"$f":"IF(AND(T14=\"Met\",S14=\"Met\"),\"\",\"\")","v":""},{"$f":"IF(U14=\"Met\",\"Met\",\"\")","v":""},{"$f":"IF(AND(V14=\"Met\",U14=\"Met\"),\"\",\"\")","v":""},{"$f":"IF(W14=\"Met\",\"Met\",\"\")","v":""},{"$f":"IF(AND(X14=\"Met\",W14=\"Met\"),\"\",\"\")","v":""},{"$f":"IF(Y14=\"Met\",\"Met\",\"\")","v":""},{"$f":"IF(AND(Z14=\"Met\",Y14=\"Met\"),\"\",\"\")","v":""},{"$f":"IF(AA14=\"Met\",\"Met\",\"\")","v":""},{"$f":"IF(AND(AB14=\"Met\",AA14=\"Met\"),\"\",\"\")","v":""},{"$f":"IF(AC14=\"Met\",\"Met\",\"\")","v":""},{"$f":"IF(AND(AD14=\"Met\",AC14=\"Met\"),\"\",\"\")","v":""},{"$f":"IF(AE14=\"Met\",\"Met\",\"\")","v":""},{"$f":"IF(AND(AF14=\"Met\",AE14=\"Met\"),\"\",\"\")","v":""},{"$f":"IF(AG14=\"Met\",\"Met\",\"\")","v":""},{"$f":"IF(AND(AH14=\"Met\",AG14=\"Met\"),\"\",\"\")","v":""},{"$f":"IF(AI14=\"Met\",\"Met\",\"\")","v":""},{"$f":"IF(AND(AJ14=\"Met\",AI14=\"Met\"),\"\",\"\")","v":""},{"$f":"IF(AK14=\"Met\",\"Met\",\"\")","v":""},{"$f":"IF(AND(AL14=\"Met\",AK14=\"Met\"),\"\",\"\")","v":""},{"$f":"IF(AM14=\"Met\",\"Met\",\"\")","v":""},{"$f":"IF(AND(AN14=\"Met\",AM14=\"Met\"),\"\",\"\")","v":""},{"$f":"IF(AO14=\"Met\",\"Met\",\"\")","v":""},{"$f":"IF(AND(AP14=\"Met\",AO14=\"Met\"),\"\",\"\")","v":""},{"$f":"IF(AQ14=\"Met\",\"Met\",\"\")","v":""},{"$f":"IF(AND(AR14=\"Met\",AQ14=\"Met\"),\"\",\"\")","v":""},{"$f":"IF(AS14=\"Met\",\"Met\",\"\")","v":""},{"$f":"IF(AND(AT14=\"Met\",AS14=\"Met\"),\"\",\"\")","v":""},{"$f":"IF(AU14=\"Met\",\"Met\",\"\")","v":""},{"$f":"IF(AND(AV14=\"Met\",AU14=\"Met\"),\"\",\"\")","v":""},{"$f":"IF(AW14=\"Met\",\"Met\",\"\")","v":""},{"$f":"IF(AND(AX14=\"Met\",AW14=\"Met\"),\"\",\"\")","v":""},{"$f":"IF(AY14=\"Met\",\"Met\",\"\")","v":""},{"$f":"IF(AND(AZ14=\"Met\",AY14=\"Met\"),\"\",\"\")","v":""},{"$f":"IF(BA14=\"Met\",\"Met\",\"\")","v":""},{"$f":"IF(AND($B$5=\"1 Lane\",$B$6=\"1 Lane\",$D$8=\"No\"),IF(OR((-233.8*LN(B14)+1715.1)>=C14,AND(B14>=1100,C14<80)),\"Not Met\",\"Met\"),\"N/A\")","v":{"$error":"#NUM!"}},{"$f":"IF(AND($B$5=\"2 or More Lanes\",$B$6=\"1 Lane\",$D$8=\"No\"),IF(OR((-263.2*LN(B14)+1970.2)>=C14,AND(B14>=1340,C14<80)),\"Not Met\",\"Met\"),\"N/A\")","v":"N/A"},{"$f":"IF(AND($B$5=\"1 Lane\",$B$6=\"2 or More Lanes\",$D$8=\"No\"),IF(OR((-270.1*LN(B14)+2014.4)>=C14,AND(B14>=1150,C14<115)),\"Not Met\",\"Met\"),\"N/A\")","v":"N/A"},{"$f":"IF(AND($B$5=\"2 or More Lanes\",$B$6=\"2 or More Lanes\",$D$8=\"No\"),IF(OR((-353.3*LN(B14)+2646.9)>=C14,AND(B14>=1320,C14<115)),\"Not Met\",\"Met\"),\"N/A\")","v":"N/A"},{"$f":"IF(AND($B$5=\"1 Lane\",$B$6=\"1 Lane\",$D$8=\"Yes\"),IF(OR((-161.6*LN(B14)+1129.1)>=C14,AND(B14>=760,C14<60)),\"Not Met\",\"Met\"),\"N/A\")","v":"N/A"},{"$f":"IF(AND($B$5=\"2 or More Lanes\",$B$6=\"1 Lane\",$D$8=\"Yes\"),IF(OR((-182.5*LN(B14)+1301.9)>=C14,AND(B14>=930,C14<60)),\"Not Met\",\"Met\"),\"N/A\")","v":"N/A"},{"$f":"IF(AND($B$5=\"1 Lane\",$B$6=\"2 or More Lanes\",$D$8=\"Yes\"),IF(OR((-186.6*LN(B14)+1326.1)>=C14,AND(B14>=800,C14<80)),\"Not Met\",\"Met\"),\"N/A\")","v":"N/A"},{"$f":"IF(AND($B$5=\"2 or More Lanes\",$B$6=\"2 or More Lanes\",$D$8=\"Yes\"),IF(OR((-251.5*LN(B14)+1789)>=C14,AND(B14>=900,C14<80)),\"Not Met\",\"Met\"),\"N/A\")","v":"N/A"},null,null,null,null,null,null,null,null,null,null,null,null,null,null,400,310,{"$f":"-233.8*LN(BY14)+1715.1","v":314.29558888615361},400,390,{"$f":"-263.3*LN(CB14)+1970.2","v":392.64738474646833},400,390,{"$f":"-270.1*LN(CE14)+2014.4","v":396.10542582613402}]
["00:15:00",{"$f":"'Traffic Volume Input'!N7","v":0},{"$f":"IF('Traffic Volume Input'!O7>'Traffic Volume Input'!P7,'Traffic Volume Input'!O7,'Traffic Volume Input'!P7)","v":0},{"$f":"IF(AND(B15=0,C15=0),\"\",IF(OR(BC15=\"Met\",BD15=\"Met\",BE15=\"Met\",BF15=\"Met\",BG15=\"Met\",BH15=\"Met\",BI15=\"Met\",BJ15=\"Met\"),\"Met\",\"\"))","v":""},null,null,{"$f":"D15","v":""},{"$f":"IF(AND(G15=\"Met\",G14=\"\"),\"Met\",\"\")","v":""},{"$f":"IF(OR(H15=\"Met\",H14=\"Met\"),\"\",IF(G15=\"Met\",\"Met\",\"\"))","v":""},{"$f":"IF(AND(I15=\"Met\",I14=\"\"),\"Met\",\"\")","v":""},{"$f":"IF(OR(J15=\"Met\",J14=\"Met\"),\"\",IF(I15=\"Met\",\"Met\",\"\"))","v":""},{"$f":"IF(AND(K15=\"Met\",K14=\"\"),\"Met\",\"\")","v":""},{"$f":"IF(OR(L15=\"Met\",L14=\"Met\"),\"\",IF(K15=\"Met\",\"Met\",\"\"))","v":""},{"$f":"IF(AND(M15=\"Met\",M14=\"\"),\"Met\",\"\")","v":""},{"$f":"IF(OR(N15=\"Met\",N14=\"Met\"),\"\",IF(M15=\"Met\",\"Met\",\"\"))","v":""},{"$f":"IF(AND(O15=\"Met\",O14=\"\"),\"Met\",\"\")","v":""},{"$f":"IF(OR(P15=\"Met\",P14=\"Met\"),\"\",IF(O15=\"Met\",\"Met\",\"\"))","v":""},{"$f":"IF(AND(Q15=\"Met\",Q14=\"\"),\"Met\",\"\")","v":""},{"$f":"IF(OR(R15=\"Met\",R14=\"Met\"),\"\",IF(Q15=\"Met\",\"Met\",\"\"))","v":""},{"$f":"IF(AND(S15=\"Met\",S14=\"\"),\"Met\",\"\")","v":""},{"$f":"IF(OR(T15=\"Met\",T14=\"Met\"),\"\",IF(S15=\"Met\",\"Met\",\"\"))","v":""},{"$f":"IF(AND(U15=\"Met\",U14=\"\"),\"Met\",\"\")","v":""},{"$f":"IF(OR(V15=\"Met\",V14=\"Met\"),\"\",IF(U15=\"Met\",\"Met\",\"\"))","v":""},{"$f":"IF(AND(W15=\"Met\",W14=\"\"),\"Met\",\"\")","v":""},{"$f":"IF(OR(X15=\"Met\",X14=\"Met\"),\"\",IF(W15=\"Met\",\"Met\",\"\"))","v":""},{"$f":"IF(AND(Y15=\"Met\",Y14=\"\"),\"Met\",\"\")","v":""},{"$f":"IF(OR(Z15=\"Met\",Z14=\"Met\"),\"\",IF(Y15=\"Met\",\"Met\",\"\"))","v":""},{"$f":"IF(AND(AA15=\"Met\",AA14=\"\"),\"Met\",\"\")","v":""},{"$f":"IF(OR(AB15=\"Met\",AB14=\"Met\"),\"\",IF(AA15=\"Met\",\"Met\",\"\"))","v":""},{"$f":"IF(AND(AC15=\"Met\",AC14=\"\"),\"Met\",\"\")","v":""},{"$f":"IF(OR(AD15=\"Met\",AD14=\"Met\"),\"\",IF(AC15=\"Met\",\"Met\",\"\"))","v":""},{"$f":"IF(AND(AE15=\"Met\",AE14=\"\"),\"Met\",\"\")","v":""},{"$f":"IF(OR(AF15=\"Met\",AF14=\"Met\"),\"\",IF(AE15=\"Met\",\"Met\",\"\"))","v":""},{"$f":"IF(AND(AG15=\"Met\",AG14=\"\"),\"Met\",\"\")","v":""},{"$f":"IF(OR(AH15=\"Met\",AH14=\"Met\"),\"\",IF(AG15=\"Met\",\"Met\",\"\"))","v":""},{"$f":"IF(AND(AI15=\"Met\",AI14=\"\"),\"Met\",\"\")","v":""},{"$f":"IF(OR(AJ15=\"Met\",AJ14=\"Met\"),\"\",IF(AI15=\"Met\",\"Met\",\"\"))","v":""},{"$f":"IF(AND(AK15=\"Met\",AK14=\"\"),\"Met\",\"\")","v":""},{"$f":"IF(OR(AL15=\"Met\",AL14=\"Met\"),\"\",IF(AK15=\"Met\",\"Met\",\"\"))","v":""},{"$f":"IF(AND(AM15=\"Met\",AM14=\"\"),\"Met\",\"\")","v":""},{"$f":"IF(OR(AN15=\"Met\",AN14=\"Met\"),\"\",IF(AM15=\"Met\",\"Met\",\"\"))","v":""},{"$f":"IF(AND(AO15=\"Met\",AO14=\"\"),\"Met\",\"\")","v":""},{"$f":"IF(OR(AP15=\"Met\",AP14=\"Met\"),\"\",IF(AO15=\"Met\",\"Met\",\"\"))","v":""},{"$f":"IF(AND(AQ15=\"Met\",AQ14=\"\"),\"Met\",\"\")","v":""},{"$f":"IF(OR(AR15=\"Met\",AR14=\"Met\"),\"\",IF(AQ15=\"Met\",\"Met\",\"\"))","v":""},{"$f":"IF(AND(AS15=\"Met\",AS14=\"\"),\"Met\",\"\")","v":""},{"$f":"IF(OR(AT15=\"Met\",AT14=\"Met\"),\"\",IF(AS15=\"Met\",\"Met\",\"\"))","v":""},{"$f":"IF(AND(AU15=\"Met\",AU14=\"\"),\"Met\",\"\")","v":""},{"$f":"IF(OR(AV15=\"Met\",AV14=\"Met\"),\"\",IF(AU15=\"Met\",\"Met\",\"\"))","v":""},{"$f":"IF(AND(AW15=\"Met\",AW14=\"\"),\"Met\",\"\")","v":""},{"$f":"IF(OR(AX15=\"Met\",AX14=\"Met\"),\"\",IF(AW15=\"Met\",\"Met\",\"\"))","v":""},{"$f":"IF(AND(AY15=\"Met\",AY14=\"\"),\"Met\",\"\")","v":""},{"$f":"IF(OR(AZ15=\"Met\",AZ14=\"Met\"),\"\",IF(AY15=\"Met\",\"Met\",\"\"))","v":""},{"$f":"IF(AND(BA15=\"Met\",BA14=\"\"),\"Met\",\"\")","v":""},{"$error":"#NUM!"},"N/A","N/A","N/A","N/A","N/A","N/A","N/A",null,null,null,null,null,null,null,null,null,null,null,null,null,null,450,287,{"$f":"-233.8*LN(BY15)+1715.1","v":286.75791514969114},450,363,{"$f":"-263.3*LN(CB15)+1970.2","v":361.63511145814255},450,363,{"$f":"-270.1*LN(CE15)+2014.4","v":364.29222789534492}]
["00:30:00",{"$f":"'Traffic Volume Input'!N8","v":0},{"$f":"IF('Traffic Volume Input'!O8>'Traffic Volume Input'!P8,'Traffic Volume Input'!O8,'Traffic Volume Input'!P8)","v":0},"",null,null,"",{"$f":"IF(AND(G16=\"Met\",G15=\"\",G14=\"\"),\"Met\",\"\")","v":""},{"$f":"IF(OR(H16=\"Met\",H15=\"Met\",H14=\"Met\"),\"\",IF(G16=\"Met\",\"Met\",\"\"))","v":""},{"$f":"IF(AND(I16=\"Met\",I15=\"\",I14=\"\"),\"Met\",\"\")","v":""},{"$f":"IF(OR(J16=\"Met\",J15=\"Met\",J14=\"Met\"),\"\",IF(I16=\"Met\",\"Met\",\"\"))","v":""},{"$f":"IF(AND(K16=\"Met\",K15=\"\",K14=\"\"),\"Met\",\"\")","v":""},{"$f":"IF(OR(L16=\"Met\",L15=\"Met\",L14=\"Met\"),\"\",IF(K16=\"Met\",\"Met\",\"\"))","v":""},{"$f":"IF(AND(M16=\"Met\",M15=\"\",M14=\"\"),\"Met\",\"\")","v":""},{"$f":"IF(OR(N16=\"Met\",N15=\"Met\",N14=\"Met\"),\"\",IF(M16=\"Met\",\"Met\",\"\"))","v":""},{"$f":"IF(AND(O16=\"Met\",O15=\"\",O14=\"\"),\"Met\",\"\")","v":""},{"$f":"IF(OR(P16=\"Met\",P15=\"Met\",P14=\"Met\"),\"\",IF(O16=\"Met\",\"Met\",\"\"))","v":""},{"$f":"IF(AND(Q16=\"Met\",Q15=\"\",Q14=\"\"),\"Met\",\"\")","v":""},{"$f":"IF(OR(R16=\"Met\",R15=\"Met\",R14=\"Met\"),\"\",IF(Q16=\"Met\",\"Met\",\"\"))","v":""},{"$f":"IF(AND(S16=\"Met\",S15=\"\",S14=\"\"),\"Met\",\"\")","v":""},{"$f":"IF(OR(T16=\"Met\",T15=\"Met\",T14=\"Met\"),\"\",IF(S16=\"Met\",\"Met\",\"\"))","v":""},{"$f":"IF(AND(U16=\"Met\",U15=\"\",U14=\"\"),\"Met\",\"\")","v":""},{"$f":"IF(OR(V16=\"Met\",V15=\"Met\",V14=\"Met\"),\"\",IF(U16=\"Met\",\"Met\",\"\"))","v":""},{"$f":"IF(AND(W16=\"Met\",W15=\"\",W14=\"\"),\"Met\",\"\")","v":""},{"$f":"IF(OR(X16=\"Met\",X15=\"Met\",X14=\"Met\"),\"\",IF(W16=\"Met\",\"Met\",\"\"))","v":""},{"$f":"IF(AND(Y16=\"Met\",Y15=\"\",Y14=\"\"),\"Met\",\"\")","v":""},{"$f":"IF(OR(Z16=\"Met\",Z15=\"Met\",Z14=\"Met\"),\"\",IF(Y16=\"Met\",\"Met\",\"\"))","v":""},{"$f":"IF(AND(AA16=\"Met\",AA15=\"\",AA14=\"\"),\"Met\",\"\")","v":""},{"$f":"IF(OR(AB16=\"Met\",AB15=\"Met\",AB14=\"Met\"),\"\",IF(AA16=\"Met\",\"Met\",\"\"))","v":""},{"$f":"IF(AND(AC16=\"Met\",AC15=\"\",AC14=\"\"),\"Met\",\"\")","v":""},{"$f":"IF(OR(AD16=\"Met\",AD15=\"Met\",AD14=\"Met\"),\"\",IF(AC16=\"Met\",\"Met\",\"\"))","v":""},{"$f":"IF(AND(AE16=\"Met\",AE15=\"\",AE14=\"\"),\"Met\",\"\")","v":""},{"$f":"IF(OR(AF16=\"Met\",AF15=\"Met\",AF14=\"Met\"),\"\",IF(AE16=\"Met\",\"Met\",\"\"))","v":""},{"$f":"IF(AND(AG16=\"Met\",AG15=\"\",AG14=\"\"),\"Met\",\"\")","v":""},{"$f":"IF(OR(AH16=\"Met\",AH15=\"Met\",AH14=\"Met\"),\"\",IF(AG16=\"Met\",\"Met\",\"\"))","v":""},{"$f":"IF(AND(AI16=\"Met\",AI15=\"\",AI14=\"\"),\"Met\",\"\")","v":""},{"$f":"IF(OR(AJ16=\"Met\",AJ15=\"Met\",AJ14=\"Met\"),\"\",IF(AI16=\"Met\",\"Met\",\"\"))","v":""},{"$f":"IF(AND(AK16=\"Met\",AK15=\"\",AK14=\"\"),\"Met\",\"\")","v":""},{"$f":"IF(OR(AL16=\"Met\",AL15=\"Met\",AL14=\"Met\"),\"\",IF(AK16=\"Met\",\"Met\",\"\"))","v":""},{"$f":"IF(AND(AM16=\"Met\",AM15=\"\",AM14=\"\"),\"Met\",\"\")","v":""},{"$f":"IF(OR(AN16=\"Met\",AN15=\"Met\",AN14=\"Met\"),\"\",IF(AM16=\"Met\",\"Met\",\"\"))","v":""},{"$f":"IF(AND(AO16=\"Met\",AO15=\"\",AO14=\"\"),\"Met\",\"\")","v":""},{"$f":"IF(OR(AP16=\"Met\",AP15=\"Met\",AP14=\"Met\"),\"\",IF(AO16=\"Met\",\"Met\",\"\"))","v":""},{"$f":"IF(AND(AQ16=\"Met\",AQ15=\"\",AQ14=\"\"),\"Met\",\"\")","v":""},{"$f":"IF(OR(AR16=\"Met\",AR15=\"Met\",AR14=\"Met\"),\"\",IF(AQ16=\"Met\",\"Met\",\"\"))","v":""},{"$f":"IF(AND(AS16=\"Met\",AS15=\"\",AS14=\"\"),\"Met\",\"\")","v":""},{"$f":"IF(OR(AT16=\"Met\",AT15=\"Met\",AT14=\"Met\"),\"\",IF(AS16=\"Met\",\"Met\",\"\"))","v":""},{"$f":"IF(AND(AU16=\"Met\",AU15=\"\",AU14=\"\"),\"Met\",\"\")","v":""},{"$f":"IF(OR(AV16=\"Met\",AV15=\"Met\",AV14=\"Met\"),\"\",IF(AU16=\"Met\",\"Met\",\"\"))","v":""},{"$f":"IF(AND(AW16=\"Met\",AW15=\"\",AW14=\"\"),\"Met\",\"\")","v":""},{"$f":"IF(OR(AX16=\"Met\",AX15=\"Met\",AX14=\"Met\"),\"\",IF(AW16=\"Met\",\"Met\",\"\"))","v":""},{"$f":"IF(AND(AY16=\"Met\",AY15=\"\",AY14=\"\"),\"Met\",\"\")","v":""},{"$f":"IF(OR(AZ16=\"Met\",AZ15=\"Met\",AZ14=\"Met\"),\"\",IF(AY16=\"Met\",\"Met\",\"\"))","v":""},{"$f":"IF(AND(BA16=\"Met\",BA15=\"\",BA14=\"\"),\"Met\",\"\")","v":""},{"$error":"#NUM!"},"N/A","N/A","N/A","N/A","N/A","N/A","N/A",null,null,null,null,null,null,null,null,null,null,null,null,null,null,500,265,262.12462658889149,500,338,333.89368768543704,500,338,335.83435261616614,500,455,{"$f":"-353.3*LN(CH16)+2646.9","v":451.27895882743996}]
["00:45:00",{"$f":"'Traffic Volume Input'!N9","v":0},{"$f":"IF('Traffic Volume Input'!O9>'Traffic Volume Input'!P9,'Traffic Volume Input'!O9,'Traffic Volume Input'!P9)","v":0},"",null,null,"",{"$f":"IF(AND(G17=\"Met\",G16=\"\",G15=\"\",G14=\"\"),\"Met\",\"\")","v":""},{"$f":"IF(OR(H17=\"Met\",H16=\"Met\",H15=\"Met\",H14=\"Met\"),\"\",IF(G17=\"Met\",\"Met\",\"\"))","v":""},{"$f":"IF(AND(I17=\"Met\",I16=\"\",I15=\"\",I14=\"\"),\"Met\",\"\")","v":""},{"$f":"IF(OR(J17=\"Met\",J16=\"Met\",J15=\"Met\",J14=\"Met\"),\"\",IF(I17=\"Met\",\"Met\",\"\"))","v":""},{"$f":"IF(AND(K17=\"Met\",K16=\"\",K15=\"\",K14=\"\"),\"Met\",\"\")","v":""},{"$f":"IF(OR(L17=\"Met\",L16=\"Met\",L15=\"Met\",L14=\"Met\"),\"\",IF(K17=\"Met\",\"Met\",\"\"))","v":""},{"$f":"IF(AND(M17=\"Met\",M16=\"\",M15=\"\",M14=\"\"),\"Met\",\"\")","v":""},{"$f":"IF(OR(N17=\"Met\",N16=\"Met\",N15=\"Met\",N14=\"Met\"),\"\",IF(M17=\"Met\",\"Met\",\"\"))","v":""},{"$f":"IF(AND(O17=\"Met\",O16=\"\",O15=\"\",O14=\"\"),\"Met\",\"\")","v":""},{"$f":"IF(OR(P17=\"Met\",P16=\"Met\",P15=\"Met\",P14=\"Met\"),\"\",IF(O17=\"Met\",\"Met\",\"\"))","v":""},{"$f":"IF(AND(Q17=\"Met\",Q16=\"\",Q15=\"\",Q14=\"\"),\"Met\",\"\")","v":""},{"$f":"IF(OR(R17=\"Met\",R16=\"Met\",R15=\"Met\",R14=\"Met\"),\"\",IF(Q17=\"Met\",\"Met\",\"\"))","v":""},{"$f":"IF(AND(S17=\"Met\",S16=\"\",S15=\"\",S14=\"\"),\"Met\",\"\")","v":""},{"$f":"IF(OR(T17=\"Met\",T16=\"Met\",T15=\"Met\",T14=\"Met\"),\"\",IF(S17=\"Met\",\"Met\",\"\"))","v":""},{"$f":"IF(AND(U17=\"Met\",U16=\"\",U15=\"\",U14=\"\"),\"Met\",\"\")","v":""},{"$f":"IF(OR(V17=\"Met\",V16=\"Met\",V15=\"Met\",V14=\"Met\"),\"\",IF(U17=\"Met\",\"Met\",\"\"))","v":""},{"$f":"IF(AND(W17=\"Met\",W16=\"\",W15=\"\",W14=\"\"),\"Met\",\"\")","v":""},{"$f":"IF(OR(X17=\"Met\",X16=\"Met\",X15=\"Met\",X14=\"Met\"),\"\",IF(W17=\"Met\",\"Met\",\"\"))","v":""},{"$f":"IF(AND(Y17=\"Met\",Y16=\"\",Y15=\"\",Y14=\"\"),\"Met\",\"\")","v":""},{"$f":"IF(OR(Z17=\"Met\",Z16=\"Met\",Z15=\"Met\",Z14=\"Met\"),\"\",IF(Y17=\"Met\",\"Met\",\"\"))","v":""},{"$f":"IF(AND(AA17=\"Met\",AA16=\"\",AA15=\"\",AA14=\"\"),\"Met\",\"\")","v":""},{"$f":"IF(OR(AB17=\"Met\",AB16=\"Met\",AB15=\"Met\",AB14=\"Met\"),\"\",IF(AA17=\"Met\",\"Met\",\"\"))","v":""},{"$f":"IF(AND(AC17=\"Met\",AC16=\"\",AC15=\"\",AC14=\"\"),\"Met\",\"\")","v":""},{"$f":"IF(OR(AD17=\"Met\",AD16=\"Met\",AD15=\"Met\",AD14=\"Met\"),\"\",IF(AC17=\"Met\",\"Met\",\"\"))","v":""},{"$f":"IF(AND(AE17=\"Met\",AE16=\"\",AE15=\"\",AE14=\"\"),\"Met\",\"\")","v":""},{"$f":"IF(OR(AF17=\"Met\",AF16=\"Met\",AF15=\"Met\",AF14=\"Met\"),\"\",IF(AE17=\"Met\",\"Met\",\"\"))","v":""},{"$f":"IF(AND(AG17=\"Met\",AG16=\"\",AG15=\"\",AG14=\"\"),\"Met\",\"\")","v":""},{"$f":"IF(OR(AH17=\"Met\",AH16=\"Met\",AH15=\"Met\",AH14=\"Met\"),\"\",IF(AG17=\"Met\",\"Met\",\"\"))","v":""},{"$f":"IF(AND(AI17=\"Met\",AI16=\"\",AI15=\"\",AI14=\"\"),\"Met\",\"\")","v":""},{"$f":"IF(OR(AJ17=\"Met\",AJ16=\"Met\",AJ15=\"Met\",AJ14=\"Met\"),\"\",IF(AI17=\"Met\",\"Met\",\"\"))","v":""},{"$f":"IF(AND(AK17=\"Met\",AK16=\"\",AK15=\"\",AK14=\"\"),\"Met\",\"\")","v":""},{"$f":"IF(OR(AL17=\"Met\",AL16=\"Met\",AL15=\"Met\",AL14=\"Met\"),\"\",IF(AK17=\"Met\",\"Met\",\"\"))","v":""},{"$f":"IF(AND(AM17=\"Met\",AM16=\"\",AM15=\"\",AM14=\"\"),\"Met\",\"\")","v":""},{"$f":"IF(OR(AN17=\"Met\",AN16=\"Met\",AN15=\"Met\",AN14=\"Met\"),\"\",IF(AM17=\"Met\",\"Met\",\"\"))","v":""},{"$f":"IF(AND(AO17=\"Met\",AO16=\"\",AO15=\"\",AO14=\"\"),\"Met\",\"\")","v":""},{"$f":"IF(OR(AP17=\"Met\",AP16=\"Met\",AP15=\"Met\",AP14=\"Met\"),\"\",IF(AO17=\"Met\",\"Met\",\"\"))","v":""},{"$f":"IF(AND(AQ17=\"Met\",AQ16=\"\",AQ15=\"\",AQ14=\"\"),\"Met\",\"\")","v":""},{"$f":"IF(OR(AR17=\"Met\",AR16=\"Met\",AR15=\"Met\",AR14=\"Met\"),\"\",IF(AQ17=\"Met\",\"Met\",\"\"))","v":""},{"$f":"IF(AND(AS17=\"Met\",AS16=\"\",AS15=\"\",AS14=\"\"),\"Met\",\"\")","v":""},{"$f":"IF(OR(AT17=\"Met\",AT16=\"Met\",AT15=\"Met\",AT14=\"Met\"),\"\",IF(AS17=\"Met\",\"Met\",\"\"))","v":""},{"$f":"IF(AND(AU17=\"Met\",AU16=\"\",AU15=\"\",AU14=\"\"),\"Met\",\"\")","v":""},{"$f":"IF(OR(AV17=\"Met\",AV16=\"Met\",AV15=\"Met\",AV14=\"Met\"),\"\",IF(AU17=\"Met\",\"Met\",\"\"))","v":""},{"$f":"IF(AND(AW17=\"Met\",AW16=\"\",AW15=\"\",AW14=\"\"),\"Met\",\"\")","v":""},{"$f":"IF(OR(AX17=\"Met\",AX16=\"Met\",AX15=\"Met\",AX14=\"Met\"),\"\",IF(AW17=\"Met\",\"Met\",\"\"))","v":""},{"$f":"IF(AND(AY17=\"Met\",AY16=\"\",AY15=\"\",AY14=\"\"),\"Met\",\"\")","v":""},{"$f":"IF(OR(AZ17=\"Met\",AZ16=\"Met\",AZ15=\"Met\",AZ14=\"Met\"),\"\",IF(AY17=\"Met\",\"Met\",\"\"))","v":""},{"$f":"IF(AND(BA17=\"Met\",BA16=\"\",BA15=\"\",BA14=\"\"),\"Met\",\"\")","v":""},{"$error":"#NUM!"},"N/A","N/A","N/A","N/A","N/A","N/A","N/A",null,null,null,null,null,null,null,null,null,null,null,null,null,null,550,242,239.84110655064046,550,315,308.79851734295835,550,315,310.09107305101793,550,422,{"$f":"-353.3*LN(CH17)+2646.9","v":417.6058723025717}]
["01:00:00",{"$f":"'Traffic Volume Input'!N10","v":0},{"$f":"IF('Traffic Volume Input'!O10>'Traffic Volume Input'!P10,'Traffic Volume Input'!O10,'Traffic Volume Input'!P10)","v":0},"",null,null,"","","","","","","","","","","","","","","","","","","","","","","","","","","","","","","","","","","","","","","","","","","","","","","","",{"$error":"#NUM!"},"N/A","N/A","N/A","N/A","N/A","N/A","N/A",null,null,null,null,null,null,null,null,null,null,null,null,null,null,600,220,219.49784661046488,600,290,285.8884217815887,600,290,286.58930012611881,600,391,386.86475281213552]
["01:15:00",{"$f":"'Traffic Volume Input'!N11","v":0},{"$f":"IF('Traffic Volume Input'!O11>'Traffic Volume Input'!P11,'Traffic Volume Input'!O11,'Traffic Volume Input'!P11)","v":0},"",null,null,"","","","","","","","","","","","","","","","","","","","","","","","","","","","","","","","","","","","","","","","","","","","","","","","",{"$error":"#NUM!"},"N/A","N/A","N/A","N/A","N/A","N/A","N/A",null,null,null,null,null,null,null,null,null,null,null,null,null,null,650,202,200.78386155639191,650,268,264.81317685114641,650,268,264.96976478349666,650,363,358.58566419107501]
["01:30:00",{"$f":"'Traffic Volume Input'!N12","v":0},{"$f":"IF('Traffic Volume Input'!O12>'Traffic Volume Input'!P12,'Traffic Volume Input'!O12,'Traffic Volume Input'!P12)","v":0},"",null,null,"","","","","","","","","","","","","","","","","","","","","","","","","","","","","","","","","","","","","","","","","","","","","","","","",{"$error":"#NUM!"},"N/A","N/A","N/A","N/A","N/A","N/A","N/A",null,null,null,null,null,null,null,null,null,null,null,null,null,null,700,184,183.45741766685182,700,247,245.30054778307158,700,247,244.95320150477642,700,332,332.40331762916503]
["01:45:00",{"$f":"'Traffic Volume Input'!N13","v":0},{"$f":"IF('Traffic Volume Input'!O13>'Traffic Volume Input'!P13,'Traffic Volume Input'!O13,'Traffic Volume Input'!P13)","v":0},"",null,null,"","","","","","","","","","","","","","","","","","","","","","","","","","","","","","","","","","","","","","","","","","","","","","","","",{"$error":"#NUM!"},"N/A","N/A","N/A","N/A","N/A","N/A","N/A",null,null,null,null,null,null,null,null,null,null,null,null,null,null,750,167,167.32688431320253,750,226,227.13472472055719,750,226,226.31822691615071,750,304,308.02813613282524]
["02:00:00",{"$f":"'Traffic Volume Input'!N14","v":0},{"$f":"IF('Traffic Volume Input'!O14>'Traffic Volume Input'!P14,'Traffic Volume Input'!O14,'Traffic Volume Input'!P14)","v":0},"",null,null,"","","","","","","","","","","","","","","","","","","","","","","","","","","","","","","","","","","","","","","","","","","","","","","","",{"$error":"#NUM!"},"N/A","N/A","N/A","N/A","N/A","N/A","N/A",null,null,null,null,null,null,null,null,null,null,null,null,null,null,800,150,152.23777807123838,800,207,210.14173210503486,800,207,208.88637235689293,800,280,285.22667661492142]
["02:15:00",{"$f":"'Traffic Volume Input'!N15","v":0},{"$f":"IF('Traffic Volume Input'!O15>'Traffic Volume Input'!P15,'Traffic Volume Input'!O15,'Traffic Volume Input'!P15)","v":0},"",null,null,"","","","","","","","","","","","","","","","","","","","","","","","","","","","","","","","","","","","","","","","","","","","","","","","",{"$error":"#NUM!"},"N/A","N/A","N/A","N/A","N/A","N/A","N/A",null,null,null,null,null,null,null,null,null,null,null,null,null,null,850,135,138.06374149055591,850,190,194.17926918076728,850,190,192.5116620042736,850,258,263.80799772717455]
["02:30:00",{"$f":"'Traffic Volume Input'!N16","v":0},{"$f":"IF('Traffic Volume Input'!O16>'Traffic Volume Input'!P16,'Traffic Volume Input'!O16,'Traffic Volume Input'!P16)","v":0},"",null,null,"","","","","","","","","","","","","","","","","","","","","","","","","","","","","","","","","","","","","","","","","","","","","","","","",{"$error":"#NUM!"},"N/A","N/A","N/A","N/A","N/A","N/A","N/A",null,null,null,null,null,null,null,null,null,null,null,null,null,null,900,122,124.70010433477592,900,174,179.12945881670885,900,174,177.07317442610361,900,238,243.61393011752079]
["02:45:00",{"$f":"'Traffic Volume Input'!N17","v":0},{"$f":"IF('Traffic Volume Input'!O17>'Traffic Volume Input'!P17,'Traffic Volume Input'!O17,'Traffic Volume Input'!P17)","v":0},"",null,null,"","","","","","","","","","","","","","","","","","","","","","","","","","","","","","","","","","","","","","","","","","","","","","","","",{"$error":"#NUM!"},"N/A","N/A","N/A","N/A","N/A","N/A","N/A",null,null,null,null,null,null,null,null,null,null,null,null,null,null,950,109,112.05918800178551,950,160,164.89355945624538,950,160,162.46961796100209,950,218,224.51198084273256]
["03:00:00",{"$f":"'Traffic Volume Input'!N18","v":0},{"$f":"IF('Traffic Volume Input'!O18>'Traffic Volume Input'!P18,'Traffic Volume Input'!O18,'Traffic Volume Input'!P18)","v":0},"",null,null,"","","","","","","","","","","","","","","","","","","","","","","","","","","","","","","","","","","","","","","","","","","","","","","","",{"$error":"#NUM!"},"N/A","N/A","N/A","N/A","N/A","N/A","N/A",null,null,null,null,null,null,null,null,null,null,null,null,null,null,1000,98,100.06681577397626,1000,147,151.38803504400335,1000,147,148.61529914692483,1000,199,206.39005993561113]
["03:15:00",{"$f":"'Traffic Volume Input'!N19","v":0},{"$f":"IF('Traffic Volume Input'!O19>'Traffic Volume Input'!P19,'Traffic Volume Input'!O19,'Traffic Volume Input'!P19)","v":0},"",null,null,"","","","","","","","","","","","","","","","","","","","","","","","","","","","","","","","","","","","","","","","","","","","","","","","",{"$error":"#NUM!"},"N/A","N/A","N/A","N/A","N/A","N/A","N/A",null,null,null,null,null,null,null,null,null,null,null,null,null,null,1050,90,88.659675391163091,1050,135,138.54158481819195,1050,135,135.43707580476121,1050,183,189.15249493455076]
["03:30:00",{"$f":"'Traffic Volume Input'!N20","v":0},{"$f":"IF('Traffic Volume Input'!O20>'Traffic Volume Input'!P20,'Traffic Volume Input'!O20,'Traffic Volume Input'!P20)","v":0},"",null,null,"","","","","","","","","","","","","","","","","","","","","","","","","","","","","","","","","","","","","","","","","","","","","","","","",{"$error":"#NUM!"},"N/A","N/A","N/A","N/A","N/A","N/A","N/A",null,null,null,null,null,null,null,null,null,null,null,null,null,null,1100,82,77.783295735725005,1100,122,126.29286470152465,1100,122,122.87201958177661,1100,170,172.71697341074332]
["03:45:00",{"$f":"'Traffic Volume Input'!N21","v":0},{"$f":"IF('Traffic Volume Input'!O21>'Traffic Volume Input'!P21,'Traffic Volume Input'!O21,'Traffic Volume Input'!P21)","v":0},"",null,null,"","","","","","","","","","","","","","","","","","","","","","","","","","","","","","","","","","","","","","","","","","","","","","","","",{"$error":"#NUM!"},"N/A","N/A","N/A","N/A","N/A","N/A","N/A",null,null,null,null,null,null,null,null,null,null,null,null,null,null,null,null,null,1150,114,114.58871561662386,1150,115,{"$f":"-270.1*LN(CE29)+2014.4","v":110.86559851139418},1150,158,157.01216569446751]
["04:00:00",{"$f":"'Traffic Volume Input'!N22","v":0},{"$f":"IF('Traffic Volume Input'!O22>'Traffic Volume Input'!P22,'Traffic Volume Input'!O22,'Traffic Volume Input'!P22)","v":0},"",null,null,"","","","","","","","","","","","","","","","","","","","","","","","","","","","","","","","","","","","","","","","","","","","","","","","",{"$error":"#NUM!"},"N/A","N/A","N/A","N/A","N/A","N/A","N/A",null,null,null,null,null,null,null,null,null,null,null,null,null,null,null,null,null,1200,105,103.38276914015501,null,null,null,1200,146,141.97585392030669]
["04:15:00",{"$f":"'Traffic Volume Input'!N23","v":0},{"$f":"IF('Traffic Volume Input'!O23>'Traffic Volume Input'!P23,'Traffic Volume Input'!O23,'Traffic Volume Input'!P23)","v":0},"",null,null,"","","","","","","","","","","","","","","","","","","","","","","","","","","","","","","","","","","","","","","","","","","","","","","","",{"$error":"#NUM!"},"N/A","N/A","N/A","N/A","N/A","N/A","N/A",null,null,null,null,null,null,null,null,null,null,null,null,null,null,null,null,null,1250,97,92.634337982971829,null,null,null,1250,135,127.55344325630085]
["04:30:00",{"$f":"'Traffic Volume Input'!N24","v":0},{"$f":"IF('Traffic Volume Input'!O24>'Traffic Volume Input'!P24,'Traffic Volume Input'!O24,'Traffic Volume Input'!P24)","v":0},"",null,null,"","","","","","","","","","","","","","","","","","","","","","","","","","","","","","","","","","","","","","","","","","","","","","","","",{"$error":"#NUM!"},"N/A","N/A","N/A","N/A","N/A","N/A","N/A",null,null,null,null,null,null,null,null,null,null,null,null,null,null,null,null,null,1300,89,{"$f":"-263.3*LN(CB32)+1970.2","v":82.307524209712938},null,null,null,1300,126,113.69676529924618]
["04:45:00",{"$f":"'Traffic Volume Input'!N25","v":0},{"$f":"IF('Traffic Volume Input'!O25>'Traffic Volume Input'!P25,'Traffic Volume Input'!O25,'Traffic Volume Input'!P25)","v":0},"",null,null,"","","","","","","","","","","","","","","","","","","","","","","","","","","","","","","","","","","","","","","","","","","","","","","","",{"$error":"#NUM!"},"N/A","N/A","N/A","N/A","N/A","N/A","N/A",null,null,null,null,null,null,null,null,null,null,null,null,null,null,null,null,null,1340,84,74.328125687592774]
["05:00:00",{"$f":"'Traffic Volume Input'!N26","v":0},{"$f":"IF('Traffic Volume Input'!O26>'Traffic Volume Input'!P26,'Traffic Volume Input'!O26,'Traffic Volume Input'!P26)","v":0},"",null,null,"","","","","","","","","","","","","","","","","","","","","","","","","","","","","","","","","","","","","","","","","","","","","","","","",{"$error":"#NUM!"},"N/A","N/A","N/A","N/A","N/A","N/A","N/A",null,null,null,null,null,null,null,null,null,null,null,null,null,null,"y = -233.8ln(x) + 1715.1 ",null,null,"y = -263.2ln(x) + 1970.2",null,null,"y = -270.1ln(x) + 2014.4\n",null,null,"y = -353.3ln(x) + 2646.9\n\n"]
["05:15:00",{"$f":"'Traffic Volume Input'!N27","v":0},{"$f":"IF('Traffic Volume Input'!O27>'Traffic Volume Input'!P27,'Traffic Volume Input'!O27,'Traffic Volume Input'!P27)","v":0},"",null,null,"","","","","","","","","","","","","","","","","","","","","","","","","","","","","","","","","","","","","","","","","","","","","","","","",{"$error":"#NUM!"},"N/A","N/A","N/A","N/A","N/A","N/A","N/A"]
["05:30:00",{"$f":"'Traffic Volume Input'!N28","v":0},{"$f":"IF('Traffic Volume Input'!O28>'Traffic Volume Input'!P28,'Traffic Volume Input'!O28,'Traffic Volume Input'!P28)","v":0},"",null,null,"","","","","","","","","","","","","","","","","","","","","","","","","","","","","","","","","","","","","","","","","","","","","","","","",{"$error":"#NUM!"},"N/A","N/A","N/A","N/A","N/A","N/A","N/A"]
["05:45:00",{"$f":"'Traffic Volume Input'!N29","v":0},{"$f":"IF('Traffic Volume Input'!O29>'Traffic Volume Input'!P29,'Traffic Volume Input'!O29,'Traffic Volume Input'!P29)","v":0},"",null,null,"","","","","","","","","","","","","","","","","","","","","","","","","","","","","","","","","","","","","","","","","","","","","","","","",{"$error":"#NUM!"},"N/A","N/A","N/A","N/A","N/A","N/A","N/A"]
["06:00:00",{"$f":"'Traffic Volume Input'!N30","v":0},{"$f":"IF('Traffic Volume Input'!O30>'Traffic Volume Input'!P30,'Traffic Volume Input'!O30,'Traffic Volume Input'!P30)","v":0},"",null,null,"","","","","","","","","","","","","","","","","","","","","","","","","","","","","","","","","","","","","","","","","","","","","","","","",{"$error":"#NUM!"},"N/A","N/A","N/A","N/A","N/A","N/A","N/A"]
["06:15:00",{"$f":"'Traffic Volume Input'!N31","v":0},{"$f":"IF('Traffic Volume Input'!O31>'Traffic Volume Input'!P31,'Traffic Volume Input'!O31,'Traffic Volume Input'!P31)","v":0},"",null,null,"","","","","","","","","","","","","","","","","","","","","","","","","","","","","","","","","","","","","","","","","","","","","","","","",{"$error":"#NUM!"},"N/A","N/A","N/A","N/A","N/A","N/A","N/A"]
["06:30:00",{"$f":"'Traffic Volume Input'!N32","v":0},{"$f":"IF('Traffic Volume Input'!O32>'Traffic Volume Input'!P32,'Traffic Volume Input'!O32,'Traffic Volume Input'!P32)","v":0},"",null,null,"","","","","","","","","","","","","","","","","","","","","","","","","","","","","","","","","","","","","","","","","","","","","","","","",{"$error":"#NUM!"},"N/A","N/A","N/A","N/A","N/A","N/A","N/A"]
["06:45:00",{"$f":"'Traffic Volume Input'!N33","v":0},{"$f":"IF('Traffic Volume Input'!O33>'Traffic Volume Input'!P33,'Traffic Volume Input'!O33,'Traffic Volume Input'!P33)","v":0},"",null,null,"","","","","","","","","","","","","","","","","","","","","","","","","","","","","","","","","","","","","","","","","","","","","","","","",{"$error":"#NUM!"},"N/A","N/A","N/A","N/A","N/A","N/A","N/A"]
["07:00:00",{"$f":"'Traffic Volume Input'!N34","v":0},{"$f":"IF('Traffic Volume Input'!O34>'Traffic Volume Input'!P34,'Traffic Volume Input'!O34,'Traffic Volume Input'!P34)","v":0},"",null,null,"","","","","","","","","","","","","","","","","","","","","","","","","","","","","","","","","","","","","","","","","","","","","","","","",{"$error":"#NUM!"},"N/A","N/A","N/A","N/A","N/A","N/A","N/A",null,null,null,null,null,null,null,null,null,null,null,null,null,null,"4C-2: 1Lane/1Lane",null,null,"4C-2: 2Lane(Major)/1Lane",null,null,"4C-2: 2Lane(Minor)/1Lane",null,null,"4C-2: 2Lane/2Lane"]
["07:15:00",{"$f":"'Traffic Volume Input'!N35","v":0},{"$f":"IF('Traffic Volume Input'!O35>'Traffic Volume Input'!P35,'Traffic Volume Input'!O35,'Traffic Volume Input'!P35)","v":0},"",null,null,"","","","","","","","","","","","","","","","","","","","","","","","","","","","","","","","","","","","","","","","","","","","","","","","",{"$error":"#NUM!"},"N/A","N/A","N/A","N/A","N/A","N/A","N/A"]
["07:30:00",{"$f":"'Traffic Volume Input'!N36","v":0},{"$f":"IF('Traffic Volume Input'!O36>'Traffic Volume Input'!P36,'Traffic Volume Input'!O36,'Traffic Volume Input'!P36)","v":0},"",null,null,"","","","","","","","","","","","","","","","","","","","","","","","","","","","","","","","","","","","","","","","","","","","","","","","",{"$error":"#NUM!"},"N/A","N/A","N/A","N/A","N/A","N/A","N/A",null,null,null,null,null,null,null,null,null,null,null,null,null,null,"Trend","Trend","Test","Trend","Trend","Test","Trend","Trend","Test","Trend","Trend","Test"]
["07:45:00",{"$f":"'Traffic Volume Input'!N37","v":0},{"$f":"IF('Traffic Volume Input'!O37>'Traffic Volume Input'!P37,'Traffic Volume Input'!O37,'Traffic Volume Input'!P37)","v":0},"",null,null,"","","","","","","","","","","","","","","","","","","","","","","","","","","","","","","","","","","","","","","","","","","","","","","","",{"$error":"#NUM!"},"N/A","N/A","N/A","N/A","N/A","N/A","N/A",null,null,null,null,null,null,null,null,null,null,null,null,null,null,260,225,{"$f":"-161.6*LN(BY45)+1129.1","v":230.49384842789073},280,270,{"$f":"-182.5*LN(CB45)+1301.9","v":273.55089742161204},280,270,{"$f":"-186.6*LN(CE45)+1326.1","v":274.64826004861811}]
["08:00:00",{"$f":"'Traffic Volume Input'!N38","v":0},{"$f":"IF('Traffic Volume Input'!O38>'Traffic Volume Input'!P38,'Traffic Volume Input'!O38,'Traffic Volume Input'!P38)","v":0},"",null,null,"","","","","","","","","","","","","","","","","","","","","","","","","","","","","","","","","","","","","","","","","","","","","","","","",{"$f":"IF(AND($B$5=\"1 Lane\",$B$6=\"1 Lane\",$D$8=\"No\"),IF(OR((-233.8*LN(B46)+1715.1)>=C46,AND(B46>=1100,C46<80)),\"Not Met\",\"Met\"),\"N/A\")","v":{"$error":"#NUM!"}},{"$f":"IF(AND($B$5=\"2 or More Lanes\",$B$6=\"1 Lane\",$D$8=\"No\"),IF(OR((-263.2*LN(B46)+1970.2)>=C46,AND(B46>=1340,C46<80)),\"Not Met\",\"Met\"),\"N/A\")","v":"N/A"},{"$f":"IF(AND($B$5=\"1 Lane\",$B$6=\"2 or More Lanes\",$D$8=\"No\"),IF(OR((-270.1*LN(B46)+2014.4)>=C46,AND(B46>=1150,C46<115)),\"Not Met\",\"Met\"),\"N/A\")","v":"N/A"},{"$f":"IF(AND($B$5=\"2 or More Lanes\",$B$6=\"2 or More Lanes\",$D$8=\"No\"),IF(OR((-353.3*LN(B46)+2646.9)>=C46,AND(B46>=1320,C46<115)),\"Not Met\",\"Met\"),\"N/A\")","v":"N/A"},{"$f":"IF(AND($B$5=\"1 Lane\",$B$6=\"1 Lane\",$D$8=\"Yes\"),IF(OR((-161.6*LN(B46)+1129.1)>=C46,AND(B46>=760,C46<60)),\"Not Met\",\"Met\"),\"N/A\")","v":"N/A"},{"$f":"IF(AND($B$5=\"2 or More Lanes\",$B$6=\"1 Lane\",$D$8=\"Yes\"),IF(OR((-182.5*LN(B46)+1301.9)>=C46,AND(B46>=930,C46<60)),\"Not Met\",\"Met\"),\"N/A\")","v":"N/A"},{"$f":"IF(AND($B$5=\"1 Lane\",$B$6=\"2 or More Lanes\",$D$8=\"Yes\"),IF(OR((-186.6*LN(B46)+1326.1)>=C46,AND(B46>=800,C46<80)),\"Not Met\",\"Met\"),\"N/A\")","v":"N/A"},{"$f":"IF(AND($B$5=\"2 or More Lanes\",$B$6=\"2 or More Lanes\",$D$8=\"Yes\"),IF(OR((-251.5*LN(B46)+1789)>=C46,AND(B46>=900,C46<80)),\"Not Met\",\"Met\"),\"N/A\")","v":"N/A"},null,null,null,null,null,null,null,null,null,null,null,null,null,null,300,207,{"$f":"-161.6*LN(BY46)+1129.1","v":207.36875209555785},300,260,{"$f":"-182.5*LN(CB46)+1301.9","v":260.95969837524353},300,260,{"$f":"-186.6*LN(CE46)+1326.1","v":261.77419022915274}]
["08:15:00",{"$f":"'Traffic Volume Input'!N39","v":0},{"$f":"IF('Traffic Volume Input'!O39>'Traffic Volume Input'!P39,'Traffic Volume Input'!O39,'Traffic Volume Input'!P39)","v":0},"",null,null,"","","","","","","","","","","","","","","","","","","","","","","","","","","","","","","","","","","","","","","","","","","","","","","","",{"$error":"#NUM!"},"N/A","N/A","N/A","N/A","N/A","N/A","N/A",null,null,null,null,null,null,null,null,null,null,null,null,null,null,350,186,182.45800223547292,350,235,232.82719930676876,350,235,233.00967337338648,350,317,{"$f":"-251.5*LN(CH47)+1789","v":315.72981164741009}]
["08:30:00",{"$f":"'Traffic Volume Input'!N40","v":0},{"$f":"IF('Traffic Volume Input'!O40>'Traffic Volume Input'!P40,'Traffic Volume Input'!O40,'Traffic Volume Input'!P40)","v":0},"",null,null,"","","","","","","","","","","","","","","","","","","","","","","","","","","","","","","","","","","","","","","","","","","","","","","","",{"$error":"#NUM!"},"N/A","N/A","N/A","N/A","N/A","N/A","N/A",null,null,null,null,null,null,null,null,null,null,null,null,null,null,400,165,160.87932918735009,400,212,208.4577201527934,400,212,208.09271550965059,400,284,{"$f":"-251.5*LN(CH48)+1789","v":282.14666640234259}]
["08:45:00",{"$f":"'Traffic Volume Input'!N41","v":0},{"$f":"IF('Traffic Volume Input'!O41>'Traffic Volume Input'!P41,'Traffic Volume Input'!O41,'Traffic Volume Input'!P41)","v":0},"",null,null,"",{"$f":"IF(AND(G49=\"Met\",G48=\"\",G47=\"\",G46=\"\"),\"Met\",\"\")","v":""},{"$f":"IF(OR(H49=\"Met\",H48=\"Met\",H47=\"Met\",H46=\"Met\"),\"\",IF(G49=\"Met\",\"Met\",\"\"))","v":""},{"$f":"IF(AND(I49=\"Met\",I48=\"\",I47=\"\",I46=\"\"),\"Met\",\"\")","v":""},{"$f":"IF(OR(J49=\"Met\",J48=\"Met\",J47=\"Met\",J46=\"Met\"),\"\",IF(I49=\"Met\",\"Met\",\"\"))","v":""},{"$f":"IF(AND(K49=\"Met\",K48=\"\",K47=\"\",K46=\"\"),\"Met\",\"\")","v":""},{"$f":"IF(OR(L49=\"Met\",L48=\"Met\",L47=\"Met\",L46=\"Met\"),\"\",IF(K49=\"Met\",\"Met\",\"\"))","v":""},{"$f":"IF(AND(M49=\"Met\",M48=\"\",M47=\"\",M46=\"\"),\"Met\",\"\")","v":""},{"$f":"IF(OR(N49=\"Met\",N48=\"Met\",N47=\"Met\",N46=\"Met\"),\"\",IF(M49=\"Met\",\"Met\",\"\"))","v":""},{"$f":"IF(AND(O49=\"Met\",O48=\"\",O47=\"\",O46=\"\"),\"Met\",\"\")","v":""},{"$f":"IF(OR(P49=\"Met\",P48=\"Met\",P47=\"Met\",P46=\"Met\"),\"\",IF(O49=\"Met\",\"Met\",\"\"))","v":""},{"$f":"IF(AND(Q49=\"Met\",Q48=\"\",Q47=\"\",Q46=\"\"),\"Met\",\"\")","v":""},{"$f":"IF(OR(R49=\"Met\",R48=\"Met\",R47=\"Met\",R46=\"Met\"),\"\",IF(Q49=\"Met\",\"Met\",\"\"))","v":""},{"$f":"IF(AND(S49=\"Met\",S48=\"\",S47=\"\",S46=\"\"),\"Met\",\"\")","v":""},{"$f":"IF(OR(T49=\"Met\",T48=\"Met\",T47=\"Met\",T46=\"Met\"),\"\",IF(S49=\"Met\",\"Met\",\"\"))","v":""},{"$f":"IF(AND(U49=\"Met\",U48=\"\",U47=\"\",U46=\"\"),\"Met\",\"\")","v":""},{"$f":"IF(OR(V49=\"Met\",V48=\"Met\",V47=\"Met\",V46=\"Met\"),\"\",IF(U49=\"Met\",\"Met\",\"\"))","v":""},{"$f":"IF(AND(W49=\"Met\",W48=\"\",W47=\"\",W46=\"\"),\"Met\",\"\")","v":""},{"$f":"IF(OR(X49=\"Met\",X48=\"Met\",X47=\"Met\",X46=\"Met\"),\"\",IF(W49=\"Met\",\"Met\",\"\"))","v":""},{"$f":"IF(AND(Y49=\"Met\",Y48=\"\",Y47=\"\",Y46=\"\"),\"Met\",\"\")","v":""},{"$f":"IF(OR(Z49=\"Met\",Z48=\"Met\",Z47=\"Met\",Z46=\"Met\"),\"\",IF(Y49=\"Met\",\"Met\",\"\"))","v":""},{"$f":"IF(AND(AA49=\"Met\",AA48=\"\",AA47=\"\",AA46=\"\"),\"Met\",\"\")","v":""},{"$f":"IF(OR(AB49=\"Met\",AB48=\"Met\",AB47=\"Met\",AB46=\"Met\"),\"\",IF(AA49=\"Met\",\"Met\",\"\"))","v":""},{"$f":"IF(AND(AC49=\"Met\",AC48=\"\",AC47=\"\",AC46=\"\"),\"Met\",\"\")","v":""},{"$f":"IF(OR(AD49=\"Met\",AD48=\"Met\",AD47=\"Met\",AD46=\"Met\"),\"\",IF(AC49=\"Met\",\"Met\",\"\"))","v":""},{"$f":"IF(AND(AE49=\"Met\",AE48=\"\",AE47=\"\",AE46=\"\"),\"Met\",\"\")","v":""},{"$f":"IF(OR(AF49=\"Met\",AF48=\"Met\",AF47=\"Met\",AF46=\"Met\"),\"\",IF(AE49=\"Met\",\"Met\",\"\"))","v":""},{"$f":"IF(AND(AG49=\"Met\",AG48=\"\",AG47=\"\",AG46=\"\"),\"Met\",\"\")","v":""},{"$f":"IF(OR(AH49=\"Met\",AH48=\"Met\",AH47=\"Met\",AH46=\"Met\"),\"\",IF(AG49=\"Met\",\"Met\",\"\"))","v":""},{"$f":"IF(AND(AI49=\"Met\",AI48=\"\",AI47=\"\",AI46=\"\"),\"Met\",\"\")","v":""},{"$f":"IF(OR(AJ49=\"Met\",AJ48=\"Met\",AJ47=\"Met\",AJ46=\"Met\"),\"\",IF(AI49=\"Met\",\"Met\",\"\"))","v":""},{"$f":"IF(AND(AK49=\"Met\",AK48=\"\",AK47=\"\",AK46=\"\"),\"Met\",\"\")","v":""},{"$f":"IF(OR(AL49=\"Met\",AL48=\"Met\",AL47=\"Met\",AL46=\"Met\"),\"\",IF(AK49=\"Met\",\"Met\",\"\"))","v":""},{"$f":"IF(AND(AM49=\"Met\",AM48=\"\",AM47=\"\",AM46=\"\"),\"Met\",\"\")","v":""},{"$f":"IF(OR(AN49=\"Met\",AN48=\"Met\",AN47=\"Met\",AN46=\"Met\"),\"\",IF(AM49=\"Met\",\"Met\",\"\"))","v":""},{"$f":"IF(AND(AO49=\"Met\",AO48=\"\",AO47=\"\",AO46=\"\"),\"Met\",\"\")","v":""},{"$f":"IF(OR(AP49=\"Met\",AP48=\"Met\",AP47=\"Met\",AP46=\"Met\"),\"\",IF(AO49=\"Met\",\"Met\",\"\"))","v":""},{"$f":"IF(AND(AQ49=\"Met\",AQ48=\"\",AQ47=\"\",AQ46=\"\"),\"Met\",\"\")","v":""},{"$f":"IF(OR(AR49=\"Met\",AR48=\"Met\",AR47=\"Met\",AR46=\"Met\"),\"\",IF(AQ49=\"Met\",\"Met\",\"\"))","v":""},{"$f":"IF(AND(AS49=\"Met\",AS48=\"\",AS47=\"\",AS46=\"\"),\"Met\",\"\")","v":""},{"$f":"IF(OR(AT49=\"Met\",AT48=\"Met\",AT47=\"Met\",AT46=\"Met\"),\"\",IF(AS49=\"Met\",\"Met\",\"\"))","v":""},{"$f":"IF(AND(AU49=\"Met\",AU48=\"\",AU47=\"\",AU46=\"\"),\"Met\",\"\")","v":""},{"$f":"IF(OR(AV49=\"Met\",AV48=\"Met\",AV47=\"Met\",AV46=\"Met\"),\"\",IF(AU49=\"Met\",\"Met\",\"\"))","v":""},{"$f":"IF(AND(AW49=\"Met\",AW48=\"\",AW47=\"\",AW46=\"\"),\"Met\",\"\")","v":""},{"$f":"IF(OR(AX49=\"Met\",AX48=\"Met\",AX47=\"Met\",AX46=\"Met\"),\"\",IF(AW49=\"Met\",\"Met\",\"\"))","v":""},{"$f":"IF(AND(AY49=\"Met\",AY48=\"\",AY47=\"\",AY46=\"\"),\"Met\",\"\")","v":""},{"$f":"IF(OR(AZ49=\"Met\",AZ48=\"Met\",AZ47=\"Met\",AZ46=\"Met\"),\"\",IF(AY49=\"Met\",\"Met\",\"\"))","v":""},{"$f":"IF(AND(BA49=\"Met\",BA48=\"\",BA47=\"\",BA46=\"\"),\"Met\",\"\")","v":""},{"$error":"#NUM!"},"N/A","N/A","N/A","N/A","N/A","N/A","N/A",null,null,null,null,null,null,null,null,null,null,null,null,null,null,450,147,141.84559062527842,450,190,186.96231614550334,450,190,186.1144010561693,450,252,252.52423293476204]
["09:00:00",{"$f":"'Traffic Volume Input'!N42","v":0},{"$f":"IF('Traffic Volume Input'!O42>'Traffic Volume Input'!P42,'Traffic Volume Input'!O42,'Traffic Volume Input'!P42)","v":0},"",null,null,"","","","","","","","","","","","","","","","","","","","","","","","","","","","","","","","","","","","","","","","","","","","","","","","",{"$error":"#NUM!"},"N/A","N/A","N/A","N/A","N/A","N/A","N/A",null,null,null,null,null,null,null,null,null,null,null,null,null,null,500,127,124.81933129497384,500,170,167.73402203795013,500,170,166.45412883441895,500,null,226.02606324681892]
["09:15:00",{"$f":"'Traffic Volume Input'!N43","v":0},{"$f":"IF('Traffic Volume Input'!O43>'Traffic Volume Input'!P43,'Traffic Volume Input'!O43,'Traffic Volume Input'!P43)","v":0},"",null,null,"","","","","","","","","","","","","","","","","","","","","","","","","","","","","","","","","","","","","","","","","","","","","","","","",{"$error":"#NUM!"},"N/A","N/A","N/A","N/A","N/A","N/A","N/A",null,null,null,null,null,null,null,null,null,null,null,null,null,null,550,110,109.41720623859499,550,150,150.3399142236608,550,150,148.66924928293201,550,null,202.05555302603125]
["09:30:00",{"$f":"'Traffic Volume Input'!N44","v":0},{"$f":"IF('Traffic Volume Input'!O44>'Traffic Volume Input'!P44,'Traffic Volume Input'!O44,'Traffic Volume Input'!P44)","v":0},"",null,null,"","","","","","","","","","","","","","","","","","","","","","","","","","","","","","","","","","","","","","","","","","","","","","","","",{"$error":"#NUM!"},"N/A","N/A","N/A","N/A","N/A","N/A","N/A",null,null,null,null,null,null,null,null,null,null,null,null,null,null,600,93,95.356167717070775,600,132,134.46033792305343,600,132,132.43292633666715,600,175,180.17219171313923]
["09:45:00",{"$f":"'Traffic Volume Input'!N45","v":0},{"$f":"IF('Traffic Volume Input'!O45>'Traffic Volume Input'!P45,'Traffic Volume Input'!O45,'Traffic Volume Input'!P45)","v":0},"",null,null,"","","","","","","","","","","","","","","","","","","","","","","","","","","","","","","","","","","","","","","","","","","","","","","","",{"$error":"#NUM!"},"N/A","N/A","N/A","N/A","N/A","N/A","N/A",null,null,null,null,null,null,null,null,null,null,null,null,null,null,650,78,82.421266157027276,650,115,119.852543772633,650,115,117.49695708478521,650,null,160.0414507332448]
["10:00:00",{"$f":"'Traffic Volume Input'!N46","v":0},{"$f":"IF('Traffic Volume Input'!O46>'Traffic Volume Input'!P46,'Traffic Volume Input'!O46,'Traffic Volume Input'!P46)","v":0},"",null,null,"","","","","","","","","","","","","","","","","","","","","","","","","","","","","","","","","","","","","","","","","","","","","","","","",{"$error":"#NUM!"},"N/A","N/A","N/A","N/A","N/A","N/A","N/A",null,null,null,null,null,null,null,null,null,null,null,null,null,null,700,68,70.445417856985841,700,100,106.32783885457889,700,100,103.66840948090066,700,null,141.40329573658391]
["10:15:00",{"$f":"'Traffic Volume Input'!N47","v":0},{"$f":"IF('Traffic Volume Input'!O47>'Traffic Volume Input'!P47,'Traffic Volume Input'!O47,'Traffic Volume Input'!P47)","v":0},"",null,null,"","","","","","","","","","","","","","","","","","","","","","","","","","","","","","","","","","","","","","","","","","","","","","","","",{"$error":"#NUM!"},"N/A","N/A","N/A","N/A","N/A","N/A","N/A",null,null,null,null,null,null,null,null,null,null,null,null,null,null,760,60,57.155741181891017,750,90,93.736639808210157,750,90,90.794339661435515,750,null,124.05158855761556]
["10:30:00",{"$f":"'Traffic Volume Input'!N48","v":0},{"$f":"IF('Traffic Volume Input'!O48>'Traffic Volume Input'!P48,'Traffic Volume Input'!O48,'Traffic Volume Input'!P48)","v":0},"",null,null,"","","","","","","","","","","","","","","","","","","","","","","","","","","","","","","","","","","","","","","","","","","","","","","","",{"$error":"#NUM!"},"N/A","N/A","N/A","N/A","N/A","N/A","N/A",null,null,null,null,null,null,null,null,null,null,null,null,null,null,null,null,null,800,80,81.958359700603296,800,80,78.751451617164776,800,108,107.82015049151642]
["10:45:00",{"$f":"'Traffic Volume Input'!N49","v":0},{"$f":"IF('Traffic Volume Input'!O49>'Traffic Volume Input'!P49,'Traffic Volume Input'!O49,'Traffic Volume Input'!P49)","v":0},"",null,null,"","","","","","","","","","","","","","","","","","","","","","","","","","","","","","","","","","","","","","","","","","","","","","","","",{"$error":"#NUM!"},"N/A","N/A","N/A","N/A","N/A","N/A","N/A",null,null,null,null,null,null,null,null,null,null,null,null,null,null,null,null,null,850,71,70.894366219103858,null,null,null,850,94,92.573058104682787]
["11:00:00",{"$f":"'Traffic Volume Input'!N50","v":0},{"$f":"IF('Traffic Volume Input'!O50>'Traffic Volume Input'!P50,'Traffic Volume Input'!O50,'Traffic Volume Input'!P50)","v":0},"",null,null,"","","","","","","","","","","","","","","","","","","","","","","","","","","","","","","","","","","","","","","","","","","","","","","","",{"$error":"#NUM!"},"N/A","N/A","N/A","N/A","N/A","N/A","N/A",null,null,null,null,null,null,null,null,null,null,null,null,null,null,null,null,null,900,63,60.462955693313461,null,null,null,900,80,78.197717023935866]
["11:15:00",{"$f":"'Traffic Volume Input'!N51","v":0},{"$f":"IF('Traffic Volume Input'!O51>'Traffic Volume Input'!P51,'Traffic Volume Input'!O51,'Traffic Volume Input'!P51)","v":0},"",null,null,"","","","","","","","","","","","","","","","","","","","","","","","","","","","","","","","","","","","","","","","","","","","","","","","",{"$error":"#NUM!"},"N/A","N/A","N/A","N/A","N/A","N/A","N/A",null,null,null,null,null,null,null,null,null,null,null,null,null,null,null,null,null,930,60,54.478813028117656]
["11:30:00",{"$f":"'Traffic Volume Input'!N52","v":0},{"$f":"IF('Traffic Volume Input'!O52>'Traffic Volume Input'!P52,'Traffic Volume Input'!O52,'Traffic Volume Input'!P52)","v":0},"",null,null,"","","","","","","","","","","","","","","","","","","","","","","","","","","","","","","","","","","","","","","","","","","","","","","","",{"$error":"#NUM!"},"N/A","N/A","N/A","N/A","N/A","N/A","N/A"]
["11:45:00",{"$f":"'Traffic Volume Input'!N53","v":0},{"$f":"IF('Traffic Volume Input'!O53>'Traffic Volume Input'!P53,'Traffic Volume Input'!O53,'Traffic Volume Input'!P53)","v":0},"",null,null,"","","","","","","","","","","","","","","","","","","","","","","","","","","","","","","","","","","","","","","","","","","","","","","","",{"$error":"#NUM!"},"N/A","N/A","N/A","N/A","N/A","N/A","N/A"]
["12:00:00",{"$f":"'Traffic Volume Input'!N54","v":0},{"$f":"IF('Traffic Volume Input'!O54>'Traffic Volume Input'!P54,'Traffic Volume Input'!O54,'Traffic Volume Input'!P54)","v":0},"",null,null,"","","","","","","","","","","","","","","","","","","","","","","","","","","","","","","","","","","","","","","","","","","","","","","","",{"$error":"#NUM!"},"N/A","N/A","N/A","N/A","N/A","N/A","N/A"]
["12:15:00",{"$f":"'Traffic Volume Input'!N55","v":0},{"$f":"IF('Traffic Volume Input'!O55>'Traffic Volume Input'!P55,'Traffic Volume Input'!O55,'Traffic Volume Input'!P55)","v":0},"",null,null,"","","","","","","","","","","","","","","","","","","","","","","","","","","","","","","","","","","","","","","","","","","","","","","","",{"$error":"#NUM!"},"N/A","N/A","N/A","N/A","N/A","N/A","N/A"]
["12:30:00",{"$f":"'Traffic Volume Input'!N56","v":0},{"$f":"IF('Traffic Volume Input'!O56>'Traffic Volume Input'!P56,'Traffic Volume Input'!O56,'Traffic Volume Input'!P56)","v":0},"",null,null,"","","","","","","","","","","","","","","","","","","","","","","","","","","","","","","","","","","","","","","","","","","","","","","","",{"$error":"#NUM!"},"N/A","N/A","N/A","N/A","N/A","N/A","N/A"]
["12:45:00",{"$f":"'Traffic Volume Input'!N57","v":0},{"$f":"IF('Traffic Volume Input'!O57>'Traffic Volume Input'!P57,'Traffic Volume Input'!O57,'Traffic Volume Input'!P57)","v":0},"",null,null,"","","","","","","","","","","","","","","","","","","","","","","","","","","","","","","","","","","","","","","","","","","","","","","","",{"$error":"#NUM!"},"N/A","N/A","N/A","N/A","N/A","N/A","N/A",null,null,null,null,null,null,null,null,null,null,null,null,null,null,"y = -161.6ln(x) + 1129.1\n",null,null,"y = -182.5ln(x) + 1301.9\n",null,null,"y = -186.6ln(x) + 1326.1\n",null,null,"y = -251.5ln(x) + 1789\n\n"]
["13:00:00",{"$f":"'Traffic Volume Input'!N58","v":0},{"$f":"IF('Traffic Volume Input'!O58>'Traffic Volume Input'!P58,'Traffic Volume Input'!O58,'Traffic Volume Input'!P58)","v":0},"",null,null,"","","","","","","","","","","","","","","","","","","","","","","","","","","","","","","","","","","","","","","","","","","","","","","","",{"$error":"#NUM!"},"N/A","N/A","N/A","N/A","N/A","N/A","N/A"]
["13:15:00",{"$f":"'Traffic Volume Input'!N59","v":0},{"$f":"IF('Traffic Volume Input'!O59>'Traffic Volume Input'!P59,'Traffic Volume Input'!O59,'Traffic Volume Input'!P59)","v":0},"",null,null,"","","","","","","","","","","","","","","","","","","","","","","","","","","","","","","","","","","","","","","","","","","","","","","","",{"$error":"#NUM!"},"N/A","N/A","N/A","N/A","N/A","N/A","N/A"]
["13:30:00",{"$f":"'Traffic Volume Input'!N60","v":0},{"$f":"IF('Traffic Volume Input'!O60>'Traffic Volume Input'!P60,'Traffic Volume Input'!O60,'Traffic Volume Input'!P60)","v":0},"",null,null,"","","","","","","","","","","","","","","","","","","","","","","","","","","","","","","","","","","","","","","","","","","","","","","","",{"$error":"#NUM!"},"N/A","N/A","N/A","N/A","N/A","N/A","N/A"]
["13:45:00",{"$f":"'Traffic Volume Input'!N61","v":0},{"$f":"IF('Traffic Volume Input'!O61>'Traffic Volume Input'!P61,'Traffic Volume Input'!O61,'Traffic Volume Input'!P61)","v":0},"",null,null,"","","","","","","","","","","","","","","","","","","","","","","","","","","","","","","","","","","","","","","","","","","","","","","","",{"$error":"#NUM!"},"N/A","N/A","N/A","N/A","N/A","N/A","N/A"]
["14:00:00",{"$f":"'Traffic Volume Input'!N62","v":0},{"$f":"IF('Traffic Volume Input'!O62>'Traffic Volume Input'!P62,'Traffic Volume Input'!O62,'Traffic Volume Input'!P62)","v":0},"",null,null,"","","","","","","","","","","","","","","","","","","","","","","","","","","","","","","","","","","","","","","","","","","","","","","","",{"$error":"#NUM!"},"N/A","N/A","N/A","N/A","N/A","N/A","N/A"]
["14:15:00",{"$f":"'Traffic Volume Input'!N63","v":0},{"$f":"IF('Traffic Volume Input'!O63>'Traffic Volume Input'!P63,'Traffic Volume Input'!O63,'Traffic Volume Input'!P63)","v":0},"",null,null,"","","","","","","","","","","","","","","","","","","","","","","","","","","","","","","","","","","","","","","","","","","","","","","","",{"$error":"#NUM!"},"N/A","N/A","N/A","N/A","N/A","N/A","N/A"]
["14:30:00",{"$f":"'Traffic Volume Input'!N64","v":0},{"$f":"IF('Traffic Volume Input'!O64>'Traffic Volume Input'!P64,'Traffic Volume Input'!O64,'Traffic Volume Input'!P64)","v":0},"",null,null,"","","","","","","","","","","","","","","","","","","","","","","","","","","","","","","","","","","","","","","","","","","","","","","","",{"$error":"#NUM!"},"N/A","N/A","N/A","N/A","N/A","N/A","N/A"]
["14:45:00",{"$f":"'Traffic Volume Input'!N65","v":0},{"$f":"IF('Traffic Volume Input'!O65>'Traffic Volume Input'!P65,'Traffic Volume Input'!O65,'Traffic Volume Input'!P65)","v":0},"",null,null,"","","","","","","","","","","","","","","","","","","","","","","","","","","","","","","","","","","","","","","","","","","","","","","","",{"$error":"#NUM!"},"N/A","N/A","N/A","N/A","N/A","N/A","N/A"]
["15:00:00",{"$f":"'Traffic Volume Input'!N66","v":0},{"$f":"IF('Traffic Volume Input'!O66>'Traffic Volume Input'!P66,'Traffic Volume Input'!O66,'Traffic Volume Input'!P66)","v":0},"",null,null,"","","","","","","","","","","","","","","","","","","","","","","","","","","","","","","","","","","","","","","","","","","","","","","","",{"$error":"#NUM!"},"N/A","N/A","N/A","N/A","N/A","N/A","N/A"]
["15:15:00",{"$f":"'Traffic Volume Input'!N67","v":0},{"$f":"IF('Traffic Volume Input'!O67>'Traffic Volume Input'!P67,'Traffic Volume Input'!O67,'Traffic Volume Input'!P67)","v":0},"",null,null,"","","","","","","","","","","","","","","","","","","","","","","","","","","","","","","","","","","","","","","","","","","","","","","","",{"$error":"#NUM!"},"N/A","N/A","N/A","N/A","N/A","N/A","N/A"]
["15:30:00",{"$f":"'Traffic Volume Input'!N68","v":0},{"$f":"IF('Traffic Volume Input'!O68>'Traffic Volume Input'!P68,'Traffic Volume Input'!O68,'Traffic Volume Input'!P68)","v":0},"",null,null,"","","","","","","","","","","","","","","","","","","","","","","","","","","","","","","","","","","","","","","","","","","","","","","","",{"$error":"#NUM!"},"N/A","N/A","N/A","N/A","N/A","N/A","N/A"]
["15:45:00",{"$f":"'Traffic Volume Input'!N69","v":0},{"$f":"IF('Traffic Volume Input'!O69>'Traffic Volume Input'!P69,'Traffic Volume Input'!O69,'Traffic Volume Input'!P69)","v":0},"",null,null,"","","","","","","","","","","","","","","","","","","","","","","","","","","","","","","","","","","","","","","","","","","","","","","","",{"$error":"#NUM!"},"N/A","N/A","N/A","N/A","N/A","N/A","N/A"]
["16:00:00",{"$f":"'Traffic Volume Input'!N70","v":0},{"$f":"IF('Traffic Volume Input'!O70>'Traffic Volume Input'!P70,'Traffic Volume Input'!O70,'Traffic Volume Input'!P70)","v":0},"",null,null,"","","","","","","","","","","","","","","","","","","","","","","","","","","","","","","","","","","","","","","","","","","","","","","","",{"$f":"IF(AND($B$5=\"1 Lane\",$B$6=\"1 Lane\",$D$8=\"No\"),IF(OR((-233.8*LN(B78)+1715.1)>=C78,AND(B78>=1100,C78<80)),\"Not Met\",\"Met\"),\"N/A\")","v":{"$error":"#NUM!"}},{"$f":"IF(AND($B$5=\"2 or More Lanes\",$B$6=\"1 Lane\",$D$8=\"No\"),IF(OR((-263.2*LN(B78)+1970.2)>=C78,AND(B78>=1340,C78<80)),\"Not Met\",\"Met\"),\"N/A\")","v":"N/A"},{"$f":"IF(AND($B$5=\"1 Lane\",$B$6=\"2 or More Lanes\",$D$8=\"No\"),IF(OR((-270.1*LN(B78)+2014.4)>=C78,AND(B78>=1150,C78<115)),\"Not Met\",\"Met\"),\"N/A\")","v":"N/A"},{"$f":"IF(AND($B$5=\"2 or More Lanes\",$B$6=\"2 or More Lanes\",$D$8=\"No\"),IF(OR((-353.3*LN(B78)+2646.9)>=C78,AND(B78>=1320,C78<115)),\"Not Met\",\"Met\"),\"N/A\")","v":"N/A"},{"$f":"IF(AND($B$5=\"1 Lane\",$B$6=\"1 Lane\",$D$8=\"Yes\"),IF(OR((-161.6*LN(B78)+1129.1)>=C78,AND(B78>=760,C78<60)),\"Not Met\",\"Met\"),\"N/A\")","v":"N/A"},{"$f":"IF(AND($B$5=\"2 or More Lanes\",$B$6=\"1 Lane\",$D$8=\"Yes\"),IF(OR((-182.5*LN(B78)+1301.9)>=C78,AND(B78>=930,C78<60)),\"Not Met\",\"Met\"),\"N/A\")","v":"N/A"},{"$f":"IF(AND($B$5=\"1 Lane\",$B$6=\"2 or More Lanes\",$D$8=\"Yes\"),IF(OR((-186.6*LN(B78)+1326.1)>=C78,AND(B78>=800,C78<80)),\"Not Met\",\"Met\"),\"N/A\")","v":"N/A"},{"$f":"IF(AND($B$5=\"2 or More Lanes\",$B$6=\"2 or More Lanes\",$D$8=\"Yes\"),IF(OR((-251.5*LN(B78)+1789)>=C78,AND(B78>=900,C78<80)),\"Not Met\",\"Met\"),\"N/A\")","v":"N/A"}]
["16:15:00",{"$f":"'Traffic Volume Input'!N71","v":0},{"$f":"IF('Traffic Volume Input'!O71>'Traffic Volume Input'!P71,'Traffic Volume Input'!O71,'Traffic Volume Input'!P71)","v":0},{"$f":"IF(AND(B79=0,C79=0),\"\",IF(OR(BC79=\"Met\",BD79=\"Met\",BE79=\"Met\",BF79=\"Met\",BG79=\"Met\",BH79=\"Met\",BI79=\"Met\",BJ79=\"Met\"),\"Met\",\"\"))","v":""},null,null,{"$f":"D79","v":""},"","","","","","","","","","","","","","","","","","","","","","","","","","","","","","","","","","","","","","","","","","","","","","","",{"$error":"#NUM!"},"N/A","N/A","N/A","N/A","N/A","N/A","N/A"]
["16:30:00",{"$f":"'Traffic Volume Input'!N72","v":0},{"$f":"IF('Traffic Volume Input'!O72>'Traffic Volume Input'!P72,'Traffic Volume Input'!O72,'Traffic Volume Input'!P72)","v":0},"",null,null,"","","","","","","","","","","","","","","","","","","","","","","","","","","","","","","","","","","","","","","","","","","","","","","","",{"$error":"#NUM!"},"N/A","N/A","N/A","N/A","N/A","N/A","N/A"]
["16:45:00",{"$f":"'Traffic Volume Input'!N73","v":0},{"$f":"IF('Traffic Volume Input'!O73>'Traffic Volume Input'!P73,'Traffic Volume Input'!O73,'Traffic Volume Input'!P73)","v":0},"",null,null,"",{"$f":"IF(AND(G81=\"Met\",G80=\"\",G79=\"\",G78=\"\"),\"Met\",\"\")","v":""},{"$f":"IF(OR(H81=\"Met\",H80=\"Met\",H79=\"Met\",H78=\"Met\"),\"\",IF(G81=\"Met\",\"Met\",\"\"))","v":""},{"$f":"IF(AND(I81=\"Met\",I80=\"\",I79=\"\",I78=\"\"),\"Met\",\"\")","v":""},{"$f":"IF(OR(J81=\"Met\",J80=\"Met\",J79=\"Met\",J78=\"Met\"),\"\",IF(I81=\"Met\",\"Met\",\"\"))","v":""},{"$f":"IF(AND(K81=\"Met\",K80=\"\",K79=\"\",K78=\"\"),\"Met\",\"\")","v":""},{"$f":"IF(OR(L81=\"Met\",L80=\"Met\",L79=\"Met\",L78=\"Met\"),\"\",IF(K81=\"Met\",\"Met\",\"\"))","v":""},{"$f":"IF(AND(M81=\"Met\",M80=\"\",M79=\"\",M78=\"\"),\"Met\",\"\")","v":""},{"$f":"IF(OR(N81=\"Met\",N80=\"Met\",N79=\"Met\",N78=\"Met\"),\"\",IF(M81=\"Met\",\"Met\",\"\"))","v":""},{"$f":"IF(AND(O81=\"Met\",O80=\"\",O79=\"\",O78=\"\"),\"Met\",\"\")","v":""},{"$f":"IF(OR(P81=\"Met\",P80=\"Met\",P79=\"Met\",P78=\"Met\"),\"\",IF(O81=\"Met\",\"Met\",\"\"))","v":""},{"$f":"IF(AND(Q81=\"Met\",Q80=\"\",Q79=\"\",Q78=\"\"),\"Met\",\"\")","v":""},{"$f":"IF(OR(R81=\"Met\",R80=\"Met\",R79=\"Met\",R78=\"Met\"),\"\",IF(Q81=\"Met\",\"Met\",\"\"))","v":""},{"$f":"IF(AND(S81=\"Met\",S80=\"\",S79=\"\",S78=\"\"),\"Met\",\"\")","v":""},{"$f":"IF(OR(T81=\"Met\",T80=\"Met\",T79=\"Met\",T78=\"Met\"),\"\",IF(S81=\"Met\",\"Met\",\"\"))","v":""},{"$f":"IF(AND(U81=\"Met\",U80=\"\",U79=\"\",U78=\"\"),\"Met\",\"\")","v":""},{"$f":"IF(OR(V81=\"Met\",V80=\"Met\",V79=\"Met\",V78=\"Met\"),\"\",IF(U81=\"Met\",\"Met\",\"\"))","v":""},{"$f":"IF(AND(W81=\"Met\",W80=\"\",W79=\"\",W78=\"\"),\"Met\",\"\")","v":""},{"$f":"IF(OR(X81=\"Met\",X80=\"Met\",X79=\"Met\",X78=\"Met\"),\"\",IF(W81=\"Met\",\"Met\",\"\"))","v":""},{"$f":"IF(AND(Y81=\"Met\",Y80=\"\",Y79=\"\",Y78=\"\"),\"Met\",\"\")","v":""},{"$f":"IF(OR(Z81=\"Met\",Z80=\"Met\",Z79=\"Met\",Z78=\"Met\"),\"\",IF(Y81=\"Met\",\"Met\",\"\"))","v":""},{"$f":"IF(AND(AA81=\"Met\",AA80=\"\",AA79=\"\",AA78=\"\"),\"Met\",\"\")","v":""},{"$f":"IF(OR(AB81=\"Met\",AB80=\"Met\",AB79=\"Met\",AB78=\"Met\"),\"\",IF(AA81=\"Met\",\"Met\",\"\"))","v":""},{"$f":"IF(AND(AC81=\"Met\",AC80=\"\",AC79=\"\",AC78=\"\"),\"Met\",\"\")","v":""},{"$f":"IF(OR(AD81=\"Met\",AD80=\"Met\",AD79=\"Met\",AD78=\"Met\"),\"\",IF(AC81=\"Met\",\"Met\",\"\"))","v":""},{"$f":"IF(AND(AE81=\"Met\",AE80=\"\",AE79=\"\",AE78=\"\"),\"Met\",\"\")","v":""},{"$f":"IF(OR(AF81=\"Met\",AF80=\"Met\",AF79=\"Met\",AF78=\"Met\"),\"\",IF(AE81=\"Met\",\"Met\",\"\"))","v":""},{"$f":"IF(AND(AG81=\"Met\",AG80=\"\",AG79=\"\",AG78=\"\"),\"Met\",\"\")","v":""},{"$f":"IF(OR(AH81=\"Met\",AH80=\"Met\",AH79=\"Met\",AH78=\"Met\"),\"\",IF(AG81=\"Met\",\"Met\",\"\"))","v":""},{"$f":"IF(AND(AI81=\"Met\",AI80=\"\",AI79=\"\",AI78=\"\"),\"Met\",\"\")","v":""},{"$f":"IF(OR(AJ81=\"Met\",AJ80=\"Met\",AJ79=\"Met\",AJ78=\"Met\"),\"\",IF(AI81=\"Met\",\"Met\",\"\"))","v":""},{"$f":"IF(AND(AK81=\"Met\",AK80=\"\",AK79=\"\",AK78=\"\"),\"Met\",\"\")","v":""},{"$f":"IF(OR(AL81=\"Met\",AL80=\"Met\",AL79=\"Met\",AL78=\"Met\"),\"\",IF(AK81=\"Met\",\"Met\",\"\"))","v":""},{"$f":"IF(AND(AM81=\"Met\",AM80=\"\",AM79=\"\",AM78=\"\"),\"Met\",\"\")","v":""},{"$f":"IF(OR(AN81=\"Met\",AN80=\"Met\",AN79=\"Met\",AN78=\"Met\"),\"\",IF(AM81=\"Met\",\"Met\",\"\"))","v":""},{"$f":"IF(AND(AO81=\"Met\",AO80=\"\",AO79=\"\",AO78=\"\"),\"Met\",\"\")","v":""},{"$f":"IF(OR(AP81=\"Met\",AP80=\"Met\",AP79=\"Met\",AP78=\"Met\"),\"\",IF(AO81=\"Met\",\"Met\",\"\"))","v":""},{"$f":"IF(AND(AQ81=\"Met\",AQ80=\"\",AQ79=\"\",AQ78=\"\"),\"Met\",\"\")","v":""},{"$f":"IF(OR(AR81=\"Met\",AR80=\"Met\",AR79=\"Met\",AR78=\"Met\"),\"\",IF(AQ81=\"Met\",\"Met\",\"\"))","v":""},{"$f":"IF(AND(AS81=\"Met\",AS80=\"\",AS79=\"\",AS78=\"\"),\"Met\",\"\")","v":""},{"$f":"IF(OR(AT81=\"Met\",AT80=\"Met\",AT79=\"Met\",AT78=\"Met\"),\"\",IF(AS81=\"Met\",\"Met\",\"\"))","v":""},{"$f":"IF(AND(AU81=\"Met\",AU80=\"\",AU79=\"\",AU78=\"\"),\"Met\",\"\")","v":""},{"$f":"IF(OR(AV81=\"Met\",AV80=\"Met\",AV79=\"Met\",AV78=\"Met\"),\"\",IF(AU81=\"Met\",\"Met\",\"\"))","v":""},{"$f":"IF(AND(AW81=\"Met\",AW80=\"\",AW79=\"\",AW78=\"\"),\"Met\",\"\")","v":""},{"$f":"IF(OR(AX81=\"Met\",AX80=\"Met\",AX79=\"Met\",AX78=\"Met\"),\"\",IF(AW81=\"Met\",\"Met\",\"\"))","v":""},{"$f":"IF(AND(AY81=\"Met\",AY80=\"\",AY79=\"\",AY78=\"\"),\"Met\",\"\")","v":""},{"$f":"IF(OR(AZ81=\"Met\",AZ80=\"Met\",AZ79=\"Met\",AZ78=\"Met\"),\"\",IF(AY81=\"Met\",\"Met\",\"\"))","v":""},{"$f":"IF(AND(BA81=\"Met\",BA80=\"\",BA79=\"\",BA78=\"\"),\"Met\",\"\")","v":""},{"$error":"#NUM!"},"N/A","N/A","N/A","N/A","N/A","N/A","N/A"]
["17:00:00",{"$f":"'Traffic Volume Input'!N74","v":0},{"$f":"IF('Traffic Volume Input'!O74>'Traffic Volume Input'!P74,'Traffic Volume Input'!O74,'Traffic Volume Input'!P74)","v":0},"",null,null,"","","","","","","","","","","","","","","","","","","","","","","","","","","","","","","","","","","","","","","","","","","","","","","","",{"$error":"#NUM!"},"N/A","N/A","N/A","N/A","N/A","N/A","N/A"]
["17:15:00",{"$f":"'Traffic Volume Input'!N75","v":0},{"$f":"IF('Traffic Volume Input'!O75>'Traffic Volume Input'!P75,'Traffic Volume Input'!O75,'Traffic Volume Input'!P75)","v":0},"",null,null,"","","","","","","","","","","","","","","","","","","","","","","","","","","","","","","","","","","","","","","","","","","","","","","","",{"$error":"#NUM!"},"N/A","N/A","N/A","N/A","N/A","N/A","N/A"]
["17:30:00",{"$f":"'Traffic Volume Input'!N76","v":0},{"$f":"IF('Traffic Volume Input'!O76>'Traffic Volume Input'!P76,'Traffic Volume Input'!O76,'Traffic Volume Input'!P76)","v":0},"",null,null,"","","","","","","","","","","","","","","","","","","","","","","","","","","","","","","","","","","","","","","","","","","","","","","","",{"$error":"#NUM!"},"N/A","N/A","N/A","N/A","N/A","N/A","N/A"]
["17:45:00",{"$f":"'Traffic Volume Input'!N77","v":0},{"$f":"IF('Traffic Volume Input'!O77>'Traffic Volume Input'!P77,'Traffic Volume Input'!O77,'Traffic Volume Input'!P77)","v":0},"",null,null,"","","","","","","","","","","","","","","","","","","","","","","","","","","","","","","","","","","","","","","","","","","","","","","","",{"$error":"#NUM!"},"N/A","N/A","N/A","N/A","N/A","N/A","N/A"]
["18:00:00",{"$f":"'Traffic Volume Input'!N78","v":0},{"$f":"IF('Traffic Volume Input'!O78>'Traffic Volume Input'!P78,'Traffic Volume Input'!O78,'Traffic Volume Input'!P78)","v":0},"",null,null,"","","","","","","","","","","","","","","","","","","","","","","","","","","","","","","","","","","","","","","","","","","","","","","","",{"$error":"#NUM!"},"N/A","N/A","N/A","N/A","N/A","N/A","N/A"]
["18:15:00",{"$f":"'Traffic Volume Input'!N79","v":0},{"$f":"IF('Traffic Volume Input'!O79>'Traffic Volume Input'!P79,'Traffic Volume Input'!O79,'Traffic Volume Input'!P79)","v":0},"",null,null,"","","","","","","","","","","","","","","","","","","","","","","","","","","","","","","","","","","","","","","","","","","","","","","","",{"$error":"#NUM!"},"N/A","N/A","N/A","N/A","N/A","N/A","N/A"]
["18:30:00",{"$f":"'Traffic Volume Input'!N80","v":0},{"$f":"IF('Traffic Volume Input'!O80>'Traffic Volume Input'!P80,'Traffic Volume Input'!O80,'Traffic Volume Input'!P80)","v":0},"",null,null,"","","","","","","","","","","","","","","","","","","","","","","","","","","","","","","","","","","","","","","","","","","","","","","","",{"$error":"#NUM!"},"N/A","N/A","N/A","N/A","N/A","N/A","N/A"]
["18:45:00",{"$f":"'Traffic Volume Input'!N81","v":0},{"$f":"IF('Traffic Volume Input'!O81>'Traffic Volume Input'!P81,'Traffic Volume Input'!O81,'Traffic Volume Input'!P81)","v":0},"",null,null,"","","","","","","","","","","","","","","","","","","","","","","","","","","","","","","","","","","","","","","","","","","","","","","","",{"$error":"#NUM!"},"N/A","N/A","N/A","N/A","N/A","N/A","N/A"]
["19:00:00",{"$f":"'Traffic Volume Input'!N82","v":0},{"$f":"IF('Traffic Volume Input'!O82>'Traffic Volume Input'!P82,'Traffic Volume Input'!O82,'Traffic Volume Input'!P82)","v":0},"",null,null,"","","","","","","","","","","","","","","","","","","","","","","","","","","","","","","","","","","","","","","","","","","","","","","","",{"$error":"#NUM!"},"N/A","N/A","N/A","N/A","N/A","N/A","N/A"]
["19:15:00",{"$f":"'Traffic Volume Input'!N83","v":0},{"$f":"IF('Traffic Volume Input'!O83>'Traffic Volume Input'!P83,'Traffic Volume Input'!O83,'Traffic Volume Input'!P83)","v":0},"",null,null,"","","","","","","","","","","","","","","","","","","","","","","","","","","","","","","","","","","","","","","","","","","","","","","","",{"$error":"#NUM!"},"N/A","N/A","N/A","N/A","N/A","N/A","N/A"]
["19:30:00",{"$f":"'Traffic Volume Input'!N84","v":0},{"$f":"IF('Traffic Volume Input'!O84>'Traffic Volume Input'!P84,'Traffic Volume Input'!O84,'Traffic Volume Input'!P84)","v":0},"",null,null,"","","","","","","","","","","","","","","","","","","","","","","","","","","","","","","","","","","","","","","","","","","","","","","","",{"$error":"#NUM!"},"N/A","N/A","N/A","N/A","N/A","N/A","N/A"]
["19:45:00",{"$f":"'Traffic Volume Input'!N85","v":0},{"$f":"IF('Traffic Volume Input'!O85>'Traffic Volume Input'!P85,'Traffic Volume Input'!O85,'Traffic Volume Input'!P85)","v":0},"",null,null,"","","","","","","","","","","","","","","","","","","","","","","","","","","","","","","","","","","","","","","","","","","","","","","","",{"$error":"#NUM!"},"N/A","N/A","N/A","N/A","N/A","N/A","N/A"]
["20:00:00",{"$f":"'Traffic Volume Input'!N86","v":0},{"$f":"IF('Traffic Volume Input'!O86>'Traffic Volume Input'!P86,'Traffic Volume Input'!O86,'Traffic Volume Input'!P86)","v":0},"",null,null,"","","","","","","","","","","","","","","","","","","","","","","","","","","","","","","","","","","","","","","","","","","","","","","","",{"$error":"#NUM!"},"N/A","N/A","N/A","N/A","N/A","N/A","N/A"]
["20:15:00",{"$f":"'Traffic Volume Input'!N87","v":0},{"$f":"IF('Traffic Volume Input'!O87>'Traffic Volume Input'!P87,'Traffic Volume Input'!O87,'Traffic Volume Input'!P87)","v":0},"",null,null,"","","","","","","","","","","","","","","","","","","","","","","","","","","","","","","","","","","","","","","","","","","","","","","","",{"$error":"#NUM!"},"N/A","N/A","N/A","N/A","N/A","N/A","N/A"]
["20:30:00",{"$f":"'Traffic Volume Input'!N88","v":0},{"$f":"IF('Traffic Volume Input'!O88>'Traffic Volume Input'!P88,'Traffic Volume Input'!O88,'Traffic Volume Input'!P88)","v":0},"",null,null,"","","","","","","","","","","","","","","","","","","","","","","","","","","","","","","","","","","","","","","","","","","","","","","","",{"$error":"#NUM!"},"N/A","N/A","N/A","N/A","N/A","N/A","N/A"]
["20:45:00",{"$f":"'Traffic Volume Input'!N89","v":0},{"$f":"IF('Traffic Volume Input'!O89>'Traffic Volume Input'!P89,'Traffic Volume Input'!O89,'Traffic Volume Input'!P89)","v":0},"",null,null,"","","","","","","","","","","","","","","","","","","","","","","","","","","","","","","","","","","","","","","","","","","","","","","","",{"$error":"#NUM!"},"N/A","N/A","N/A","N/A","N/A","N/A","N/A"]
["21:00:00",{"$f":"'Traffic Volume Input'!N90","v":0},{"$f":"IF('Traffic Volume Input'!O90>'Traffic Volume Input'!P90,'Traffic Volume Input'!O90,'Traffic Volume Input'!P90)","v":0},"",null,null,"","","","","","","","","","","","","","","","","","","","","","","","","","","","","","","","","","","","","","","","","","","","","","","","",{"$error":"#NUM!"},"N/A","N/A","N/A","N/A","N/A","N/A","N/A"]
["21:15:00",{"$f":"'Traffic Volume Input'!N91","v":0},{"$f":"IF('Traffic Volume Input'!O91>'Traffic Volume Input'!P91,'Traffic Volume Input'!O91,'Traffic Volume Input'!P91)","v":0},"",null,null,"","","","","","","","","","","","","","","","","","","","","","","","","","","","","","","","","","","","","","","","","","","","","","","","",{"$error":"#NUM!"},"N/A","N/A","N/A","N/A","N/A","N/A","N/A"]
["21:30:00",{"$f":"'Traffic Volume Input'!N92","v":0},{"$f":"IF('Traffic Volume Input'!O92>'Traffic Volume Input'!P92,'Traffic Volume Input'!O92,'Traffic Volume Input'!P92)","v":0},"",null,null,"","","","","","","","","","","","","","","","","","","","","","","","","","","","","","","","","","","","","","","","","","","","","","","","",{"$error":"#NUM!"},"N/A","N/A","N/A","N/A","N/A","N/A","N/A"]
["21:45:00",{"$f":"'Traffic Volume Input'!N93","v":0},{"$f":"IF('Traffic Volume Input'!O93>'Traffic Volume Input'!P93,'Traffic Volume Input'!O93,'Traffic Volume Input'!P93)","v":0},"",null,null,"","","","","","","","","","","","","","","","","","","","","","","","","","","","","","","","","","","","","","","","","","","","","","","","",{"$error":"#NUM!"},"N/A","N/A","N/A","N/A","N/A","N/A","N/A"]
["22:00:00",{"$f":"'Traffic Volume Input'!N94","v":0},{"$f":"IF('Traffic Volume Input'!O94>'Traffic Volume Input'!P94,'Traffic Volume Input'!O94,'Traffic Volume Input'!P94)","v":0},"",null,null,"","","","","","","","","","","","","","","","","","","","","","","","","","","","","","","","","","","","","","","","","","","","","","","","",{"$error":"#NUM!"},"N/A","N/A","N/A","N/A","N/A","N/A","N/A"]
["22:15:00",{"$f":"'Traffic Volume Input'!N95","v":0},{"$f":"IF('Traffic Volume Input'!O95>'Traffic Volume Input'!P95,'Traffic Volume Input'!O95,'Traffic Volume Input'!P95)","v":0},"",null,null,"","","","","","","","","","","","","","","","","","","","","","","","","","","","","","","","","","","","","","","","","","","","","","","","",{"$error":"#NUM!"},"N/A","N/A","N/A","N/A","N/A","N/A","N/A"]
["22:30:00",{"$f":"'Traffic Volume Input'!N96","v":0},{"$f":"IF('Traffic Volume Input'!O96>'Traffic Volume Input'!P96,'Traffic Volume Input'!O96,'Traffic Volume Input'!P96)","v":0},"",null,null,"","","","","","","","","","","","","","","","","","","","","","","","","","","","","","","","","","","","","","","","","","","","","","","","",{"$error":"#NUM!"},"N/A","N/A","N/A","N/A","N/A","N/A","N/A"]
["22:45:00",{"$f":"'Traffic Volume Input'!N97","v":0},{"$f":"IF('Traffic Volume Input'!O97>'Traffic Volume Input'!P97,'Traffic Volume Input'!O97,'Traffic Volume Input'!P97)","v":0},"",null,null,"","","","","","","","","","","","","","","","","","","","","","","","","","","","","","","","","","","","","","","","","","","","","","","","",{"$error":"#NUM!"},"N/A","N/A","N/A","N/A","N/A","N/A","N/A"]
["23:00:00",{"$f":"'Traffic Volume Input'!N98","v":0},{"$f":"IF('Traffic Volume Input'!O98>'Traffic Volume Input'!P98,'Traffic Volume Input'!O98,'Traffic Volume Input'!P98)","v":0},{"$f":"IF(AND(B106=0,C106=0),\"\",IF(OR(BC106=\"Met\",BD106=\"Met\",BE106=\"Met\",BF106=\"Met\",BG106=\"Met\",BH106=\"Met\",BI106=\"Met\",BJ106=\"Met\"),\"Met\",\"\"))","v":""},null,null,"","","","","","","","","","","","","","","","","","","","","","","","","","","","","","","","","","","","","","","","","","","","","","","","",{"$error":"#NUM!"},"N/A","N/A","N/A","N/A","N/A","N/A","N/A"]
[null,null,null,null,null,null,null,{"$f":"COUNTIF(H14:H106,\"Met\")","v":0},null,{"$f":"COUNTIF(J14:J106,\"Met\")","v":0},null,{"$f":"COUNTIF(L14:L106,\"Met\")","v":0},null,{"$f":"COUNTIF(N14:N106,\"Met\")","v":0},null,{"$f":"COUNTIF(P14:P106,\"Met\")","v":0},null,{"$f":"COUNTIF(R14:R106,\"Met\")","v":0},null,{"$f":"COUNTIF(T14:T106,\"Met\")","v":0},null,{"$f":"COUNTIF(V14:V106,\"Met\")","v":0},null,{"$f":"COUNTIF(X14:X106,\"Met\")","v":0},null,{"$f":"COUNTIF(Z14:Z106,\"Met\")","v":0},null,{"$f":"COUNTIF(AB14:AB106,\"Met\")","v":0},null,{"$f":"COUNTIF(AD14:AD106,\"Met\")","v":0},null,{"$f":"COUNTIF(AF14:AF106,\"Met\")","v":0},null,{"$f":"COUNTIF(AH14:AH106,\"Met\")","v":0},null,{"$f":"COUNTIF(AJ14:AJ106,\"Met\")","v":0},null,{"$f":"COUNTIF(AL14:AL106,\"Met\")","v":0},null,{"$f":"COUNTIF(AN14:AN106,\"Met\")","v":0},null,{"$f":"COUNTIF(AP14:AP106,\"Met\")","v":0},null,{"$f":"COUNTIF(AR14:AR106,\"Met\")","v":0},null,{"$f":"COUNTIF(AT14:AT106,\"Met\")","v":0},null,{"$f":"COUNTIF(AV14:AV106,\"Met\")","v":0},null,{"$f":"COUNTIF(AX14:AX106,\"Met\")","v":0},null,{"$f":"COUNTIF(AZ14:AZ106,\"Met\")","v":0},null,{"$f":"COUNTIF(BB14:BB106,\"Met\")","v":0}]

{"sheet":"Warrant 3 - MUTCD","index":7,"n_rows":128,"n_cols":91,"rows_kept":128,"cut":false,"hidden":false,"merged":[[79,85,79,87],[79,88,79,90],[16,0,18,2],[19,0,21,2],[56,85,57,87],[56,88,57,90],[32,54,32,57],[32,58,32,61],[54,79,54,81],[54,82,54,84],[54,85,54,87],[54,88,54,90],[32,85,32,87],[32,88,32,90],[79,79,79,81],[79,82,79,84],[32,79,32,81],[32,82,32,84],[56,79,57,81],[56,82,57,84],[32,6,33,53],[7,0,8,2],[0,0,0,3],[2,0,3,1],[7,3,8,3],[31,0,31,3],[32,3,33,3],[22,0,24,2],[14,0,15,3],[25,0,25,2],[10,0,12,2]]}
["MUTCD WARRANT 3, PEAK HOUR",null,null,null,null,"↓"]
[]
["Number of Lanes for Moving Traffic on Each Approach"]
[]
["Major Street:",{"$f":"IF('Input&Findings'!$D$20=1,\"1 Lane\",\"2 or More Lanes\")","v":"1 Lane"}]
["Minor Street:",{"$f":"IF('Input&Findings'!$D$29=1,\"1 Lane\",\"2 or More Lanes\")","v":"1 Lane"}]
[]
["Built-up Isolated Community With Less Than 10,000 Population or Above 40 MPH on Major Street?",null,null,{"$f":"IF(OR('Input&Findings'!$E$12=\"Yes\",'Input&Findings'!$D$21>40),\"Yes\",\"No\")","v":"No"}]
[]
[]
["Is this signal warrant being applied for an unusual case, such as office complexes, manufacturing plants, industrial complexes, or high-occupancy vehicle facilities that attract or discharge large numbers of vehicles over a short time?"]
[null,null,null,"N/A"]
[]
[]
["Indicate whether all three of the following conditions for the same 1 hour (any four consecutive 15-minute periods) of an average day are present*"]
[]
["Does the total stopped time delay experienced by the traffic on one minor-street approach (one direction only) controlled by a STOP sign equal or exceed 4 vehicle-hours for a one-lane approach or 5 vehicle-hours for a two-lane approach?"]
[null,null,null,"N/A"]
[]
["Does the volume on the same minor-street approach (one direction only) equal or exceed 100 vehicles per hour for one moving lane of traffic or 150 vehicles per hour for two moving lanes?"]
[null,null,null,"N/A"]
[]
["Does the total entering volume serviced during the hour equal or exceed 650 vehicles per hour for intersection with three approaches or 800 vehicles per hour for intersections with four or more approaches?"]
[null,null,null,"N/A"]
[]
["*If applicable, attach all supporting calculations and documentation."]
[]
[null,null,null,"Total Number of Unique Hours Met"]
[null,null,null,{"$f":"IF($D$8=\"No\",\"On Figure 4C-3\",\"On Figure 4C-4\")","v":"On Figure 4C-3"}]
[null,null,null,{"$f":"SUM(G128:BB128)","v":0}]
[]
["Hourly Vehicular Volume"]
["Hour Interval","Major Street Combined","Highest Minor Street Approach","Hour Met?",null,null,"Unique Hour Validations",null,null,null,null,null,null,null,null,null,null,null,null,null,null,null,null,null,null,null,null,null,null,null,null,null,null,null,null,null,null,null,null,null,null,null,null,null,null,null,null,null,null,null,null,null,null,null,"Figure 4C-3 Validations",null,null,null,"Figure 4C-4 Validations",null,null,null,null,null,null,null,null,null,null,null,null,null,null,null,null,null,null,null,null,"4C-3: 1Lane/1Lane",null,null,"4C-3: 2Lane(Major)/1Lane",null,null,"4C-3: 2Lane(Minor)/1Lane",null,null,"4C-3: 2Lane/2Lane"]
["Beginning At","Vehicles Per Hour (VPH)","Vehicles Per Hour (VPH)",null,null,null,null,null,null,null,null,null,null,null,null,null,null,null,null,null,null,null,null,null,null,null,null,null,null,null,null,null,null,null,null,null,null,null,null,null,null,null,null,null,null,null,null,null,null,null,null,null,null,null,"1Lane/1Lane","2MajorLanes/1Lane","2MinorLanes/1Lane","2Lanes/2Lanes","1Lane/1Lane","2MajorLanes/1Lane","2MinorLanes/1Lane","2Lanes/2Lanes",null,null,null,null,null,null,null,null,null,null,null,null,null,null,null,null,null,"Trend","Trend","Test","Trend","Trend","Test","Trend","Trend","Test","Trend","Trend","Test"]
["00:00:00",{"$f":"'Traffic Volume Input'!N6","v":0},{"$f":"IF('Traffic Volume Input'!O6>'Traffic Volume Input'!P6,'Traffic Volume Input'!O6,'Traffic Volume Input'!P6)","v":0},{"$f":"IF(AND(B35=0,C35=0),\"\",IF(OR(BC35=\"Met\",BD35=\"Met\",BE35=\"Met\",BF35=\"Met\",BG35=\"Met\",BH35=\"Met\",BI35=\"Met\",BJ35=\"Met\"),\"Met\",\"\"))","v":""},null,null,{"$f":"D35","v":""},{"$f":"IF(G35=\"Met\",\"Met\",\"\")","v":""},{"$f":"IF(AND(H35=\"Met\",G35=\"Met\"),\"\",\"\")","v":""},{"$f":"IF(I35=\"Met\",\"Met\",\"\")","v":""},{"$f":"IF(AND(J35=\"Met\",I35=\"Met\"),\"\",\"\")","v":""},{"$f":"IF(K35=\"Met\",\"Met\",\"\")","v":""},{"$f":"IF(AND(L35=\"Met\",K35=\"Met\"),\"\",\"\")","v":""},{"$f":"IF(M35=\"Met\",\"Met\",\"\")","v":""},{"$f":"IF(AND(N35=\"Met\",M35=\"Met\"),\"\",\"\")","v":""},{"$f":"IF(O35=\"Met\",\"Met\",\"\")","v":""},{"$f":"IF(AND(P35=\"Met\",O35=\"Met\"),\"\",\"\")","v":""},{"$f":"IF(Q35=\"Met\",\"Met\",\"\")","v":""},{"$f":"IF(AND(R35=\"Met\",Q35=\"Met\"),\"\",\"\")","v":""},{"$f":"IF(S35=\"Met\",\"Met\",\"\")","v":""},{"$f":"IF(AND(T35=\"Met\",S35=\"Met\"),\"\",\"\")","v":""},{"$f":"IF(U35=\"Met\",\"Met\",\"\")","v":""},{"$f":"IF(AND(V35=\"Met\",U35=\"Met\"),\"\",\"\")","v":""},{"$f":"IF(W35=\"Met\",\"Met\",\"\")","v":""},{"$f":"IF(AND(X35=\"Met\",W35=\"Met\"),\"\",\"\")","v":""},{"$f":"IF(Y35=\"Met\",\"Met\",\"\")","v":""},{"$f":"IF(AND(Z35=\"Met\",Y35=\"Met\"),\"\",\"\")","v":""},{"$f":"IF(AA35=\"Met\",\"Met\",\"\")","v":""},{"$f":"IF(AND(AB35=\"Met\",AA35=\"Met\"),\"\",\"\")","v":""},{"$f":"IF(AC35=\"Met\",\"Met\",\"\")","v":""},{"$f":"IF(AND(AD35=\"Met\",AC35=\"Met\"),\"\",\"\")","v":""},{"$f":"IF(AE35=\"Met\",\"Met\",\"\")","v":""},{"$f":"IF(AND(AF35=\"Met\",AE35=\"Met\"),\"\",\"\")","v":""},{"$f":"IF(AG35=\"Met\",\"Met\",\"\")","v":""},{"$f":"IF(AND(AH35=\"Met\",AG35=\"Met\"),\"\",\"\")","v":""},{"$f":"IF(AI35=\"Met\",\"Met\",\"\")","v":""},{"$f":"IF(AND(AJ35=\"Met\",AI35=\"Met\"),\"\",\"\")","v":""},{"$f":"IF(AK35=\"Met\",\"Met\",\"\")","v":""},{"$f":"IF(AND(AL35=\"Met\",AK35=\"Met\"),\"\",\"\")","v":""},{"$f":"IF(AM35=\"Met\",\"Met\",\"\")","v":""},{"$f":"IF(AND(AN35=\"Met\",AM35=\"Met\"),\"\",\"\")","v":""},{"$f":"IF(AO35=\"Met\",\"Met\",\"\")","v":""},{"$f":"IF(AND(AP35=\"Met\",AO35=\"Met\"),\"\",\"\")","v":""},{"$f":"IF(AQ35=\"Met\",\"Met\",\"\")","v":""},{"$f":"IF(AND(AR35=\"Met\",AQ35=\"Met\"),\"\",\"\")","v":""},{"$f":"IF(AS35=\"Met\",\"Met\",\"\")","v":""},{"$f":"IF(AND(AT35=\"Met\",AS35=\"Met\"),\"\",\"\")","v":""},{"$f":"IF(AU35=\"Met\",\"Met\",\"\")","v":""},{"$f":"IF(AND(AV35=\"Met\",AU35=\"Met\"),\"\",\"\")","v":""},{"$f":"IF(AW35=\"Met\",\"Met\",\"\")","v":""},{"$f":"IF(AND(AX35=\"Met\",AW35=\"Met\"),\"\",\"\")","v":""},{"$f":"IF(AY35=\"Met\",\"Met\",\"\")","v":""},{"$f":"IF(AND(AZ35=\"Met\",AY35=\"Met\"),\"\",\"\")","v":""},{"$f":"IF(BA35=\"Met\",\"Met\",\"\")","v":""},{"$f":"IF(AND($B$5=\"1 Lane\",$B$6=\"1 Lane\",$D$8=\"No\"),IF(OR((-299.5*LN(B35)+2277.8)>=C35,AND(B35>=1500,C35<100)),\"Not Met\",\"Met\"),\"N/A\")","v":{"$error":"#NUM!"}},{"$f":"IF(AND($B$5=\"2 or More Lanes\",$B$6=\"1 Lane\",$D$8=\"No\"),IF(OR((-355*LN(B35)+2738)>=C35,AND(B35>=1720,C35<100)),\"Not Met\",\"Met\"),\"N/A\")","v":"N/A"},{"$f":"IF(AND($B$5=\"1 Lane\",$B$6=\"2 or More Lanes\",$D$8=\"No\"),IF(OR((-357.2*LN(B35)+2752.1)>=C35,AND(B35>=1450,C35<150)),\"Not Met\",\"Met\"),\"N/A\")","v":"N/A"},{"$f":"IF(AND($B$5=\"2 or More Lanes\",$B$6=\"2 or More Lanes\",$D$8=\"No\"),IF(OR((-443*LN(B35)+3428.7)>=C35,AND(B35>=1660,C35<150)),\"Not Met\",\"Met\"),\"N/A\")","v":"N/A"},{"$f":"IF(AND($B$5=\"1 Lane\",$B$6=\"1 Lane\",$D$8=\"Yes\"),IF(OR((-199.2*LN(B35)+1454.2)>=C35,AND(B35>=1080,C35<75)),\"Not Met\",\"Met\"),\"N/A\")","v":"N/A"},{"$f":"IF(AND($B$5=\"2 or More Lanes\",$B$6=\"1 Lane\",$D$8=\"Yes\"),IF(OR((-238.4*LN(B35)+1764.3)>=C35,AND(B35>=1230,C35<75)),\"Not Met\",\"Met\"),\"N/A\")","v":"N/A"},{"$f":"IF(AND($B$5=\"1 Lane\",$B$6=\"2 or More Lanes\",$D$8=\"Yes\"),IF(OR((-245.9*LN(B35)+1811.1)>=C35,AND(B35>=1080,C35<100)),\"Not Met\",\"Met\"),\"N/A\")","v":"N/A"},{"$f":"IF(AND($B$5=\"2 or More Lanes\",$B$6=\"2 or More Lanes\",$D$8=\"Yes\"),IF(OR((-320.4*LN(B35)+2360.3)>=C35,AND(B35>=1160,C35<100)),\"Not Met\",\"Met\"),\"N/A\")","v":"N/A"},null,null,null,null,null,null,null,null,null,null,null,null,null,null,null,null,null,450,445,{"$f":"-299.5*LN(CB35)+2277.8","v":448.08034896207278},550,493,{"$f":"-355*LN(CE35)+2738","v":497.97901122958683},550,493,{"$f":"-357.2*LN(CH35)+2752.1","v":498.19719101748842},600,593,{"$f":"-443*LN(CK35)+3428.7","v":594.86016273924679}]
["00:15:00",{"$f":"'Traffic Volume Input'!N7","v":0},{"$f":"IF('Traffic Volume Input'!O7>'Traffic Volume Input'!P7,'Traffic Volume Input'!O7,'Traffic Volume Input'!P7)","v":0},{"$f":"IF(AND(B36=0,C36=0),\"\",IF(OR(BC36=\"Met\",BD36=\"Met\",BE36=\"Met\",BF36=\"Met\",BG36=\"Met\",BH36=\"Met\",BI36=\"Met\",BJ36=\"Met\"),\"Met\",\"\"))","v":""},null,null,{"$f":"D36","v":""},{"$f":"IF(AND(G36=\"Met\",G35=\"\"),\"Met\",\"\")","v":""},{"$f":"IF(OR(H36=\"Met\",H35=\"Met\"),\"\",IF(G36=\"Met\",\"Met\",\"\"))","v":""},{"$f":"IF(AND(I36=\"Met\",I35=\"\"),\"Met\",\"\")","v":""},{"$f":"IF(OR(J36=\"Met\",J35=\"Met\"),\"\",IF(I36=\"Met\",\"Met\",\"\"))","v":""},{"$f":"IF(AND(K36=\"Met\",K35=\"\"),\"Met\",\"\")","v":""},{"$f":"IF(OR(L36=\"Met\",L35=\"Met\"),\"\",IF(K36=\"Met\",\"Met\",\"\"))","v":""},{"$f":"IF(AND(M36=\"Met\",M35=\"\"),\"Met\",\"\")","v":""},{"$f":"IF(OR(N36=\"Met\",N35=\"Met\"),\"\",IF(M36=\"Met\",\"Met\",\"\"))","v":""},{"$f":"IF(AND(O36=\"Met\",O35=\"\"),\"Met\",\"\")","v":""},{"$f":"IF(OR(P36=\"Met\",P35=\"Met\"),\"\",IF(O36=\"Met\",\"Met\",\"\"))","v":""},{"$f":"IF(AND(Q36=\"Met\",Q35=\"\"),\"Met\",\"\")","v":""},{"$f":"IF(OR(R36=\"Met\",R35=\"Met\"),\"\",IF(Q36=\"Met\",\"Met\",\"\"))","v":""},{"$f":"IF(AND(S36=\"Met\",S35=\"\"),\"Met\",\"\")","v":""},{"$f":"IF(OR(T36=\"Met\",T35=\"Met\"),\"\",IF(S36=\"Met\",\"Met\",\"\"))","v":""},{"$f":"IF(AND(U36=\"Met\",U35=\"\"),\"Met\",\"\")","v":""},{"$f":"IF(OR(V36=\"Met\",V35=\"Met\"),\"\",IF(U36=\"Met\",\"Met\",\"\"))","v":""},{"$f":"IF(AND(W36=\"Met\",W35=\"\"),\"Met\",\"\")","v":""},{"$f":"IF(OR(X36=\"Met\",X35=\"Met\"),\"\",IF(W36=\"Met\",\"Met\",\"\"))","v":""},{"$f":"IF(AND(Y36=\"Met\",Y35=\"\"),\"Met\",\"\")","v":""},{"$f":"IF(OR(Z36=\"Met\",Z35=\"Met\"),\"\",IF(Y36=\"Met\",\"Met\",\"\"))","v":""},{"$f":"IF(AND(AA36=\"Met\",AA35=\"\"),\"Met\",\"\")","v":""},{"$f":"IF(OR(AB36=\"Met\",AB35=\"Met\"),\"\",IF(AA36=\"Met\",\"Met\",\"\"))","v":""},{"$f":"IF(AND(AC36=\"Met\",AC35=\"\"),\"Met\",\"\")","v":""},{"$f":"IF(OR(AD36=\"Met\",AD35=\"Met\"),\"\",IF(AC36=\"Met\",\"Met\",\"\"))","v":""},{"$f":"IF(AND(AE36=\"Met\",AE35=\"\"),\"Met\",\"\")","v":""},{"$f":"IF(OR(AF36=\"Met\",AF35=\"Met\"),\"\",IF(AE36=\"Met\",\"Met\",\"\"))","v":""},{"$f":"IF(AND(AG36=\"Met\",AG35=\"\"),\"Met\",\"\")","v":""},{"$f":"IF(OR(AH36=\"Met\",AH35=\"Met\"),\"\",IF(AG36=\"Met\",\"Met\",\"\"))","v":""},{"$f":"IF(AND(AI36=\"Met\",AI35=\"\"),\"Met\",\"\")","v":""},{"$f":"IF(OR(AJ36=\"Met\",AJ35=\"Met\"),\"\",IF(AI36=\"Met\",\"Met\",\"\"))","v":""},{"$f":"IF(AND(AK36=\"Met\",AK35=\"\"),\"Met\",\"\")","v":""},{"$f":"IF(OR(AL36=\"Met\",AL35=\"Met\"),\"\",IF(AK36=\"Met\",\"Met\",\"\"))","v":""},{"$f":"IF(AND(AM36=\"Met\",AM35=\"\"),\"Met\",\"\")","v":""},{"$f":"IF(OR(AN36=\"Met\",AN35=\"Met\"),\"\",IF(AM36=\"Met\",\"Met\",\"\"))","v":""},{"$f":"IF(AND(AO36=\"Met\",AO35=\"\"),\"Met\",\"\")","v":""},{"$f":"IF(OR(AP36=\"Met\",AP35=\"Met\"),\"\",IF(AO36=\"Met\",\"Met\",\"\"))","v":""},{"$f":"IF(AND(AQ36=\"Met\",AQ35=\"\"),\"Met\",\"\")","v":""},{"$f":"IF(OR(AR36=\"Met\",AR35=\"Met\"),\"\",IF(AQ36=\"Met\",\"Met\",\"\"))","v":""},{"$f":"IF(AND(AS36=\"Met\",AS35=\"\"),\"Met\",\"\")","v":""},{"$f":"IF(OR(AT36=\"Met\",AT35=\"Met\"),\"\",IF(AS36=\"Met\",\"Met\",\"\"))","v":""},{"$f":"IF(AND(AU36=\"Met\",AU35=\"\"),\"Met\",\"\")","v":""},{"$f":"IF(OR(AV36=\"Met\",AV35=\"Met\"),\"\",IF(AU36=\"Met\",\"Met\",\"\"))","v":""},{"$f":"IF(AND(AW36=\"Met\",AW35=\"\"),\"Met\",\"\")","v":""},{"$f":"IF(OR(AX36=\"Met\",AX35=\"Met\"),\"\",IF(AW36=\"Met\",\"Met\",\"\"))","v":""},{"$f":"IF(AND(AY36=\"Met\",AY35=\"\"),\"Met\",\"\")","v":""},{"$f":"IF(OR(AZ36=\"Met\",AZ35=\"Met\"),\"\",IF(AY36=\"Met\",\"Met\",\"\"))","v":""},{"$f":"IF(AND(BA36=\"Met\",BA35=\"\"),\"Met\",\"\")","v":""},{"$error":"#NUM!"},"N/A","N/A","N/A","N/A","N/A","N/A","N/A",null,null,null,null,null,null,null,null,null,null,null,null,null,null,null,null,null,500,415,{"$f":"-299.5*LN(CB36)+2277.8","v":416.52487452255377},600,465,{"$f":"-355*LN(CE36)+2738","v":467.08997239826795},600,465,{"$f":"-357.2*LN(CH36)+2752.1","v":467.11672715679242},650,560,{"$f":"-443*LN(CK36)+3428.7","v":559.40124323987038}]
["00:30:00",{"$f":"'Traffic Volume Input'!N8","v":0},{"$f":"IF('Traffic Volume Input'!O8>'Traffic Volume Input'!P8,'Traffic Volume Input'!O8,'Traffic Volume Input'!P8)","v":0},"",null,null,{"$f":"D37","v":""},{"$f":"IF(AND(G37=\"Met\",G36=\"\",G35=\"\"),\"Met\",\"\")","v":""},{"$f":"IF(OR(H37=\"Met\",H36=\"Met\",H35=\"Met\"),\"\",IF(G37=\"Met\",\"Met\",\"\"))","v":""},{"$f":"IF(AND(I37=\"Met\",I36=\"\",I35=\"\"),\"Met\",\"\")","v":""},{"$f":"IF(OR(J37=\"Met\",J36=\"Met\",J35=\"Met\"),\"\",IF(I37=\"Met\",\"Met\",\"\"))","v":""},{"$f":"IF(AND(K37=\"Met\",K36=\"\",K35=\"\"),\"Met\",\"\")","v":""},{"$f":"IF(OR(L37=\"Met\",L36=\"Met\",L35=\"Met\"),\"\",IF(K37=\"Met\",\"Met\",\"\"))","v":""},{"$f":"IF(AND(M37=\"Met\",M36=\"\",M35=\"\"),\"Met\",\"\")","v":""},{"$f":"IF(OR(N37=\"Met\",N36=\"Met\",N35=\"Met\"),\"\",IF(M37=\"Met\",\"Met\",\"\"))","v":""},{"$f":"IF(AND(O37=\"Met\",O36=\"\",O35=\"\"),\"Met\",\"\")","v":""},{"$f":"IF(OR(P37=\"Met\",P36=\"Met\",P35=\"Met\"),\"\",IF(O37=\"Met\",\"Met\",\"\"))","v":""},{"$f":"IF(AND(Q37=\"Met\",Q36=\"\",Q35=\"\"),\"Met\",\"\")","v":""},{"$f":"IF(OR(R37=\"Met\",R36=\"Met\",R35=\"Met\"),\"\",IF(Q37=\"Met\",\"Met\",\"\"))","v":""},{"$f":"IF(AND(S37=\"Met\",S36=\"\",S35=\"\"),\"Met\",\"\")","v":""},{"$f":"IF(OR(T37=\"Met\",T36=\"Met\",T35=\"Met\"),\"\",IF(S37=\"Met\",\"Met\",\"\"))","v":""},{"$f":"IF(AND(U37=\"Met\",U36=\"\",U35=\"\"),\"Met\",\"\")","v":""},{"$f":"IF(OR(V37=\"Met\",V36=\"Met\",V35=\"Met\"),\"\",IF(U37=\"Met\",\"Met\",\"\"))","v":""},{"$f":"IF(AND(W37=\"Met\",W36=\"\",W35=\"\"),\"Met\",\"\")","v":""},{"$f":"IF(OR(X37=\"Met\",X36=\"Met\",X35=\"Met\"),\"\",IF(W37=\"Met\",\"Met\",\"\"))","v":""},{"$f":"IF(AND(Y37=\"Met\",Y36=\"\",Y35=\"\"),\"Met\",\"\")","v":""},{"$f":"IF(OR(Z37=\"Met\",Z36=\"Met\",Z35=\"Met\"),\"\",IF(Y37=\"Met\",\"Met\",\"\"))","v":""},{"$f":"IF(AND(AA37=\"Met\",AA36=\"\",AA35=\"\"),\"Met\",\"\")","v":""},{"$f":"IF(OR(AB37=\"Met\",AB36=\"Met\",AB35=\"Met\"),\"\",IF(AA37=\"Met\",\"Met\",\"\"))","v":""},{"$f":"IF(AND(AC37=\"Met\",AC36=\"\",AC35=\"\"),\"Met\",\"\")","v":""},{"$f":"IF(OR(AD37=\"Met\",AD36=\"Met\",AD35=\"Met\"),\"\",IF(AC37=\"Met\",\"Met\",\"\"))","v":""},{"$f":"IF(AND(AE37=\"Met\",AE36=\"\",AE35=\"\"),\"Met\",\"\")","v":""},{"$f":"IF(OR(AF37=\"Met\",AF36=\"Met\",AF35=\"Met\"),\"\",IF(AE37=\"Met\",\"Met\",\"\"))","v":""},{"$f":"IF(AND(AG37=\"Met\",AG36=\"\",AG35=\"\"),\"Met\",\"\")","v":""},{"$f":"IF(OR(AH37=\"Met\",AH36=\"Met\",AH35=\"Met\"),\"\",IF(AG37=\"Met\",\"Met\",\"\"))","v":""},{"$f":"IF(AND(AI37=\"Met\",AI36=\"\",AI35=\"\"),\"Met\",\"\")","v":""},{"$f":"IF(OR(AJ37=\"Met\",AJ36=\"Met\",AJ35=\"Met\"),\"\",IF(AI37=\"Met\",\"Met\",\"\"))","v":""},{"$f":"IF(AND(AK37=\"Met\",AK36=\"\",AK35=\"\"),\"Met\",\"\")","v":""},{"$f":"IF(OR(AL37=\"Met\",AL36=\"Met\",AL35=\"Met\"),\"\",IF(AK37=\"Met\",\"Met\",\"\"))","v":""},{"$f":"IF(AND(AM37=\"Met\",AM36=\"\",AM35=\"\"),\"Met\",\"\")","v":""},{"$f":"IF(OR(AN37=\"Met\",AN36=\"Met\",AN35=\"Met\"),\"\",IF(AM37=\"Met\",\"Met\",\"\"))","v":""},{"$f":"IF(AND(AO37=\"Met\",AO36=\"\",AO35=\"\"),\"Met\",\"\")","v":""},{"$f":"IF(OR(AP37=\"Met\",AP36=\"Met\",AP35=\"Met\"),\"\",IF(AO37=\"Met\",\"Met\",\"\"))","v":""},{"$f":"IF(AND(AQ37=\"Met\",AQ36=\"\",AQ35=\"\"),\"Met\",\"\")","v":""},{"$f":"IF(OR(AR37=\"Met\",AR36=\"Met\",AR35=\"Met\"),\"\",IF(AQ37=\"Met\",\"Met\",\"\"))","v":""},{"$f":"IF(AND(AS37=\"Met\",AS36=\"\",AS35=\"\"),\"Met\",\"\")","v":""},{"$f":"IF(OR(AT37=\"Met\",AT36=\"Met\",AT35=\"Met\"),\"\",IF(AS37=\"Met\",\"Met\",\"\"))","v":""},{"$f":"IF(AND(AU37=\"Met\",AU36=\"\",AU35=\"\"),\"Met\",\"\")","v":""},{"$f":"IF(OR(AV37=\"Met\",AV36=\"Met\",AV35=\"Met\"),\"\",IF(AU37=\"Met\",\"Met\",\"\"))","v":""},{"$f":"IF(AND(AW37=\"Met\",AW36=\"\",AW35=\"\"),\"Met\",\"\")","v":""},{"$f":"IF(OR(AX37=\"Met\",AX36=\"Met\",AX35=\"Met\"),\"\",IF(AW37=\"Met\",\"Met\",\"\"))","v":""},{"$f":"IF(AND(AY37=\"Met\",AY36=\"\",AY35=\"\"),\"Met\",\"\")","v":""},{"$f":"IF(OR(AZ37=\"Met\",AZ36=\"Met\",AZ35=\"Met\"),\"\",IF(AY37=\"Met\",\"Met\",\"\"))","v":""},{"$f":"IF(AND(BA37=\"Met\",BA36=\"\",BA35=\"\"),\"Met\",\"\")","v":""},{"$error":"#NUM!"},"N/A","N/A","N/A","N/A","N/A","N/A","N/A",null,null,null,null,null,null,null,null,null,null,null,null,null,null,null,null,null,550,390,387.97947567115853,650,440,438.67481117416264,650,440,438.52547197580543,700,null,526.57141157577189]
["00:45:00",{"$f":"'Traffic Volume Input'!N9","v":0},{"$f":"IF('Traffic Volume Input'!O9>'Traffic Volume Input'!P9,'Traffic Volume Input'!O9,'Traffic Volume Input'!P9)","v":0},"",null,null,"",{"$f":"IF(AND(G38=\"Met\",G37=\"\",G36=\"\",G35=\"\"),\"Met\",\"\")","v":""},{"$f":"IF(OR(H38=\"Met\",H37=\"Met\",H36=\"Met\",H35=\"Met\"),\"\",IF(G38=\"Met\",\"Met\",\"\"))","v":""},{"$f":"IF(AND(I38=\"Met\",I37=\"\",I36=\"\",I35=\"\"),\"Met\",\"\")","v":""},{"$f":"IF(OR(J38=\"Met\",J37=\"Met\",J36=\"Met\",J35=\"Met\"),\"\",IF(I38=\"Met\",\"Met\",\"\"))","v":""},{"$f":"IF(AND(K38=\"Met\",K37=\"\",K36=\"\",K35=\"\"),\"Met\",\"\")","v":""},{"$f":"IF(OR(L38=\"Met\",L37=\"Met\",L36=\"Met\",L35=\"Met\"),\"\",IF(K38=\"Met\",\"Met\",\"\"))","v":""},{"$f":"IF(AND(M38=\"Met\",M37=\"\",M36=\"\",M35=\"\"),\"Met\",\"\")","v":""},{"$f":"IF(OR(N38=\"Met\",N37=\"Met\",N36=\"Met\",N35=\"Met\"),\"\",IF(M38=\"Met\",\"Met\",\"\"))","v":""},{"$f":"IF(AND(O38=\"Met\",O37=\"\",O36=\"\",O35=\"\"),\"Met\",\"\")","v":""},{"$f":"IF(OR(P38=\"Met\",P37=\"Met\",P36=\"Met\",P35=\"Met\"),\"\",IF(O38=\"Met\",\"Met\",\"\"))","v":""},{"$f":"IF(AND(Q38=\"Met\",Q37=\"\",Q36=\"\",Q35=\"\"),\"Met\",\"\")","v":""},{"$f":"IF(OR(R38=\"Met\",R37=\"Met\",R36=\"Met\",R35=\"Met\"),\"\",IF(Q38=\"Met\",\"Met\",\"\"))","v":""},{"$f":"IF(AND(S38=\"Met\",S37=\"\",S36=\"\",S35=\"\"),\"Met\",\"\")","v":""},{"$f":"IF(OR(T38=\"Met\",T37=\"Met\",T36=\"Met\",T35=\"Met\"),\"\",IF(S38=\"Met\",\"Met\",\"\"))","v":""},{"$f":"IF(AND(U38=\"Met\",U37=\"\",U36=\"\",U35=\"\"),\"Met\",\"\")","v":""},{"$f":"IF(OR(V38=\"Met\",V37=\"Met\",V36=\"Met\",V35=\"Met\"),\"\",IF(U38=\"Met\",\"Met\",\"\"))","v":""},{"$f":"IF(AND(W38=\"Met\",W37=\"\",W36=\"\",W35=\"\"),\"Met\",\"\")","v":""},{"$f":"IF(OR(X38=\"Met\",X37=\"Met\",X36=\"Met\",X35=\"Met\"),\"\",IF(W38=\"Met\",\"Met\",\"\"))","v":""},{"$f":"IF(AND(Y38=\"Met\",Y37=\"\",Y36=\"\",Y35=\"\"),\"Met\",\"\")","v":""},{"$f":"IF(OR(Z38=\"Met\",Z37=\"Met\",Z36=\"Met\",Z35=\"Met\"),\"\",IF(Y38=\"Met\",\"Met\",\"\"))","v":""},{"$f":"IF(AND(AA38=\"Met\",AA37=\"\",AA36=\"\",AA35=\"\"),\"Met\",\"\")","v":""},{"$f":"IF(OR(AB38=\"Met\",AB37=\"Met\",AB36=\"Met\",AB35=\"Met\"),\"\",IF(AA38=\"Met\",\"Met\",\"\"))","v":""},{"$f":"IF(AND(AC38=\"Met\",AC37=\"\",AC36=\"\",AC35=\"\"),\"Met\",\"\")","v":""},{"$f":"IF(OR(AD38=\"Met\",AD37=\"Met\",AD36=\"Met\",AD35=\"Met\"),\"\",IF(AC38=\"Met\",\"Met\",\"\"))","v":""},{"$f":"IF(AND(AE38=\"Met\",AE37=\"\",AE36=\"\",AE35=\"\"),\"Met\",\"\")","v":""},{"$f":"IF(OR(AF38=\"Met\",AF37=\"Met\",AF36=\"Met\",AF35=\"Met\"),\"\",IF(AE38=\"Met\",\"Met\",\"\"))","v":""},{"$f":"IF(AND(AG38=\"Met\",AG37=\"\",AG36=\"\",AG35=\"\"),\"Met\",\"\")","v":""},{"$f":"IF(OR(AH38=\"Met\",AH37=\"Met\",AH36=\"Met\",AH35=\"Met\"),\"\",IF(AG38=\"Met\",\"Met\",\"\"))","v":""},{"$f":"IF(AND(AI38=\"Met\",AI37=\"\",AI36=\"\",AI35=\"\"),\"Met\",\"\")","v":""},{"$f":"IF(OR(AJ38=\"Met\",AJ37=\"Met\",AJ36=\"Met\",AJ35=\"Met\"),\"\",IF(AI38=\"Met\",\"Met\",\"\"))","v":""},{"$f":"IF(AND(AK38=\"Met\",AK37=\"\",AK36=\"\",AK35=\"\"),\"Met\",\"\")","v":""},{"$f":"IF(OR(AL38=\"Met\",AL37=\"Met\",AL36=\"Met\",AL35=\"Met\"),\"\",IF(AK38=\"Met\",\"Met\",\"\"))","v":""},{"$f":"IF(AND(AM38=\"Met\",AM37=\"\",AM36=\"\",AM35=\"\"),\"Met\",\"\")","v":""},{"$f":"IF(OR(AN38=\"Met\",AN37=\"Met\",AN36=\"Met\",AN35=\"Met\"),\"\",IF(AM38=\"Met\",\"Met\",\"\"))","v":""},{"$f":"IF(AND(AO38=\"Met\",AO37=\"\",AO36=\"\",AO35=\"\"),\"Met\",\"\")","v":""},{"$f":"IF(OR(AP38=\"Met\",AP37=\"Met\",AP36=\"Met\",AP35=\"Met\"),\"\",IF(AO38=\"Met\",\"Met\",\"\"))","v":""},{"$f":"IF(AND(AQ38=\"Met\",AQ37=\"\",AQ36=\"\",AQ35=\"\"),\"Met\",\"\")","v":""},{"$f":"IF(OR(AR38=\"Met\",AR37=\"Met\",AR36=\"Met\",AR35=\"Met\"),\"\",IF(AQ38=\"Met\",\"Met\",\"\"))","v":""},{"$f":"IF(AND(AS38=\"Met\",AS37=\"\",AS36=\"\",AS35=\"\"),\"Met\",\"\")","v":""},{"$f":"IF(OR(AT38=\"Met\",AT37=\"Met\",AT36=\"Met\",AT35=\"Met\"),\"\",IF(AS38=\"Met\",\"Met\",\"\"))","v":""},{"$f":"IF(AND(AU38=\"Met\",AU37=\"\",AU36=\"\",AU35=\"\"),\"Met\",\"\")","v":""},{"$f":"IF(OR(AV38=\"Met\",AV37=\"Met\",AV36=\"Met\",AV35=\"Met\"),\"\",IF(AU38=\"Met\",\"Met\",\"\"))","v":""},{"$f":"IF(AND(AW38=\"Met\",AW37=\"\",AW36=\"\",AW35=\"\"),\"Met\",\"\")","v":""},{"$f":"IF(OR(AX38=\"Met\",AX37=\"Met\",AX36=\"Met\",AX35=\"Met\"),\"\",IF(AW38=\"Met\",\"Met\",\"\"))","v":""},{"$f":"IF(AND(AY38=\"Met\",AY37=\"\",AY36=\"\",AY35=\"\"),\"Met\",\"\")","v":""},{"$f":"IF(OR(AZ38=\"Met\",AZ37=\"Met\",AZ36=\"Met\",AZ35=\"Met\"),\"\",IF(AY38=\"Met\",\"Met\",\"\"))","v":""},{"$f":"IF(AND(BA38=\"Met\",BA37=\"\",BA36=\"\",BA35=\"\"),\"Met\",\"\")","v":""},{"$error":"#NUM!"},"N/A","N/A","N/A","N/A","N/A","N/A","N/A",null,null,null,null,null,null,null,null,null,null,null,null,null,null,null,null,null,600,365,361.91956826276441,700,415,412.36648105959148,700,415,412.05410432249573,750,null,496.00756950705227]
["01:00:00",{"$f":"'Traffic Volume Input'!N10","v":0},{"$f":"IF('Traffic Volume Input'!O10>'Traffic Volume Input'!P10,'Traffic Volume Input'!O10,'Traffic Volume Input'!P10)","v":0},"",null,null,"","","","","","","","","","","","","","","","","","","","","","","","","","","","","","","","","","","","","","","","","","","","","","","","",{"$error":"#NUM!"},"N/A","N/A","N/A","N/A","N/A","N/A","N/A",null,null,null,null,null,null,null,null,null,null,null,null,null,null,null,null,null,650,345,337.94677731454021,750,390,387.87401168172346,750,390,387.40985062735672,800,473,467.41700464310816]
["01:15:00",{"$f":"'Traffic Volume Input'!N11","v":0},{"$f":"IF('Traffic Volume Input'!O11>'Traffic Volume Input'!P11,'Traffic Volume Input'!O11,'Traffic Volume Input'!P11)","v":0},"",null,null,"","","","","","","","","","","","","","","","","","","","","","","","","","","","","","","","","","","","","","","","","","","","","","","","",{"$error":"#NUM!"},"N/A","N/A","N/A","N/A","N/A","N/A","N/A",null,null,null,null,null,null,null,null,null,null,null,null,null,null,null,null,null,700,320,315.75143965450047,800,366,364.96283667788566,800,366,364.35669087701626,850,null,440.56029717842739]
["01:30:00",{"$f":"'Traffic Volume Input'!N12","v":0},{"$f":"IF('Traffic Volume Input'!O12>'Traffic Volume Input'!P12,'Traffic Volume Input'!O12,'Traffic Volume Input'!P12)","v":0},"",null,null,"","","","","","","","","","","","","","","","","","","","","","","","","","","","","","","","","","","","","","","","","","","","","","","","",{"$error":"#NUM!"},"N/A","N/A","N/A","N/A","N/A","N/A","N/A",null,null,null,null,null,null,null,null,null,null,null,null,null,null,null,null,null,750,300,295.0880746441585,850,345,343.4410959330512,850,345,342.70157596418585,900,420,415.23911984733013]
["01:45:00",{"$f":"'Traffic Volume Input'!N13","v":0},{"$f":"IF('Traffic Volume Input'!O13>'Traffic Volume Input'!P13,'Traffic Volume Input'!O13,'Traffic Volume Input'!P13)","v":0},"",null,null,"","","","","","","","","","","","","","","","","","","","","","","","","","","","","","","","","","","","","","","","","","","","","","","","",{"$error":"#NUM!"},"N/A","N/A","N/A","N/A","N/A","N/A","N/A",null,null,null,null,null,null,null,null,null,null,null,null,null,null,null,null,null,800,280,275.75878756345605,900,325,323.14985901986984,900,325,322.28459054055611,950,null,391.28734082459778]
["02:00:00",{"$f":"'Traffic Volume Input'!N14","v":0},{"$f":"IF('Traffic Volume Input'!O14>'Traffic Volume Input'!P14,'Traffic Volume Input'!O14,'Traffic Volume Input'!P14)","v":0},"",null,null,"","","","","","","","","","","","","","","","","","","","","","","","","","","","","","","","","","","","","","","","","","","","","","","","",{"$error":"#NUM!"},"N/A","N/A","N/A","N/A","N/A","N/A","N/A",null,null,null,null,null,null,null,null,null,null,null,null,null,null,null,null,null,850,262,257.60171332943355,950,305,303.95599546892163,950,305,302.9717791028138,1000,null,368.56441141091318]
["02:15:00",{"$f":"'Traffic Volume Input'!N15","v":0},{"$f":"IF('Traffic Volume Input'!O15>'Traffic Volume Input'!P15,'Traffic Volume Input'!O15,'Traffic Volume Input'!P15)","v":0},"",null,null,"","","","","","","","","","","","","","","","","","","","","","","","","","","","","","","","","","","","","","","","","","","","","","","","",{"$error":"#NUM!"},"N/A","N/A","N/A","N/A","N/A","N/A","N/A",null,null,null,null,null,null,null,null,null,null,null,null,null,null,null,null,null,900,240,240.48276838436914,1000,285,285.74687596134163,1000,285,284.64981434758056,1050,null,346.95036868385478]
["02:30:00",{"$f":"'Traffic Volume Input'!N16","v":0},{"$f":"IF('Traffic Volume Input'!O16>'Traffic Volume Input'!P16,'Traffic Volume Input'!O16,'Traffic Volume Input'!P16)","v":0},"",null,null,"","","","","","","","","","","","","","","","","","","","","","","","","","","","","","","","","","","","","","","","","","","","","","","","",{"$error":"#NUM!"},"N/A","N/A","N/A","N/A","N/A","N/A","N/A",null,null,null,null,null,null,null,null,null,null,null,null,null,null,null,null,null,950,220,224.28963561392129,1050,266,268.42636768119291,1050,266,267.22196770625942,1100,null,326.34200175759725]
["02:45:00",{"$f":"'Traffic Volume Input'!N17","v":0},{"$f":"IF('Traffic Volume Input'!O17>'Traffic Volume Input'!P17,'Traffic Volume Input'!O17,'Traffic Volume Input'!P17)","v":0},"",null,null,"","","","","","","","","","","","","","","","","","","","","","","","","","","","","","","","","","","","","","","","","","","","","","","","",{"$error":"#NUM!"},"N/A","N/A","N/A","N/A","N/A","N/A","N/A",null,null,null,null,null,null,null,null,null,null,null,null,null,null,null,null,null,1000,202,208.92729394485013,1100,250,251.91176213080598,1100,250,250.60501812147595,1150,null,306.64987093871787]
["03:00:00",{"$f":"'Traffic Volume Input'!N18","v":0},{"$f":"IF('Traffic Volume Input'!O18>'Traffic Volume Input'!P18,'Traffic Volume Input'!O18,'Traffic Volume Input'!P18)","v":0},"",null,null,"","","","","","","","","","","","","","","","","","","","","","","","","","","","","","","","","","","","","","","","","","","","","","","","",{"$error":"#NUM!"},"N/A","N/A","N/A","N/A","N/A","N/A","N/A",null,null,null,null,null,null,null,null,null,null,null,null,null,null,null,null,null,1050,187,194.3146397761052,1150,233,236.13138641815976,1150,233,234.7268485311738,1200,280,287.79596175119104]
["03:15:00",{"$f":"'Traffic Volume Input'!N19","v":0},{"$f":"IF('Traffic Volume Input'!O19>'Traffic Volume Input'!P19,'Traffic Volume Input'!O19,'Traffic Volume Input'!P19)","v":0},"",null,null,"","","","","","","","","","","","","","","","","","","","","","","","","","","","","","","","","","","","","","","","","","","","","","","","",{"$error":"#NUM!"},"N/A","N/A","N/A","N/A","N/A","N/A","N/A",null,null,null,null,null,null,null,null,null,null,null,null,null,null,null,null,null,1100,172,180.38189509345511,1200,220,221.02272329948755,1200,220,219.52455426077995,1250,null,269.7118181787182]
["03:30:00",{"$f":"'Traffic Volume Input'!N20","v":0},{"$f":"IF('Traffic Volume Input'!O20>'Traffic Volume Input'!P20,'Traffic Volume Input'!O20,'Traffic Volume Input'!P20)","v":0},"",null,null,"","","","","","","","","","","","","","","","","","","","","","","","","","","","","","","","","","","","","","","","","","","","","","","","",{"$error":"#NUM!"},"N/A","N/A","N/A","N/A","N/A","N/A","N/A",null,null,null,null,null,null,null,null,null,null,null,null,null,null,null,null,null,1150,160,167.06859220348997,1250,205,206.53091524479714,1250,205,204.94293781814486,1300,245,252.33704225181464]
["03:45:00",{"$f":"'Traffic Volume Input'!N21","v":0},{"$f":"IF('Traffic Volume Input'!O21>'Traffic Volume Input'!P21,'Traffic Volume Input'!O21,'Traffic Volume Input'!P21)","v":0},"",null,null,"","","","","","","","","","","","","","","","","","","","","","","","","","","","","","","","","","","","","","","","","","","","","","","","",{"$error":"#NUM!"},"N/A","N/A","N/A","N/A","N/A","N/A","N/A",null,null,null,null,null,null,null,null,null,null,null,null,null,null,null,null,null,1200,148,154.32198768506078,1600,120,118.89558757910527,1450,150,151.92731198989759,1350,230,235.61807695541302]
["04:00:00",{"$f":"'Traffic Volume Input'!N22","v":0},{"$f":"IF('Traffic Volume Input'!O22>'Traffic Volume Input'!P22,'Traffic Volume Input'!O22,'Traffic Volume Input'!P22)","v":0},"",null,null,"","","","","","","","","","","","","","","","","","","","","","","","","","","","","","","","","","","","","","","","","","","","","","","","",{"$error":"#NUM!"},"N/A","N/A","N/A","N/A","N/A","N/A","N/A",null,null,null,null,null,null,null,null,null,null,null,null,null,null,null,null,null,1250,138,142.09580032624444,null,null,null,null,null,null,1400,null,219.50721058771569]
["04:15:00",{"$f":"'Traffic Volume Input'!N23","v":0},{"$f":"IF('Traffic Volume Input'!O23>'Traffic Volume Input'!P23,'Traffic Volume Input'!O23,'Traffic Volume Input'!P23)","v":0},"",null,null,"","","","","","","","","","","","","","","","","","","","","","","","","","","","","","","","","","","","","","","","","","","","","","","","",{"$error":"#NUM!"},"N/A","N/A","N/A","N/A","N/A","N/A","N/A",null,null,null,null,null,null,null,null,null,null,null,null,null,null,null,null,null,1400,115,108.15385907679683,null,null,null,null,null,null,1450,200,203.96175591132305]
["04:30:00",{"$f":"'Traffic Volume Input'!N24","v":0},{"$f":"IF('Traffic Volume Input'!O24>'Traffic Volume Input'!P24,'Traffic Volume Input'!O24,'Traffic Volume Input'!P24)","v":0},"",null,null,"","","","","","","","","","","","","","","","","","","","","","","","","","","","","","","","","","","","","","","","","","","","","","","","",{"$error":"#NUM!"},"N/A","N/A","N/A","N/A","N/A","N/A","N/A",null,null,null,null,null,null,null,null,null,null,null,null,null,null,null,null,null,1500,100,87.490494066455085,null,null,null,null,null,null,1600,170,160.35280365505241]
["04:45:00",{"$f":"'Traffic Volume Input'!N25","v":0},{"$f":"IF('Traffic Volume Input'!O25>'Traffic Volume Input'!P25,'Traffic Volume Input'!O25,'Traffic Volume Input'!P25)","v":0},"",null,null,"","","","","","","","","","","","","","","","","","","","","","","","","","","","","","","","","","","","","","","","","","","","","","","","",{"$error":"#NUM!"},"N/A","N/A","N/A","N/A","N/A","N/A","N/A",null,null,null,null,null,null,null,null,null,null,null,null,null,null,null,null,null,null,null,null,null,null,null,null,null,null,1660,150,144.04421356168905]
["05:00:00",{"$f":"'Traffic Volume Input'!N26","v":0},{"$f":"IF('Traffic Volume Input'!O26>'Traffic Volume Input'!P26,'Traffic Volume Input'!O26,'Traffic Volume Input'!P26)","v":0},"",null,null,"","","","","","","","","","","","","","","","","","","","","","","","","","","","","","","","","","","","","","","","","","","","","","","","",{"$error":"#NUM!"},"N/A","N/A","N/A","N/A","N/A","N/A","N/A",null,null,null,null,null,null,null,null,null,null,null,null,null,null,null,null,null,"y = -299.5ln(x) + 2277.8\n\n",null,null,"y = -355ln(x) + 2738\n",null,null,"y = -357.2ln(x) + 2752.1\n",null,null,"y = -443ln(x) + 3428.7\n\n"]
["05:15:00",{"$f":"'Traffic Volume Input'!N27","v":0},{"$f":"IF('Traffic Volume Input'!O27>'Traffic Volume Input'!P27,'Traffic Volume Input'!O27,'Traffic Volume Input'!P27)","v":0},"",null,null,"","","","","","","","","","","","","","","","","","","","","","","","","","","","","","","","","","","","","","","","","","","","","","","","",{"$error":"#NUM!"},"N/A","N/A","N/A","N/A","N/A","N/A","N/A"]
["05:30:00",{"$f":"'Traffic Volume Input'!N28","v":0},{"$f":"IF('Traffic Volume Input'!O28>'Traffic Volume Input'!P28,'Traffic Volume Input'!O28,'Traffic Volume Input'!P28)","v":0},"",null,null,"","","","","","","","","","","","","","","","","","","","","","","","","","","","","","","","","","","","","","","","","","","","","","","","",{"$error":"#NUM!"},"N/A","N/A","N/A","N/A","N/A","N/A","N/A",null,null,null,null,null,null,null,null,null,null,null,null,null,null,null,null,null,"4C-4: 1Lane/1Lane",null,null,"4C-4: 2Lane(Major)/1Lane",null,null,"4C-4: 2Lane(Minor)/1Lane",null,null,"4C-4: 2Lane/2Lane"]
["05:45:00",{"$f":"'Traffic Volume Input'!N29","v":0},{"$f":"IF('Traffic Volume Input'!O29>'Traffic Volume Input'!P29,'Traffic Volume Input'!O29,'Traffic Volume Input'!P29)","v":0},"",null,null,"","","","","","","","","","","","","","","","","","","","","","","","","","","","","","","","","","","","","","","","","","","","","","","","",{"$error":"#NUM!"},"N/A","N/A","N/A","N/A","N/A","N/A","N/A"]
["06:00:00",{"$f":"'Traffic Volume Input'!N30","v":0},{"$f":"IF('Traffic Volume Input'!O30>'Traffic Volume Input'!P30,'Traffic Volume Input'!O30,'Traffic Volume Input'!P30)","v":0},"",null,null,"","","","","","","","","","","","","","","","","","","","","","","","","","","","","","","","","","","","","","","","","","","","","","","","",{"$error":"#NUM!"},"N/A","N/A","N/A","N/A","N/A","N/A","N/A",null,null,null,null,null,null,null,null,null,null,null,null,null,null,null,null,null,"Trend","Trend","Test","Trend","Trend","Test","Trend","Trend","Test","Trend","Trend","Test"]
["06:15:00",{"$f":"'Traffic Volume Input'!N31","v":0},{"$f":"IF('Traffic Volume Input'!O31>'Traffic Volume Input'!P31,'Traffic Volume Input'!O31,'Traffic Volume Input'!P31)","v":0},"",null,null,"","","","","","","","","","","","","","","","","","","","","","","","","","","","","","","","","","","","","","","","","","","","","","","","",{"$error":"#NUM!"},"N/A","N/A","N/A","N/A","N/A","N/A","N/A",null,null,null,null,null,null,null,null,null,null,null,null,null,null,null,null,null,320,307,{"$f":"-199.2*LN(CB60)+1454.2","v":305.15045763788066},360,362,{"$f":"-238.4*LN(CE60)+1764.3","v":361.0527989022828},360,362,{"$f":"-245.9*LN(CH60)+1811.1","v":363.70701866640661},440,410,{"$f":"-443*LN(CK60)+3428.7","v":732.25879597784797}]
["06:30:00",{"$f":"'Traffic Volume Input'!N32","v":0},{"$f":"IF('Traffic Volume Input'!O32>'Traffic Volume Input'!P32,'Traffic Volume Input'!O32,'Traffic Volume Input'!P32)","v":0},"",null,null,"","","","","","","","","","","","","","","","","","","","","","","","","","","","","","","","","","","","","","","","","","","","","","","","",{"$error":"#NUM!"},"N/A","N/A","N/A","N/A","N/A","N/A","N/A",null,null,null,null,null,null,null,null,null,null,null,null,null,null,null,null,null,350,292,{"$f":"-199.2*LN(CB61)+1454.2","v":287.29971562689502},400,340,{"$f":"-238.4*LN(CE61)+1764.3","v":335.93485196945699},400,340,{"$f":"-245.9*LN(CH61)+1811.1","v":337.79886786614725},500,370,{"$f":"-443*LN(CK61)+3428.7","v":675.62861239896893}]
["06:45:00",{"$f":"'Traffic Volume Input'!N33","v":0},{"$f":"IF('Traffic Volume Input'!O33>'Traffic Volume Input'!P33,'Traffic Volume Input'!O33,'Traffic Volume Input'!P33)","v":0},"",null,null,"","","","","","","","","","","","","","","","","","","","","","","","","","","","","","","","","","","","","","","","","","","","","","","","",{"$error":"#NUM!"},"N/A","N/A","N/A","N/A","N/A","N/A","N/A",null,null,null,null,null,null,null,null,null,null,null,null,null,null,null,null,null,400,265,260.7002622160901,450,310,307.85537626897508,450,310,308.83601939824234,550,null,633.40620274565299]
["07:00:00",{"$f":"'Traffic Volume Input'!N34","v":0},{"$f":"IF('Traffic Volume Input'!O34>'Traffic Volume Input'!P34,'Traffic Volume Input'!O34,'Traffic Volume Input'!P34)","v":0},"",null,null,"","","","","","","","","","","","","","","","","","","","","","","","","","","","","","","","","","","","","","","","","","","","","","","","",{"$error":"#NUM!"},"N/A","N/A","N/A","N/A","N/A","N/A","N/A",null,null,null,null,null,null,null,null,null,null,null,null,null,null,null,null,null,450,241,237.23788151333861,500,285,282.73742933614949,500,285,282.92786859798298,600,null,594.86016273924679]
["07:15:00",{"$f":"'Traffic Volume Input'!N35","v":0},{"$f":"IF('Traffic Volume Input'!O35>'Traffic Volume Input'!P35,'Traffic Volume Input'!O35,'Traffic Volume Input'!P35)","v":0},"",null,null,"","","","","","","","","","","","","","","","","","","","","","","","","","","","","","","","","","","","","","","","","","","","","","","","",{"$error":"#NUM!"},"N/A","N/A","N/A","N/A","N/A","N/A","N/A",null,null,null,null,null,null,null,null,null,null,null,null,null,null,null,null,null,500,216,216.25006679429953,550,null,260.01548247079836,550,null,259.49109538409948,650,null,559.40124323987038]
["07:30:00",{"$f":"'Traffic Volume Input'!N36","v":0},{"$f":"IF('Traffic Volume Input'!O36>'Traffic Volume Input'!P36,'Traffic Volume Input'!O36,'Traffic Volume Input'!P36)","v":0},"",null,null,"","","","","","","","","","","","","","","","","","","","","","","","","","","","","","","","","","","","","","","","","","","","","","","","",{"$error":"#NUM!"},"N/A","N/A","N/A","N/A","N/A","N/A","N/A",null,null,null,null,null,null,null,null,null,null,null,null,null,null,null,null,null,550,194,197.26427897727808,600,240,239.27197019647065,600,240,238.09499778234954,700,260,526.57141157577189]
["07:45:00",{"$f":"'Traffic Volume Input'!N37","v":0},{"$f":"IF('Traffic Volume Input'!O37>'Traffic Volume Input'!P37,'Traffic Volume Input'!O37,'Traffic Volume Input'!P37)","v":0},"",null,null,"","","","","","","","","","","","","","","","","","","","","","","","","","","","","","","","","","","","","","","","","","","","","","","","",{"$error":"#NUM!"},"N/A","N/A","N/A","N/A","N/A","N/A","N/A",null,null,null,null,null,null,null,null,null,null,null,null,null,null,null,null,null,600,176,179.93161268094377,650,null,220.18978868709951,650,null,218.41249596542684,750,null,496.00756950705227]
["08:00:00",{"$f":"'Traffic Volume Input'!N38","v":0},{"$f":"IF('Traffic Volume Input'!O38>'Traffic Volume Input'!P38,'Traffic Volume Input'!O38,'Traffic Volume Input'!P38)","v":0},"",null,null,"","","","","","","","","","","","","","","","","","","","","","","","","","","","","","","","","","","","","","","","","","","","","","","","",{"$f":"IF(AND($B$5=\"1 Lane\",$B$6=\"1 Lane\",$D$8=\"No\"),IF(OR((-299.5*LN(B67)+2277.8)>=C67,AND(B67>=1500,C67<100)),\"Not Met\",\"Met\"),\"N/A\")","v":{"$error":"#NUM!"}},{"$f":"IF(AND($B$5=\"2 or More Lanes\",$B$6=\"1 Lane\",$D$8=\"No\"),IF(OR((-355*LN(B67)+2738)>=C67,AND(B67>=1720,C67<100)),\"Not Met\",\"Met\"),\"N/A\")","v":"N/A"},{"$f":"IF(AND($B$5=\"1 Lane\",$B$6=\"2 or More Lanes\",$D$8=\"No\"),IF(OR((-357.2*LN(B67)+2752.1)>=C67,AND(B67>=1450,C67<150)),\"Not Met\",\"Met\"),\"N/A\")","v":"N/A"},{"$f":"IF(AND($B$5=\"2 or More Lanes\",$B$6=\"2 or More Lanes\",$D$8=\"No\"),IF(OR((-443*LN(B67)+3428.7)>=C67,AND(B67>=1660,C67<150)),\"Not Met\",\"Met\"),\"N/A\")","v":"N/A"},{"$f":"IF(AND($B$5=\"1 Lane\",$B$6=\"1 Lane\",$D$8=\"Yes\"),IF(OR((-199.2*LN(B67)+1454.2)>=C67,AND(B67>=1080,C67<75)),\"Not Met\",\"Met\"),\"N/A\")","v":"N/A"},{"$f":"IF(AND($B$5=\"2 or More Lanes\",$B$6=\"1 Lane\",$D$8=\"Yes\"),IF(OR((-238.4*LN(B67)+1764.3)>=C67,AND(B67>=1230,C67<75)),\"Not Met\",\"Met\"),\"N/A\")","v":"N/A"},{"$f":"IF(AND($B$5=\"1 Lane\",$B$6=\"2 or More Lanes\",$D$8=\"Yes\"),IF(OR((-245.9*LN(B67)+1811.1)>=C67,AND(B67>=1080,C67<100)),\"Not Met\",\"Met\"),\"N/A\")","v":"N/A"},{"$f":"IF(AND($B$5=\"2 or More Lanes\",$B$6=\"2 or More Lanes\",$D$8=\"Yes\"),IF(OR((-320.4*LN(B67)+2360.3)>=C67,AND(B67>=1160,C67<100)),\"Not Met\",\"Met\"),\"N/A\")","v":"N/A"},null,null,null,null,null,null,null,null,null,null,null,null,null,null,null,null,null,650,160,163.98710531237543,700,195,202.52244812565232,700,195,200.18934561282663,800,null,467.41700464310816]
["08:15:00",{"$f":"'Traffic Volume Input'!N39","v":0},{"$f":"IF('Traffic Volume Input'!O39>'Traffic Volume Input'!P39,'Traffic Volume Input'!O39,'Traffic Volume Input'!P39)","v":0},"",null,null,"","","","","","","","","","","","","","","","","","","","","","","","","","","","","","","","","","","","","","","","","","","","","","","","",{"$error":"#NUM!"},"N/A","N/A","N/A","N/A","N/A","N/A","N/A",null,null,null,null,null,null,null,null,null,null,null,null,null,null,null,null,null,700,143,149.22479725935386,750,null,186.07454756316315,750,null,183.22399851418527,850,null,440.56029717842739]
["08:30:00",{"$f":"'Traffic Volume Input'!N40","v":0},{"$f":"IF('Traffic Volume Input'!O40>'Traffic Volume Input'!P40,'Traffic Volume Input'!O40,'Traffic Volume Input'!P40)","v":0},"",null,null,"","","","","","","","","","","","","","","","","","","","","","","","","","","","","","","","","","","","","","","","","","","","","","","","",{"$error":"#NUM!"},"N/A","N/A","N/A","N/A","N/A","N/A","N/A",null,null,null,null,null,null,null,null,null,null,null,null,null,null,null,null,null,750,128,135.4814172591532,800,165,170.68856412396599,800,165,167.3539761664565,900,null,415.23911984733013]
["08:45:00",{"$f":"'Traffic Volume Input'!N41","v":0},{"$f":"IF('Traffic Volume Input'!O41>'Traffic Volume Input'!P41,'Traffic Volume Input'!O41,'Traffic Volume Input'!P41)","v":0},"",null,null,"",{"$f":"IF(AND(G70=\"Met\",G69=\"\",G68=\"\",G67=\"\"),\"Met\",\"\")","v":""},{"$f":"IF(OR(H70=\"Met\",H69=\"Met\",H68=\"Met\",H67=\"Met\"),\"\",IF(G70=\"Met\",\"Met\",\"\"))","v":""},{"$f":"IF(AND(I70=\"Met\",I69=\"\",I68=\"\",I67=\"\"),\"Met\",\"\")","v":""},{"$f":"IF(OR(J70=\"Met\",J69=\"Met\",J68=\"Met\",J67=\"Met\"),\"\",IF(I70=\"Met\",\"Met\",\"\"))","v":""},{"$f":"IF(AND(K70=\"Met\",K69=\"\",K68=\"\",K67=\"\"),\"Met\",\"\")","v":""},{"$f":"IF(OR(L70=\"Met\",L69=\"Met\",L68=\"Met\",L67=\"Met\"),\"\",IF(K70=\"Met\",\"Met\",\"\"))","v":""},{"$f":"IF(AND(M70=\"Met\",M69=\"\",M68=\"\",M67=\"\"),\"Met\",\"\")","v":""},{"$f":"IF(OR(N70=\"Met\",N69=\"Met\",N68=\"Met\",N67=\"Met\"),\"\",IF(M70=\"Met\",\"Met\",\"\"))","v":""},{"$f":"IF(AND(O70=\"Met\",O69=\"\",O68=\"\",O67=\"\"),\"Met\",\"\")","v":""},{"$f":"IF(OR(P70=\"Met\",P69=\"Met\",P68=\"Met\",P67=\"Met\"),\"\",IF(O70=\"Met\",\"Met\",\"\"))","v":""},{"$f":"IF(AND(Q70=\"Met\",Q69=\"\",Q68=\"\",Q67=\"\"),\"Met\",\"\")","v":""},{"$f":"IF(OR(R70=\"Met\",R69=\"Met\",R68=\"Met\",R67=\"Met\"),\"\",IF(Q70=\"Met\",\"Met\",\"\"))","v":""},{"$f":"IF(AND(S70=\"Met\",S69=\"\",S68=\"\",S67=\"\"),\"Met\",\"\")","v":""},{"$f":"IF(OR(T70=\"Met\",T69=\"Met\",T68=\"Met\",T67=\"Met\"),\"\",IF(S70=\"Met\",\"Met\",\"\"))","v":""},{"$f":"IF(AND(U70=\"Met\",U69=\"\",U68=\"\",U67=\"\"),\"Met\",\"\")","v":""},{"$f":"IF(OR(V70=\"Met\",V69=\"Met\",V68=\"Met\",V67=\"Met\"),\"\",IF(U70=\"Met\",\"Met\",\"\"))","v":""},{"$f":"IF(AND(W70=\"Met\",W69=\"\",W68=\"\",W67=\"\"),\"Met\",\"\")","v":""},{"$f":"IF(OR(X70=\"Met\",X69=\"Met\",X68=\"Met\",X67=\"Met\"),\"\",IF(W70=\"Met\",\"Met\",\"\"))","v":""},{"$f":"IF(AND(Y70=\"Met\",Y69=\"\",Y68=\"\",Y67=\"\"),\"Met\",\"\")","v":""},{"$f":"IF(OR(Z70=\"Met\",Z69=\"Met\",Z68=\"Met\",Z67=\"Met\"),\"\",IF(Y70=\"Met\",\"Met\",\"\"))","v":""},{"$f":"IF(AND(AA70=\"Met\",AA69=\"\",AA68=\"\",AA67=\"\"),\"Met\",\"\")","v":""},{"$f":"IF(OR(AB70=\"Met\",AB69=\"Met\",AB68=\"Met\",AB67=\"Met\"),\"\",IF(AA70=\"Met\",\"Met\",\"\"))","v":""},{"$f":"IF(AND(AC70=\"Met\",AC69=\"\",AC68=\"\",AC67=\"\"),\"Met\",\"\")","v":""},{"$f":"IF(OR(AD70=\"Met\",AD69=\"Met\",AD68=\"Met\",AD67=\"Met\"),\"\",IF(AC70=\"Met\",\"Met\",\"\"))","v":""},{"$f":"IF(AND(AE70=\"Met\",AE69=\"\",AE68=\"\",AE67=\"\"),\"Met\",\"\")","v":""},{"$f":"IF(OR(AF70=\"Met\",AF69=\"Met\",AF68=\"Met\",AF67=\"Met\"),\"\",IF(AE70=\"Met\",\"Met\",\"\"))","v":""},{"$f":"IF(AND(AG70=\"Met\",AG69=\"\",AG68=\"\",AG67=\"\"),\"Met\",\"\")","v":""},{"$f":"IF(OR(AH70=\"Met\",AH69=\"Met\",AH68=\"Met\",AH67=\"Met\"),\"\",IF(AG70=\"Met\",\"Met\",\"\"))","v":""},{"$f":"IF(AND(AI70=\"Met\",AI69=\"\",AI68=\"\",AI67=\"\"),\"Met\",\"\")","v":""},{"$f":"IF(OR(AJ70=\"Met\",AJ69=\"Met\",AJ68=\"Met\",AJ67=\"Met\"),\"\",IF(AI70=\"Met\",\"Met\",\"\"))","v":""},{"$f":"IF(AND(AK70=\"Met\",AK69=\"\",AK68=\"\",AK67=\"\"),\"Met\",\"\")","v":""},{"$f":"IF(OR(AL70=\"Met\",AL69=\"Met\",AL68=\"Met\",AL67=\"Met\"),\"\",IF(AK70=\"Met\",\"Met\",\"\"))","v":""},{"$f":"IF(AND(AM70=\"Met\",AM69=\"\",AM68=\"\",AM67=\"\"),\"Met\",\"\")","v":""},{"$f":"IF(OR(AN70=\"Met\",AN69=\"Met\",AN68=\"Met\",AN67=\"Met\"),\"\",IF(AM70=\"Met\",\"Met\",\"\"))","v":""},{"$f":"IF(AND(AO70=\"Met\",AO69=\"\",AO68=\"\",AO67=\"\"),\"Met\",\"\")","v":""},{"$f":"IF(OR(AP70=\"Met\",AP69=\"Met\",AP68=\"Met\",AP67=\"Met\"),\"\",IF(AO70=\"Met\",\"Met\",\"\"))","v":""},{"$f":"IF(AND(AQ70=\"Met\",AQ69=\"\",AQ68=\"\",AQ67=\"\"),\"Met\",\"\")","v":""},{"$f":"IF(OR(AR70=\"Met\",AR69=\"Met\",AR68=\"Met\",AR67=\"Met\"),\"\",IF(AQ70=\"Met\",\"Met\",\"\"))","v":""},{"$f":"IF(AND(AS70=\"Met\",AS69=\"\",AS68=\"\",AS67=\"\"),\"Met\",\"\")","v":""},{"$f":"IF(OR(AT70=\"Met\",AT69=\"Met\",AT68=\"Met\",AT67=\"Met\"),\"\",IF(AS70=\"Met\",\"Met\",\"\"))","v":""},{"$f":"IF(AND(AU70=\"Met\",AU69=\"\",AU68=\"\",AU67=\"\"),\"Met\",\"\")","v":""},{"$f":"IF(OR(AV70=\"Met\",AV69=\"Met\",AV68=\"Met\",AV67=\"Met\"),\"\",IF(AU70=\"Met\",\"Met\",\"\"))","v":""},{"$f":"IF(AND(AW70=\"Met\",AW69=\"\",AW68=\"\",AW67=\"\"),\"Met\",\"\")","v":""},{"$f":"IF(OR(AX70=\"Met\",AX69=\"Met\",AX68=\"Met\",AX67=\"Met\"),\"\",IF(AW70=\"Met\",\"Met\",\"\"))","v":""},{"$f":"IF(AND(AY70=\"Met\",AY69=\"\",AY68=\"\",AY67=\"\"),\"Met\",\"\")","v":""},{"$f":"IF(OR(AZ70=\"Met\",AZ69=\"Met\",AZ68=\"Met\",AZ67=\"Met\"),\"\",IF(AY70=\"Met\",\"Met\",\"\"))","v":""},{"$f":"IF(AND(BA70=\"Met\",BA69=\"\",BA68=\"\",BA67=\"\"),\"Met\",\"\")","v":""},{"$error":"#NUM!"},"N/A","N/A","N/A","N/A","N/A","N/A","N/A",null,null,null,null,null,null,null,null,null,null,null,null,null,null,null,null,null,800,115,122.62534384854894,850,null,156.23565428292795,850,null,152.44638166179516,950,null,391.28734082459778]
["09:00:00",{"$f":"'Traffic Volume Input'!N42","v":0},{"$f":"IF('Traffic Volume Input'!O42>'Traffic Volume Input'!P42,'Traffic Volume Input'!O42,'Traffic Volume Input'!P42)","v":0},"",null,null,"","","","","","","","","","","","","","","","","","","","","","","","","","","","","","","","","","","","","","","","","","","","","","","","",{"$error":"#NUM!"},"N/A","N/A","N/A","N/A","N/A","N/A","N/A",null,null,null,null,null,null,null,null,null,null,null,null,null,null,null,null,null,850,105,110.54891918271505,900,135,142.60908842348408,900,135,138.39112769855183,1000,null,368.56441141091318]
["09:15:00",{"$f":"'Traffic Volume Input'!N43","v":0},{"$f":"IF('Traffic Volume Input'!O43>'Traffic Volume Input'!P43,'Traffic Volume Input'!O43,'Traffic Volume Input'!P43)","v":0},"",null,null,"","","","","","","","","","","","","","","","","","","","","","","","","","","","","","","","","","","","","","","","","","","","","","","","",{"$error":"#NUM!"},"N/A","N/A","N/A","N/A","N/A","N/A","N/A",null,null,null,null,null,null,null,null,null,null,null,null,null,null,null,null,null,900,95,99.162963145797448,950,125,129.71946287265041,950,125,125.0959979881909,1050,null,346.95036868385478]
["09:30:00",{"$f":"'Traffic Volume Input'!N44","v":0},{"$f":"IF('Traffic Volume Input'!O44>'Traffic Volume Input'!P44,'Traffic Volume Input'!O44,'Traffic Volume Input'!P44)","v":0},"",null,null,"","","","","","","","","","","","","","","","","","","","","","","","","","","","","","","","","","","","","","","","","","","","","","","","",{"$error":"#NUM!"},"N/A","N/A","N/A","N/A","N/A","N/A","N/A",null,null,null,null,null,null,null,null,null,null,null,null,null,null,null,null,null,950,88,88.392772668758425,1000,115,117.49114149065849,1000,115,112.48297689829246,1100,null,326.34200175759725]
["09:45:00",{"$f":"'Traffic Volume Input'!N45","v":0},{"$f":"IF('Traffic Volume Input'!O45>'Traffic Volume Input'!P45,'Traffic Volume Input'!O45,'Traffic Volume Input'!P45)","v":0},"",null,null,"","","","","","","","","","","","","","","","","","","","","","","","","","","","","","","","","","","","","","","","","","","","","","","","",{"$error":"#NUM!"},"N/A","N/A","N/A","N/A","N/A","N/A","N/A",null,null,null,null,null,null,null,null,null,null,null,null,null,null,null,null,null,1000,83,78.175148426758369,1050,105,105.85956635266598,1050,105,100.48547552902915,1160,100,302.81434914351803]
["10:00:00",{"$f":"'Traffic Volume Input'!N46","v":0},{"$f":"IF('Traffic Volume Input'!O46>'Traffic Volume Input'!P46,'Traffic Volume Input'!O46,'Traffic Volume Input'!P46)","v":0},"",null,null,"","","","","","","","","","","","","","","","","","","","","","","","","","","","","","","","","","","","","","","","","","","","","","","","",{"$error":"#NUM!"},"N/A","N/A","N/A","N/A","N/A","N/A","N/A",null,null,null,null,null,null,null,null,null,null,null,null,null,null,null,null,null,1050,78,68.45614772420754,1100,95,94.769194625307364]
["10:15:00",{"$f":"'Traffic Volume Input'!N47","v":0},{"$f":"IF('Traffic Volume Input'!O47>'Traffic Volume Input'!P47,'Traffic Volume Input'!O47,'Traffic Volume Input'!P47)","v":0},"",null,null,"","","","","","","","","","","","","","","","","","","","","","","","","","","","","","","","","","","","","","","","","","","","","","","","",{"$error":"#NUM!"},"N/A","N/A","N/A","N/A","N/A","N/A","N/A",null,null,null,null,null,null,null,null,null,null,null,null,null,null,null,null,null,1080,75,62.844509032441465,1150,90,84.171894428420501]
["10:30:00",{"$f":"'Traffic Volume Input'!N48","v":0},{"$f":"IF('Traffic Volume Input'!O48>'Traffic Volume Input'!P48,'Traffic Volume Input'!O48,'Traffic Volume Input'!P48)","v":0},"",null,null,"","","","","","","","","","","","","","","","","","","","","","","","","","","","","","","","","","","","","","","","","","","","","","","","",{"$error":"#NUM!"},"N/A","N/A","N/A","N/A","N/A","N/A","N/A",null,null,null,null,null,null,null,null,null,null,null,null,null,null,null,null,null,null,null,null,1200,80,74.02568235097965]
["10:45:00",{"$f":"'Traffic Volume Input'!N49","v":0},{"$f":"IF('Traffic Volume Input'!O49>'Traffic Volume Input'!P49,'Traffic Volume Input'!O49,'Traffic Volume Input'!P49)","v":0},"",null,null,"","","","","","","","","","","","","","","","","","","","","","","","","","","","","","","","","","","","","","","","","","","","","","","","",{"$error":"#NUM!"},"N/A","N/A","N/A","N/A","N/A","N/A","N/A",null,null,null,null,null,null,null,null,null,null,null,null,null,null,null,null,null,null,null,null,1230,75,68.138963509435143]
["11:00:00",{"$f":"'Traffic Volume Input'!N50","v":0},{"$f":"IF('Traffic Volume Input'!O50>'Traffic Volume Input'!P50,'Traffic Volume Input'!O50,'Traffic Volume Input'!P50)","v":0},"",null,null,"","","","","","","","","","","","","","","","","","","","","","","","","","","","","","","","","","","","","","","","","","","","","","","","",{"$error":"#NUM!"},"N/A","N/A","N/A","N/A","N/A","N/A","N/A"]
["11:15:00",{"$f":"'Traffic Volume Input'!N51","v":0},{"$f":"IF('Traffic Volume Input'!O51>'Traffic Volume Input'!P51,'Traffic Volume Input'!O51,'Traffic Volume Input'!P51)","v":0},"",null,null,"","","","","","","","","","","","","","","","","","","","","","","","","","","","","","","","","","","","","","","","","","","","","","","","",{"$error":"#NUM!"},"N/A","N/A","N/A","N/A","N/A","N/A","N/A",null,null,null,null,null,null,null,null,null,null,null,null,null,null,null,null,null,"y = -199.2ln(x) + 1454.2\n",null,null,"y = -238.4ln(x) + 1764.3\n",null,null,"y = -245.9ln(x) + 1811.1\n",null,null,"y = -320.4ln(x) + 2360.3"]
["11:30:00",{"$f":"'Traffic Volume Input'!N52","v":0},{"$f":"IF('Traffic Volume Input'!O52>'Traffic Volume Input'!P52,'Traffic Volume Input'!O52,'Traffic Volume Input'!P52)","v":0},"",null,null,"","","","","","","","","","","","","","","","","","","","","","","","","","","","","","","","","","","","","","","","","","","","","","","","",{"$error":"#NUM!"},"N/A","N/A","N/A","N/A","N/A","N/A","N/A"]
["11:45:00",{"$f":"'Traffic Volume Input'!N53","v":0},{"$f":"IF('Traffic Volume Input'!O53>'Traffic Volume Input'!P53,'Traffic Volume Input'!O53,'Traffic Volume Input'!P53)","v":0},"",null,null,"","","","","","","","","","","","","","","","","","","","","","","","","","","","","","","","","","","","","","","","","","","","","","","","",{"$error":"#NUM!"},"N/A","N/A","N/A","N/A","N/A","N/A","N/A"]
["12:00:00",{"$f":"'Traffic Volume Input'!N54","v":0},{"$f":"IF('Traffic Volume Input'!O54>'Traffic Volume Input'!P54,'Traffic Volume Input'!O54,'Traffic Volume Input'!P54)","v":0},"",null,null,"","","","","","","","","","","","","","","","","","","","","","","","","","","","","","","","","","","","","","","","","","","","","","","","",{"$error":"#NUM!"},"N/A","N/A","N/A","N/A","N/A","N/A","N/A"]
["12:15:00",{"$f":"'Traffic Volume Input'!N55","v":0},{"$f":"IF('Traffic Volume Input'!O55>'Traffic Volume Input'!P55,'Traffic Volume Input'!O55,'Traffic Volume Input'!P55)","v":0},"",null,null,"","","","","","","","","","","","","","","","","","","","","","","","","","","","","","","","","","","","","","","","","","","","","","","","",{"$error":"#NUM!"},"N/A","N/A","N/A","N/A","N/A","N/A","N/A"]
["12:30:00",{"$f":"'Traffic Volume Input'!N56","v":0},{"$f":"IF('Traffic Volume Input'!O56>'Traffic Volume Input'!P56,'Traffic Volume Input'!O56,'Traffic Volume Input'!P56)","v":0},"",null,null,"","","","","","","","","","","","","","","","","","","","","","","","","","","","","","","","","","","","","","","","","","","","","","","","",{"$error":"#NUM!"},"N/A","N/A","N/A","N/A","N/A","N/A","N/A"]
["12:45:00",{"$f":"'Traffic Volume Input'!N57","v":0},{"$f":"IF('Traffic Volume Input'!O57>'Traffic Volume Input'!P57,'Traffic Volume Input'!O57,'Traffic Volume Input'!P57)","v":0},"",null,null,"","","","","","","","","","","","","","","","","","","","","","","","","","","","","","","","","","","","","","","","","","","","","","","","",{"$error":"#NUM!"},"N/A","N/A","N/A","N/A","N/A","N/A","N/A"]
["13:00:00",{"$f":"'Traffic Volume Input'!N58","v":0},{"$f":"IF('Traffic Volume Input'!O58>'Traffic Volume Input'!P58,'Traffic Volume Input'!O58,'Traffic Volume Input'!P58)","v":0},"",null,null,"","","","","","","","","","","","","","","","","","","","","","","","","","","","","","","","","","","","","","","","","","","","","","","","",{"$error":"#NUM!"},"N/A","N/A","N/A","N/A","N/A","N/A","N/A"]
["13:15:00",{"$f":"'Traffic Volume Input'!N59","v":0},{"$f":"IF('Traffic Volume Input'!O59>'Traffic Volume Input'!P59,'Traffic Volume Input'!O59,'Traffic Volume Input'!P59)","v":0},"",null,null,"","","","","","","","","","","","","","","","","","","","","","","","","","","","","","","","","","","","","","","","","","","","","","","","",{"$error":"#NUM!"},"N/A","N/A","N/A","N/A","N/A","N/A","N/A"]
["13:30:00",{"$f":"'Traffic Volume Input'!N60","v":0},{"$f":"IF('Traffic Volume Input'!O60>'Traffic Volume Input'!P60,'Traffic Volume Input'!O60,'Traffic Volume Input'!P60)","v":0},"",null,null,"","","","","","","","","","","","","","","","","","","","","","","","","","","","","","","","","","","","","","","","","","","","","","","","",{"$error":"#NUM!"},"N/A","N/A","N/A","N/A","N/A","N/A","N/A"]
["13:45:00",{"$f":"'Traffic Volume Input'!N61","v":0},{"$f":"IF('Traffic Volume Input'!O61>'Traffic Volume Input'!P61,'Traffic Volume Input'!O61,'Traffic Volume Input'!P61)","v":0},"",null,null,"","","","","","","","","","","","","","","","","","","","","","","","","","","","","","","","","","","","","","","","","","","","","","","","",{"$error":"#NUM!"},"N/A","N/A","N/A","N/A","N/A","N/A","N/A"]
["14:00:00",{"$f":"'Traffic Volume Input'!N62","v":0},{"$f":"IF('Traffic Volume Input'!O62>'Traffic Volume Input'!P62,'Traffic Volume Input'!O62,'Traffic Volume Input'!P62)","v":0},"",null,null,"","","","","","","","","","","","","","","","","","","","","","","","","","","","","","","","","","","","","","","","","","","","","","","","",{"$error":"#NUM!"},"N/A","N/A","N/A","N/A","N/A","N/A","N/A"]
["14:15:00",{"$f":"'Traffic Volume Input'!N63","v":0},{"$f":"IF('Traffic Volume Input'!O63>'Traffic Volume Input'!P63,'Traffic Volume Input'!O63,'Traffic Volume Input'!P63)","v":0},"",null,null,"","","","","","","","","","","","","","","","","","","","","","","","","","","","","","","","","","","","","","","","","","","","","","","","",{"$error":"#NUM!"},"N/A","N/A","N/A","N/A","N/A","N/A","N/A"]
["14:30:00",{"$f":"'Traffic Volume Input'!N64","v":0},{"$f":"IF('Traffic Volume Input'!O64>'Traffic Volume Input'!P64,'Traffic Volume Input'!O64,'Traffic Volume Input'!P64)","v":0},"",null,null,"","","","","","","","","","","","","","","","","","","","","","","","","","","","","","","","","","","","","","","","","","","","","","","","",{"$error":"#NUM!"},"N/A","N/A","N/A","N/A","N/A","N/A","N/A"]
["14:45:00",{"$f":"'Traffic Volume Input'!N65","v":0},{"$f":"IF('Traffic Volume Input'!O65>'Traffic Volume Input'!P65,'Traffic Volume Input'!O65,'Traffic Volume Input'!P65)","v":0},"",null,null,"","","","","","","","","","","","","","","","","","","","","","","","","","","","","","","","","","","","","","","","","","","","","","","","",{"$error":"#NUM!"},"N/A","N/A","N/A","N/A","N/A","N/A","N/A"]
["15:00:00",{"$f":"'Traffic Volume Input'!N66","v":0},{"$f":"IF('Traffic Volume Input'!O66>'Traffic Volume Input'!P66,'Traffic Volume Input'!O66,'Traffic Volume Input'!P66)","v":0},"",null,null,"","","","","","","","","","","","","","","","","","","","","","","","","","","","","","","","","","","","","","","","","","","","","","","","",{"$error":"#NUM!"},"N/A","N/A","N/A","N/A","N/A","N/A","N/A"]
["15:15:00",{"$f":"'Traffic Volume Input'!N67","v":0},{"$f":"IF('Traffic Volume Input'!O67>'Traffic Volume Input'!P67,'Traffic Volume Input'!O67,'Traffic Volume Input'!P67)","v":0},"",null,null,"","","","","","","","","","","","","","","","","","","","","","","","","","","","","","","","","","","","","","","","","","","","","","","","",{"$error":"#NUM!"},"N/A","N/A","N/A","N/A","N/A","N/A","N/A"]
["15:30:00",{"$f":"'Traffic Volume Input'!N68","v":0},{"$f":"IF('Traffic Volume Input'!O68>'Traffic Volume Input'!P68,'Traffic Volume Input'!O68,'Traffic Volume Input'!P68)","v":0},"",null,null,"","","","","","","","","","","","","","","","","","","","","","","","","","","","","","","","","","","","","","","","","","","","","","","","",{"$error":"#NUM!"},"N/A","N/A","N/A","N/A","N/A","N/A","N/A"]
["15:45:00",{"$f":"'Traffic Volume Input'!N69","v":0},{"$f":"IF('Traffic Volume Input'!O69>'Traffic Volume Input'!P69,'Traffic Volume Input'!O69,'Traffic Volume Input'!P69)","v":0},"",null,null,"","","","","","","","","","","","","","","","","","","","","","","","","","","","","","","","","","","","","","","","","","","","","","","","",{"$error":"#NUM!"},"N/A","N/A","N/A","N/A","N/A","N/A","N/A"]
["16:00:00",{"$f":"'Traffic Volume Input'!N70","v":0},{"$f":"IF('Traffic Volume Input'!O70>'Traffic Volume Input'!P70,'Traffic Volume Input'!O70,'Traffic Volume Input'!P70)","v":0},"",null,null,"","","","","","","","","","","","","","","","","","","","","","","","","","","","","","","","","","","","","","","","","","","","","","","","",{"$f":"IF(AND($B$5=\"1 Lane\",$B$6=\"1 Lane\",$D$8=\"No\"),IF(OR((-299.5*LN(B99)+2277.8)>=C99,AND(B99>=1500,C99<100)),\"Not Met\",\"Met\"),\"N/A\")","v":{"$error":"#NUM!"}},{"$f":"IF(AND($B$5=\"2 or More Lanes\",$B$6=\"1 Lane\",$D$8=\"No\"),IF(OR((-355*LN(B99)+2738)>=C99,AND(B99>=1720,C99<100)),\"Not Met\",\"Met\"),\"N/A\")","v":"N/A"},{"$f":"IF(AND($B$5=\"1 Lane\",$B$6=\"2 or More Lanes\",$D$8=\"No\"),IF(OR((-357.2*LN(B99)+2752.1)>=C99,AND(B99>=1450,C99<150)),\"Not Met\",\"Met\"),\"N/A\")","v":"N/A"},{"$f":"IF(AND($B$5=\"2 or More Lanes\",$B$6=\"2 or More Lanes\",$D$8=\"No\"),IF(OR((-443*LN(B99)+3428.7)>=C99,AND(B99>=1660,C99<150)),\"Not Met\",\"Met\"),\"N/A\")","v":"N/A"},{"$f":"IF(AND($B$5=\"1 Lane\",$B$6=\"1 Lane\",$D$8=\"Yes\"),IF(OR((-199.2*LN(B99)+1454.2)>=C99,AND(B99>=1080,C99<75)),\"Not Met\",\"Met\"),\"N/A\")","v":"N/A"},{"$f":"IF(AND($B$5=\"2 or More Lanes\",$B$6=\"1 Lane\",$D$8=\"Yes\"),IF(OR((-238.4*LN(B99)+1764.3)>=C99,AND(B99>=1230,C99<75)),\"Not Met\",\"Met\"),\"N/A\")","v":"N/A"},{"$f":"IF(AND($B$5=\"1 Lane\",$B$6=\"2 or More Lanes\",$D$8=\"Yes\"),IF(OR((-245.9*LN(B99)+1811.1)>=C99,AND(B99>=1080,C99<100)),\"Not Met\",\"Met\"),\"N/A\")","v":"N/A"},{"$f":"IF(AND($B$5=\"2 or More Lanes\",$B$6=\"2 or More Lanes\",$D$8=\"Yes\"),IF(OR((-320.4*LN(B99)+2360.3)>=C99,AND(B99>=1160,C99<100)),\"Not Met\",\"Met\"),\"N/A\")","v":"N/A"}]
["16:15:00",{"$f":"'Traffic Volume Input'!N71","v":0},{"$f":"IF('Traffic Volume Input'!O71>'Traffic Volume Input'!P71,'Traffic Volume Input'!O71,'Traffic Volume Input'!P71)","v":0},{"$f":"IF(AND(B100=0,C100=0),\"\",IF(OR(BC100=\"Met\",BD100=\"Met\",BE100=\"Met\",BF100=\"Met\",BG100=\"Met\",BH100=\"Met\",BI100=\"Met\",BJ100=\"Met\"),\"Met\",\"\"))","v":""},null,null,{"$f":"D100","v":""},"","","","","","","","","","","","","","","","","","","","","","","","","","","","","","","","","","","","","","","","","","","","","","","",{"$error":"#NUM!"},"N/A","N/A","N/A","N/A","N/A","N/A","N/A"]
["16:30:00",{"$f":"'Traffic Volume Input'!N72","v":0},{"$f":"IF('Traffic Volume Input'!O72>'Traffic Volume Input'!P72,'Traffic Volume Input'!O72,'Traffic Volume Input'!P72)","v":0},"",null,null,"","","","","","","","","","","","","","","","","","","","","","","","","","","","","","","","","","","","","","","","","","","","","","","","",{"$error":"#NUM!"},"N/A","N/A","N/A","N/A","N/A","N/A","N/A"]
["16:45:00",{"$f":"'Traffic Volume Input'!N73","v":0},{"$f":"IF('Traffic Volume Input'!O73>'Traffic Volume Input'!P73,'Traffic Volume Input'!O73,'Traffic Volume Input'!P73)","v":0},"",null,null,"",{"$f":"IF(AND(G102=\"Met\",G101=\"\",G100=\"\",G99=\"\"),\"Met\",\"\")","v":""},{"$f":"IF(OR(H102=\"Met\",H101=\"Met\",H100=\"Met\",H99=\"Met\"),\"\",IF(G102=\"Met\",\"Met\",\"\"))","v":""},{"$f":"IF(AND(I102=\"Met\",I101=\"\",I100=\"\",I99=\"\"),\"Met\",\"\")","v":""},{"$f":"IF(OR(J102=\"Met\",J101=\"Met\",J100=\"Met\",J99=\"Met\"),\"\",IF(I102=\"Met\",\"Met\",\"\"))","v":""},{"$f":"IF(AND(K102=\"Met\",K101=\"\",K100=\"\",K99=\"\"),\"Met\",\"\")","v":""},{"$f":"IF(OR(L102=\"Met\",L101=\"Met\",L100=\"Met\",L99=\"Met\"),\"\",IF(K102=\"Met\",\"Met\",\"\"))","v":""},{"$f":"IF(AND(M102=\"Met\",M101=\"\",M100=\"\",M99=\"\"),\"Met\",\"\")","v":""},{"$f":"IF(OR(N102=\"Met\",N101=\"Met\",N100=\"Met\",N99=\"Met\"),\"\",IF(M102=\"Met\",\"Met\",\"\"))","v":""},{"$f":"IF(AND(O102=\"Met\",O101=\"\",O100=\"\",O99=\"\"),\"Met\",\"\")","v":""},{"$f":"IF(OR(P102=\"Met\",P101=\"Met\",P100=\"Met\",P99=\"Met\"),\"\",IF(O102=\"Met\",\"Met\",\"\"))","v":""},{"$f":"IF(AND(Q102=\"Met\",Q101=\"\",Q100=\"\",Q99=\"\"),\"Met\",\"\")","v":""},{"$f":"IF(OR(R102=\"Met\",R101=\"Met\",R100=\"Met\",R99=\"Met\"),\"\",IF(Q102=\"Met\",\"Met\",\"\"))","v":""},{"$f":"IF(AND(S102=\"Met\",S101=\"\",S100=\"\",S99=\"\"),\"Met\",\"\")","v":""},{"$f":"IF(OR(T102=\"Met\",T101=\"Met\",T100=\"Met\",T99=\"Met\"),\"\",IF(S102=\"Met\",\"Met\",\"\"))","v":""},{"$f":"IF(AND(U102=\"Met\",U101=\"\",U100=\"\",U99=\"\"),\"Met\",\"\")","v":""},{"$f":"IF(OR(V102=\"Met\",V101=\"Met\",V100=\"Met\",V99=\"Met\"),\"\",IF(U102=\"Met\",\"Met\",\"\"))","v":""},{"$f":"IF(AND(W102=\"Met\",W101=\"\",W100=\"\",W99=\"\"),\"Met\",\"\")","v":""},{"$f":"IF(OR(X102=\"Met\",X101=\"Met\",X100=\"Met\",X99=\"Met\"),\"\",IF(W102=\"Met\",\"Met\",\"\"))","v":""},{"$f":"IF(AND(Y102=\"Met\",Y101=\"\",Y100=\"\",Y99=\"\"),\"Met\",\"\")","v":""},{"$f":"IF(OR(Z102=\"Met\",Z101=\"Met\",Z100=\"Met\",Z99=\"Met\"),\"\",IF(Y102=\"Met\",\"Met\",\"\"))","v":""},{"$f":"IF(AND(AA102=\"Met\",AA101=\"\",AA100=\"\",AA99=\"\"),\"Met\",\"\")","v":""},{"$f":"IF(OR(AB102=\"Met\",AB101=\"Met\",AB100=\"Met\",AB99=\"Met\"),\"\",IF(AA102=\"Met\",\"Met\",\"\"))","v":""},{"$f":"IF(AND(AC102=\"Met\",AC101=\"\",AC100=\"\",AC99=\"\"),\"Met\",\"\")","v":""},{"$f":"IF(OR(AD102=\"Met\",AD101=\"Met\",AD100=\"Met\",AD99=\"Met\"),\"\",IF(AC102=\"Met\",\"Met\",\"\"))","v":""},{"$f":"IF(AND(AE102=\"Met\",AE101=\"\",AE100=\"\",AE99=\"\"),\"Met\",\"\")","v":""},{"$f":"IF(OR(AF102=\"Met\",AF101=\"Met\",AF100=\"Met\",AF99=\"Met\"),\"\",IF(AE102=\"Met\",\"Met\",\"\"))","v":""},{"$f":"IF(AND(AG102=\"Met\",AG101=\"\",AG100=\"\",AG99=\"\"),\"Met\",\"\")","v":""},{"$f":"IF(OR(AH102=\"Met\",AH101=\"Met\",AH100=\"Met\",AH99=\"Met\"),\"\",IF(AG102=\"Met\",\"Met\",\"\"))","v":""},{"$f":"IF(AND(AI102=\"Met\",AI101=\"\",AI100=\"\",AI99=\"\"),\"Met\",\"\")","v":""},{"$f":"IF(OR(AJ102=\"Met\",AJ101=\"Met\",AJ100=\"Met\",AJ99=\"Met\"),\"\",IF(AI102=\"Met\",\"Met\",\"\"))","v":""},{"$f":"IF(AND(AK102=\"Met\",AK101=\"\",AK100=\"\",AK99=\"\"),\"Met\",\"\")","v":""},{"$f":"IF(OR(AL102=\"Met\",AL101=\"Met\",AL100=\"Met\",AL99=\"Met\"),\"\",IF(AK102=\"Met\",\"Met\",\"\"))","v":""},{"$f":"IF(AND(AM102=\"Met\",AM101=\"\",AM100=\"\",AM99=\"\"),\"Met\",\"\")","v":""},{"$f":"IF(OR(AN102=\"Met\",AN101=\"Met\",AN100=\"Met\",AN99=\"Met\"),\"\",IF(AM102=\"Met\",\"Met\",\"\"))","v":""},{"$f":"IF(AND(AO102=\"Met\",AO101=\"\",AO100=\"\",AO99=\"\"),\"Met\",\"\")","v":""},{"$f":"IF(OR(AP102=\"Met\",AP101=\"Met\",AP100=\"Met\",AP99=\"Met\"),\"\",IF(AO102=\"Met\",\"Met\",\"\"))","v":""},{"$f":"IF(AND(AQ102=\"Met\",AQ101=\"\",AQ100=\"\",AQ99=\"\"),\"Met\",\"\")","v":""},{"$f":"IF(OR(AR102=\"Met\",AR101=\"Met\",AR100=\"Met\",AR99=\"Met\"),\"\",IF(AQ102=\"Met\",\"Met\",\"\"))","v":""},{"$f":"IF(AND(AS102=\"Met\",AS101=\"\",AS100=\"\",AS99=\"\"),\"Met\",\"\")","v":""},{"$f":"IF(OR(AT102=\"Met\",AT101=\"Met\",AT100=\"Met\",AT99=\"Met\"),\"\",IF(AS102=\"Met\",\"Met\",\"\"))","v":""},{"$f":"IF(AND(AU102=\"Met\",AU101=\"\",AU100=\"\",AU99=\"\"),\"Met\",\"\")","v":""},{"$f":"IF(OR(AV102=\"Met\",AV101=\"Met\",AV100=\"Met\",AV99=\"Met\"),\"\",IF(AU102=\"Met\",\"Met\",\"\"))","v":""},{"$f":"IF(AND(AW102=\"Met\",AW101=\"\",AW100=\"\",AW99=\"\"),\"Met\",\"\")","v":""},{"$f":"IF(OR(AX102=\"Met\",AX101=\"Met\",AX100=\"Met\",AX99=\"Met\"),\"\",IF(AW102=\"Met\",\"Met\",\"\"))","v":""},{"$f":"IF(AND(AY102=\"Met\",AY101=\"\",AY100=\"\",AY99=\"\"),\"Met\",\"\")","v":""},{"$f":"IF(OR(AZ102=\"Met\",AZ101=\"Met\",AZ100=\"Met\",AZ99=\"Met\"),\"\",IF(AY102=\"Met\",\"Met\",\"\"))","v":""},{"$f":"IF(AND(BA102=\"Met\",BA101=\"\",BA100=\"\",BA99=\"\"),\"Met\",\"\")","v":""},{"$error":"#NUM!"},"N/A","N/A","N/A","N/A","N/A","N/A","N/A"]
["17:00:00",{"$f":"'Traffic Volume Input'!N74","v":0},{"$f":"IF('Traffic Volume Input'!O74>'Traffic Volume Input'!P74,'Traffic Volume Input'!O74,'Traffic Volume Input'!P74)","v":0},"",null,null,"","","","","","","","","","","","","","","","","","","","","","","","","","","","","","","","","","","","","","","","","","","","","","","","",{"$error":"#NUM!"},"N/A","N/A","N/A","N/A","N/A","N/A","N/A"]
["17:15:00",{"$f":"'Traffic Volume Input'!N75","v":0},{"$f":"IF('Traffic Volume Input'!O75>'Traffic Volume Input'!P75,'Traffic Volume Input'!O75,'Traffic Volume Input'!P75)","v":0},"",null,null,"","","","","","","","","","","","","","","","","","","","","","","","","","","","","","","","","","","","","","","","","","","","","","","","",{"$error":"#NUM!"},"N/A","N/A","N/A","N/A","N/A","N/A","N/A"]
["17:30:00",{"$f":"'Traffic Volume Input'!N76","v":0},{"$f":"IF('Traffic Volume Input'!O76>'Traffic Volume Input'!P76,'Traffic Volume Input'!O76,'Traffic Volume Input'!P76)","v":0},"",null,null,"","","","","","","","","","","","","","","","","","","","","","","","","","","","","","","","","","","","","","","","","","","","","","","","",{"$error":"#NUM!"},"N/A","N/A","N/A","N/A","N/A","N/A","N/A"]
["17:45:00",{"$f":"'Traffic Volume Input'!N77","v":0},{"$f":"IF('Traffic Volume Input'!O77>'Traffic Volume Input'!P77,'Traffic Volume Input'!O77,'Traffic Volume Input'!P77)","v":0},"",null,null,"","","","","","","","","","","","","","","","","","","","","","","","","","","","","","","","","","","","","","","","","","","","","","","","",{"$error":"#NUM!"},"N/A","N/A","N/A","N/A","N/A","N/A","N/A"]
["18:00:00",{"$f":"'Traffic Volume Input'!N78","v":0},{"$f":"IF('Traffic Volume Input'!O78>'Traffic Volume Input'!P78,'Traffic Volume Input'!O78,'Traffic Volume Input'!P78)","v":0},"",null,null,"","","","","","","","","","","","","","","","","","","","","","","","","","","","","","","","","","","","","","","","","","","","","","","","",{"$error":"#NUM!"},"N/A","N/A","N/A","N/A","N/A","N/A","N/A"]
["18:15:00",{"$f":"'Traffic Volume Input'!N79","v":0},{"$f":"IF('Traffic Volume Input'!O79>'Traffic Volume Input'!P79,'Traffic Volume Input'!O79,'Traffic Volume Input'!P79)","v":0},"",null,null,"","","","","","","","","","","","","","","","","","","","","","","","","","","","","","","","","","","","","","","","","","","","","","","","",{"$error":"#NUM!"},"N/A","N/A","N/A","N/A","N/A","N/A","N/A"]
["18:30:00",{"$f":"'Traffic Volume Input'!N80","v":0},{"$f":"IF('Traffic Volume Input'!O80>'Traffic Volume Input'!P80,'Traffic Volume Input'!O80,'Traffic Volume Input'!P80)","v":0},"",null,null,"","","","","","","","","","","","","","","","","","","","","","","","","","","","","","","","","","","","","","","","","","","","","","","","",{"$error":"#NUM!"},"N/A","N/A","N/A","N/A","N/A","N/A","N/A"]
["18:45:00",{"$f":"'Traffic Volume Input'!N81","v":0},{"$f":"IF('Traffic Volume Input'!O81>'Traffic Volume Input'!P81,'Traffic Volume Input'!O81,'Traffic Volume Input'!P81)","v":0},"",null,null,"","","","","","","","","","","","","","","","","","","","","","","","","","","","","","","","","","","","","","","","","","","","","","","","",{"$error":"#NUM!"},"N/A","N/A","N/A","N/A","N/A","N/A","N/A"]
["19:00:00",{"$f":"'Traffic Volume Input'!N82","v":0},{"$f":"IF('Traffic Volume Input'!O82>'Traffic Volume Input'!P82,'Traffic Volume Input'!O82,'Traffic Volume Input'!P82)","v":0},"",null,null,"","","","","","","","","","","","","","","","","","","","","","","","","","","","","","","","","","","","","","","","","","","","","","","","",{"$error":"#NUM!"},"N/A","N/A","N/A","N/A","N/A","N/A","N/A"]
["19:15:00",{"$f":"'Traffic Volume Input'!N83","v":0},{"$f":"IF('Traffic Volume Input'!O83>'Traffic Volume Input'!P83,'Traffic Volume Input'!O83,'Traffic Volume Input'!P83)","v":0},"",null,null,"","","","","","","","","","","","","","","","","","","","","","","","","","","","","","","","","","","","","","","","","","","","","","","","",{"$error":"#NUM!"},"N/A","N/A","N/A","N/A","N/A","N/A","N/A"]
["19:30:00",{"$f":"'Traffic Volume Input'!N84","v":0},{"$f":"IF('Traffic Volume Input'!O84>'Traffic Volume Input'!P84,'Traffic Volume Input'!O84,'Traffic Volume Input'!P84)","v":0},"",null,null,"","","","","","","","","","","","","","","","","","","","","","","","","","","","","","","","","","","","","","","","","","","","","","","","",{"$error":"#NUM!"},"N/A","N/A","N/A","N/A","N/A","N/A","N/A"]
["19:45:00",{"$f":"'Traffic Volume Input'!N85","v":0},{"$f":"IF('Traffic Volume Input'!O85>'Traffic Volume Input'!P85,'Traffic Volume Input'!O85,'Traffic Volume Input'!P85)","v":0},"",null,null,"","","","","","","","","","","","","","","","","","","","","","","","","","","","","","","","","","","","","","","","","","","","","","","","",{"$error":"#NUM!"},"N/A","N/A","N/A","N/A","N/A","N/A","N/A"]
["20:00:00",{"$f":"'Traffic Volume Input'!N86","v":0},{"$f":"IF('Traffic Volume Input'!O86>'Traffic Volume Input'!P86,'Traffic Volume Input'!O86,'Traffic Volume Input'!P86)","v":0},"",null,null,"","","","","","","","","","","","","","","","","","","","","","","","","","","","","","","","","","","","","","","","","","","","","","","","",{"$error":"#NUM!"},"N/A","N/A","N/A","N/A","N/A","N/A","N/A"]
["20:15:00",{"$f":"'Traffic Volume Input'!N87","v":0},{"$f":"IF('Traffic Volume Input'!O87>'Traffic Volume Input'!P87,'Traffic Volume Input'!O87,'Traffic Volume Input'!P87)","v":0},"",null,null,"","","","","","","","","","","","","","","","","","","","","","","","","","","","","","","","","","","","","","","","","","","","","","","","",{"$error":"#NUM!"},"N/A","N/A","N/A","N/A","N/A","N/A","N/A"]
["20:30:00",{"$f":"'Traffic Volume Input'!N88","v":0},{"$f":"IF('Traffic Volume Input'!O88>'Traffic Volume Input'!P88,'Traffic Volume Input'!O88,'Traffic Volume Input'!P88)","v":0},"",null,null,"","","","","","","","","","","","","","","","","","","","","","","","","","","","","","","","","","","","","","","","","","","","","","","","",{"$error":"#NUM!"},"N/A","N/A","N/A","N/A","N/A","N/A","N/A"]
["20:45:00",{"$f":"'Traffic Volume Input'!N89","v":0},{"$f":"IF('Traffic Volume Input'!O89>'Traffic Volume Input'!P89,'Traffic Volume Input'!O89,'Traffic Volume Input'!P89)","v":0},"",null,null,"","","","","","","","","","","","","","","","","","","","","","","","","","","","","","","","","","","","","","","","","","","","","","","","",{"$error":"#NUM!"},"N/A","N/A","N/A","N/A","N/A","N/A","N/A"]
["21:00:00",{"$f":"'Traffic Volume Input'!N90","v":0},{"$f":"IF('Traffic Volume Input'!O90>'Traffic Volume Input'!P90,'Traffic Volume Input'!O90,'Traffic Volume Input'!P90)","v":0},"",null,null,"","","","","","","","","","","","","","","","","","","","","","","","","","","","","","","","","","","","","","","","","","","","","","","","",{"$error":"#NUM!"},"N/A","N/A","N/A","N/A","N/A","N/A","N/A"]
["21:15:00",{"$f":"'Traffic Volume Input'!N91","v":0},{"$f":"IF('Traffic Volume Input'!O91>'Traffic Volume Input'!P91,'Traffic Volume Input'!O91,'Traffic Volume Input'!P91)","v":0},"",null,null,"","","","","","","","","","","","","","","","","","","","","","","","","","","","","","","","","","","","","","","","","","","","","","","","",{"$error":"#NUM!"},"N/A","N/A","N/A","N/A","N/A","N/A","N/A"]
["21:30:00",{"$f":"'Traffic Volume Input'!N92","v":0},{"$f":"IF('Traffic Volume Input'!O92>'Traffic Volume Input'!P92,'Traffic Volume Input'!O92,'Traffic Volume Input'!P92)","v":0},"",null,null,"","","","","","","","","","","","","","","","","","","","","","","","","","","","","","","","","","","","","","","","","","","","","","","","",{"$error":"#NUM!"},"N/A","N/A","N/A","N/A","N/A","N/A","N/A"]
["21:45:00",{"$f":"'Traffic Volume Input'!N93","v":0},{"$f":"IF('Traffic Volume Input'!O93>'Traffic Volume Input'!P93,'Traffic Volume Input'!O93,'Traffic Volume Input'!P93)","v":0},"",null,null,"","","","","","","","","","","","","","","","","","","","","","","","","","","","","","","","","","","","","","","","","","","","","","","","",{"$error":"#NUM!"},"N/A","N/A","N/A","N/A","N/A","N/A","N/A"]
["22:00:00",{"$f":"'Traffic Volume Input'!N94","v":0},{"$f":"IF('Traffic Volume Input'!O94>'Traffic Volume Input'!P94,'Traffic Volume Input'!O94,'Traffic Volume Input'!P94)","v":0},"",null,null,"","","","","","","","","","","","","","","","","","","","","","","","","","","","","","","","","","","","","","","","","","","","","","","","",{"$error":"#NUM!"},"N/A","N/A","N/A","N/A","N/A","N/A","N/A"]
["22:15:00",{"$f":"'Traffic Volume Input'!N95","v":0},{"$f":"IF('Traffic Volume Input'!O95>'Traffic Volume Input'!P95,'Traffic Volume Input'!O95,'Traffic Volume Input'!P95)","v":0},"",null,null,"","","","","","","","","","","","","","","","","","","","","","","","","","","","","","","","","","","","","","","","","","","","","","","","",{"$error":"#NUM!"},"N/A","N/A","N/A","N/A","N/A","N/A","N/A"]
["22:30:00",{"$f":"'Traffic Volume Input'!N96","v":0},{"$f":"IF('Traffic Volume Input'!O96>'Traffic Volume Input'!P96,'Traffic Volume Input'!O96,'Traffic Volume Input'!P96)","v":0},"",null,null,"","","","","","","","","","","","","","","","","","","","","","","","","","","","","","","","","","","","","","","","","","","","","","","","",{"$error":"#NUM!"},"N/A","N/A","N/A","N/A","N/A","N/A","N/A"]
["22:45:00",{"$f":"'Traffic Volume Input'!N97","v":0},{"$f":"IF('Traffic Volume Input'!O97>'Traffic Volume Input'!P97,'Traffic Volume Input'!O97,'Traffic Volume Input'!P97)","v":0},"",null,null,"","","","","","","","","","","","","","","","","","","","","","","","","","","","","","","","","","","","","","","","","","","","","","","","",{"$error":"#NUM!"},"N/A","N/A","N/A","N/A","N/A","N/A","N/A"]
["23:00:00",{"$f":"'Traffic Volume Input'!N98","v":0},{"$f":"IF('Traffic Volume Input'!O98>'Traffic Volume Input'!P98,'Traffic Volume Input'!O98,'Traffic Volume Input'!P98)","v":0},"",null,null,"","","","","","","","","","","","","","","","","","","","","","","","","","","","","","","","","","","","","","","","","","","","","","","","",{"$error":"#NUM!"},"N/A","N/A","N/A","N/A","N/A","N/A","N/A"]
[null,null,null,null,null,null,null,{"$f":"COUNTIF(H35:H127,\"Met\")","v":0},null,{"$f":"COUNTIF(J35:J127,\"Met\")","v":0},null,{"$f":"COUNTIF(L35:L127,\"Met\")","v":0},null,{"$f":"COUNTIF(N35:N127,\"Met\")","v":0},null,{"$f":"COUNTIF(P35:P127,\"Met\")","v":0},null,{"$f":"COUNTIF(R35:R127,\"Met\")","v":0},null,{"$f":"COUNTIF(T35:T127,\"Met\")","v":0},null,{"$f":"COUNTIF(V35:V127,\"Met\")","v":0},null,{"$f":"COUNTIF(X35:X127,\"Met\")","v":0},null,{"$f":"COUNTIF(Z35:Z127,\"Met\")","v":0},null,{"$f":"COUNTIF(AB35:AB127,\"Met\")","v":0},null,{"$f":"COUNTIF(AD35:AD127,\"Met\")","v":0},null,{"$f":"COUNTIF(AF35:AF127,\"Met\")","v":0},null,{"$f":"COUNTIF(AH35:AH127,\"Met\")","v":0},null,{"$f":"COUNTIF(AJ35:AJ127,\"Met\")","v":0},null,{"$f":"COUNTIF(AL35:AL127,\"Met\")","v":0},null,{"$f":"COUNTIF(AN35:AN127,\"Met\")","v":0},null,{"$f":"COUNTIF(AP35:AP127,\"Met\")","v":0},null,{"$f":"COUNTIF(AR35:AR127,\"Met\")","v":0},null,{"$f":"COUNTIF(AT35:AT127,\"Met\")","v":0},null,{"$f":"COUNTIF(AV35:AV127,\"Met\")","v":0},null,{"$f":"COUNTIF(AX35:AX127,\"Met\")","v":0},null,{"$f":"COUNTIF(AZ35:AZ127,\"Met\")","v":0},null,{"$f":"COUNTIF(BB35:BB127,\"Met\")","v":0}]

{"sheet":"Warrant 4 - MUTCD","index":10,"n_rows":118,"n_cols":131,"rows_kept":118,"cut":false,"hidden":false,"merged":[[44,133,44,135],[22,103,22,106],[11,0,13,2],[2,3,3,3],[41,128,41,130],[25,128,25,130],[25,124,25,126],[41,124,41,126],[16,1,16,2],[18,1,18,2],[5,0,5,2],[8,0,9,2],[6,0,6,2],[14,0,14,2],[2,0,3,2],[0,0,0,4],[47,124,47,126],[66,124,66,126],[69,124,69,126],[88,124,88,126],[21,0,21,4],[22,7,23,54],[22,55,23,102]]}
["MUTCD WARRANT 4, PEDESTRIAN VOLUME",null,null,null,null,null,"↓"]
[]
["Built-up Isolated Community With Less Than 10,000 Population or Above 35 MPH on Major Street?",null,null,{"$f":"IF(OR('Input&Findings'!$E$12=\"Yes\",'Input&Findings'!$D$21>35),\"Yes\",\"No\")","v":"No"}]
[]
[]
["15th Percentile Pedestrian Crossing Speed Less than 3.5 f/s?*",null,null,"No"]
["*If applicable, attach all supporting calculations, documentation, and findings."]
[]
["Is the distance to the nearest traffic control signal or STOP sign controlling the major street that pedestrians desire to cross less than 300 feet?"]
[null,null,null,"No"]
[]
["If the distance to the nearest traffic control signal or STOP sign controlling the major street that pedestrians desire to cross is less than 300 feet, will the proposed traffic control signal restrict the progressive movement of traffic?*"]
[]
[null,null,null,"N/A"]
["*If applicable, attach supporting justification."]
[]
[null,"Total Number of Unique Hours Met for Criterion A:",null,{"$f":"SUM(H118:BC118)","v":0}]
[]
[null,"Total Number of Unique Hours Met for Criterion B:",null,{"$f":"SUM(BD118:CY118)","v":0}]
[]
[]
["Hourly Vehicular & Pedestrian Volume"]
["Hour Interval","Major Street Combined","Total of All Pedestrians Crossing Major Street","Criterion A: 4-Hour","Criterion B: 1-Hour",null,null,"Criterion A - Unique Hour Validations",null,null,null,null,null,null,null,null,null,null,null,null,null,null,null,null,null,null,null,null,null,null,null,null,null,null,null,null,null,null,null,null,null,null,null,null,null,null,null,null,null,null,null,null,null,null,null,"Criterion B - Unique Hour Validations",null,null,null,null,null,null,null,null,null,null,null,null,null,null,null,null,null,null,null,null,null,null,null,null,null,null,null,null,null,null,null,null,null,null,null,null,null,null,null,null,null,null,null,null,null,null,null,"Figure 4C-5 thru Figure 4C-8 Validations"]
["Beginning At","Vehicles Per Hour (VPH)","Pedestrians Per Hour (PPH)",{"$f":"IF($D$3=\"No\",\"Hour Met on Figure 4C-5?\",\"Hour Met on Figure 4C-6?\")","v":"Hour Met on Figure 4C-5?"},{"$f":"IF($D$3=\"No\",\"Hour Met on Figure 4C-7?\",\"Hour Met on Figure 4C-8?\")","v":"Hour Met on Figure 4C-7?"},null,null,null,null,null,null,null,null,null,null,null,null,null,null,null,null,null,null,null,null,null,null,null,null,null,null,null,null,null,null,null,null,null,null,null,null,null,null,null,null,null,null,null,null,null,null,null,null,null,null,null,null,null,null,null,null,null,null,null,null,null,null,null,null,null,null,null,null,null,null,null,null,null,null,null,null,null,null,null,null,null,null,null,null,null,null,null,null,null,null,null,null,null,null,null,null,null,null,"4C-5","4C-6","4C-7","4C-8"]
["00:00:00",{"$f":"'Traffic Volume Input'!N6","v":0},null,{"$f":"IF(OR(B25=0,C25=0),\"\",IF(OR(CZ25=\"Met\",DA25=\"Met\"),\"Met\",\"\"))","v":""},{"$f":"IF(OR(B25=0,C25=0),\"\",IF(OR(DB25=\"Met\",DC25=\"Met\"),\"Met\",\"\"))","v":""},null,null,{"$f":"D25","v":""},{"$f":"IF(H25=\"Met\",\"Met\",\"\")","v":""},{"$f":"IF(AND(I25=\"Met\",H25=\"Met\"),\"\",\"\")","v":""},{"$f":"IF(J25=\"Met\",\"Met\",\"\")","v":""},{"$f":"IF(AND(K25=\"Met\",J25=\"Met\"),\"\",\"\")","v":""},{"$f":"IF(L25=\"Met\",\"Met\",\"\")","v":""},{"$f":"IF(AND(M25=\"Met\",L25=\"Met\"),\"\",\"\")","v":""},{"$f":"IF(N25=\"Met\",\"Met\",\"\")","v":""},{"$f":"IF(AND(O25=\"Met\",N25=\"Met\"),\"\",\"\")","v":""},{"$f":"IF(P25=\"Met\",\"Met\",\"\")","v":""},{"$f":"IF(AND(Q25=\"Met\",P25=\"Met\"),\"\",\"\")","v":""},{"$f":"IF(R25=\"Met\",\"Met\",\"\")","v":""},{"$f":"IF(AND(S25=\"Met\",R25=\"Met\"),\"\",\"\")","v":""},{"$f":"IF(T25=\"Met\",\"Met\",\"\")","v":""},{"$f":"IF(AND(U25=\"Met\",T25=\"Met\"),\"\",\"\")","v":""},{"$f":"IF(V25=\"Met\",\"Met\",\"\")","v":""},{"$f":"IF(AND(W25=\"Met\",V25=\"Met\"),\"\",\"\")","v":""},{"$f":"IF(X25=\"Met\",\"Met\",\"\")","v":""},{"$f":"IF(AND(Y25=\"Met\",X25=\"Met\"),\"\",\"\")","v":""},{"$f":"IF(Z25=\"Met\",\"Met\",\"\")","v":""},{"$f":"IF(AND(AA25=\"Met\",Z25=\"Met\"),\"\",\"\")","v":""},{"$f":"IF(AB25=\"Met\",\"Met\",\"\")","v":""},{"$f":"IF(AND(AC25=\"Met\",AB25=\"Met\"),\"\",\"\")","v":""},{"$f":"IF(AD25=\"Met\",\"Met\",\"\")","v":""},{"$f":"IF(AND(AE25=\"Met\",AD25=\"Met\"),\"\",\"\")","v":""},{"$f":"IF(AF25=\"Met\",\"Met\",\"\")","v":""},{"$f":"IF(AND(AG25=\"Met\",AF25=\"Met\"),\"\",\"\")","v":""},{"$f":"IF(AH25=\"Met\",\"Met\",\"\")","v":""},{"$f":"IF(AND(AI25=\"Met\",AH25=\"Met\"),\"\",\"\")","v":""},{"$f":"IF(AJ25=\"Met\",\"Met\",\"\")","v":""},{"$f":"IF(AND(AK25=\"Met\",AJ25=\"Met\"),\"\",\"\")","v":""},{"$f":"IF(AL25=\"Met\",\"Met\",\"\")","v":""},{"$f":"IF(AND(AM25=\"Met\",AL25=\"Met\"),\"\",\"\")","v":""},{"$f":"IF(AN25=\"Met\",\"Met\",\"\")","v":""},{"$f":"IF(AND(AO25=\"Met\",AN25=\"Met\"),\"\",\"\")","v":""},{"$f":"IF(AP25=\"Met\",\"Met\",\"\")","v":""},{"$f":"IF(AND(AQ25=\"Met\",AP25=\"Met\"),\"\",\"\")","v":""},{"$f":"IF(AR25=\"Met\",\"Met\",\"\")","v":""},{"$f":"IF(AND(AS25=\"Met\",AR25=\"Met\"),\"\",\"\")","v":""},{"$f":"IF(AT25=\"Met\",\"Met\",\"\")","v":""},{"$f":"IF(AND(AU25=\"Met\",AT25=\"Met\"),\"\",\"\")","v":""},{"$f":"IF(AV25=\"Met\",\"Met\",\"\")","v":""},{"$f":"IF(AND(AW25=\"Met\",AV25=\"Met\"),\"\",\"\")","v":""},{"$f":"IF(AX25=\"Met\",\"Met\",\"\")","v":""},{"$f":"IF(AND(AY25=\"Met\",AX25=\"Met\"),\"\",\"\")","v":""},{"$f":"IF(AZ25=\"Met\",\"Met\",\"\")","v":""},{"$f":"IF(AND(BA25=\"Met\",AZ25=\"Met\"),\"\",\"\")","v":""},{"$f":"IF(BB25=\"Met\",\"Met\",\"\")","v":""},{"$f":"E25","v":""},{"$f":"IF(BD25=\"Met\",\"Met\",\"\")","v":""},{"$f":"IF(AND(BE25=\"Met\",BD25=\"Met\"),\"\",\"\")","v":""},{"$f":"IF(BF25=\"Met\",\"Met\",\"\")","v":""},{"$f":"IF(AND(BG25=\"Met\",BF25=\"Met\"),\"\",\"\")","v":""},{"$f":"IF(BH25=\"Met\",\"Met\",\"\")","v":""},{"$f":"IF(AND(BI25=\"Met\",BH25=\"Met\"),\"\",\"\")","v":""},{"$f":"IF(BJ25=\"Met\",\"Met\",\"\")","v":""},{"$f":"IF(AND(BK25=\"Met\",BJ25=\"Met\"),\"\",\"\")","v":""},{"$f":"IF(BL25=\"Met\",\"Met\",\"\")","v":""},{"$f":"IF(AND(BM25=\"Met\",BL25=\"Met\"),\"\",\"\")","v":""},{"$f":"IF(BN25=\"Met\",\"Met\",\"\")","v":""},{"$f":"IF(AND(BO25=\"Met\",BN25=\"Met\"),\"\",\"\")","v":""},{"$f":"IF(BP25=\"Met\",\"Met\",\"\")","v":""},{"$f":"IF(AND(BQ25=\"Met\",BP25=\"Met\"),\"\",\"\")","v":""},{"$f":"IF(BR25=\"Met\",\"Met\",\"\")","v":""},{"$f":"IF(AND(BS25=\"Met\",BR25=\"Met\"),\"\",\"\")","v":""},{"$f":"IF(BT25=\"Met\",\"Met\",\"\")","v":""},{"$f":"IF(AND(BU25=\"Met\",BT25=\"Met\"),\"\",\"\")","v":""},{"$f":"IF(BV25=\"Met\",\"Met\",\"\")","v":""},{"$f":"IF(AND(BW25=\"Met\",BV25=\"Met\"),\"\",\"\")","v":""},{"$f":"IF(BX25=\"Met\",\"Met\",\"\")","v":""},{"$f":"IF(AND(BY25=\"Met\",BX25=\"Met\"),\"\",\"\")","v":""},{"$f":"IF(BZ25=\"Met\",\"Met\",\"\")","v":""},{"$f":"IF(AND(CA25=\"Met\",BZ25=\"Met\"),\"\",\"\")","v":""},{"$f":"IF(CB25=\"Met\",\"Met\",\"\")","v":""},{"$f":"IF(AND(CC25=\"Met\",CB25=\"Met\"),\"\",\"\")","v":""},{"$f":"IF(CD25=\"Met\",\"Met\",\"\")","v":""},{"$f":"IF(AND(CE25=\"Met\",CD25=\"Met\"),\"\",\"\")","v":""},{"$f":"IF(CF25=\"Met\",\"Met\",\"\")","v":""},{"$f":"IF(AND(CG25=\"Met\",CF25=\"Met\"),\"\",\"\")","v":""},{"$f":"IF(CH25=\"Met\",\"Met\",\"\")","v":""},{"$f":"IF(AND(CI25=\"Met\",CH25=\"Met\"),\"\",\"\")","v":""},{"$f":"IF(CJ25=\"Met\",\"Met\",\"\")","v":""},{"$f":"IF(AND(CK25=\"Met\",CJ25=\"Met\"),\"\",\"\")","v":""},{"$f":"IF(CL25=\"Met\",\"Met\",\"\")","v":""},{"$f":"IF(AND(CM25=\"Met\",CL25=\"Met\"),\"\",\"\")","v":""},{"$f":"IF(CN25=\"Met\",\"Met\",\"\")","v":""},{"$f":"IF(AND(CO25=\"Met\",CN25=\"Met\"),\"\",\"\")","v":""},{"$f":"IF(CP25=\"Met\",\"Met\",\"\")","v":""},{"$f":"IF(AND(CQ25=\"Met\",CP25=\"Met\"),\"\",\"\")","v":""},{"$f":"IF(CR25=\"Met\",\"Met\",\"\")","v":""},{"$f":"IF(AND(CS25=\"Met\",CR25=\"Met\"),\"\",\"\")","v":""},{"$f":"IF(CT25=\"Met\",\"Met\",\"\")","v":""},{"$f":"IF(AND(CU25=\"Met\",CT25=\"Met\"),\"\",\"\")","v":""},{"$f":"IF(CV25=\"Met\",\"Met\",\"\")","v":""},{"$f":"IF(AND(CW25=\"Met\",CV25=\"Met\"),\"\",\"\")","v":""},{"$f":"IF(CX25=\"Met\",\"Met\",\"\")","v":""},{"$f":"IF($D$3=\"No\",IF(OR((-309.4*LN(B25)+2267.6)>=C25,AND(B25>=1100,C25<107)),\"Not Met\",\"Met\"),\"N/A\")","v":{"$error":"#NUM!"}},{"$f":"IF($D$3=\"Yes\",IF(OR((-208.6*LN(B25)+1459.1)>=C25,AND(B25>=770,C25<75)),\"Not Met\",\"Met\"),\"N/A\")","v":"N/A"},{"$f":"IF($D$3=\"No\",IF(OR((-407.9*LN(B25)+3098.5)>=C25,AND(B25>=1450,C25<133)),\"Not Met\",\"Met\"),\"N/A\")","v":{"$error":"#NUM!"}},{"$f":"IF($D$3=\"Yes\",IF(OR((-264.3*LN(B25)+1923.1)>=C25,AND(B25>=1050,C25<93)),\"Not Met\",\"Met\"),\"N/A\")","v":"N/A"}]
["00:15:00",{"$f":"'Traffic Volume Input'!N7","v":0},null,{"$f":"IF(OR(B26=0,C26=0),\"\",IF(OR(CZ26=\"Met\",DA26=\"Met\"),\"Met\",\"\"))","v":""},{"$f":"IF(OR(B26=0,C26=0),\"\",IF(OR(DB26=\"Met\",DC26=\"Met\"),\"Met\",\"\"))","v":""},null,null,{"$f":"D26","v":""},{"$f":"IF(AND(H26=\"Met\",H25=\"\"),\"Met\",\"\")","v":""},{"$f":"IF(OR(I26=\"Met\",I25=\"Met\"),\"\",IF(H26=\"Met\",\"Met\",\"\"))","v":""},{"$f":"IF(AND(J26=\"Met\",J25=\"\"),\"Met\",\"\")","v":""},{"$f":"IF(OR(K26=\"Met\",K25=\"Met\"),\"\",IF(J26=\"Met\",\"Met\",\"\"))","v":""},{"$f":"IF(AND(L26=\"Met\",L25=\"\"),\"Met\",\"\")","v":""},{"$f":"IF(OR(M26=\"Met\",M25=\"Met\"),\"\",IF(L26=\"Met\",\"Met\",\"\"))","v":""},{"$f":"IF(AND(N26=\"Met\",N25=\"\"),\"Met\",\"\")","v":""},{"$f":"IF(OR(O26=\"Met\",O25=\"Met\"),\"\",IF(N26=\"Met\",\"Met\",\"\"))","v":""},{"$f":"IF(AND(P26=\"Met\",P25=\"\"),\"Met\",\"\")","v":""},{"$f":"IF(OR(Q26=\"Met\",Q25=\"Met\"),\"\",IF(P26=\"Met\",\"Met\",\"\"))","v":""},{"$f":"IF(AND(R26=\"Met\",R25=\"\"),\"Met\",\"\")","v":""},{"$f":"IF(OR(S26=\"Met\",S25=\"Met\"),\"\",IF(R26=\"Met\",\"Met\",\"\"))","v":""},{"$f":"IF(AND(T26=\"Met\",T25=\"\"),\"Met\",\"\")","v":""},{"$f":"IF(OR(U26=\"Met\",U25=\"Met\"),\"\",IF(T26=\"Met\",\"Met\",\"\"))","v":""},{"$f":"IF(AND(V26=\"Met\",V25=\"\"),\"Met\",\"\")","v":""},{"$f":"IF(OR(W26=\"Met\",W25=\"Met\"),\"\",IF(V26=\"Met\",\"Met\",\"\"))","v":""},{"$f":"IF(AND(X26=\"Met\",X25=\"\"),\"Met\",\"\")","v":""},{"$f":"IF(OR(Y26=\"Met\",Y25=\"Met\"),\"\",IF(X26=\"Met\",\"Met\",\"\"))","v":""},{"$f":"IF(AND(Z26=\"Met\",Z25=\"\"),\"Met\",\"\")","v":""},{"$f":"IF(OR(AA26=\"Met\",AA25=\"Met\"),\"\",IF(Z26=\"Met\",\"Met\",\"\"))","v":""},{"$f":"IF(AND(AB26=\"Met\",AB25=\"\"),\"Met\",\"\")","v":""},{"$f":"IF(OR(AC26=\"Met\",AC25=\"Met\"),\"\",IF(AB26=\"Met\",\"Met\",\"\"))","v":""},{"$f":"IF(AND(AD26=\"Met\",AD25=\"\"),\"Met\",\"\")","v":""},{"$f":"IF(OR(AE26=\"Met\",AE25=\"Met\"),\"\",IF(AD26=\"Met\",\"Met\",\"\"))","v":""},{"$f":"IF(AND(AF26=\"Met\",AF25=\"\"),\"Met\",\"\")","v":""},{"$f":"IF(OR(AG26=\"Met\",AG25=\"Met\"),\"\",IF(AF26=\"Met\",\"Met\",\"\"))","v":""},{"$f":"IF(AND(AH26=\"Met\",AH25=\"\"),\"Met\",\"\")","v":""},{"$f":"IF(OR(AI26=\"Met\",AI25=\"Met\"),\"\",IF(AH26=\"Met\",\"Met\",\"\"))","v":""},{"$f":"IF(AND(AJ26=\"Met\",AJ25=\"\"),\"Met\",\"\")","v":""},{"$f":"IF(OR(AK26=\"Met\",AK25=\"Met\"),\"\",IF(AJ26=\"Met\",\"Met\",\"\"))","v":""},{"$f":"IF(AND(AL26=\"Met\",AL25=\"\"),\"Met\",\"\")","v":""},{"$f":"IF(OR(AM26=\"Met\",AM25=\"Met\"),\"\",IF(AL26=\"Met\",\"Met\",\"\"))","v":""},{"$f":"IF(AND(AN26=\"Met\",AN25=\"\"),\"Met\",\"\")","v":""},{"$f":"IF(OR(AO26=\"Met\",AO25=\"Met\"),\"\",IF(AN26=\"Met\",\"Met\",\"\"))","v":""},{"$f":"IF(AND(AP26=\"Met\",AP25=\"\"),\"Met\",\"\")","v":""},{"$f":"IF(OR(AQ26=\"Met\",AQ25=\"Met\"),\"\",IF(AP26=\"Met\",\"Met\",\"\"))","v":""},{"$f":"IF(AND(AR26=\"Met\",AR25=\"\"),\"Met\",\"\")","v":""},{"$f":"IF(OR(AS26=\"Met\",AS25=\"Met\"),\"\",IF(AR26=\"Met\",\"Met\",\"\"))","v":""},{"$f":"IF(AND(AT26=\"Met\",AT25=\"\"),\"Met\",\"\")","v":""},{"$f":"IF(OR(AU26=\"Met\",AU25=\"Met\"),\"\",IF(AT26=\"Met\",\"Met\",\"\"))","v":""},{"$f":"IF(AND(AV26=\"Met\",AV25=\"\"),\"Met\",\"\")","v":""},{"$f":"IF(OR(AW26=\"Met\",AW25=\"Met\"),\"\",IF(AV26=\"Met\",\"Met\",\"\"))","v":""},{"$f":"IF(AND(AX26=\"Met\",AX25=\"\"),\"Met\",\"\")","v":""},{"$f":"IF(OR(AY26=\"Met\",AY25=\"Met\"),\"\",IF(AX26=\"Met\",\"Met\",\"\"))","v":""},{"$f":"IF(AND(AZ26=\"Met\",AZ25=\"\"),\"Met\",\"\")","v":""},{"$f":"IF(OR(BA26=\"Met\",BA25=\"Met\"),\"\",IF(AZ26=\"Met\",\"Met\",\"\"))","v":""},{"$f":"IF(AND(BB26=\"Met\",BB25=\"\"),\"Met\",\"\")","v":""},{"$f":"E26","v":""},{"$f":"IF(AND(BD26=\"Met\",BD25=\"\"),\"Met\",\"\")","v":""},{"$f":"IF(OR(BE26=\"Met\",BE25=\"Met\"),\"\",IF(BD26=\"Met\",\"Met\",\"\"))","v":""},{"$f":"IF(AND(BF26=\"Met\",BF25=\"\"),\"Met\",\"\")","v":""},{"$f":"IF(OR(BG26=\"Met\",BG25=\"Met\"),\"\",IF(BF26=\"Met\",\"Met\",\"\"))","v":""},{"$f":"IF(AND(BH26=\"Met\",BH25=\"\"),\"Met\",\"\")","v":""},{"$f":"IF(OR(BI26=\"Met\",BI25=\"Met\"),\"\",IF(BH26=\"Met\",\"Met\",\"\"))","v":""},{"$f":"IF(AND(BJ26=\"Met\",BJ25=\"\"),\"Met\",\"\")","v":""},{"$f":"IF(OR(BK26=\"Met\",BK25=\"Met\"),\"\",IF(BJ26=\"Met\",\"Met\",\"\"))","v":""},{"$f":"IF(AND(BL26=\"Met\",BL25=\"\"),\"Met\",\"\")","v":""},{"$f":"IF(OR(BM26=\"Met\",BM25=\"Met\"),\"\",IF(BL26=\"Met\",\"Met\",\"\"))","v":""},{"$f":"IF(AND(BN26=\"Met\",BN25=\"\"),\"Met\",\"\")","v":""},{"$f":"IF(OR(BO26=\"Met\",BO25=\"Met\"),\"\",IF(BN26=\"Met\",\"Met\",\"\"))","v":""},{"$f":"IF(AND(BP26=\"Met\",BP25=\"\"),\"Met\",\"\")","v":""},{"$f":"IF(OR(BQ26=\"Met\",BQ25=\"Met\"),\"\",IF(BP26=\"Met\",\"Met\",\"\"))","v":""},{"$f":"IF(AND(BR26=\"Met\",BR25=\"\"),\"Met\",\"\")","v":""},{"$f":"IF(OR(BS26=\"Met\",BS25=\"Met\"),\"\",IF(BR26=\"Met\",\"Met\",\"\"))","v":""},{"$f":"IF(AND(BT26=\"Met\",BT25=\"\"),\"Met\",\"\")","v":""},{"$f":"IF(OR(BU26=\"Met\",BU25=\"Met\"),\"\",IF(BT26=\"Met\",\"Met\",\"\"))","v":""},{"$f":"IF(AND(BV26=\"Met\",BV25=\"\"),\"Met\",\"\")","v":""},{"$f":"IF(OR(BW26=\"Met\",BW25=\"Met\"),\"\",IF(BV26=\"Met\",\"Met\",\"\"))","v":""},{"$f":"IF(AND(BX26=\"Met\",BX25=\"\"),\"Met\",\"\")","v":""},{"$f":"IF(OR(BY26=\"Met\",BY25=\"Met\"),\"\",IF(BX26=\"Met\",\"Met\",\"\"))","v":""},{"$f":"IF(AND(BZ26=\"Met\",BZ25=\"\"),\"Met\",\"\")","v":""},{"$f":"IF(OR(CA26=\"Met\",CA25=\"Met\"),\"\",IF(BZ26=\"Met\",\"Met\",\"\"))","v":""},{"$f":"IF(AND(CB26=\"Met\",CB25=\"\"),\"Met\",\"\")","v":""},{"$f":"IF(OR(CC26=\"Met\",CC25=\"Met\"),\"\",IF(CB26=\"Met\",\"Met\",\"\"))","v":""},{"$f":"IF(AND(CD26=\"Met\",CD25=\"\"),\"Met\",\"\")","v":""},{"$f":"IF(OR(CE26=\"Met\",CE25=\"Met\"),\"\",IF(CD26=\"Met\",\"Met\",\"\"))","v":""},{"$f":"IF(AND(CF26=\"Met\",CF25=\"\"),\"Met\",\"\")","v":""},{"$f":"IF(OR(CG26=\"Met\",CG25=\"Met\"),\"\",IF(CF26=\"Met\",\"Met\",\"\"))","v":""},{"$f":"IF(AND(CH26=\"Met\",CH25=\"\"),\"Met\",\"\")","v":""},{"$f":"IF(OR(CI26=\"Met\",CI25=\"Met\"),\"\",IF(CH26=\"Met\",\"Met\",\"\"))","v":""},{"$f":"IF(AND(CJ26=\"Met\",CJ25=\"\"),\"Met\",\"\")","v":""},{"$f":"IF(OR(CK26=\"Met\",CK25=\"Met\"),\"\",IF(CJ26=\"Met\",\"Met\",\"\"))","v":""},{"$f":"IF(AND(CL26=\"Met\",CL25=\"\"),\"Met\",\"\")","v":""},{"$f":"IF(OR(CM26=\"Met\",CM25=\"Met\"),\"\",IF(CL26=\"Met\",\"Met\",\"\"))","v":""},{"$f":"IF(AND(CN26=\"Met\",CN25=\"\"),\"Met\",\"\")","v":""},{"$f":"IF(OR(CO26=\"Met\",CO25=\"Met\"),\"\",IF(CN26=\"Met\",\"Met\",\"\"))","v":""},{"$f":"IF(AND(CP26=\"Met\",CP25=\"\"),\"Met\",\"\")","v":""},{"$f":"IF(OR(CQ26=\"Met\",CQ25=\"Met\"),\"\",IF(CP26=\"Met\",\"Met\",\"\"))","v":""},{"$f":"IF(AND(CR26=\"Met\",CR25=\"\"),\"Met\",\"\")","v":""},{"$f":"IF(OR(CS26=\"Met\",CS25=\"Met\"),\"\",IF(CR26=\"Met\",\"Met\",\"\"))","v":""},{"$f":"IF(AND(CT26=\"Met\",CT25=\"\"),\"Met\",\"\")","v":""},{"$f":"IF(OR(CU26=\"Met\",CU25=\"Met\"),\"\",IF(CT26=\"Met\",\"Met\",\"\"))","v":""},{"$f":"IF(AND(CV26=\"Met\",CV25=\"\"),\"Met\",\"\")","v":""},{"$f":"IF(OR(CW26=\"Met\",CW25=\"Met\"),\"\",IF(CV26=\"Met\",\"Met\",\"\"))","v":""},{"$f":"IF(AND(CX26=\"Met\",CX25=\"\"),\"Met\",\"\")","v":""},{"$error":"#NUM!"},"N/A",{"$error":"#NUM!"},"N/A",null,null,null,null,null,null,null,null,null,null,null,null,null,null,null,null,null,"Figure 4C-6",null,null,null,"Figure 4C-5"]
["00:30:00",{"$f":"'Traffic Volume Input'!N8","v":0},null,"","",null,null,"",{"$f":"IF(AND(H27=\"Met\",H26=\"\",H25=\"\"),\"Met\",\"\")","v":""},{"$f":"IF(OR(I27=\"Met\",I26=\"Met\",I25=\"Met\"),\"\",IF(H27=\"Met\",\"Met\",\"\"))","v":""},{"$f":"IF(AND(J27=\"Met\",J26=\"\",J25=\"\"),\"Met\",\"\")","v":""},{"$f":"IF(OR(K27=\"Met\",K26=\"Met\",K25=\"Met\"),\"\",IF(J27=\"Met\",\"Met\",\"\"))","v":""},{"$f":"IF(AND(L27=\"Met\",L26=\"\",L25=\"\"),\"Met\",\"\")","v":""},{"$f":"IF(OR(M27=\"Met\",M26=\"Met\",M25=\"Met\"),\"\",IF(L27=\"Met\",\"Met\",\"\"))","v":""},{"$f":"IF(AND(N27=\"Met\",N26=\"\",N25=\"\"),\"Met\",\"\")","v":""},{"$f":"IF(OR(O27=\"Met\",O26=\"Met\",O25=\"Met\"),\"\",IF(N27=\"Met\",\"Met\",\"\"))","v":""},{"$f":"IF(AND(P27=\"Met\",P26=\"\",P25=\"\"),\"Met\",\"\")","v":""},{"$f":"IF(OR(Q27=\"Met\",Q26=\"Met\",Q25=\"Met\"),\"\",IF(P27=\"Met\",\"Met\",\"\"))","v":""},{"$f":"IF(AND(R27=\"Met\",R26=\"\",R25=\"\"),\"Met\",\"\")","v":""},{"$f":"IF(OR(S27=\"Met\",S26=\"Met\",S25=\"Met\"),\"\",IF(R27=\"Met\",\"Met\",\"\"))","v":""},{"$f":"IF(AND(T27=\"Met\",T26=\"\",T25=\"\"),\"Met\",\"\")","v":""},{"$f":"IF(OR(U27=\"Met\",U26=\"Met\",U25=\"Met\"),\"\",IF(T27=\"Met\",\"Met\",\"\"))","v":""},{"$f":"IF(AND(V27=\"Met\",V26=\"\",V25=\"\"),\"Met\",\"\")","v":""},{"$f":"IF(OR(W27=\"Met\",W26=\"Met\",W25=\"Met\"),\"\",IF(V27=\"Met\",\"Met\",\"\"))","v":""},{"$f":"IF(AND(X27=\"Met\",X26=\"\",X25=\"\"),\"Met\",\"\")","v":""},{"$f":"IF(OR(Y27=\"Met\",Y26=\"Met\",Y25=\"Met\"),\"\",IF(X27=\"Met\",\"Met\",\"\"))","v":""},{"$f":"IF(AND(Z27=\"Met\",Z26=\"\",Z25=\"\"),\"Met\",\"\")","v":""},{"$f":"IF(OR(AA27=\"Met\",AA26=\"Met\",AA25=\"Met\"),\"\",IF(Z27=\"Met\",\"Met\",\"\"))","v":""},{"$f":"IF(AND(AB27=\"Met\",AB26=\"\",AB25=\"\"),\"Met\",\"\")","v":""},{"$f":"IF(OR(AC27=\"Met\",AC26=\"Met\",AC25=\"Met\"),\"\",IF(AB27=\"Met\",\"Met\",\"\"))","v":""},{"$f":"IF(AND(AD27=\"Met\",AD26=\"\",AD25=\"\"),\"Met\",\"\")","v":""},{"$f":"IF(OR(AE27=\"Met\",AE26=\"Met\",AE25=\"Met\"),\"\",IF(AD27=\"Met\",\"Met\",\"\"))","v":""},{"$f":"IF(AND(AF27=\"Met\",AF26=\"\",AF25=\"\"),\"Met\",\"\")","v":""},{"$f":"IF(OR(AG27=\"Met\",AG26=\"Met\",AG25=\"Met\"),\"\",IF(AF27=\"Met\",\"Met\",\"\"))","v":""},{"$f":"IF(AND(AH27=\"Met\",AH26=\"\",AH25=\"\"),\"Met\",\"\")","v":""},{"$f":"IF(OR(AI27=\"Met\",AI26=\"Met\",AI25=\"Met\"),\"\",IF(AH27=\"Met\",\"Met\",\"\"))","v":""},{"$f":"IF(AND(AJ27=\"Met\",AJ26=\"\",AJ25=\"\"),\"Met\",\"\")","v":""},{"$f":"IF(OR(AK27=\"Met\",AK26=\"Met\",AK25=\"Met\"),\"\",IF(AJ27=\"Met\",\"Met\",\"\"))","v":""},{"$f":"IF(AND(AL27=\"Met\",AL26=\"\",AL25=\"\"),\"Met\",\"\")","v":""},{"$f":"IF(OR(AM27=\"Met\",AM26=\"Met\",AM25=\"Met\"),\"\",IF(AL27=\"Met\",\"Met\",\"\"))","v":""},{"$f":"IF(AND(AN27=\"Met\",AN26=\"\",AN25=\"\"),\"Met\",\"\")","v":""},{"$f":"IF(OR(AO27=\"Met\",AO26=\"Met\",AO25=\"Met\"),\"\",IF(AN27=\"Met\",\"Met\",\"\"))","v":""},{"$f":"IF(AND(AP27=\"Met\",AP26=\"\",AP25=\"\"),\"Met\",\"\")","v":""},{"$f":"IF(OR(AQ27=\"Met\",AQ26=\"Met\",AQ25=\"Met\"),\"\",IF(AP27=\"Met\",\"Met\",\"\"))","v":""},{"$f":"IF(AND(AR27=\"Met\",AR26=\"\",AR25=\"\"),\"Met\",\"\")","v":""},{"$f":"IF(OR(AS27=\"Met\",AS26=\"Met\",AS25=\"Met\"),\"\",IF(AR27=\"Met\",\"Met\",\"\"))","v":""},{"$f":"IF(AND(AT27=\"Met\",AT26=\"\",AT25=\"\"),\"Met\",\"\")","v":""},{"$f":"IF(OR(AU27=\"Met\",AU26=\"Met\",AU25=\"Met\"),\"\",IF(AT27=\"Met\",\"Met\",\"\"))","v":""},{"$f":"IF(AND(AV27=\"Met\",AV26=\"\",AV25=\"\"),\"Met\",\"\")","v":""},{"$f":"IF(OR(AW27=\"Met\",AW26=\"Met\",AW25=\"Met\"),\"\",IF(AV27=\"Met\",\"Met\",\"\"))","v":""},{"$f":"IF(AND(AX27=\"Met\",AX26=\"\",AX25=\"\"),\"Met\",\"\")","v":""},{"$f":"IF(OR(AY27=\"Met\",AY26=\"Met\",AY25=\"Met\"),\"\",IF(AX27=\"Met\",\"Met\",\"\"))","v":""},{"$f":"IF(AND(AZ27=\"Met\",AZ26=\"\",AZ25=\"\"),\"Met\",\"\")","v":""},{"$f":"IF(OR(BA27=\"Met\",BA26=\"Met\",BA25=\"Met\"),\"\",IF(AZ27=\"Met\",\"Met\",\"\"))","v":""},{"$f":"IF(AND(BB27=\"Met\",BB26=\"\",BB25=\"\"),\"Met\",\"\")","v":""},"",{"$f":"IF(AND(BD27=\"Met\",BD26=\"\",BD25=\"\"),\"Met\",\"\")","v":""},{"$f":"IF(OR(BE27=\"Met\",BE26=\"Met\",BE25=\"Met\"),\"\",IF(BD27=\"Met\",\"Met\",\"\"))","v":""},{"$f":"IF(AND(BF27=\"Met\",BF26=\"\",BF25=\"\"),\"Met\",\"\")","v":""},{"$f":"IF(OR(BG27=\"Met\",BG26=\"Met\",BG25=\"Met\"),\"\",IF(BF27=\"Met\",\"Met\",\"\"))","v":""},{"$f":"IF(AND(BH27=\"Met\",BH26=\"\",BH25=\"\"),\"Met\",\"\")","v":""},{"$f":"IF(OR(BI27=\"Met\",BI26=\"Met\",BI25=\"Met\"),\"\",IF(BH27=\"Met\",\"Met\",\"\"))","v":""},{"$f":"IF(AND(BJ27=\"Met\",BJ26=\"\",BJ25=\"\"),\"Met\",\"\")","v":""},{"$f":"IF(OR(BK27=\"Met\",BK26=\"Met\",BK25=\"Met\"),\"\",IF(BJ27=\"Met\",\"Met\",\"\"))","v":""},{"$f":"IF(AND(BL27=\"Met\",BL26=\"\",BL25=\"\"),\"Met\",\"\")","v":""},{"$f":"IF(OR(BM27=\"Met\",BM26=\"Met\",BM25=\"Met\"),\"\",IF(BL27=\"Met\",\"Met\",\"\"))","v":""},{"$f":"IF(AND(BN27=\"Met\",BN26=\"\",BN25=\"\"),\"Met\",\"\")","v":""},{"$f":"IF(OR(BO27=\"Met\",BO26=\"Met\",BO25=\"Met\"),\"\",IF(BN27=\"Met\",\"Met\",\"\"))","v":""},{"$f":"IF(AND(BP27=\"Met\",BP26=\"\",BP25=\"\"),\"Met\",\"\")","v":""},{"$f":"IF(OR(BQ27=\"Met\",BQ26=\"Met\",BQ25=\"Met\"),\"\",IF(BP27=\"Met\",\"Met\",\"\"))","v":""},{"$f":"IF(AND(BR27=\"Met\",BR26=\"\",BR25=\"\"),\"Met\",\"\")","v":""},{"$f":"IF(OR(BS27=\"Met\",BS26=\"Met\",BS25=\"Met\"),\"\",IF(BR27=\"Met\",\"Met\",\"\"))","v":""},{"$f":"IF(AND(BT27=\"Met\",BT26=\"\",BT25=\"\"),\"Met\",\"\")","v":""},{"$f":"IF(OR(BU27=\"Met\",BU26=\"Met\",BU25=\"Met\"),\"\",IF(BT27=\"Met\",\"Met\",\"\"))","v":""},{"$f":"IF(AND(BV27=\"Met\",BV26=\"\",BV25=\"\"),\"Met\",\"\")","v":""},{"$f":"IF(OR(BW27=\"Met\",BW26=\"Met\",BW25=\"Met\"),\"\",IF(BV27=\"Met\",\"Met\",\"\"))","v":""},{"$f":"IF(AND(BX27=\"Met\",BX26=\"\",BX25=\"\"),\"Met\",\"\")","v":""},{"$f":"IF(OR(BY27=\"Met\",BY26=\"Met\",BY25=\"Met\"),\"\",IF(BX27=\"Met\",\"Met\",\"\"))","v":""},{"$f":"IF(AND(BZ27=\"Met\",BZ26=\"\",BZ25=\"\"),\"Met\",\"\")","v":""},{"$f":"IF(OR(CA27=\"Met\",CA26=\"Met\",CA25=\"Met\"),\"\",IF(BZ27=\"Met\",\"Met\",\"\"))","v":""},{"$f":"IF(AND(CB27=\"Met\",CB26=\"\",CB25=\"\"),\"Met\",\"\")","v":""},{"$f":"IF(OR(CC27=\"Met\",CC26=\"Met\",CC25=\"Met\"),\"\",IF(CB27=\"Met\",\"Met\",\"\"))","v":""},{"$f":"IF(AND(CD27=\"Met\",CD26=\"\",CD25=\"\"),\"Met\",\"\")","v":""},{"$f":"IF(OR(CE27=\"Met\",CE26=\"Met\",CE25=\"Met\"),\"\",IF(CD27=\"Met\",\"Met\",\"\"))","v":""},{"$f":"IF(AND(CF27=\"Met\",CF26=\"\",CF25=\"\"),\"Met\",\"\")","v":""},{"$f":"IF(OR(CG27=\"Met\",CG26=\"Met\",CG25=\"Met\"),\"\",IF(CF27=\"Met\",\"Met\",\"\"))","v":""},{"$f":"IF(AND(CH27=\"Met\",CH26=\"\",CH25=\"\"),\"Met\",\"\")","v":""},{"$f":"IF(OR(CI27=\"Met\",CI26=\"Met\",CI25=\"Met\"),\"\",IF(CH27=\"Met\",\"Met\",\"\"))","v":""},{"$f":"IF(AND(CJ27=\"Met\",CJ26=\"\",CJ25=\"\"),\"Met\",\"\")","v":""},{"$f":"IF(OR(CK27=\"Met\",CK26=\"Met\",CK25=\"Met\"),\"\",IF(CJ27=\"Met\",\"Met\",\"\"))","v":""},{"$f":"IF(AND(CL27=\"Met\",CL26=\"\",CL25=\"\"),\"Met\",\"\")","v":""},{"$f":"IF(OR(CM27=\"Met\",CM26=\"Met\",CM25=\"Met\"),\"\",IF(CL27=\"Met\",\"Met\",\"\"))","v":""},{"$f":"IF(AND(CN27=\"Met\",CN26=\"\",CN25=\"\"),\"Met\",\"\")","v":""},{"$f":"IF(OR(CO27=\"Met\",CO26=\"Met\",CO25=\"Met\"),\"\",IF(CN27=\"Met\",\"Met\",\"\"))","v":""},{"$f":"IF(AND(CP27=\"Met\",CP26=\"\",CP25=\"\"),\"Met\",\"\")","v":""},{"$f":"IF(OR(CQ27=\"Met\",CQ26=\"Met\",CQ25=\"Met\"),\"\",IF(CP27=\"Met\",\"Met\",\"\"))","v":""},{"$f":"IF(AND(CR27=\"Met\",CR26=\"\",CR25=\"\"),\"Met\",\"\")","v":""},{"$f":"IF(OR(CS27=\"Met\",CS26=\"Met\",CS25=\"Met\"),\"\",IF(CR27=\"Met\",\"Met\",\"\"))","v":""},{"$f":"IF(AND(CT27=\"Met\",CT26=\"\",CT25=\"\"),\"Met\",\"\")","v":""},{"$f":"IF(OR(CU27=\"Met\",CU26=\"Met\",CU25=\"Met\"),\"\",IF(CT27=\"Met\",\"Met\",\"\"))","v":""},{"$f":"IF(AND(CV27=\"Met\",CV26=\"\",CV25=\"\"),\"Met\",\"\")","v":""},{"$f":"IF(OR(CW27=\"Met\",CW26=\"Met\",CW25=\"Met\"),\"\",IF(CV27=\"Met\",\"Met\",\"\"))","v":""},{"$f":"IF(AND(CX27=\"Met\",CX26=\"\",CX25=\"\"),\"Met\",\"\")","v":""},{"$error":"#NUM!"},"N/A",{"$error":"#NUM!"},"N/A",null,null,null,null,null,null,null,null,null,null,null,null,null,null,null,null,null,"Trend","Trend","Test",null,"Trend","Trend","Test"]
["00:45:00",{"$f":"'Traffic Volume Input'!N9","v":0},null,"","",null,null,"",{"$f":"IF(AND(H28=\"Met\",H27=\"\",H26=\"\",H25=\"\"),\"Met\",\"\")","v":""},{"$f":"IF(OR(I28=\"Met\",I27=\"Met\",I26=\"Met\",I25=\"Met\"),\"\",IF(H28=\"Met\",\"Met\",\"\"))","v":""},{"$f":"IF(AND(J28=\"Met\",J27=\"\",J26=\"\",J25=\"\"),\"Met\",\"\")","v":""},{"$f":"IF(OR(K28=\"Met\",K27=\"Met\",K26=\"Met\",K25=\"Met\"),\"\",IF(J28=\"Met\",\"Met\",\"\"))","v":""},{"$f":"IF(AND(L28=\"Met\",L27=\"\",L26=\"\",L25=\"\"),\"Met\",\"\")","v":""},{"$f":"IF(OR(M28=\"Met\",M27=\"Met\",M26=\"Met\",M25=\"Met\"),\"\",IF(L28=\"Met\",\"Met\",\"\"))","v":""},{"$f":"IF(AND(N28=\"Met\",N27=\"\",N26=\"\",N25=\"\"),\"Met\",\"\")","v":""},{"$f":"IF(OR(O28=\"Met\",O27=\"Met\",O26=\"Met\",O25=\"Met\"),\"\",IF(N28=\"Met\",\"Met\",\"\"))","v":""},{"$f":"IF(AND(P28=\"Met\",P27=\"\",P26=\"\",P25=\"\"),\"Met\",\"\")","v":""},{"$f":"IF(OR(Q28=\"Met\",Q27=\"Met\",Q26=\"Met\",Q25=\"Met\"),\"\",IF(P28=\"Met\",\"Met\",\"\"))","v":""},{"$f":"IF(AND(R28=\"Met\",R27=\"\",R26=\"\",R25=\"\"),\"Met\",\"\")","v":""},{"$f":"IF(OR(S28=\"Met\",S27=\"Met\",S26=\"Met\",S25=\"Met\"),\"\",IF(R28=\"Met\",\"Met\",\"\"))","v":""},{"$f":"IF(AND(T28=\"Met\",T27=\"\",T26=\"\",T25=\"\"),\"Met\",\"\")","v":""},{"$f":"IF(OR(U28=\"Met\",U27=\"Met\",U26=\"Met\",U25=\"Met\"),\"\",IF(T28=\"Met\",\"Met\",\"\"))","v":""},{"$f":"IF(AND(V28=\"Met\",V27=\"\",V26=\"\",V25=\"\"),\"Met\",\"\")","v":""},{"$f":"IF(OR(W28=\"Met\",W27=\"Met\",W26=\"Met\",W25=\"Met\"),\"\",IF(V28=\"Met\",\"Met\",\"\"))","v":""},{"$f":"IF(AND(X28=\"Met\",X27=\"\",X26=\"\",X25=\"\"),\"Met\",\"\")","v":""},{"$f":"IF(OR(Y28=\"Met\",Y27=\"Met\",Y26=\"Met\",Y25=\"Met\"),\"\",IF(X28=\"Met\",\"Met\",\"\"))","v":""},{"$f":"IF(AND(Z28=\"Met\",Z27=\"\",Z26=\"\",Z25=\"\"),\"Met\",\"\")","v":""},{"$f":"IF(OR(AA28=\"Met\",AA27=\"Met\",AA26=\"Met\",AA25=\"Met\"),\"\",IF(Z28=\"Met\",\"Met\",\"\"))","v":""},{"$f":"IF(AND(AB28=\"Met\",AB27=\"\",AB26=\"\",AB25=\"\"),\"Met\",\"\")","v":""},{"$f":"IF(OR(AC28=\"Met\",AC27=\"Met\",AC26=\"Met\",AC25=\"Met\"),\"\",IF(AB28=\"Met\",\"Met\",\"\"))","v":""},{"$f":"IF(AND(AD28=\"Met\",AD27=\"\",AD26=\"\",AD25=\"\"),\"Met\",\"\")","v":""},{"$f":"IF(OR(AE28=\"Met\",AE27=\"Met\",AE26=\"Met\",AE25=\"Met\"),\"\",IF(AD28=\"Met\",\"Met\",\"\"))","v":""},{"$f":"IF(AND(AF28=\"Met\",AF27=\"\",AF26=\"\",AF25=\"\"),\"Met\",\"\")","v":""},{"$f":"IF(OR(AG28=\"Met\",AG27=\"Met\",AG26=\"Met\",AG25=\"Met\"),\"\",IF(AF28=\"Met\",\"Met\",\"\"))","v":""},{"$f":"IF(AND(AH28=\"Met\",AH27=\"\",AH26=\"\",AH25=\"\"),\"Met\",\"\")","v":""},{"$f":"IF(OR(AI28=\"Met\",AI27=\"Met\",AI26=\"Met\",AI25=\"Met\"),\"\",IF(AH28=\"Met\",\"Met\",\"\"))","v":""},{"$f":"IF(AND(AJ28=\"Met\",AJ27=\"\",AJ26=\"\",AJ25=\"\"),\"Met\",\"\")","v":""},{"$f":"IF(OR(AK28=\"Met\",AK27=\"Met\",AK26=\"Met\",AK25=\"Met\"),\"\",IF(AJ28=\"Met\",\"Met\",\"\"))","v":""},{"$f":"IF(AND(AL28=\"Met\",AL27=\"\",AL26=\"\",AL25=\"\"),\"Met\",\"\")","v":""},{"$f":"IF(OR(AM28=\"Met\",AM27=\"Met\",AM26=\"Met\",AM25=\"Met\"),\"\",IF(AL28=\"Met\",\"Met\",\"\"))","v":""},{"$f":"IF(AND(AN28=\"Met\",AN27=\"\",AN26=\"\",AN25=\"\"),\"Met\",\"\")","v":""},{"$f":"IF(OR(AO28=\"Met\",AO27=\"Met\",AO26=\"Met\",AO25=\"Met\"),\"\",IF(AN28=\"Met\",\"Met\",\"\"))","v":""},{"$f":"IF(AND(AP28=\"Met\",AP27=\"\",AP26=\"\",AP25=\"\"),\"Met\",\"\")","v":""},{"$f":"IF(OR(AQ28=\"Met\",AQ27=\"Met\",AQ26=\"Met\",AQ25=\"Met\"),\"\",IF(AP28=\"Met\",\"Met\",\"\"))","v":""},{"$f":"IF(AND(AR28=\"Met\",AR27=\"\",AR26=\"\",AR25=\"\"),\"Met\",\"\")","v":""},{"$f":"IF(OR(AS28=\"Met\",AS27=\"Met\",AS26=\"Met\",AS25=\"Met\"),\"\",IF(AR28=\"Met\",\"Met\",\"\"))","v":""},{"$f":"IF(AND(AT28=\"Met\",AT27=\"\",AT26=\"\",AT25=\"\"),\"Met\",\"\")","v":""},{"$f":"IF(OR(AU28=\"Met\",AU27=\"Met\",AU26=\"Met\",AU25=\"Met\"),\"\",IF(AT28=\"Met\",\"Met\",\"\"))","v":""},{"$f":"IF(AND(AV28=\"Met\",AV27=\"\",AV26=\"\",AV25=\"\"),\"Met\",\"\")","v":""},{"$f":"IF(OR(AW28=\"Met\",AW27=\"Met\",AW26=\"Met\",AW25=\"Met\"),\"\",IF(AV28=\"Met\",\"Met\",\"\"))","v":""},{"$f":"IF(AND(AX28=\"Met\",AX27=\"\",AX26=\"\",AX25=\"\"),\"Met\",\"\")","v":""},{"$f":"IF(OR(AY28=\"Met\",AY27=\"Met\",AY26=\"Met\",AY25=\"Met\"),\"\",IF(AX28=\"Met\",\"Met\",\"\"))","v":""},{"$f":"IF(AND(AZ28=\"Met\",AZ27=\"\",AZ26=\"\",AZ25=\"\"),\"Met\",\"\")","v":""},{"$f":"IF(OR(BA28=\"Met\",BA27=\"Met\",BA26=\"Met\",BA25=\"Met\"),\"\",IF(AZ28=\"Met\",\"Met\",\"\"))","v":""},{"$f":"IF(AND(BB28=\"Met\",BB27=\"\",BB26=\"\",BB25=\"\"),\"Met\",\"\")","v":""},"",{"$f":"IF(AND(BD28=\"Met\",BD27=\"\",BD26=\"\",BD25=\"\"),\"Met\",\"\")","v":""},{"$f":"IF(OR(BE28=\"Met\",BE27=\"Met\",BE26=\"Met\",BE25=\"Met\"),\"\",IF(BD28=\"Met\",\"Met\",\"\"))","v":""},{"$f":"IF(AND(BF28=\"Met\",BF27=\"\",BF26=\"\",BF25=\"\"),\"Met\",\"\")","v":""},{"$f":"IF(OR(BG28=\"Met\",BG27=\"Met\",BG26=\"Met\",BG25=\"Met\"),\"\",IF(BF28=\"Met\",\"Met\",\"\"))","v":""},{"$f":"IF(AND(BH28=\"Met\",BH27=\"\",BH26=\"\",BH25=\"\"),\"Met\",\"\")","v":""},{"$f":"IF(OR(BI28=\"Met\",BI27=\"Met\",BI26=\"Met\",BI25=\"Met\"),\"\",IF(BH28=\"Met\",\"Met\",\"\"))","v":""},{"$f":"IF(AND(BJ28=\"Met\",BJ27=\"\",BJ26=\"\",BJ25=\"\"),\"Met\",\"\")","v":""},{"$f":"IF(OR(BK28=\"Met\",BK27=\"Met\",BK26=\"Met\",BK25=\"Met\"),\"\",IF(BJ28=\"Met\",\"Met\",\"\"))","v":""},{"$f":"IF(AND(BL28=\"Met\",BL27=\"\",BL26=\"\",BL25=\"\"),\"Met\",\"\")","v":""},{"$f":"IF(OR(BM28=\"Met\",BM27=\"Met\",BM26=\"Met\",BM25=\"Met\"),\"\",IF(BL28=\"Met\",\"Met\",\"\"))","v":""},{"$f":"IF(AND(BN28=\"Met\",BN27=\"\",BN26=\"\",BN25=\"\"),\"Met\",\"\")","v":""},{"$f":"IF(OR(BO28=\"Met\",BO27=\"Met\",BO26=\"Met\",BO25=\"Met\"),\"\",IF(BN28=\"Met\",\"Met\",\"\"))","v":""},{"$f":"IF(AND(BP28=\"Met\",BP27=\"\",BP26=\"\",BP25=\"\"),\"Met\",\"\")","v":""},{"$f":"IF(OR(BQ28=\"Met\",BQ27=\"Met\",BQ26=\"Met\",BQ25=\"Met\"),\"\",IF(BP28=\"Met\",\"Met\",\"\"))","v":""},{"$f":"IF(AND(BR28=\"Met\",BR27=\"\",BR26=\"\",BR25=\"\"),\"Met\",\"\")","v":""},{"$f":"IF(OR(BS28=\"Met\",BS27=\"Met\",BS26=\"Met\",BS25=\"Met\"),\"\",IF(BR28=\"Met\",\"Met\",\"\"))","v":""},{"$f":"IF(AND(BT28=\"Met\",BT27=\"\",BT26=\"\",BT25=\"\"),\"Met\",\"\")","v":""},{"$f":"IF(OR(BU28=\"Met\",BU27=\"Met\",BU26=\"Met\",BU25=\"Met\"),\"\",IF(BT28=\"Met\",\"Met\",\"\"))","v":""},{"$f":"IF(AND(BV28=\"Met\",BV27=\"\",BV26=\"\",BV25=\"\"),\"Met\",\"\")","v":""},{"$f":"IF(OR(BW28=\"Met\",BW27=\"Met\",BW26=\"Met\",BW25=\"Met\"),\"\",IF(BV28=\"Met\",\"Met\",\"\"))","v":""},{"$f":"IF(AND(BX28=\"Met\",BX27=\"\",BX26=\"\",BX25=\"\"),\"Met\",\"\")","v":""},{"$f":"IF(OR(BY28=\"Met\",BY27=\"Met\",BY26=\"Met\",BY25=\"Met\"),\"\",IF(BX28=\"Met\",\"Met\",\"\"))","v":""},{"$f":"IF(AND(BZ28=\"Met\",BZ27=\"\",BZ26=\"\",BZ25=\"\"),\"Met\",\"\")","v":""},{"$f":"IF(OR(CA28=\"Met\",CA27=\"Met\",CA26=\"Met\",CA25=\"Met\"),\"\",IF(BZ28=\"Met\",\"Met\",\"\"))","v":""},{"$f":"IF(AND(CB28=\"Met\",CB27=\"\",CB26=\"\",CB25=\"\"),\"Met\",\"\")","v":""},{"$f":"IF(OR(CC28=\"Met\",CC27=\"Met\",CC26=\"Met\",CC25=\"Met\"),\"\",IF(CB28=\"Met\",\"Met\",\"\"))","v":""},{"$f":"IF(AND(CD28=\"Met\",CD27=\"\",CD26=\"\",CD25=\"\"),\"Met\",\"\")","v":""},{"$f":"IF(OR(CE28=\"Met\",CE27=\"Met\",CE26=\"Met\",CE25=\"Met\"),\"\",IF(CD28=\"Met\",\"Met\",\"\"))","v":""},{"$f":"IF(AND(CF28=\"Met\",CF27=\"\",CF26=\"\",CF25=\"\"),\"Met\",\"\")","v":""},{"$f":"IF(OR(CG28=\"Met\",CG27=\"Met\",CG26=\"Met\",CG25=\"Met\"),\"\",IF(CF28=\"Met\",\"Met\",\"\"))","v":""},{"$f":"IF(AND(CH28=\"Met\",CH27=\"\",CH26=\"\",CH25=\"\"),\"Met\",\"\")","v":""},{"$f":"IF(OR(CI28=\"Met\",CI27=\"Met\",CI26=\"Met\",CI25=\"Met\"),\"\",IF(CH28=\"Met\",\"Met\",\"\"))","v":""},{"$f":"IF(AND(CJ28=\"Met\",CJ27=\"\",CJ26=\"\",CJ25=\"\"),\"Met\",\"\")","v":""},{"$f":"IF(OR(CK28=\"Met\",CK27=\"Met\",CK26=\"Met\",CK25=\"Met\"),\"\",IF(CJ28=\"Met\",\"Met\",\"\"))","v":""},{"$f":"IF(AND(CL28=\"Met\",CL27=\"\",CL26=\"\",CL25=\"\"),\"Met\",\"\")","v":""},{"$f":"IF(OR(CM28=\"Met\",CM27=\"Met\",CM26=\"Met\",CM25=\"Met\"),\"\",IF(CL28=\"Met\",\"Met\",\"\"))","v":""},{"$f":"IF(AND(CN28=\"Met\",CN27=\"\",CN26=\"\",CN25=\"\"),\"Met\",\"\")","v":""},{"$f":"IF(OR(CO28=\"Met\",CO27=\"Met\",CO26=\"Met\",CO25=\"Met\"),\"\",IF(CN28=\"Met\",\"Met\",\"\"))","v":""},{"$f":"IF(AND(CP28=\"Met\",CP27=\"\",CP26=\"\",CP25=\"\"),\"Met\",\"\")","v":""},{"$f":"IF(OR(CQ28=\"Met\",CQ27=\"Met\",CQ26=\"Met\",CQ25=\"Met\"),\"\",IF(CP28=\"Met\",\"Met\",\"\"))","v":""},{"$f":"IF(AND(CR28=\"Met\",CR27=\"\",CR26=\"\",CR25=\"\"),\"Met\",\"\")","v":""},{"$f":"IF(OR(CS28=\"Met\",CS27=\"Met\",CS26=\"Met\",CS25=\"Met\"),\"\",IF(CR28=\"Met\",\"Met\",\"\"))","v":""},{"$f":"IF(AND(CT28=\"Met\",CT27=\"\",CT26=\"\",CT25=\"\"),\"Met\",\"\")","v":""},{"$f":"IF(OR(CU28=\"Met\",CU27=\"Met\",CU26=\"Met\",CU25=\"Met\"),\"\",IF(CT28=\"Met\",\"Met\",\"\"))","v":""},{"$f":"IF(AND(CV28=\"Met\",CV27=\"\",CV26=\"\",CV25=\"\"),\"Met\",\"\")","v":""},{"$f":"IF(OR(CW28=\"Met\",CW27=\"Met\",CW26=\"Met\",CW25=\"Met\"),\"\",IF(CV28=\"Met\",\"Met\",\"\"))","v":""},{"$f":"IF(AND(CX28=\"Met\",CX27=\"\",CX26=\"\",CX25=\"\"),\"Met\",\"\")","v":""},{"$error":"#NUM!"},"N/A",{"$error":"#NUM!"},"N/A",null,null,null,null,null,null,null,null,null,null,null,null,null,null,null,null,null,280,279,{"$f":"-208.6*LN(DU28)+1459.1","v":283.68288877889449},null,450,380,{"$f":"-309.4*LN(DY28)+2267.6","v":377.39879789270526}]
["01:00:00",{"$f":"'Traffic Volume Input'!N10","v":0},null,"","",null,null,"","","","","","","","","","","","","","","","","","","","","","","","","","","","","","","","","","","","","","","","","","","","","","","","","","","","","","","","","","","","","","","","","","","","","","","","","","","","","","","","","","","","","","","","","","","","","","","","",{"$error":"#NUM!"},"N/A",{"$error":"#NUM!"},"N/A",null,null,null,null,null,null,null,null,null,null,null,null,null,null,null,null,null,300,267,{"$f":"-208.6*LN(DU29)+1459.1","v":269.29097578671644},null,500,345,{"$f":"-309.4*LN(DY29)+2267.6","v":344.80025434817412}]
["01:15:00",{"$f":"'Traffic Volume Input'!N11","v":0},null,"","",null,null,"","","","","","","","","","","","","","","","","","","","","","","","","","","","","","","","","","","","","","","","","","","","","","","","","","","","","","","","","","","","","","","","","","","","","","","","","","","","","","","","","","","","","","","","","","","","","","","","",{"$error":"#NUM!"},"N/A",{"$error":"#NUM!"},"N/A",null,null,null,null,null,null,null,null,null,null,null,null,null,null,null,null,null,350,240,237.13514397475046,null,550,318,315.31128471671605]
["01:30:00",{"$f":"'Traffic Volume Input'!N12","v":0},null,"","",null,null,"","","","","","","","","","","","","","","","","","","","","","","","","","","","","","","","","","","","","","","","","","","","","","","","","","","","","","","","","","","","","","","","","","","","","","","","","","","","","","","","","","","","","","","","","","","","","","","","",{"$error":"#NUM!"},"N/A",{"$error":"#NUM!"},"N/A",null,null,null,null,null,null,null,null,null,null,null,null,null,null,null,null,null,400,215,209.28049547327487,null,600,290,288.38996467612446]
["01:45:00",{"$f":"'Traffic Volume Input'!N13","v":0},null,"","",null,null,"","","","","","","","","","","","","","","","","","","","","","","","","","","","","","","","","","","","","","","","","","","","","","","","","","","","","","","","","","","","","","","","","","","","","","","","","","","","","","","","","","","","","","","","","","","","","","","","",{"$error":"#NUM!"},"N/A",{"$error":"#NUM!"},"N/A",null,null,null,null,null,null,null,null,null,null,null,null,null,null,null,null,null,450,188,184.71095423535326,null,650,262,263.62475092193222]
["02:00:00",{"$f":"'Traffic Volume Input'!N14","v":0},null,"","",null,null,"","","","","","","","","","","","","","","","","","","","","","","","","","","","","","","","","","","","","","","","","","","","","","","","","","","","","","","","","","","","","","","","","","","","","","","","","","","","","","","","","","","","","","","","","","","","","","","","",{"$error":"#NUM!"},"N/A",{"$error":"#NUM!"},"N/A",null,null,null,null,null,null,null,null,null,null,null,null,null,null,null,null,null,500,163,162.73275066913084,null,700,238,240.69574433757066]
["02:15:00",{"$f":"'Traffic Volume Input'!N15","v":0},null,"","",null,null,"","","","","","","","","","","","","","","","","","","","","","","","","","","","","","","","","","","","","","","","","","","","","","","","","","","","","","","","","","","","","","","","","","","","","","","","","","","","","","","","","","","","","","","","","","","","","","","","",{"$error":"#NUM!"},"N/A",{"$error":"#NUM!"},"N/A",null,null,null,null,null,null,null,null,null,null,null,null,null,null,null,null,null,550,142,142.8510471619486,null,750,null,219.34934989950807]
["02:30:00",{"$f":"'Traffic Volume Input'!N16","v":0},null,"","",null,null,"","","","","","","","","","","","","","","","","","","","","","","","","","","","","","","","","","","","","","","","","","","","","","","","","","","","","","","","","","","","","","","","","","","","","","","","","","","","","","","","","","","","","","","","","","","","","","","","",{"$error":"#NUM!"},"N/A",{"$error":"#NUM!"},"N/A",null,null,null,null,null,null,null,null,null,null,null,null,null,null,null,null,null,600,122,124.70047392191191,null,800,192,199.38113145954321]
["02:45:00",{"$f":"'Traffic Volume Input'!N17","v":0},null,"","",null,null,"","","","","","","","","","","","","","","","","","","","","","","","","","","","","","","","","","","","","","","","","","","","","","","","","","","","","","","","","","","","","","","","","","","","","","","","","","","","","","","","","","","","","","","","","","","","","","","","",{"$error":"#NUM!"},"N/A",{"$error":"#NUM!"},"N/A",null,null,null,null,null,null,null,null,null,null,null,null,null,null,null,null,null,650,105,108.00356510121219,null,850,176,180.62387346953847]
["03:00:00",{"$f":"'Traffic Volume Input'!N18","v":0},null,"","",null,null,"","","","","","","","","","","","","","","","","","","","","","","","","","","","","","","","","","","","","","","","","","","","","","","","","","","","","","","","","","","","","","","","","","","","","","","","","","","","","","","","","","","","","","","","","","","","","","","","",{"$error":"#NUM!"},"N/A",{"$error":"#NUM!"},"N/A",null,null,null,null,null,null,null,null,null,null,null,null,null,null,null,null,null,700,90,92.544642109945698,null,900,160,162.93906022745841]
["03:15:00",{"$f":"'Traffic Volume Input'!N19","v":0},null,"","",null,null,"","","","","","","","","","","","","","","","","","","","","","","","","","","","","","","","","","","","","","","","","","","","","","","","","","","","","","","","","","","","","","","","","","","","","","","","","","","","","","","","","","","","","","","","","","","","","","","","",{"$error":"#NUM!"},"N/A",{"$error":"#NUM!"},"N/A",null,null,null,null,null,null,null,null,null,null,null,null,null,null,null,null,null,750,78,78.152729117767649,null,950,null,146.21066196643505]
["03:30:00",{"$f":"'Traffic Volume Input'!N20","v":0},null,"","",null,null,"","","","","","","","","","","","","","","","","","","","","","","","","","","","","","","","","","","","","","","","","","","","","","","","","","","","","","","","","","","","","","","","","","","","","","","","","","","","","","","","","","","","","","","","","","","","","","","","",{"$error":"#NUM!"},"N/A",{"$error":"#NUM!"},"N/A",null,null,null,null,null,null,null,null,null,null,null,null,null,null,null,null,null,770,75,72.662938602763688,null,1000,127,130.34051668292705]
["03:45:00",{"$f":"'Traffic Volume Input'!N21","v":0},null,"","",null,null,"","","","","","","","","","","","","","","","","","","","","","","","","","","","","","","","","","","","","","","","","","","","","","","","","","","","","","","","","","","","","","","","","","","","","","","","","","","","","","","","","","","","","","","","","","","","","","","","",{"$error":"#NUM!"},"N/A",{"$error":"#NUM!"},"N/A",null,null,null,null,null,null,null,null,null,null,null,null,null,null,null,null,null,null,null,null,null,1050,119,115.24483988890461]
["04:00:00",{"$f":"'Traffic Volume Input'!N22","v":0},null,"","",null,null,"","","","","","","","","","","","","","","","","","","","","","","","","","","","","","","","","","","","","","","","","","","","","","","","","","","","","","","","","","","","","","","","","","","","","","","","","","","","","","","","","","","","","","","","","","","","","","","","",{"$error":"#NUM!"},"N/A",{"$error":"#NUM!"},"N/A",null,null,null,null,null,null,null,null,null,null,null,null,null,null,null,null,null,null,null,null,null,1100,110,100.85154705146897]
["04:15:00",{"$f":"'Traffic Volume Input'!N23","v":0},null,"","",null,null,"","","","","","","","","","","","","","","","","","","","","","","","","","","","","","","","","","","","","","","","","","","","","","","","","","","","","","","","","","","","","","","","","","","","","","","","","","","","","","","","","","","","","","","","","","","","","","","","",{"$error":"#NUM!"},"N/A",{"$error":"#NUM!"},"N/A",null,null,null,null,null,null,null,null,null,null,null,null,null,null,null,null,null,"y = -208.6ln(x) + 1459.1\n\n\n",null,null,null,"y = -309.4ln(x) + 2267.6\n\n"]
["04:30:00",{"$f":"'Traffic Volume Input'!N24","v":0},null,"","",null,null,"","","","","","","","","","","","","","","","","","","","","","","","","","","","","","","","","","","","","","","","","","","","","","","","","","","","","","","","","","","","","","","","","","","","","","","","","","","","","","","","","","","","","","","","","","","","","","","","",{"$error":"#NUM!"},"N/A",{"$error":"#NUM!"},"N/A"]
["04:45:00",{"$f":"'Traffic Volume Input'!N25","v":0},null,"","",null,null,"","","","","","","","","","","","","","","","","","","","","","","","","","","","","","","","","","","","","","","","","","","","","","","","","","","","","","","","","","","","","","","","","","","","","","","","","","","","","","","","","","","","","","","","","","","","","","","","",{"$error":"#NUM!"},"N/A",{"$error":"#NUM!"},"N/A"]
["05:00:00",{"$f":"'Traffic Volume Input'!N26","v":0},null,"","",null,null,"","","","","","","","","","","","","","","","","","","","","","","","","","","","","","","","","","","","","","","","","","","","","","","","","","","","","","","","","","","","","","","","","","","","","","","","","","","","","","","","","","","","","","","","","","","","","","","","",{"$error":"#NUM!"},"N/A",{"$error":"#NUM!"},"N/A"]
["05:15:00",{"$f":"'Traffic Volume Input'!N27","v":0},null,"","",null,null,"","","","","","","","","","","","","","","","","","","","","","","","","","","","","","","","","","","","","","","","","","","","","","","","","","","","","","","","","","","","","","","","","","","","","","","","","","","","","","","","","","","","","","","","","","","","","","","","",{"$error":"#NUM!"},"N/A",{"$error":"#NUM!"},"N/A"]
["05:30:00",{"$f":"'Traffic Volume Input'!N28","v":0},null,"","",null,null,"","","","","","","","","","","","","","","","","","","","","","","","","","","","","","","","","","","","","","","","","","","","","","","","","","","","","","","","","","","","","","","","","","","","","","","","","","","","","","","","","","","","","","","","","","","","","","","","",{"$error":"#NUM!"},"N/A",{"$error":"#NUM!"},"N/A"]
["05:45:00",{"$f":"'Traffic Volume Input'!N29","v":0},null,"","",null,null,"","","","","","","","","","","","","","","","","","","","","","","","","","","","","","","","","","","","","","","","","","","","","","","","","","","","","","","","","","","","","","","","","","","","","","","","","","","","","","","","","","","","","","","","","","","","","","","","",{"$error":"#NUM!"},"N/A",{"$error":"#NUM!"},"N/A",null,null,null,null,null,null,null,null,null,null,null,null,null,null,null,null,null,"Figure 4C-7"]
["06:00:00",{"$f":"'Traffic Volume Input'!N30","v":0},null,"","",null,null,"","","","","","","","","","","","","","","","","","","","","","","","","","","","","","","","","","","","","","","","","","","","","","","","","","","","","","","","","","","","","","","","","","","","","","","","","","","","","","","","","","","","","","","","","","","","","","","","",{"$error":"#NUM!"},"N/A",{"$error":"#NUM!"},"N/A",null,null,null,null,null,null,null,null,null,null,null,null,null,null,null,null,null,"Trend","Trend","Test"]
["06:15:00",{"$f":"'Traffic Volume Input'!N31","v":0},null,"","",null,null,"","","","","","","","","","","","","","","","","","","","","","","","","","","","","","","","","","","","","","","","","","","","","","","","","","","","","","","","","","","","","","","","","","","","","","","","","","","","","","","","","","","","","","","","","","","","","","","","",{"$error":"#NUM!"},"N/A",{"$error":"#NUM!"},"N/A",null,null,null,null,null,null,null,null,null,null,null,null,null,null,null,null,null,400,645,{"$f":"-407.9*LN(DU50)+3098.5","v":654.58161123465425}]
["06:30:00",{"$f":"'Traffic Volume Input'!N32","v":0},null,"","",null,null,"","","","","","","","","","","","","","","","","","","","","","","","","","","","","","","","","","","","","","","","","","","","","","","","","","","","","","","","","","","","","","","","","","","","","","","","","","","","","","","","","","","","","","","","","","","","","","","","",{"$error":"#NUM!"},"N/A",{"$error":"#NUM!"},"N/A",null,null,null,null,null,null,null,null,null,null,null,null,null,null,null,null,null,450,605,{"$f":"-407.9*LN(DU51)+3098.5","v":606.53791099041564}]
["06:45:00",{"$f":"'Traffic Volume Input'!N33","v":0},null,"","",null,null,"","","","","","","","","","","","","","","","","","","","","","","","","","","","","","","","","","","","","","","","","","","","","","","","","","","","","","","","","","","","","","","","","","","","","","","","","","","","","","","","","","","","","","","","","","","","","","","","",{"$error":"#NUM!"},"N/A",{"$error":"#NUM!"},"N/A",null,null,null,null,null,null,null,null,null,null,null,null,null,null,null,null,null,500,567,563.56135665358806]
["07:00:00",{"$f":"'Traffic Volume Input'!N34","v":0},null,"","",null,null,"","","","","","","","","","","","","","","","","","","","","","","","","","","","","","","","","","","","","","","","","","","","","","","","","","","","","","","","","","","","","","","","","","","","","","","","","","","","","","","","","","","","","","","","","","","","","","","","",{"$error":"#NUM!"},"N/A",{"$error":"#NUM!"},"N/A",null,null,null,null,null,null,null,null,null,null,null,null,null,null,null,null,null,550,530,524.6843343114042]
["07:15:00",{"$f":"'Traffic Volume Input'!N35","v":0},null,"","",null,null,"","","","","","","","","","","","","","","","","","","","","","","","","","","","","","","","","","","","","","","","","","","","","","","","","","","","","","","","","","","","","","","","","","","","","","","","","","","","","","","","","","","","","","","","","","","","","","","","",{"$error":"#NUM!"},"N/A",{"$error":"#NUM!"},"N/A",null,null,null,null,null,null,null,null,null,null,null,null,null,null,null,null,null,600,493,489.19239363733413]
["07:30:00",{"$f":"'Traffic Volume Input'!N36","v":0},null,"","",null,null,"","","","","","","","","","","","","","","","","","","","","","","","","","","","","","","","","","","","","","","","","","","","","","","","","","","","","","","","","","","","","","","","","","","","","","","","","","","","","","","","","","","","","","","","","","","","","","","","",{"$error":"#NUM!"},"N/A",{"$error":"#NUM!"},"N/A",null,null,null,null,null,null,null,null,null,null,null,null,null,null,null,null,null,650,458,456.54297317729879]
["07:45:00",{"$f":"'Traffic Volume Input'!N37","v":0},null,"","",null,null,"","","","","","","","","","","","","","","","","","","","","","","","","","","","","","","","","","","","","","","","","","","","","","","","","","","","","","","","","","","","","","","","","","","","","","","","","","","","","","","","","","","","","","","","","","","","","","","","",{"$error":"#NUM!"},"N/A",{"$error":"#NUM!"},"N/A",null,null,null,null,null,null,null,null,null,null,null,null,null,null,null,null,null,700,425,426.31433133579549]
["08:00:00",{"$f":"'Traffic Volume Input'!N38","v":0},null,"","",null,null,"","","","","","","","","","","","","","","","","","","","","","","","","","","","","","","","","","","","","","","","","","","","","","","","","","","","","","","","","","","","","","","","","","","","","","","","","","","","","","","","","","","","","","","","","","","","","","","","",{"$f":"IF($D$3=\"No\",IF(OR((-309.4*LN(B57)+2267.6)>=C57,AND(B57>=1100,C57<107)),\"Not Met\",\"Met\"),\"N/A\")","v":{"$error":"#NUM!"}},{"$f":"IF($D$3=\"Yes\",IF(OR((-208.6*LN(B57)+1459.1)>=C57,AND(B57>=770,C57<75)),\"Not Met\",\"Met\"),\"N/A\")","v":"N/A"},{"$f":"IF($D$3=\"No\",IF(OR((-407.9*LN(B57)+3098.5)>=C57,AND(B57>=1450,C57<133)),\"Not Met\",\"Met\"),\"N/A\")","v":{"$error":"#NUM!"}},{"$f":"IF($D$3=\"Yes\",IF(OR((-264.3*LN(B57)+1923.1)>=C57,AND(B57>=1050,C57<93)),\"Not Met\",\"Met\"),\"N/A\")","v":"N/A"},null,null,null,null,null,null,null,null,null,null,null,null,null,null,null,null,null,750,399,398.17213905626795]
["08:15:00",{"$f":"'Traffic Volume Input'!N39","v":0},null,"","",null,null,"","","","","","","","","","","","","","","","","","","","","","","","","","","","","","","","","","","","","","","","","","","","","","","","","","","","","","","","","","","","","","","","","","","","","","","","","","","","","","","","","","","","","","","","","","","","","","","","",{"$error":"#NUM!"},"N/A",{"$error":"#NUM!"},"N/A",null,null,null,null,null,null,null,null,null,null,null,null,null,null,null,null,null,800,375,371.84687628425263]
["08:30:00",{"$f":"'Traffic Volume Input'!N40","v":0},null,"","",null,null,"","","","","","","","","","","","","","","","","","","","","","","","","","","","","","","","","","","","","","","","","","","","","","","","","","","","","","","","","","","","","","","","","","","","","","","","","","","","","","","","","","","","","","","","","","","","","","","","",{"$error":"#NUM!"},"N/A",{"$error":"#NUM!"},"N/A",null,null,null,null,null,null,null,null,null,null,null,null,null,null,null,null,null,850,350,347.11809304532881]
["08:45:00",{"$f":"'Traffic Volume Input'!N41","v":0},null,"","",null,null,"",{"$f":"IF(AND(H60=\"Met\",H59=\"\",H58=\"\",H57=\"\"),\"Met\",\"\")","v":""},{"$f":"IF(OR(I60=\"Met\",I59=\"Met\",I58=\"Met\",I57=\"Met\"),\"\",IF(H60=\"Met\",\"Met\",\"\"))","v":""},{"$f":"IF(AND(J60=\"Met\",J59=\"\",J58=\"\",J57=\"\"),\"Met\",\"\")","v":""},{"$f":"IF(OR(K60=\"Met\",K59=\"Met\",K58=\"Met\",K57=\"Met\"),\"\",IF(J60=\"Met\",\"Met\",\"\"))","v":""},{"$f":"IF(AND(L60=\"Met\",L59=\"\",L58=\"\",L57=\"\"),\"Met\",\"\")","v":""},{"$f":"IF(OR(M60=\"Met\",M59=\"Met\",M58=\"Met\",M57=\"Met\"),\"\",IF(L60=\"Met\",\"Met\",\"\"))","v":""},{"$f":"IF(AND(N60=\"Met\",N59=\"\",N58=\"\",N57=\"\"),\"Met\",\"\")","v":""},{"$f":"IF(OR(O60=\"Met\",O59=\"Met\",O58=\"Met\",O57=\"Met\"),\"\",IF(N60=\"Met\",\"Met\",\"\"))","v":""},{"$f":"IF(AND(P60=\"Met\",P59=\"\",P58=\"\",P57=\"\"),\"Met\",\"\")","v":""},{"$f":"IF(OR(Q60=\"Met\",Q59=\"Met\",Q58=\"Met\",Q57=\"Met\"),\"\",IF(P60=\"Met\",\"Met\",\"\"))","v":""},{"$f":"IF(AND(R60=\"Met\",R59=\"\",R58=\"\",R57=\"\"),\"Met\",\"\")","v":""},{"$f":"IF(OR(S60=\"Met\",S59=\"Met\",S58=\"Met\",S57=\"Met\"),\"\",IF(R60=\"Met\",\"Met\",\"\"))","v":""},{"$f":"IF(AND(T60=\"Met\",T59=\"\",T58=\"\",T57=\"\"),\"Met\",\"\")","v":""},{"$f":"IF(OR(U60=\"Met\",U59=\"Met\",U58=\"Met\",U57=\"Met\"),\"\",IF(T60=\"Met\",\"Met\",\"\"))","v":""},{"$f":"IF(AND(V60=\"Met\",V59=\"\",V58=\"\",V57=\"\"),\"Met\",\"\")","v":""},{"$f":"IF(OR(W60=\"Met\",W59=\"Met\",W58=\"Met\",W57=\"Met\"),\"\",IF(V60=\"Met\",\"Met\",\"\"))","v":""},{"$f":"IF(AND(X60=\"Met\",X59=\"\",X58=\"\",X57=\"\"),\"Met\",\"\")","v":""},{"$f":"IF(OR(Y60=\"Met\",Y59=\"Met\",Y58=\"Met\",Y57=\"Met\"),\"\",IF(X60=\"Met\",\"Met\",\"\"))","v":""},{"$f":"IF(AND(Z60=\"Met\",Z59=\"\",Z58=\"\",Z57=\"\"),\"Met\",\"\")","v":""},{"$f":"IF(OR(AA60=\"Met\",AA59=\"Met\",AA58=\"Met\",AA57=\"Met\"),\"\",IF(Z60=\"Met\",\"Met\",\"\"))","v":""},{"$f":"IF(AND(AB60=\"Met\",AB59=\"\",AB58=\"\",AB57=\"\"),\"Met\",\"\")","v":""},{"$f":"IF(OR(AC60=\"Met\",AC59=\"Met\",AC58=\"Met\",AC57=\"Met\"),\"\",IF(AB60=\"Met\",\"Met\",\"\"))","v":""},{"$f":"IF(AND(AD60=\"Met\",AD59=\"\",AD58=\"\",AD57=\"\"),\"Met\",\"\")","v":""},{"$f":"IF(OR(AE60=\"Met\",AE59=\"Met\",AE58=\"Met\",AE57=\"Met\"),\"\",IF(AD60=\"Met\",\"Met\",\"\"))","v":""},{"$f":"IF(AND(AF60=\"Met\",AF59=\"\",AF58=\"\",AF57=\"\"),\"Met\",\"\")","v":""},{"$f":"IF(OR(AG60=\"Met\",AG59=\"Met\",AG58=\"Met\",AG57=\"Met\"),\"\",IF(AF60=\"Met\",\"Met\",\"\"))","v":""},{"$f":"IF(AND(AH60=\"Met\",AH59=\"\",AH58=\"\",AH57=\"\"),\"Met\",\"\")","v":""},{"$f":"IF(OR(AI60=\"Met\",AI59=\"Met\",AI58=\"Met\",AI57=\"Met\"),\"\",IF(AH60=\"Met\",\"Met\",\"\"))","v":""},{"$f":"IF(AND(AJ60=\"Met\",AJ59=\"\",AJ58=\"\",AJ57=\"\"),\"Met\",\"\")","v":""},{"$f":"IF(OR(AK60=\"Met\",AK59=\"Met\",AK58=\"Met\",AK57=\"Met\"),\"\",IF(AJ60=\"Met\",\"Met\",\"\"))","v":""},{"$f":"IF(AND(AL60=\"Met\",AL59=\"\",AL58=\"\",AL57=\"\"),\"Met\",\"\")","v":""},{"$f":"IF(OR(AM60=\"Met\",AM59=\"Met\",AM58=\"Met\",AM57=\"Met\"),\"\",IF(AL60=\"Met\",\"Met\",\"\"))","v":""},{"$f":"IF(AND(AN60=\"Met\",AN59=\"\",AN58=\"\",AN57=\"\"),\"Met\",\"\")","v":""},{"$f":"IF(OR(AO60=\"Met\",AO59=\"Met\",AO58=\"Met\",AO57=\"Met\"),\"\",IF(AN60=\"Met\",\"Met\",\"\"))","v":""},{"$f":"IF(AND(AP60=\"Met\",AP59=\"\",AP58=\"\",AP57=\"\"),\"Met\",\"\")","v":""},{"$f":"IF(OR(AQ60=\"Met\",AQ59=\"Met\",AQ58=\"Met\",AQ57=\"Met\"),\"\",IF(AP60=\"Met\",\"Met\",\"\"))","v":""},{"$f":"IF(AND(AR60=\"Met\",AR59=\"\",AR58=\"\",AR57=\"\"),\"Met\",\"\")","v":""},{"$f":"IF(OR(AS60=\"Met\",AS59=\"Met\",AS58=\"Met\",AS57=\"Met\"),\"\",IF(AR60=\"Met\",\"Met\",\"\"))","v":""},{"$f":"IF(AND(AT60=\"Met\",AT59=\"\",AT58=\"\",AT57=\"\"),\"Met\",\"\")","v":""},{"$f":"IF(OR(AU60=\"Met\",AU59=\"Met\",AU58=\"Met\",AU57=\"Met\"),\"\",IF(AT60=\"Met\",\"Met\",\"\"))","v":""},{"$f":"IF(AND(AV60=\"Met\",AV59=\"\",AV58=\"\",AV57=\"\"),\"Met\",\"\")","v":""},{"$f":"IF(OR(AW60=\"Met\",AW59=\"Met\",AW58=\"Met\",AW57=\"Met\"),\"\",IF(AV60=\"Met\",\"Met\",\"\"))","v":""},{"$f":"IF(AND(AX60=\"Met\",AX59=\"\",AX58=\"\",AX57=\"\"),\"Met\",\"\")","v":""},{"$f":"IF(OR(AY60=\"Met\",AY59=\"Met\",AY58=\"Met\",AY57=\"Met\"),\"\",IF(AX60=\"Met\",\"Met\",\"\"))","v":""},{"$f":"IF(AND(AZ60=\"Met\",AZ59=\"\",AZ58=\"\",AZ57=\"\"),\"Met\",\"\")","v":""},{"$f":"IF(OR(BA60=\"Met\",BA59=\"Met\",BA58=\"Met\",BA57=\"Met\"),\"\",IF(AZ60=\"Met\",\"Met\",\"\"))","v":""},{"$f":"IF(AND(BB60=\"Met\",BB59=\"\",BB58=\"\",BB57=\"\"),\"Met\",\"\")","v":""},"",{"$f":"IF(AND(BD60=\"Met\",BD59=\"\",BD58=\"\",BD57=\"\"),\"Met\",\"\")","v":""},{"$f":"IF(OR(BE60=\"Met\",BE59=\"Met\",BE58=\"Met\",BE57=\"Met\"),\"\",IF(BD60=\"Met\",\"Met\",\"\"))","v":""},{"$f":"IF(AND(BF60=\"Met\",BF59=\"\",BF58=\"\",BF57=\"\"),\"Met\",\"\")","v":""},{"$f":"IF(OR(BG60=\"Met\",BG59=\"Met\",BG58=\"Met\",BG57=\"Met\"),\"\",IF(BF60=\"Met\",\"Met\",\"\"))","v":""},{"$f":"IF(AND(BH60=\"Met\",BH59=\"\",BH58=\"\",BH57=\"\"),\"Met\",\"\")","v":""},{"$f":"IF(OR(BI60=\"Met\",BI59=\"Met\",BI58=\"Met\",BI57=\"Met\"),\"\",IF(BH60=\"Met\",\"Met\",\"\"))","v":""},{"$f":"IF(AND(BJ60=\"Met\",BJ59=\"\",BJ58=\"\",BJ57=\"\"),\"Met\",\"\")","v":""},{"$f":"IF(OR(BK60=\"Met\",BK59=\"Met\",BK58=\"Met\",BK57=\"Met\"),\"\",IF(BJ60=\"Met\",\"Met\",\"\"))","v":""},{"$f":"IF(AND(BL60=\"Met\",BL59=\"\",BL58=\"\",BL57=\"\"),\"Met\",\"\")","v":""},{"$f":"IF(OR(BM60=\"Met\",BM59=\"Met\",BM58=\"Met\",BM57=\"Met\"),\"\",IF(BL60=\"Met\",\"Met\",\"\"))","v":""},{"$f":"IF(AND(BN60=\"Met\",BN59=\"\",BN58=\"\",BN57=\"\"),\"Met\",\"\")","v":""},{"$f":"IF(OR(BO60=\"Met\",BO59=\"Met\",BO58=\"Met\",BO57=\"Met\"),\"\",IF(BN60=\"Met\",\"Met\",\"\"))","v":""},{"$f":"IF(AND(BP60=\"Met\",BP59=\"\",BP58=\"\",BP57=\"\"),\"Met\",\"\")","v":""},{"$f":"IF(OR(BQ60=\"Met\",BQ59=\"Met\",BQ58=\"Met\",BQ57=\"Met\"),\"\",IF(BP60=\"Met\",\"Met\",\"\"))","v":""},{"$f":"IF(AND(BR60=\"Met\",BR59=\"\",BR58=\"\",BR57=\"\"),\"Met\",\"\")","v":""},{"$f":"IF(OR(BS60=\"Met\",BS59=\"Met\",BS58=\"Met\",BS57=\"Met\"),\"\",IF(BR60=\"Met\",\"Met\",\"\"))","v":""},{"$f":"IF(AND(BT60=\"Met\",BT59=\"\",BT58=\"\",BT57=\"\"),\"Met\",\"\")","v":""},{"$f":"IF(OR(BU60=\"Met\",BU59=\"Met\",BU58=\"Met\",BU57=\"Met\"),\"\",IF(BT60=\"Met\",\"Met\",\"\"))","v":""},{"$f":"IF(AND(BV60=\"Met\",BV59=\"\",BV58=\"\",BV57=\"\"),\"Met\",\"\")","v":""},{"$f":"IF(OR(BW60=\"Met\",BW59=\"Met\",BW58=\"Met\",BW57=\"Met\"),\"\",IF(BV60=\"Met\",\"Met\",\"\"))","v":""},{"$f":"IF(AND(BX60=\"Met\",BX59=\"\",BX58=\"\",BX57=\"\"),\"Met\",\"\")","v":""},{"$f":"IF(OR(BY60=\"Met\",BY59=\"Met\",BY58=\"Met\",BY57=\"Met\"),\"\",IF(BX60=\"Met\",\"Met\",\"\"))","v":""},{"$f":"IF(AND(BZ60=\"Met\",BZ59=\"\",BZ58=\"\",BZ57=\"\"),\"Met\",\"\")","v":""},{"$f":"IF(OR(CA60=\"Met\",CA59=\"Met\",CA58=\"Met\",CA57=\"Met\"),\"\",IF(BZ60=\"Met\",\"Met\",\"\"))","v":""},{"$f":"IF(AND(CB60=\"Met\",CB59=\"\",CB58=\"\",CB57=\"\"),\"Met\",\"\")","v":""},{"$f":"IF(OR(CC60=\"Met\",CC59=\"Met\",CC58=\"Met\",CC57=\"Met\"),\"\",IF(CB60=\"Met\",\"Met\",\"\"))","v":""},{"$f":"IF(AND(CD60=\"Met\",CD59=\"\",CD58=\"\",CD57=\"\"),\"Met\",\"\")","v":""},{"$f":"IF(OR(CE60=\"Met\",CE59=\"Met\",CE58=\"Met\",CE57=\"Met\"),\"\",IF(CD60=\"Met\",\"Met\",\"\"))","v":""},{"$f":"IF(AND(CF60=\"Met\",CF59=\"\",CF58=\"\",CF57=\"\"),\"Met\",\"\")","v":""},{"$f":"IF(OR(CG60=\"Met\",CG59=\"Met\",CG58=\"Met\",CG57=\"Met\"),\"\",IF(CF60=\"Met\",\"Met\",\"\"))","v":""},{"$f":"IF(AND(CH60=\"Met\",CH59=\"\",CH58=\"\",CH57=\"\"),\"Met\",\"\")","v":""},{"$f":"IF(OR(CI60=\"Met\",CI59=\"Met\",CI58=\"Met\",CI57=\"Met\"),\"\",IF(CH60=\"Met\",\"Met\",\"\"))","v":""},{"$f":"IF(AND(CJ60=\"Met\",CJ59=\"\",CJ58=\"\",CJ57=\"\"),\"Met\",\"\")","v":""},{"$f":"IF(OR(CK60=\"Met\",CK59=\"Met\",CK58=\"Met\",CK57=\"Met\"),\"\",IF(CJ60=\"Met\",\"Met\",\"\"))","v":""},{"$f":"IF(AND(CL60=\"Met\",CL59=\"\",CL58=\"\",CL57=\"\"),\"Met\",\"\")","v":""},{"$f":"IF(OR(CM60=\"Met\",CM59=\"Met\",CM58=\"Met\",CM57=\"Met\"),\"\",IF(CL60=\"Met\",\"Met\",\"\"))","v":""},{"$f":"IF(AND(CN60=\"Met\",CN59=\"\",CN58=\"\",CN57=\"\"),\"Met\",\"\")","v":""},{"$f":"IF(OR(CO60=\"Met\",CO59=\"Met\",CO58=\"Met\",CO57=\"Met\"),\"\",IF(CN60=\"Met\",\"Met\",\"\"))","v":""},{"$f":"IF(AND(CP60=\"Met\",CP59=\"\",CP58=\"\",CP57=\"\"),\"Met\",\"\")","v":""},{"$f":"IF(OR(CQ60=\"Met\",CQ59=\"Met\",CQ58=\"Met\",CQ57=\"Met\"),\"\",IF(CP60=\"Met\",\"Met\",\"\"))","v":""},{"$f":"IF(AND(CR60=\"Met\",CR59=\"\",CR58=\"\",CR57=\"\"),\"Met\",\"\")","v":""},{"$f":"IF(OR(CS60=\"Met\",CS59=\"Met\",CS58=\"Met\",CS57=\"Met\"),\"\",IF(CR60=\"Met\",\"Met\",\"\"))","v":""},{"$f":"IF(AND(CT60=\"Met\",CT59=\"\",CT58=\"\",CT57=\"\"),\"Met\",\"\")","v":""},{"$f":"IF(OR(CU60=\"Met\",CU59=\"Met\",CU58=\"Met\",CU57=\"Met\"),\"\",IF(CT60=\"Met\",\"Met\",\"\"))","v":""},{"$f":"IF(AND(CV60=\"Met\",CV59=\"\",CV58=\"\",CV57=\"\"),\"Met\",\"\")","v":""},{"$f":"IF(OR(CW60=\"Met\",CW59=\"Met\",CW58=\"Met\",CW57=\"Met\"),\"\",IF(CV60=\"Met\",\"Met\",\"\"))","v":""},{"$f":"IF(AND(CX60=\"Met\",CX59=\"\",CX58=\"\",CX57=\"\"),\"Met\",\"\")","v":""},{"$error":"#NUM!"},"N/A",{"$error":"#NUM!"},"N/A",null,null,null,null,null,null,null,null,null,null,null,null,null,null,null,null,null,900,323,323.80317604001357]
["09:00:00",{"$f":"'Traffic Volume Input'!N42","v":0},null,"","",null,null,"","","","","","","","","","","","","","","","","","","","","","","","","","","","","","","","","","","","","","","","","","","","","","","","","","","","","","","","","","","","","","","","","","","","","","","","","","","","","","","","","","","","","","","","","","","","","","","","",{"$error":"#NUM!"},"N/A",{"$error":"#NUM!"},"N/A",null,null,null,null,null,null,null,null,null,null,null,null,null,null,null,null,null,950,null,301.74915648386832]
["09:15:00",{"$f":"'Traffic Volume Input'!N43","v":0},null,"","",null,null,"","","","","","","","","","","","","","","","","","","","","","","","","","","","","","","","","","","","","","","","","","","","","","","","","","","","","","","","","","","","","","","","","","","","","","","","","","","","","","","","","","","","","","","","","","","","","","","","",{"$error":"#NUM!"},"N/A",{"$error":"#NUM!"},"N/A",null,null,null,null,null,null,null,null,null,null,null,null,null,null,null,null,null,1000,280,280.82662170318645]
["09:30:00",{"$f":"'Traffic Volume Input'!N44","v":0},null,"","",null,null,"","","","","","","","","","","","","","","","","","","","","","","","","","","","","","","","","","","","","","","","","","","","","","","","","","","","","","","","","","","","","","","","","","","","","","","","","","","","","","","","","","","","","","","","","","","","","","","","",{"$error":"#NUM!"},"N/A",{"$error":"#NUM!"},"N/A",null,null,null,null,null,null,null,null,null,null,null,null,null,null,null,null,null,1200,200,206.45765868693252]
["09:45:00",{"$f":"'Traffic Volume Input'!N45","v":0},null,"","",null,null,"","","","","","","","","","","","","","","","","","","","","","","","","","","","","","","","","","","","","","","","","","","","","","","","","","","","","","","","","","","","","","","","","","","","","","","","","","","","","","","","","","","","","","","","","","","","","","","","",{"$error":"#NUM!"},"N/A",{"$error":"#NUM!"},"N/A",null,null,null,null,null,null,null,null,null,null,null,null,null,null,null,null,null,1250,null,189.80636712212026]
["10:00:00",{"$f":"'Traffic Volume Input'!N46","v":0},null,"","",null,null,"","","","","","","","","","","","","","","","","","","","","","","","","","","","","","","","","","","","","","","","","","","","","","","","","","","","","","","","","","","","","","","","","","","","","","","","","","","","","","","","","","","","","","","","","","","","","","","","",{"$error":"#NUM!"},"N/A",{"$error":"#NUM!"},"N/A",null,null,null,null,null,null,null,null,null,null,null,null,null,null,null,null,null,1300,167,173.80823822689672]
["10:15:00",{"$f":"'Traffic Volume Input'!N47","v":0},null,"","",null,null,"","","","","","","","","","","","","","","","","","","","","","","","","","","","","","","","","","","","","","","","","","","","","","","","","","","","","","","","","","","","","","","","","","","","","","","","","","","","","","","","","","","","","","","","","","","","","","","","",{"$error":"#NUM!"},"N/A",{"$error":"#NUM!"},"N/A",null,null,null,null,null,null,null,null,null,null,null,null,null,null,null,null,null,1450,135,129.26584703437675]
["10:30:00",{"$f":"'Traffic Volume Input'!N48","v":0},null,"","",null,null,"","","","","","","","","","","","","","","","","","","","","","","","","","","","","","","","","","","","","","","","","","","","","","","","","","","","","","","","","","","","","","","","","","","","","","","","","","","","","","","","","","","","","","","","","","","","","","","","",{"$error":"#NUM!"},"N/A",{"$error":"#NUM!"},"N/A",null,null,null,null,null,null,null,null,null,null,null,null,null,null,null,null,null,"y = -407.9ln(x) + 3098.5\n"]
["10:45:00",{"$f":"'Traffic Volume Input'!N49","v":0},null,"","",null,null,"","","","","","","","","","","","","","","","","","","","","","","","","","","","","","","","","","","","","","","","","","","","","","","","","","","","","","","","","","","","","","","","","","","","","","","","","","","","","","","","","","","","","","","","","","","","","","","","",{"$error":"#NUM!"},"N/A",{"$error":"#NUM!"},"N/A"]
["11:00:00",{"$f":"'Traffic Volume Input'!N50","v":0},null,"","",null,null,"","","","","","","","","","","","","","","","","","","","","","","","","","","","","","","","","","","","","","","","","","","","","","","","","","","","","","","","","","","","","","","","","","","","","","","","","","","","","","","","","","","","","","","","","","","","","","","","",{"$error":"#NUM!"},"N/A",{"$error":"#NUM!"},"N/A"]
["11:15:00",{"$f":"'Traffic Volume Input'!N51","v":0},null,"","",null,null,"","","","","","","","","","","","","","","","","","","","","","","","","","","","","","","","","","","","","","","","","","","","","","","","","","","","","","","","","","","","","","","","","","","","","","","","","","","","","","","","","","","","","","","","","","","","","","","","",{"$error":"#NUM!"},"N/A",{"$error":"#NUM!"},"N/A",null,null,null,null,null,null,null,null,null,null,null,null,null,null,null,null,null,"Figure 4C-8"]
["11:30:00",{"$f":"'Traffic Volume Input'!N52","v":0},null,"","",null,null,"","","","","","","","","","","","","","","","","","","","","","","","","","","","","","","","","","","","","","","","","","","","","","","","","","","","","","","","","","","","","","","","","","","","","","","","","","","","","","","","","","","","","","","","","","","","","","","","",{"$error":"#NUM!"},"N/A",{"$error":"#NUM!"},"N/A",null,null,null,null,null,null,null,null,null,null,null,null,null,null,null,null,null,"Trend","Trend","Test"]
["11:45:00",{"$f":"'Traffic Volume Input'!N53","v":0},null,"","",null,null,"","","","","","","","","","","","","","","","","","","","","","","","","","","","","","","","","","","","","","","","","","","","","","","","","","","","","","","","","","","","","","","","","","","","","","","","","","","","","","","","","","","","","","","","","","","","","","","","",{"$error":"#NUM!"},"N/A",{"$error":"#NUM!"},"N/A",null,null,null,null,null,null,null,null,null,null,null,null,null,null,null,null,null,260,440,{"$f":"-264.3*LN(DU72)+1923.1","v":453.41184492259595}]
["12:00:00",{"$f":"'Traffic Volume Input'!N54","v":0},null,"","",null,null,"","","","","","","","","","","","","","","","","","","","","","","","","","","","","","","","","","","","","","","","","","","","","","","","","","","","","","","","","","","","","","","","","","","","","","","","","","","","","","","","","","","","","","","","","","","","","","","","",{"$error":"#NUM!"},"N/A",{"$error":"#NUM!"},"N/A",null,null,null,null,null,null,null,null,null,null,null,null,null,null,null,null,null,300,414,{"$f":"-264.3*LN(DU73)+1923.1","v":415.59029194836603}]
["12:15:00",{"$f":"'Traffic Volume Input'!N55","v":0},null,"","",null,null,"","","","","","","","","","","","","","","","","","","","","","","","","","","","","","","","","","","","","","","","","","","","","","","","","","","","","","","","","","","","","","","","","","","","","","","","","","","","","","","","","","","","","","","","","","","","","","","","",{"$error":"#NUM!"},"N/A",{"$error":"#NUM!"},"N/A",null,null,null,null,null,null,null,null,null,null,null,null,null,null,null,null,null,350,380,374.84826727002155]
["12:30:00",{"$f":"'Traffic Volume Input'!N56","v":0},null,"","",null,null,"","","","","","","","","","","","","","","","","","","","","","","","","","","","","","","","","","","","","","","","","","","","","","","","","","","","","","","","","","","","","","","","","","","","","","","","","","","","","","","","","","","","","","","","","","","","","","","","",{"$error":"#NUM!"},"N/A",{"$error":"#NUM!"},"N/A",null,null,null,null,null,null,null,null,null,null,null,null,null,null,null,null,null,400,350,339.55592019936034]
["12:45:00",{"$f":"'Traffic Volume Input'!N57","v":0},null,"","",null,null,"","","","","","","","","","","","","","","","","","","","","","","","","","","","","","","","","","","","","","","","","","","","","","","","","","","","","","","","","","","","","","","","","","","","","","","","","","","","","","","","","","","","","","","","","","","","","","","","",{"$error":"#NUM!"},"N/A",{"$error":"#NUM!"},"N/A",null,null,null,null,null,null,null,null,null,null,null,null,null,null,null,null,null,450,318,308.42586387537813]
["13:00:00",{"$f":"'Traffic Volume Input'!N58","v":0},null,"","",null,null,"","","","","","","","","","","","","","","","","","","","","","","","","","","","","","","","","","","","","","","","","","","","","","","","","","","","","","","","","","","","","","","","","","","","","","","","","","","","","","","","","","","","","","","","","","","","","","","","",{"$error":"#NUM!"},"N/A",{"$error":"#NUM!"},"N/A",null,null,null,null,null,null,null,null,null,null,null,null,null,null,null,null,null,500,286,280.57907958701458]
["13:15:00",{"$f":"'Traffic Volume Input'!N59","v":0},null,"","",null,null,"","","","","","","","","","","","","","","","","","","","","","","","","","","","","","","","","","","","","","","","","","","","","","","","","","","","","","","","","","","","","","","","","","","","","","","","","","","","","","","","","","","","","","","","","","","","","","","","",{"$error":"#NUM!"},"N/A",{"$error":"#NUM!"},"N/A",null,null,null,null,null,null,null,null,null,null,null,null,null,null,null,null,null,550,258,255.38859906473158]
["13:30:00",{"$f":"'Traffic Volume Input'!N60","v":0},null,"","",null,null,"","","","","","","","","","","","","","","","","","","","","","","","","","","","","","","","","","","","","","","","","","","","","","","","","","","","","","","","","","","","","","","","","","","","","","","","","","","","","","","","","","","","","","","","","","","","","","","","",{"$error":"#NUM!"},"N/A",{"$error":"#NUM!"},"N/A",null,null,null,null,null,null,null,null,null,null,null,null,null,null,null,null,null,600,232,232.39149212637244]
["13:45:00",{"$f":"'Traffic Volume Input'!N61","v":0},null,"","",null,null,"","","","","","","","","","","","","","","","","","","","","","","","","","","","","","","","","","","","","","","","","","","","","","","","","","","","","","","","","","","","","","","","","","","","","","","","","","","","","","","","","","","","","","","","","","","","","","","","",{"$error":"#NUM!"},"N/A",{"$error":"#NUM!"},"N/A",null,null,null,null,null,null,null,null,null,null,null,null,null,null,null,null,null,650,206,211.23620448825659]
["14:00:00",{"$f":"'Traffic Volume Input'!N62","v":0},null,"","",null,null,"","","","","","","","","","","","","","","","","","","","","","","","","","","","","","","","","","","","","","","","","","","","","","","","","","","","","","","","","","","","","","","","","","","","","","","","","","","","","","","","","","","","","","","","","","","","","","","","",{"$error":"#NUM!"},"N/A",{"$error":"#NUM!"},"N/A",null,null,null,null,null,null,null,null,null,null,null,null,null,null,null,null,null,700,186,191.64946744802796]
["14:15:00",{"$f":"'Traffic Volume Input'!N63","v":0},null,"","",null,null,"","","","","","","","","","","","","","","","","","","","","","","","","","","","","","","","","","","","","","","","","","","","","","","","","","","","","","","","","","","","","","","","","","","","","","","","","","","","","","","","","","","","","","","","","","","","","","","","",{"$error":"#NUM!"},"N/A",{"$error":"#NUM!"},"N/A",null,null,null,null,null,null,null,null,null,null,null,null,null,null,null,null,null,750,170,173.41465151402667]
["14:30:00",{"$f":"'Traffic Volume Input'!N64","v":0},null,"","",null,null,"","","","","","","","","","","","","","","","","","","","","","","","","","","","","","","","","","","","","","","","","","","","","","","","","","","","","","","","","","","","","","","","","","","","","","","","","","","","","","","","","","","","","","","","","","","","","","","","",{"$error":"#NUM!"},"N/A",{"$error":"#NUM!"},"N/A",null,null,null,null,null,null,null,null,null,null,null,null,null,null,null,null,null,800,153,156.35712037736675]
["14:45:00",{"$f":"'Traffic Volume Input'!N65","v":0},null,"","",null,null,"","","","","","","","","","","","","","","","","","","","","","","","","","","","","","","","","","","","","","","","","","","","","","","","","","","","","","","","","","","","","","","","","","","","","","","","","","","","","","","","","","","","","","","","","","","","","","","","",{"$error":"#NUM!"},"N/A",{"$error":"#NUM!"},"N/A",null,null,null,null,null,null,null,null,null,null,null,null,null,null,null,null,null,850,135,140.33403283128291]
["15:00:00",{"$f":"'Traffic Volume Input'!N66","v":0},null,"","",null,null,"","","","","","","","","","","","","","","","","","","","","","","","","","","","","","","","","","","","","","","","","","","","","","","","","","","","","","","","","","","","","","","","","","","","","","","","","","","","","","","","","","","","","","","","","","","","","","","","",{"$error":"#NUM!"},"N/A",{"$error":"#NUM!"},"N/A",null,null,null,null,null,null,null,null,null,null,null,null,null,null,null,null,null,900,120,125.22706405338454]
["15:15:00",{"$f":"'Traffic Volume Input'!N67","v":0},null,"","",null,null,"","","","","","","","","","","","","","","","","","","","","","","","","","","","","","","","","","","","","","","","","","","","","","","","","","","","","","","","","","","","","","","","","","","","","","","","","","","","","","","","","","","","","","","","","","","","","","","","",{"$error":"#NUM!"},"N/A",{"$error":"#NUM!"},"N/A",null,null,null,null,null,null,null,null,null,null,null,null,null,null,null,null,null,950,110,110.93709747165053]
["15:30:00",{"$f":"'Traffic Volume Input'!N68","v":0},null,"","",null,null,"","","","","","","","","","","","","","","","","","","","","","","","","","","","","","","","","","","","","","","","","","","","","","","","","","","","","","","","","","","","","","","","","","","","","","","","","","","","","","","","","","","","","","","","","","","","","","","","",{"$error":"#NUM!"},"N/A",{"$error":"#NUM!"},"N/A",null,null,null,null,null,null,null,null,null,null,null,null,null,null,null,null,null,1000,100,97.380279765020987]
["15:45:00",{"$f":"'Traffic Volume Input'!N69","v":0},null,"","",null,null,"","","","","","","","","","","","","","","","","","","","","","","","","","","","","","","","","","","","","","","","","","","","","","","","","","","","","","","","","","","","","","","","","","","","","","","","","","","","","","","","","","","","","","","","","","","","","","","","",{"$error":"#NUM!"},"N/A",{"$error":"#NUM!"},"N/A",null,null,null,null,null,null,null,null,null,null,null,null,null,null,null,null,null,1050,93,84.48503937504006]
["16:00:00",{"$f":"'Traffic Volume Input'!N70","v":0},null,"","",null,null,"","","","","","","","","","","","","","","","","","","","","","","","","","","","","","","","","","","","","","","","","","","","","","","","","","","","","","","","","","","","","","","","","","","","","","","","","","","","","","","","","","","","","","","","","","","","","","","","",{"$f":"IF($D$3=\"No\",IF(OR((-309.4*LN(B89)+2267.6)>=C89,AND(B89>=1100,C89<107)),\"Not Met\",\"Met\"),\"N/A\")","v":{"$error":"#NUM!"}},{"$f":"IF($D$3=\"Yes\",IF(OR((-208.6*LN(B89)+1459.1)>=C89,AND(B89>=770,C89<75)),\"Not Met\",\"Met\"),\"N/A\")","v":"N/A"},{"$f":"IF($D$3=\"No\",IF(OR((-407.9*LN(B89)+3098.5)>=C89,AND(B89>=1450,C89<133)),\"Not Met\",\"Met\"),\"N/A\")","v":{"$error":"#NUM!"}},{"$f":"IF($D$3=\"Yes\",IF(OR((-264.3*LN(B89)+1923.1)>=C89,AND(B89>=1050,C89<93)),\"Not Met\",\"Met\"),\"N/A\")","v":"N/A"},null,null,null,null,null,null,null,null,null,null,null,null,null,null,null,null,null,"y = -264.3ln(x) + 1923.1\n"]
["16:15:00",{"$f":"'Traffic Volume Input'!N71","v":0},null,{"$f":"IF(OR(B90=0,C90=0),\"\",IF(OR(CZ90=\"Met\",DA90=\"Met\"),\"Met\",\"\"))","v":""},{"$f":"IF(OR(B90=0,C90=0),\"\",IF(OR(DB90=\"Met\",DC90=\"Met\"),\"Met\",\"\"))","v":""},null,null,{"$f":"D90","v":""},"","","","","","","","","","","","","","","","","","","","","","","","","","","","","","","","","","","","","","","","","","","","","","","",{"$f":"E90","v":""},"","","","","","","","","","","","","","","","","","","","","","","","","","","","","","","","","","","","","","","","","","","","","","","",{"$error":"#NUM!"},"N/A",{"$error":"#NUM!"},"N/A"]
["16:30:00",{"$f":"'Traffic Volume Input'!N72","v":0},null,"","",null,null,"","","","","","","","","","","","","","","","","","","","","","","","","","","","","","","","","","","","","","","","","","","","","","","","","","","","","","","","","","","","","","","","","","","","","","","","","","","","","","","","","","","","","","","","","","","","","","","","",{"$error":"#NUM!"},"N/A",{"$error":"#NUM!"},"N/A"]
["16:45:00",{"$f":"'Traffic Volume Input'!N73","v":0},null,"","",null,null,"",{"$f":"IF(AND(H92=\"Met\",H91=\"\",H90=\"\",H89=\"\"),\"Met\",\"\")","v":""},{"$f":"IF(OR(I92=\"Met\",I91=\"Met\",I90=\"Met\",I89=\"Met\"),\"\",IF(H92=\"Met\",\"Met\",\"\"))","v":""},{"$f":"IF(AND(J92=\"Met\",J91=\"\",J90=\"\",J89=\"\"),\"Met\",\"\")","v":""},{"$f":"IF(OR(K92=\"Met\",K91=\"Met\",K90=\"Met\",K89=\"Met\"),\"\",IF(J92=\"Met\",\"Met\",\"\"))","v":""},{"$f":"IF(AND(L92=\"Met\",L91=\"\",L90=\"\",L89=\"\"),\"Met\",\"\")","v":""},{"$f":"IF(OR(M92=\"Met\",M91=\"Met\",M90=\"Met\",M89=\"Met\"),\"\",IF(L92=\"Met\",\"Met\",\"\"))","v":""},{"$f":"IF(AND(N92=\"Met\",N91=\"\",N90=\"\",N89=\"\"),\"Met\",\"\")","v":""},{"$f":"IF(OR(O92=\"Met\",O91=\"Met\",O90=\"Met\",O89=\"Met\"),\"\",IF(N92=\"Met\",\"Met\",\"\"))","v":""},{"$f":"IF(AND(P92=\"Met\",P91=\"\",P90=\"\",P89=\"\"),\"Met\",\"\")","v":""},{"$f":"IF(OR(Q92=\"Met\",Q91=\"Met\",Q90=\"Met\",Q89=\"Met\"),\"\",IF(P92=\"Met\",\"Met\",\"\"))","v":""},{"$f":"IF(AND(R92=\"Met\",R91=\"\",R90=\"\",R89=\"\"),\"Met\",\"\")","v":""},{"$f":"IF(OR(S92=\"Met\",S91=\"Met\",S90=\"Met\",S89=\"Met\"),\"\",IF(R92=\"Met\",\"Met\",\"\"))","v":""},{"$f":"IF(AND(T92=\"Met\",T91=\"\",T90=\"\",T89=\"\"),\"Met\",\"\")","v":""},{"$f":"IF(OR(U92=\"Met\",U91=\"Met\",U90=\"Met\",U89=\"Met\"),\"\",IF(T92=\"Met\",\"Met\",\"\"))","v":""},{"$f":"IF(AND(V92=\"Met\",V91=\"\",V90=\"\",V89=\"\"),\"Met\",\"\")","v":""},{"$f":"IF(OR(W92=\"Met\",W91=\"Met\",W90=\"Met\",W89=\"Met\"),\"\",IF(V92=\"Met\",\"Met\",\"\"))","v":""},{"$f":"IF(AND(X92=\"Met\",X91=\"\",X90=\"\",X89=\"\"),\"Met\",\"\")","v":""},{"$f":"IF(OR(Y92=\"Met\",Y91=\"Met\",Y90=\"Met\",Y89=\"Met\"),\"\",IF(X92=\"Met\",\"Met\",\"\"))","v":""},{"$f":"IF(AND(Z92=\"Met\",Z91=\"\",Z90=\"\",Z89=\"\"),\"Met\",\"\")","v":""},{"$f":"IF(OR(AA92=\"Met\",AA91=\"Met\",AA90=\"Met\",AA89=\"Met\"),\"\",IF(Z92=\"Met\",\"Met\",\"\"))","v":""},{"$f":"IF(AND(AB92=\"Met\",AB91=\"\",AB90=\"\",AB89=\"\"),\"Met\",\"\")","v":""},{"$f":"IF(OR(AC92=\"Met\",AC91=\"Met\",AC90=\"Met\",AC89=\"Met\"),\"\",IF(AB92=\"Met\",\"Met\",\"\"))","v":""},{"$f":"IF(AND(AD92=\"Met\",AD91=\"\",AD90=\"\",AD89=\"\"),\"Met\",\"\")","v":""},{"$f":"IF(OR(AE92=\"Met\",AE91=\"Met\",AE90=\"Met\",AE89=\"Met\"),\"\",IF(AD92=\"Met\",\"Met\",\"\"))","v":""},{"$f":"IF(AND(AF92=\"Met\",AF91=\"\",AF90=\"\",AF89=\"\"),\"Met\",\"\")","v":""},{"$f":"IF(OR(AG92=\"Met\",AG91=\"Met\",AG90=\"Met\",AG89=\"Met\"),\"\",IF(AF92=\"Met\",\"Met\",\"\"))","v":""},{"$f":"IF(AND(AH92=\"Met\",AH91=\"\",AH90=\"\",AH89=\"\"),\"Met\",\"\")","v":""},{"$f":"IF(OR(AI92=\"Met\",AI91=\"Met\",AI90=\"Met\",AI89=\"Met\"),\"\",IF(AH92=\"Met\",\"Met\",\"\"))","v":""},{"$f":"IF(AND(AJ92=\"Met\",AJ91=\"\",AJ90=\"\",AJ89=\"\"),\"Met\",\"\")","v":""},{"$f":"IF(OR(AK92=\"Met\",AK91=\"Met\",AK90=\"Met\",AK89=\"Met\"),\"\",IF(AJ92=\"Met\",\"Met\",\"\"))","v":""},{"$f":"IF(AND(AL92=\"Met\",AL91=\"\",AL90=\"\",AL89=\"\"),\"Met\",\"\")","v":""},{"$f":"IF(OR(AM92=\"Met\",AM91=\"Met\",AM90=\"Met\",AM89=\"Met\"),\"\",IF(AL92=\"Met\",\"Met\",\"\"))","v":""},{"$f":"IF(AND(AN92=\"Met\",AN91=\"\",AN90=\"\",AN89=\"\"),\"Met\",\"\")","v":""},{"$f":"IF(OR(AO92=\"Met\",AO91=\"Met\",AO90=\"Met\",AO89=\"Met\"),\"\",IF(AN92=\"Met\",\"Met\",\"\"))","v":""},{"$f":"IF(AND(AP92=\"Met\",AP91=\"\",AP90=\"\",AP89=\"\"),\"Met\",\"\")","v":""},{"$f":"IF(OR(AQ92=\"Met\",AQ91=\"Met\",AQ90=\"Met\",AQ89=\"Met\"),\"\",IF(AP92=\"Met\",\"Met\",\"\"))","v":""},{"$f":"IF(AND(AR92=\"Met\",AR91=\"\",AR90=\"\",AR89=\"\"),\"Met\",\"\")","v":""},{"$f":"IF(OR(AS92=\"Met\",AS91=\"Met\",AS90=\"Met\",AS89=\"Met\"),\"\",IF(AR92=\"Met\",\"Met\",\"\"))","v":""},{"$f":"IF(AND(AT92=\"Met\",AT91=\"\",AT90=\"\",AT89=\"\"),\"Met\",\"\")","v":""},{"$f":"IF(OR(AU92=\"Met\",AU91=\"Met\",AU90=\"Met\",AU89=\"Met\"),\"\",IF(AT92=\"Met\",\"Met\",\"\"))","v":""},{"$f":"IF(AND(AV92=\"Met\",AV91=\"\",AV90=\"\",AV89=\"\"),\"Met\",\"\")","v":""},{"$f":"IF(OR(AW92=\"Met\",AW91=\"Met\",AW90=\"Met\",AW89=\"Met\"),\"\",IF(AV92=\"Met\",\"Met\",\"\"))","v":""},{"$f":"IF(AND(AX92=\"Met\",AX91=\"\",AX90=\"\",AX89=\"\"),\"Met\",\"\")","v":""},{"$f":"IF(OR(AY92=\"Met\",AY91=\"Met\",AY90=\"Met\",AY89=\"Met\"),\"\",IF(AX92=\"Met\",\"Met\",\"\"))","v":""},{"$f":"IF(AND(AZ92=\"Met\",AZ91=\"\",AZ90=\"\",AZ89=\"\"),\"Met\",\"\")","v":""},{"$f":"IF(OR(BA92=\"Met\",BA91=\"Met\",BA90=\"Met\",BA89=\"Met\"),\"\",IF(AZ92=\"Met\",\"Met\",\"\"))","v":""},{"$f":"IF(AND(BB92=\"Met\",BB91=\"\",BB90=\"\",BB89=\"\"),\"Met\",\"\")","v":""},"",{"$f":"IF(AND(BD92=\"Met\",BD91=\"\",BD90=\"\",BD89=\"\"),\"Met\",\"\")","v":""},{"$f":"IF(OR(BE92=\"Met\",BE91=\"Met\",BE90=\"Met\",BE89=\"Met\"),\"\",IF(BD92=\"Met\",\"Met\",\"\"))","v":""},{"$f":"IF(AND(BF92=\"Met\",BF91=\"\",BF90=\"\",BF89=\"\"),\"Met\",\"\")","v":""},{"$f":"IF(OR(BG92=\"Met\",BG91=\"Met\",BG90=\"Met\",BG89=\"Met\"),\"\",IF(BF92=\"Met\",\"Met\",\"\"))","v":""},{"$f":"IF(AND(BH92=\"Met\",BH91=\"\",BH90=\"\",BH89=\"\"),\"Met\",\"\")","v":""},{"$f":"IF(OR(BI92=\"Met\",BI91=\"Met\",BI90=\"Met\",BI89=\"Met\"),\"\",IF(BH92=\"Met\",\"Met\",\"\"))","v":""},{"$f":"IF(AND(BJ92=\"Met\",BJ91=\"\",BJ90=\"\",BJ89=\"\"),\"Met\",\"\")","v":""},{"$f":"IF(OR(BK92=\"Met\",BK91=\"Met\",BK90=\"Met\",BK89=\"Met\"),\"\",IF(BJ92=\"Met\",\"Met\",\"\"))","v":""},{"$f":"IF(AND(BL92=\"Met\",BL91=\"\",BL90=\"\",BL89=\"\"),\"Met\",\"\")","v":""},{"$f":"IF(OR(BM92=\"Met\",BM91=\"Met\",BM90=\"Met\",BM89=\"Met\"),\"\",IF(BL92=\"Met\",\"Met\",\"\"))","v":""},{"$f":"IF(AND(BN92=\"Met\",BN91=\"\",BN90=\"\",BN89=\"\"),\"Met\",\"\")","v":""},{"$f":"IF(OR(BO92=\"Met\",BO91=\"Met\",BO90=\"Met\",BO89=\"Met\"),\"\",IF(BN92=\"Met\",\"Met\",\"\"))","v":""},{"$f":"IF(AND(BP92=\"Met\",BP91=\"\",BP90=\"\",BP89=\"\"),\"Met\",\"\")","v":""},{"$f":"IF(OR(BQ92=\"Met\",BQ91=\"Met\",BQ90=\"Met\",BQ89=\"Met\"),\"\",IF(BP92=\"Met\",\"Met\",\"\"))","v":""},{"$f":"IF(AND(BR92=\"Met\",BR91=\"\",BR90=\"\",BR89=\"\"),\"Met\",\"\")","v":""},{"$f":"IF(OR(BS92=\"Met\",BS91=\"Met\",BS90=\"Met\",BS89=\"Met\"),\"\",IF(BR92=\"Met\",\"Met\",\"\"))","v":""},{"$f":"IF(AND(BT92=\"Met\",BT91=\"\",BT90=\"\",BT89=\"\"),\"Met\",\"\")","v":""},{"$f":"IF(OR(BU92=\"Met\",BU91=\"Met\",BU90=\"Met\",BU89=\"Met\"),\"\",IF(BT92=\"Met\",\"Met\",\"\"))","v":""},{"$f":"IF(AND(BV92=\"Met\",BV91=\"\",BV90=\"\",BV89=\"\"),\"Met\",\"\")","v":""},{"$f":"IF(OR(BW92=\"Met\",BW91=\"Met\",BW90=\"Met\",BW89=\"Met\"),\"\",IF(BV92=\"Met\",\"Met\",\"\"))","v":""},{"$f":"IF(AND(BX92=\"Met\",BX91=\"\",BX90=\"\",BX89=\"\"),\"Met\",\"\")","v":""},{"$f":"IF(OR(BY92=\"Met\",BY91=\"Met\",BY90=\"Met\",BY89=\"Met\"),\"\",IF(BX92=\"Met\",\"Met\",\"\"))","v":""},{"$f":"IF(AND(BZ92=\"Met\",BZ91=\"\",BZ90=\"\",BZ89=\"\"),\"Met\",\"\")","v":""},{"$f":"IF(OR(CA92=\"Met\",CA91=\"Met\",CA90=\"Met\",CA89=\"Met\"),\"\",IF(BZ92=\"Met\",\"Met\",\"\"))","v":""},{"$f":"IF(AND(CB92=\"Met\",CB91=\"\",CB90=\"\",CB89=\"\"),\"Met\",\"\")","v":""},{"$f":"IF(OR(CC92=\"Met\",CC91=\"Met\",CC90=\"Met\",CC89=\"Met\"),\"\",IF(CB92=\"Met\",\"Met\",\"\"))","v":""},{"$f":"IF(AND(CD92=\"Met\",CD91=\"\",CD90=\"\",CD89=\"\"),\"Met\",\"\")","v":""},{"$f":"IF(OR(CE92=\"Met\",CE91=\"Met\",CE90=\"Met\",CE89=\"Met\"),\"\",IF(CD92=\"Met\",\"Met\",\"\"))","v":""},{"$f":"IF(AND(CF92=\"Met\",CF91=\"\",CF90=\"\",CF89=\"\"),\"Met\",\"\")","v":""},{"$f":"IF(OR(CG92=\"Met\",CG91=\"Met\",CG90=\"Met\",CG89=\"Met\"),\"\",IF(CF92=\"Met\",\"Met\",\"\"))","v":""},{"$f":"IF(AND(CH92=\"Met\",CH91=\"\",CH90=\"\",CH89=\"\"),\"Met\",\"\")","v":""},{"$f":"IF(OR(CI92=\"Met\",CI91=\"Met\",CI90=\"Met\",CI89=\"Met\"),\"\",IF(CH92=\"Met\",\"Met\",\"\"))","v":""},{"$f":"IF(AND(CJ92=\"Met\",CJ91=\"\",CJ90=\"\",CJ89=\"\"),\"Met\",\"\")","v":""},{"$f":"IF(OR(CK92=\"Met\",CK91=\"Met\",CK90=\"Met\",CK89=\"Met\"),\"\",IF(CJ92=\"Met\",\"Met\",\"\"))","v":""},{"$f":"IF(AND(CL92=\"Met\",CL91=\"\",CL90=\"\",CL89=\"\"),\"Met\",\"\")","v":""},{"$f":"IF(OR(CM92=\"Met\",CM91=\"Met\",CM90=\"Met\",CM89=\"Met\"),\"\",IF(CL92=\"Met\",\"Met\",\"\"))","v":""},{"$f":"IF(AND(CN92=\"Met\",CN91=\"\",CN90=\"\",CN89=\"\"),\"Met\",\"\")","v":""},{"$f":"IF(OR(CO92=\"Met\",CO91=\"Met\",CO90=\"Met\",CO89=\"Met\"),\"\",IF(CN92=\"Met\",\"Met\",\"\"))","v":""},{"$f":"IF(AND(CP92=\"Met\",CP91=\"\",CP90=\"\",CP89=\"\"),\"Met\",\"\")","v":""},{"$f":"IF(OR(CQ92=\"Met\",CQ91=\"Met\",CQ90=\"Met\",CQ89=\"Met\"),\"\",IF(CP92=\"Met\",\"Met\",\"\"))","v":""},{"$f":"IF(AND(CR92=\"Met\",CR91=\"\",CR90=\"\",CR89=\"\"),\"Met\",\"\")","v":""},{"$f":"IF(OR(CS92=\"Met\",CS91=\"Met\",CS90=\"Met\",CS89=\"Met\"),\"\",IF(CR92=\"Met\",\"Met\",\"\"))","v":""},{"$f":"IF(AND(CT92=\"Met\",CT91=\"\",CT90=\"\",CT89=\"\"),\"Met\",\"\")","v":""},{"$f":"IF(OR(CU92=\"Met\",CU91=\"Met\",CU90=\"Met\",CU89=\"Met\"),\"\",IF(CT92=\"Met\",\"Met\",\"\"))","v":""},{"$f":"IF(AND(CV92=\"Met\",CV91=\"\",CV90=\"\",CV89=\"\"),\"Met\",\"\")","v":""},{"$f":"IF(OR(CW92=\"Met\",CW91=\"Met\",CW90=\"Met\",CW89=\"Met\"),\"\",IF(CV92=\"Met\",\"Met\",\"\"))","v":""},{"$f":"IF(AND(CX92=\"Met\",CX91=\"\",CX90=\"\",CX89=\"\"),\"Met\",\"\")","v":""},{"$error":"#NUM!"},"N/A",{"$error":"#NUM!"},"N/A"]
["17:00:00",{"$f":"'Traffic Volume Input'!N74","v":0},null,"","",null,null,"","","","","","","","","","","","","","","","","","","","","","","","","","","","","","","","","","","","","","","","","","","","","","","","","","","","","","","","","","","","","","","","","","","","","","","","","","","","","","","","","","","","","","","","","","","","","","","","",{"$error":"#NUM!"},"N/A",{"$error":"#NUM!"},"N/A"]
["17:15:00",{"$f":"'Traffic Volume Input'!N75","v":0},null,"","",null,null,"","","","","","","","","","","","","","","","","","","","","","","","","","","","","","","","","","","","","","","","","","","","","","","","","","","","","","","","","","","","","","","","","","","","","","","","","","","","","","","","","","","","","","","","","","","","","","","","",{"$error":"#NUM!"},"N/A",{"$error":"#NUM!"},"N/A"]
["17:30:00",{"$f":"'Traffic Volume Input'!N76","v":0},null,"","",null,null,"","","","","","","","","","","","","","","","","","","","","","","","","","","","","","","","","","","","","","","","","","","","","","","","","","","","","","","","","","","","","","","","","","","","","","","","","","","","","","","","","","","","","","","","","","","","","","","","",{"$error":"#NUM!"},"N/A",{"$error":"#NUM!"},"N/A"]
["17:45:00",{"$f":"'Traffic Volume Input'!N77","v":0},null,"","",null,null,"","","","","","","","","","","","","","","","","","","","","","","","","","","","","","","","","","","","","","","","","","","","","","","","","","","","","","","","","","","","","","","","","","","","","","","","","","","","","","","","","","","","","","","","","","","","","","","","",{"$error":"#NUM!"},"N/A",{"$error":"#NUM!"},"N/A"]
["18:00:00",{"$f":"'Traffic Volume Input'!N78","v":0},null,"","",null,null,"","","","","","","","","","","","","","","","","","","","","","","","","","","","","","","","","","","","","","","","","","","","","","","","","","","","","","","","","","","","","","","","","","","","","","","","","","","","","","","","","","","","","","","","","","","","","","","","",{"$error":"#NUM!"},"N/A",{"$error":"#NUM!"},"N/A"]
["18:15:00",{"$f":"'Traffic Volume Input'!N79","v":0},null,"","",null,null,"","","","","","","","","","","","","","","","","","","","","","","","","","","","","","","","","","","","","","","","","","","","","","","","","","","","","","","","","","","","","","","","","","","","","","","","","","","","","","","","","","","","","","","","","","","","","","","","",{"$error":"#NUM!"},"N/A",{"$error":"#NUM!"},"N/A"]
["18:30:00",{"$f":"'Traffic Volume Input'!N80","v":0},null,"","",null,null,"","","","","","","","","","","","","","","","","","","","","","","","","","","","","","","","","","","","","","","","","","","","","","","","","","","","","","","","","","","","","","","","","","","","","","","","","","","","","","","","","","","","","","","","","","","","","","","","",{"$error":"#NUM!"},"N/A",{"$error":"#NUM!"},"N/A"]
["18:45:00",{"$f":"'Traffic Volume Input'!N81","v":0},null,"","",null,null,"","","","","","","","","","","","","","","","","","","","","","","","","","","","","","","","","","","","","","","","","","","","","","","","","","","","","","","","","","","","","","","","","","","","","","","","","","","","","","","","","","","","","","","","","","","","","","","","",{"$error":"#NUM!"},"N/A",{"$error":"#NUM!"},"N/A"]
["19:00:00",{"$f":"'Traffic Volume Input'!N82","v":0},null,"","",null,null,"","","","","","","","","","","","","","","","","","","","","","","","","","","","","","","","","","","","","","","","","","","","","","","","","","","","","","","","","","","","","","","","","","","","","","","","","","","","","","","","","","","","","","","","","","","","","","","","",{"$error":"#NUM!"},"N/A",{"$error":"#NUM!"},"N/A"]
["19:15:00",{"$f":"'Traffic Volume Input'!N83","v":0},null,"","",null,null,"","","","","","","","","","","","","","","","","","","","","","","","","","","","","","","","","","","","","","","","","","","","","","","","","","","","","","","","","","","","","","","","","","","","","","","","","","","","","","","","","","","","","","","","","","","","","","","","",{"$error":"#NUM!"},"N/A",{"$error":"#NUM!"},"N/A"]
["19:30:00",{"$f":"'Traffic Volume Input'!N84","v":0},null,"","",null,null,"","","","","","","","","","","","","","","","","","","","","","","","","","","","","","","","","","","","","","","","","","","","","","","","","","","","","","","","","","","","","","","","","","","","","","","","","","","","","","","","","","","","","","","","","","","","","","","","",{"$error":"#NUM!"},"N/A",{"$error":"#NUM!"},"N/A"]
["19:45:00",{"$f":"'Traffic Volume Input'!N85","v":0},null,"","",null,null,"","","","","","","","","","","","","","","","","","","","","","","","","","","","","","","","","","","","","","","","","","","","","","","","","","","","","","","","","","","","","","","","","","","","","","","","","","","","","","","","","","","","","","","","","","","","","","","","",{"$error":"#NUM!"},"N/A",{"$error":"#NUM!"},"N/A"]
["20:00:00",{"$f":"'Traffic Volume Input'!N86","v":0},null,"","",null,null,"","","","","","","","","","","","","","","","","","","","","","","","","","","","","","","","","","","","","","","","","","","","","","","","","","","","","","","","","","","","","","","","","","","","","","","","","","","","","","","","","","","","","","","","","","","","","","","","",{"$error":"#NUM!"},"N/A",{"$error":"#NUM!"},"N/A"]
["20:15:00",{"$f":"'Traffic Volume Input'!N87","v":0},null,"","",null,null,"","","","","","","","","","","","","","","","","","","","","","","","","","","","","","","","","","","","","","","","","","","","","","","","","","","","","","","","","","","","","","","","","","","","","","","","","","","","","","","","","","","","","","","","","","","","","","","","",{"$error":"#NUM!"},"N/A",{"$error":"#NUM!"},"N/A"]
["20:30:00",{"$f":"'Traffic Volume Input'!N88","v":0},null,"","",null,null,"","","","","","","","","","","","","","","","","","","","","","","","","","","","","","","","","","","","","","","","","","","","","","","","","","","","","","","","","","","","","","","","","","","","","","","","","","","","","","","","","","","","","","","","","","","","","","","","",{"$error":"#NUM!"},"N/A",{"$error":"#NUM!"},"N/A"]
["20:45:00",{"$f":"'Traffic Volume Input'!N89","v":0},null,"","",null,null,"","","","","","","","","","","","","","","","","","","","","","","","","","","","","","","","","","","","","","","","","","","","","","","","","","","","","","","","","","","","","","","","","","","","","","","","","","","","","","","","","","","","","","","","","","","","","","","","",{"$error":"#NUM!"},"N/A",{"$error":"#NUM!"},"N/A"]
["21:00:00",{"$f":"'Traffic Volume Input'!N90","v":0},null,"","",null,null,"","","","","","","","","","","","","","","","","","","","","","","","","","","","","","","","","","","","","","","","","","","","","","","","","","","","","","","","","","","","","","","","","","","","","","","","","","","","","","","","","","","","","","","","","","","","","","","","",{"$error":"#NUM!"},"N/A",{"$error":"#NUM!"},"N/A"]
["21:15:00",{"$f":"'Traffic Volume Input'!N91","v":0},null,"","",null,null,"","","","","","","","","","","","","","","","","","","","","","","","","","","","","","","","","","","","","","","","","","","","","","","","","","","","","","","","","","","","","","","","","","","","","","","","","","","","","","","","","","","","","","","","","","","","","","","","",{"$error":"#NUM!"},"N/A",{"$error":"#NUM!"},"N/A"]
["21:30:00",{"$f":"'Traffic Volume Input'!N92","v":0},null,"","",null,null,"","","","","","","","","","","","","","","","","","","","","","","","","","","","","","","","","","","","","","","","","","","","","","","","","","","","","","","","","","","","","","","","","","","","","","","","","","","","","","","","","","","","","","","","","","","","","","","","",{"$error":"#NUM!"},"N/A",{"$error":"#NUM!"},"N/A"]
["21:45:00",{"$f":"'Traffic Volume Input'!N93","v":0},null,"","",null,null,"","","","","","","","","","","","","","","","","","","","","","","","","","","","","","","","","","","","","","","","","","","","","","","","","","","","","","","","","","","","","","","","","","","","","","","","","","","","","","","","","","","","","","","","","","","","","","","","",{"$error":"#NUM!"},"N/A",{"$error":"#NUM!"},"N/A"]
["22:00:00",{"$f":"'Traffic Volume Input'!N94","v":0},null,"","",null,null,"","","","","","","","","","","","","","","","","","","","","","","","","","","","","","","","","","","","","","","","","","","","","","","","","","","","","","","","","","","","","","","","","","","","","","","","","","","","","","","","","","","","","","","","","","","","","","","","",{"$error":"#NUM!"},"N/A",{"$error":"#NUM!"},"N/A"]
["22:15:00",{"$f":"'Traffic Volume Input'!N95","v":0},null,"","",null,null,"","","","","","","","","","","","","","","","","","","","","","","","","","","","","","","","","","","","","","","","","","","","","","","","","","","","","","","","","","","","","","","","","","","","","","","","","","","","","","","","","","","","","","","","","","","","","","","","",{"$error":"#NUM!"},"N/A",{"$error":"#NUM!"},"N/A"]
["22:30:00",{"$f":"'Traffic Volume Input'!N96","v":0},null,"","",null,null,"","","","","","","","","","","","","","","","","","","","","","","","","","","","","","","","","","","","","","","","","","","","","","","","","","","","","","","","","","","","","","","","","","","","","","","","","","","","","","","","","","","","","","","","","","","","","","","","",{"$error":"#NUM!"},"N/A",{"$error":"#NUM!"},"N/A"]
["22:45:00",{"$f":"'Traffic Volume Input'!N97","v":0},null,"","",null,null,"","","","","","","","","","","","","","","","","","","","","","","","","","","","","","","","","","","","","","","","","","","","","","","","","","","","","","","","","","","","","","","","","","","","","","","","","","","","","","","","","","","","","","","","","","","","","","","","",{"$error":"#NUM!"},"N/A",{"$error":"#NUM!"},"N/A"]
["23:00:00",{"$f":"'Traffic Volume Input'!N98","v":0},null,"","",null,null,"","","","","","","","","","","","","","","","","","","","","","","","","","","","","","","","","","","","","","","","","","","","","","","","","","","","","","","","","","","","","","","","","","","","","","","","","","","","","","","","","","","","","","","","","","","","","","","","",{"$error":"#NUM!"},"N/A",{"$error":"#NUM!"},"N/A"]
[null,null,null,null,null,null,null,null,{"$f":"COUNTIF(I25:I117,\"Met\")","v":0},null,{"$f":"COUNTIF(K25:K117,\"Met\")","v":0},null,{"$f":"COUNTIF(M25:M117,\"Met\")","v":0},null,{"$f":"COUNTIF(O25:O117,\"Met\")","v":0},null,{"$f":"COUNTIF(Q25:Q117,\"Met\")","v":0},null,{"$f":"COUNTIF(S25:S117,\"Met\")","v":0},null,{"$f":"COUNTIF(U25:U117,\"Met\")","v":0},null,{"$f":"COUNTIF(W25:W117,\"Met\")","v":0},null,{"$f":"COUNTIF(Y25:Y117,\"Met\")","v":0},null,{"$f":"COUNTIF(AA25:AA117,\"Met\")","v":0},null,{"$f":"COUNTIF(AC25:AC117,\"Met\")","v":0},null,{"$f":"COUNTIF(AE25:AE117,\"Met\")","v":0},null,{"$f":"COUNTIF(AG25:AG117,\"Met\")","v":0},null,{"$f":"COUNTIF(AI25:AI117,\"Met\")","v":0},null,{"$f":"COUNTIF(AK25:AK117,\"Met\")","v":0},null,{"$f":"COUNTIF(AM25:AM117,\"Met\")","v":0},null,{"$f":"COUNTIF(AO25:AO117,\"Met\")","v":0},null,{"$f":"COUNTIF(AQ25:AQ117,\"Met\")","v":0},null,{"$f":"COUNTIF(AS25:AS117,\"Met\")","v":0},null,{"$f":"COUNTIF(AU25:AU117,\"Met\")","v":0},null,{"$f":"COUNTIF(AW25:AW117,\"Met\")","v":0},null,{"$f":"COUNTIF(AY25:AY117,\"Met\")","v":0},null,{"$f":"COUNTIF(BA25:BA117,\"Met\")","v":0},null,{"$f":"COUNTIF(BC25:BC117,\"Met\")","v":0},null,{"$f":"COUNTIF(BE25:BE117,\"Met\")","v":0},null,{"$f":"COUNTIF(BG25:BG117,\"Met\")","v":0},null,{"$f":"COUNTIF(BI25:BI117,\"Met\")","v":0},null,{"$f":"COUNTIF(BK25:BK117,\"Met\")","v":0},null,{"$f":"COUNTIF(BM25:BM117,\"Met\")","v":0},null,{"$f":"COUNTIF(BO25:BO117,\"Met\")","v":0},null,{"$f":"COUNTIF(BQ25:BQ117,\"Met\")","v":0},null,{"$f":"COUNTIF(BS25:BS117,\"Met\")","v":0},null,{"$f":"COUNTIF(BU25:BU117,\"Met\")","v":0},null,{"$f":"COUNTIF(BW25:BW117,\"Met\")","v":0},null,{"$f":"COUNTIF(BY25:BY117,\"Met\")","v":0},null,{"$f":"COUNTIF(CA25:CA117,\"Met\")","v":0},null,{"$f":"COUNTIF(CC25:CC117,\"Met\")","v":0},null,{"$f":"COUNTIF(CE25:CE117,\"Met\")","v":0},null,{"$f":"COUNTIF(CG25:CG117,\"Met\")","v":0},null,{"$f":"COUNTIF(CI25:CI117,\"Met\")","v":0},null,{"$f":"COUNTIF(CK25:CK117,\"Met\")","v":0},null,{"$f":"COUNTIF(CM25:CM117,\"Met\")","v":0},null,{"$f":"COUNTIF(CO25:CO117,\"Met\")","v":0},null,{"$f":"COUNTIF(CQ25:CQ117,\"Met\")","v":0},null,{"$f":"COUNTIF(CS25:CS117,\"Met\")","v":0},null,{"$f":"COUNTIF(CU25:CU117,\"Met\")","v":0},null,{"$f":"COUNTIF(CW25:CW117,\"Met\")","v":0},null,{"$f":"COUNTIF(CY25:CY117,\"Met\")","v":0}]

{"sheet":"Warrant 5 & 6 - MUTCD","index":15,"n_rows":44,"n_cols":11,"rows_kept":44,"cut":false,"hidden":false,"merged":[[14,1,15,8],[0,0,0,10],[12,3,12,8],[31,1,33,10],[19,1,19,2],[20,1,20,2],[17,0,17,10],[2,3,2,8],[4,3,5,8],[7,3,7,8],[9,3,10,8],[22,7,22,8],[22,9,22,10],[19,5,19,7],[35,0,35,10],[43,0,43,10],[20,5,20,7],[22,5,22,6],[37,2,38,7],[40,2,41,7],[22,2,23,2],[22,0,23,1],[22,3,22,4]]}
["MUTCD WARRANT 5, SCHOOL CROSSING"]
[]
[null,null,null,"Do schoolchildren (elementary through high school students) cross the major street? ",null,null,null,null,null,"No"]
[]
[null,"Print w/ Figure 4C-3 ",null,"Has consideration been given to implement other remedial measures, such as warning signs and flashers, school speed zones, school crossing guards, or a grade-separated crossing?"]
[null,null,null,null,null,null,null,null,null,"No"]
[]
[null,null,null,"Is the distance to the nearest traffic control signal along the major street less than 300 feet?",null,null,null,null,null,"No"]
[]
[null,null,null,"If the distance to the nearest traffic control signal along the major street is less than 300 feet, will the proposed traffic control signal restrict the progressive movement of traffic?"]
[null,null,null,null,null,null,null,null,null,"No"]
[]
[null,null,null,"Minimum of 20 schoolchildren during the highest crossing hour?",null,null,null,null,null,"No"]
[]
[null,"Has a traffic engineering study been conducted to determine the adequacy and frequency of gaps in the vehicular traffic stream as related to the number and size of groups of schoolchildren at an established school crossing across the major street?"]
[null,null,null,null,null,null,null,null,null,"No"]
[]
["Pedestrian Gap Acceptance Engineering and Traffic Study Evaluation*"]
[]
[null,"Data Collection Date:",null,"2012-07-25",null,"Sufficient median for major street Crossing 1?",null,null,"No"]
[null,"Day of the Week:",null,"Monday",null,"Sufficient median for major street Crossing 2?",null,null,"No"]
[]
["Study Period",null,"Study Duration (mins)","Crossing 1 (Stage 1)",null,"Crossing 1 (Stage 2)",null,"Crossing 2 (Stage 1)",null,"Crossing 2 (Stage 2)"]
[null,null,null,"Total Adequate Gaps","Met?","Total Adequate Gaps","Met?","Total Adequate Gaps","Met?","Total Adequate Gaps","Met?"]
[1,"Morning",null,null,{"$f":"IF(AND($J$16=\"Yes\",D25<>\"\"),IF(D25<C25,\"Met\",\"Not Met\"),\"N/A\")","v":"N/A"},null,{"$f":"IF(AND($J$16=\"Yes\",$I$20=\"Yes\",C25<>\"\"),IF(AND(F25<C25,F25<>\"\"),\"Met\",\"Not Met\"),\"N/A\")","v":"N/A"},null,{"$f":"IF(AND($J$16=\"Yes\",H25<>\"\"),IF(H25<C25,\"Met\",\"Not Met\"),\"N/A\")","v":"N/A"},null,{"$f":"IF(AND($J$16=\"Yes\",$I$21=\"Yes\",C25<>\"\"),IF(AND(J25<C25,J25<>\"\"),\"Met\",\"Not Met\"),\"N/A\")","v":"N/A"}]
[2,"Afternoon",null,null,{"$f":"IF(AND($J$16=\"Yes\",D26<>\"\"),IF(D26<C26,\"Met\",\"Not Met\"),\"N/A\")","v":"N/A"},null,{"$f":"IF(AND($J$16=\"Yes\",$I$20=\"Yes\",C26<>\"\"),IF(AND(F26<C26,F26<>\"\"),\"Met\",\"Not Met\"),\"N/A\")","v":"N/A"},null,{"$f":"IF(AND($J$16=\"Yes\",H26<>\"\"),IF(H26<C26,\"Met\",\"Not Met\"),\"N/A\")","v":"N/A"},null,{"$f":"IF(AND($J$16=\"Yes\",$I$21=\"Yes\",C26<>\"\"),IF(AND(J26<C26,J26<>\"\"),\"Met\",\"Not Met\"),\"N/A\")","v":"N/A"}]
[3,null,null,null,"N/A",null,"N/A",null,"N/A",null,"N/A"]
[4,null,null,null,"N/A",null,"N/A",null,"N/A",null,"N/A"]
[5,null,null,null,"N/A",null,"N/A",null,"N/A",null,"N/A"]
[null,null,null,"Summary:",{"$f":"IF(OR(E25=\"Met\",E26=\"Met\",E27=\"Met\",E28=\"Met\",E29=\"Met\"),\"Met\",\"Not Met\")","v":"Not Met"},null,{"$f":"IF(OR(G25=\"Met\",G26=\"Met\",G27=\"Met\",G28=\"Met\",G29=\"Met\"),\"Met\",\"Not Met\")","v":"Not Met"},null,{"$f":"IF(OR(I25=\"Met\",I26=\"Met\",I27=\"Met\",I28=\"Met\",I29=\"Met\"),\"Met\",\"Not Met\")","v":"Not Met"},null,{"$f":"IF(OR(K25=\"Met\",K26=\"Met\",K27=\"Met\",K28=\"Met\",K29=\"Met\"),\"Met\",\"Not Met\")","v":"Not Met"}]
[]
[null,"*Refer to Section 4.3 of PennDOT Publication 46 (Traffic Engineering Manual) for specific study requirements and additional Department documentation requirements to justify the installation of a signal under Warrant 5. Refer to ITE's Manual of Transportation Engineering Studies for specific details related to conducting a pedestrian gap acceptance engineering and traffic study. Attach all supplementary documentation and calculations."]
[]
[]
[]
["MUTCD WARRANT 6, COORDINATED SIGNAL SYSTEM*"]
[]
[null,null,"On a one-way street or a street that has traffic predominantly in one direction, the adjacent traffic control signals are so far apart that they do not provide the necessary degree of vehicular platooning."]
[null,null,null,null,null,null,null,null,"N/A"]
[]
[null,null,"On a two-way street, adjacent traffic control signals do not provide the necessary degree of platooning and the proposed and adjacent traffic control signals will collectively provide a progressive operation."]
[null,null,null,null,null,null,null,null,"N/A"]
[]
["*Warrant 6 should not be applied where the resultant spacing of traffic control signals would be less than 1,000 feet."]

{"sheet":"Warrant 7 & 8 - MUTCD","index":16,"n_rows":46,"n_cols":15,"rows_kept":46,"cut":false,"hidden":false,"merged":[[42,3,43,7],[45,0,47,8],[31,0,33,7],[35,1,36,7],[38,0,38,7],[16,11,16,14],[16,0,17,6],[12,0,13,6],[19,0,20,6],[40,2,40,7],[28,1,29,7],[22,2,23,6],[24,2,24,6],[26,0,26,8],[9,11,9,14],[0,0,0,8],[2,3,3,3],[14,1,14,6],[10,0,10,6],[5,0,6,1],[2,0,3,2]]}
["MUTCD WARRANT 7, CRASH EXPERIENCE",null,null,null,null,null,null,null,null,null,"↓"]
[]
["Built-up Isolated Community With Less Than 10,000 Population or Above 40 MPH on Major Street?",null,null,{"$f":"IF(OR('Input&Findings'!$E$12=\"Yes\",'Input&Findings'!$D$21>40),\"Yes\",\"No\")","v":"No"}]
[]
[]
["Number of Lanes for Moving Traffic on Each Approach"]
[]
["Major Street:",{"$f":"IF('Input&Findings'!$D$20=1,\"1 Lane\",\"2 or More Lanes\")","v":"1 Lane"}]
["Minor Street:",{"$f":"IF('Input&Findings'!$D$29=1,\"1 Lane\",\"2 or More Lanes\")","v":"1 Lane"}]
[null,null,null,null,null,null,null,null,null,null,null,"Condition A"]
["Has adequate trial of alternatives with satisfactory observance and enforcement failed to reduce the crash frequency?",null,null,null,null,null,null,"N/A",null,null,null,0.8,0.56000000000000005,0.8,0.56000000000000005]
[null,null,null,null,null,null,null,null,null,null,null,{"$f":"IF(AND('Input&Findings'!$D$20=1,'Input&Findings'!$D$29=1,NOT(OR('Input&Findings'!$D$21>40,'Input&Findings'!$E$12=\"Yes\"))),'Warrant 1 - MUTCD'!D19,\"\")","v":400},{"$f":"IF(AND('Input&Findings'!$D$20=1,'Input&Findings'!$D$29=1,OR('Input&Findings'!$E$12=\"Yes\",'Input&Findings'!$D$21>40)),'Warrant 1 - MUTCD'!F19,\"\")","v":""},{"$f":"IF(AND('Input&Findings'!$D$20=1,'Input&Findings'!$D$29=1,NOT(OR('Input&Findings'!$D$21>40,'Input&Findings'!$E$12=\"Yes\"))),'Warrant 1 - MUTCD'!H19,\"\")","v":120},{"$f":"IF(AND('Input&Findings'!$D$20=1,'Input&Findings'!$D$29=1,OR('Input&Findings'!$E$12=\"Yes\",'Input&Findings'!$D$21>40)),'Warrant 1 - MUTCD'!J19,\"\")","v":""}]
["Five or more reportable and/or non-reportable crashes, of types susceptible to correction by a traffic control signal, have occurred within a 12-month period during the most recent 3 years of available crash data.*",null,null,null,null,null,null,null,null,null,null,{"$f":"IF(AND('Input&Findings'!$D$20>1,'Input&Findings'!$D$29=1,NOT(OR('Input&Findings'!$D$21>40,'Input&Findings'!$E$12=\"Yes\"))),'Warrant 1 - MUTCD'!D20,\"\")","v":""},{"$f":"IF(AND('Input&Findings'!$D$20>1,'Input&Findings'!$D$29=1,OR('Input&Findings'!$E$12=\"Yes\",'Input&Findings'!$D$21>40)),'Warrant 1 - MUTCD'!F20,\"\")","v":""},{"$f":"IF(AND('Input&Findings'!$D$20>1,'Input&Findings'!$D$29=1,NOT(OR('Input&Findings'!$D$21>40,'Input&Findings'!$E$12=\"Yes\"))),'Warrant 1 - MUTCD'!H20,\"\")","v":""},{"$f":"IF(AND('Input&Findings'!$D$20>1,'Input&Findings'!$D$29=1,OR('Input&Findings'!$E$12=\"Yes\",'Input&Findings'!$D$21>40)),'Warrant 1 - MUTCD'!J20,\"\")","v":""}]
[null,null,null,null,null,null,null,"N/A",null,null,null,{"$f":"IF(AND('Input&Findings'!$D$20>1,'Input&Findings'!$D$29>1,NOT(OR('Input&Findings'!$D$21>40,'Input&Findings'!$E$12=\"Yes\"))),'Warrant 1 - MUTCD'!D21,\"\")","v":""},{"$f":"IF(AND('Input&Findings'!$D$20>1,'Input&Findings'!$D$29>1,OR('Input&Findings'!$E$12=\"Yes\",'Input&Findings'!$D$21>40)),'Warrant 1 - MUTCD'!F21,\"\")","v":""},{"$f":"IF(AND('Input&Findings'!$D$20>1,'Input&Findings'!$D$29>1,NOT(OR('Input&Findings'!$D$21>40,'Input&Findings'!$E$12=\"Yes\"))),'Warrant 1 - MUTCD'!H21,\"\")","v":""},{"$f":"IF(AND('Input&Findings'!$D$20>1,'Input&Findings'!$D$29>1,OR('Input&Findings'!$E$12=\"Yes\",'Input&Findings'!$D$21>40)),'Warrant 1 - MUTCD'!J21,\"\")","v":""}]
[null,"*If applicable, attach a summary of the crash data analysis used for this criterion.",null,null,null,null,null,null,null,null,null,{"$f":"IF(AND('Input&Findings'!$D$20=1,'Input&Findings'!$D$29>1,NOT(OR('Input&Findings'!$D$21>40,'Input&Findings'!$E$12=\"Yes\"))),'Warrant 1 - MUTCD'!D22,\"\")","v":""},{"$f":"IF(AND('Input&Findings'!$D$20=1,'Input&Findings'!$D$29>1,OR('Input&Findings'!$E$12=\"Yes\",'Input&Findings'!$D$21>40)),'Warrant 1 - MUTCD'!F22,\"\")","v":""},{"$f":"IF(AND('Input&Findings'!$D$20=1,'Input&Findings'!$D$29>1,NOT(OR('Input&Findings'!$D$21>40,'Input&Findings'!$E$12=\"Yes\"))),'Warrant 1 - MUTCD'!H22,\"\")","v":""},{"$f":"IF(AND('Input&Findings'!$D$20=1,'Input&Findings'!$D$29>1,OR('Input&Findings'!$E$12=\"Yes\",'Input&Findings'!$D$21>40)),'Warrant 1 - MUTCD'!J22,\"\")","v":""}]
[null,null,null,null,null,null,null,null,null,null,null,{"$f":"SUM(L12:M15)","v":400},null,{"$f":"SUM(N12:O15)","v":120}]
["For each of any 8 hours of an average day, the vehicles per hour given in both the 80% columns of Condition A in Table 4C-1 exists on the major-street and the higher-volume minor-street approach, respectively, to the intersection.",null,null,null,null,null,null,null,null,null,null,"Condition B"]
[null,null,null,null,null,null,null,{"$f":"IF('Traffic Volume Input'!$DN$102>=8,\"Yes\",\"No\")","v":"No"},null,null,null,0.8,0.56000000000000005,0.8,0.56000000000000005]
[]
["For each of any 8 hours of an average day, the vehicles per hour given in both the 80% columns of Condition B in Table 4C-1 exists on the major-street and the higher-volume minor-street approach, respectively, to the intersection.",null,null,null,null,null,null,null,null,null,null,{"$f":"IF(AND('Input&Findings'!$D$20=1,'Input&Findings'!$D$29=1,NOT(OR('Input&Findings'!$D$21>40,'Input&Findings'!$E$12=\"Yes\"))),'Warrant 1 - MUTCD'!D28,\"\")","v":600},{"$f":"IF(AND('Input&Findings'!$D$20=1,'Input&Findings'!$D$29=1,OR('Input&Findings'!$E$12=\"Yes\",'Input&Findings'!$D$21>40)),'Warrant 1 - MUTCD'!F28,\"\")","v":""},{"$f":"IF(AND('Input&Findings'!$D$20=1,'Input&Findings'!$D$29=1,NOT(OR('Input&Findings'!$D$21>40,'Input&Findings'!$E$12=\"Yes\"))),'Warrant 1 - MUTCD'!H28,\"\")","v":60},{"$f":"IF(AND('Input&Findings'!$D$20=1,'Input&Findings'!$D$29=1,OR('Input&Findings'!$D$21>40,'Input&Findings'!$E$12=\"Yes\")),'Warrant 1 - MUTCD'!J28,\"\")","v":""}]
[null,null,null,null,null,null,null,{"$f":"IF('Traffic Volume Input'!$FJ$102>=8,\"Yes\",\"No\")","v":"No"},null,null,null,{"$f":"IF(AND('Input&Findings'!$D$20>1,'Input&Findings'!$D$29=1,NOT(OR('Input&Findings'!$D$21>40,'Input&Findings'!$E$12=\"Yes\"))),'Warrant 1 - MUTCD'!D29,\"\")","v":""},{"$f":"IF(AND('Input&Findings'!$D$20>1,'Input&Findings'!$D$29=1,OR('Input&Findings'!$E$12=\"Yes\",'Input&Findings'!$D$21>40)),'Warrant 1 - MUTCD'!F29,\"\")","v":""},{"$f":"IF(AND('Input&Findings'!$D$20>1,'Input&Findings'!$D$29=1,NOT(OR('Input&Findings'!$D$21>40,'Input&Findings'!$E$12=\"Yes\"))),'Warrant 1 - MUTCD'!H29,\"\")","v":""},{"$f":"IF(AND('Input&Findings'!$D$20>1,'Input&Findings'!$D$29=1,OR('Input&Findings'!$D$21>40,'Input&Findings'!$E$12=\"Yes\")),'Warrant 1 - MUTCD'!J29,\"\")","v":""}]
[]
[null,null,"The volume of pedestrian traffic is not less than 80% of the requirements specified in Warrant 4, the Pedestrian Volume warrant.*",null,null,null,null,null,null,null,null,{"$f":"IF(AND('Input&Findings'!$D$20>1,'Input&Findings'!$D$29>1,NOT(OR('Input&Findings'!$D$21>40,'Input&Findings'!$E$12=\"Yes\"))),'Warrant 1 - MUTCD'!D30,\"\")","v":""},{"$f":"IF(AND('Input&Findings'!$D$20>1,'Input&Findings'!$D$29>1,OR('Input&Findings'!$E$12=\"Yes\",'Input&Findings'!$D$21>40)),'Warrant 1 - MUTCD'!F30,\"\")","v":""},{"$f":"IF(AND('Input&Findings'!$D$20>1,'Input&Findings'!$D$29>1,NOT(OR('Input&Findings'!$D$21>40,'Input&Findings'!$E$12=\"Yes\"))),'Warrant 1 - MUTCD'!H30,\"\")","v":""},{"$f":"IF(AND('Input&Findings'!$D$20>1,'Input&Findings'!$D$29>1,OR('Input&Findings'!$D$21>40,'Input&Findings'!$E$12=\"Yes\")),'Warrant 1 - MUTCD'!J30,\"\")","v":""}]
[null,null,null,null,null,null,null,"N/A",null,null,null,{"$f":"IF(AND('Input&Findings'!$D$20=1,'Input&Findings'!$D$29>1,NOT(OR('Input&Findings'!$D$21>40,'Input&Findings'!$E$12=\"Yes\"))),'Warrant 1 - MUTCD'!D31,\"\")","v":""},{"$f":"IF(AND('Input&Findings'!$D$20=1,'Input&Findings'!$D$29>1,OR('Input&Findings'!$E$12=\"Yes\",'Input&Findings'!$D$21>40)),'Warrant 1 - MUTCD'!F31,\"\")","v":""},{"$f":"IF(AND('Input&Findings'!$D$20=1,'Input&Findings'!$D$29>1,NOT(OR('Input&Findings'!$D$21>40,'Input&Findings'!$E$12=\"Yes\"))),'Warrant 1 - MUTCD'!H31,\"\")","v":""},{"$f":"IF(AND('Input&Findings'!$D$20=1,'Input&Findings'!$D$29>1,OR('Input&Findings'!$D$21>40,'Input&Findings'!$E$12=\"Yes\")),'Warrant 1 - MUTCD'!J31,\"\")","v":""}]
[null,null,"*If applicable, attach all supporting calculations and documentation.",null,null,null,null,null,null,null,null,{"$f":"SUM(L20:M24)","v":600},null,{"$f":"SUM(N20:O24)","v":60}]
[]
["MUTCD WARRANT 8, ROADWAY NETWORK*"]
[]
[null,"Is the major street classified as an Urban Extension, Principal Arterial, or Minor Arterial that is a reasonable connection between two Principal Arterials and/or Urban Extensions as shown on the official Functional Classification Map?"]
[null,null,null,null,null,null,null,null,"No"]
[]
["Does the intersection have a total existing, or immediately projected, entering volume of at least 1,000 vehicles per hour during the peak hour of a typical weekday and has 5-year projected traffic volumes, based on an engineering study, that meet one or more of Warrants 1,2, and 3 during an average weekday?"]
[]
[null,null,null,null,null,null,null,null,"No"]
[]
[null,"Does the intersection have a total existing or immediately projected entering volume of at least 1,000 vehicles per hour for each of any 5 hours of a non-normal business day (Saturday or Sunday)?"]
[null,null,null,null,null,null,null,null,"No"]
[]
["Is the major street part of the street or highway system that serves as the principal roadway network for through traffic flow?",null,null,null,null,null,null,null,"No"]
[]
[null,null,"Does the major street include rural or suburban highways outside, entering, or traversing a city?",null,null,null,null,null,"No"]
[]
[null,null,null,"Does the major street appear as a major route on an official plan, such as a major street plan in an urban area traffic and transportation study?"]
[null,null,null,null,null,null,null,null,"No"]
[]
["*Refer to Section 4.3 of PennDOT Publication 46 (Traffic Engineering Manual) for additional Department documentation requirements to justify the installation of a signal under Warrant 8. Attach all supplementary documentation and calculations, especially those relating to traffic volume projections and subsequent Warrant analyses."]

{"sheet":"Warrant 9 - MUTCD","index":17,"n_rows":38,"n_cols":39,"rows_kept":38,"cut":false,"hidden":false,"merged":[[2,12,3,13],[12,12,13,13],[9,35,9,38],[20,12,20,14],[2,1,3,6],[5,0,8,6],[18,0,18,4],[14,0,14,8],[15,0,15,8],[20,0,20,4],[10,35,10,36],[10,37,10,38],[0,0,0,8],[34,1,34,4],[35,0,35,4],[32,0,32,8],[26,1,26,4],[27,0,27,4],[28,0,28,4],[30,0,30,4],[12,2,12,4],[17,1,17,4],[23,0,23,8],[22,0,22,8],[30,35,30,36],[30,37,30,38],[37,0,37,4],[10,0,10,4],[29,35,29,38]]}
["MUTCD WARRANT 9, INTERSECTION NEAR A GRADE CROSSING",null,null,null,null,null,null,null,null,null,"↓"]
[]
[null,"Does the grade crossing exist on an approach controlled by a STOP or Yield sign and the center of the track nearest to the intersection is within 140 feet of the stop line or yield line on the approach?",null,null,null,null,null,null,null,null,null,null,"Table 4C-2, Adjustment Factor for Daily Frequency of Rail Traffic"]
[null,null,null,null,null,null,null,"N/A"]
[null,null,null,null,null,null,null,null,null,null,null,null,"Rail Traffic Per Day","Adjustment Factor"]
["During the highest traffic volume hour during which rail traffic uses the crossing, the plotted point representing the vehicles per hour on the major street (total of both approaches) and the corresponding vehicles per hour on the minor-street approach that crosses the track (one direction only, approaching the intersection) falls above the applicable curve in Figure 4C-9 or 4C-10 for the existing combination of approach lanes over the track and the distance D.",null,null,null,null,null,null,null,null,null,null,null,1,0.67]
[null,null,null,null,null,null,null,null,null,null,null,null,2,0.91]
[null,null,null,null,null,null,null,null,null,null,null,null,"3 to 5",1]
[null,null,null,null,null,null,null,"N/A",null,null,null,null,"6 to 8",1.18]
[null,null,null,null,null,null,null,null,null,null,null,null,"9 to 11",1.25,null,null,null,null,null,null,null,null,null,null,null,null,null,null,null,null,null,null,null,null,null,"Figure 4C-9"]
["Number of approach lanes on the minor street approach that crosses the track:",null,null,null,null,1,null,null,null,null,null,null,"12 or More",1.33,null,null,null,null,null,null,null,null,null,null,null,null,null,null,null,null,null,null,null,null,null,"Plot Points",null,"Plot Points"]
[null,null,null,null,null,null,null,null,null,null,null,null,null,null,null,null,null,null,null,null,null,null,null,null,null,null,null,null,null,null,null,null,null,null,null,{"$f":"IF(F11=1,0,\"\")","v":0},{"$f":"IF(F11=1,$F$36,\"\")","v":0},{"$f":"IF(F11=1,$F$35,\"\")","v":0},{"$f":"IF(F11=1,0,\"\")","v":0}]
[null,null,"Clear Storage Distance (D):",null,null,0,"feet",null,null,null,null,null,"Table 4C-3, Adjustment Factor for Percentage of High-Occupancy Buses",null,null,null,null,null,null,null,null,null,null,null,null,null,null,null,null,null,null,null,null,null,null,{"$f":"IF(F11=1,$F$35,\"\")","v":0},{"$f":"IF(F11=1,$F$36,\"\")","v":0},{"$f":"IF(F11=1,$F$35,\"\")","v":0},{"$f":"IF(F11=1,$F$36,\"\")","v":0}]
[]
["Highest Traffic Volume Hour During Which Rail Traffic Uses the Crossing*",null,null,null,null,null,null,null,null,null,null,null,"% on Minor-Street Approach","Adjustment Factor"]
["*If the rail traffic arrival times are unknown, the highest traffic volume hour of the day should be used.",null,null,null,null,null,null,null,null,null,null,null,0,1]
[null,null,null,null,null,null,null,null,null,null,null,null,0.02,1.0900000000000001]
[null,"Major Street Volume (Total of Both Approaches):",null,null,null,0,"vph",null,null,null,null,null,0.04,1.19]
["Actual Minor-Street Volume (One Direction Only, Approaching the Intersection):",null,null,null,null,0,"vph",null,null,null,null,null,"6% or more",1.32]
[]
["Apply Adjustment Factors to the Minor-Street Volume?:",null,null,null,null,"No",null,null,null,null,null,null,"Table 4C-4, Adjustment Factor for Percentage of Tractor-Trailer Trucks"]
[null,null,null,null,null,null,null,null,null,null,null,null,"% on Minor-Street Approach","D less than 70 Feet","D of 70 feet or more"]
["Minor-Street Approach Volume Adjustments*",null,null,null,null,null,null,null,null,null,null,null,"0% to 2.5%",0.5,0.5]
["*Refer to Section 4C.10 of the MUTCD for details on the application of these adjustment factors.",null,null,null,null,null,null,null,null,null,null,null,"2.6% to 7.5%",0.75,0.75]
[null,null,null,null,null,null,null,null,null,null,null,null,"7.6% to 12.5%",1,1]
[null,null,null,null,null,"Inputs","Adjustment Factor",null,null,null,null,null,"12.6% to 17.5%",2.2999999999999998,1.1499999999999999]
[null,"Occurrences of Rail Traffic per Day:",null,null,null,"3 to 5",{"$f":"VLOOKUP($F$27,M6:N11,2,FALSE)","v":1},null,null,null,null,null,"17.6% to 22.5%",2.7,1.35]
["% of High-Occupancy Buses (buses with at least 20 people) on Minor-Street Approach:",null,null,null,null,0,{"$f":"VLOOKUP($F$28,M16:N19,2,FALSE)","v":1},null,null,null,null,null,"22.6% to 27.5%",3.28,1.64]
["% of Tractor-Trailer Trucks on Minor-Street Approach:",null,null,null,null,"7.6% to 12.5%",{"$f":"IF($F$13<70,VLOOKUP($F$29,M23:N29,2,FALSE),VLOOKUP($F$29,M23:O29,3,FALSE))","v":1},null,null,null,null,null,"More than 27.5%",4.18,2.09]
[null,null,null,null,null,null,null,null,null,null,null,null,null,null,null,null,null,null,null,null,null,null,null,null,null,null,null,null,null,null,null,null,null,null,null,"Figure 4C-10"]
["Adjusted Minor-Street Volume (One Direction Only, Approaching the Intersection):",null,null,null,null,{"$f":"IF(F21=\"Yes\",F19*G27*G28*G29,\"N/A\")","v":"N/A"},"vph",null,null,null,null,null,null,null,null,null,null,null,null,null,null,null,null,null,null,null,null,null,null,null,null,null,null,null,null,"Plot Points",null,"Plot Points"]
[null,null,null,null,null,null,null,null,null,null,null,null,null,null,null,null,null,null,null,null,null,null,null,null,null,null,null,null,null,null,null,null,null,null,null,{"$f":"IF(F11>1,0,\"\")","v":""},{"$f":"IF(F11>1,$F$36,\"\")","v":""},{"$f":"IF(F11>1,$F$35,\"\")","v":""},{"$f":"IF(F11>1,0,\"\")","v":""}]
["Traffic Volumes for Figure Comparison",null,null,null,null,null,null,null,null,null,null,null,null,null,null,null,null,null,null,null,null,null,null,null,null,null,null,null,null,null,null,null,null,null,null,{"$f":"IF(F11>1,$F$35,\"\")","v":""},{"$f":"IF(F11>1,$F$36,\"\")","v":""},{"$f":"IF(F11>1,$F$35,\"\")","v":""},{"$f":"IF(F11>1,$F$36,\"\")","v":""}]
[]
[null,"Major Street Volume (Total of Both Approaches):",null,null,null,{"$f":"$F$18","v":0},"vph"]
["Minor-Street Volume (One Direction Only, Approaching the Intersection):",null,null,null,null,{"$f":"ROUNDUP(IF($F$21=\"Yes\",$F$31,$F$19),0)","v":0},"vph"]
[]
["Applicable Figure for Comparison:",null,null,null,null,{"$f":"IF($F$11=1,\"Figure 4C-9\",\"Figure 4C-10\")","v":"Figure 4C-9"}]

{"sheet":"Warrant PA-1","index":20,"n_rows":38,"n_cols":12,"rows_kept":38,"cut":false,"hidden":false,"merged":[[30,8,30,11],[20,8,20,11],[37,0,37,1],[26,0,26,5],[28,2,29,3],[28,4,29,5],[36,0,36,1],[27,0,29,1],[27,2,27,5],[0,0,0,5],[16,0,16,5],[18,2,19,3],[18,4,19,5],[2,0,3,1],[7,3,8,3],[17,2,17,5],[17,0,19,1],[10,0,10,3],[13,0,13,3],[11,0,11,3],[14,0,14,3],[7,0,8,2]]}
["WARRANT PA-1, ADT VOLUME WARRANT",null,null,null,null,null,null,"↓"]
[]
["Number of Lanes for Moving Traffic on Each Approach"]
[]
["Major Street:",{"$f":"IF('Input&Findings'!$D$20=1,\"1 Lane\",\"2 or More Lanes\")","v":"1 Lane"}]
["Minor Street:",{"$f":"IF('Input&Findings'!$D$29=1,\"1 Lane\",\"2 or More Lanes\")","v":"1 Lane"}]
[]
["Built-up Isolated Community With Less Than 10,000 Population or Above 40 MPH on Major Street?",null,null,{"$f":"IF(OR('Input&Findings'!$E$12=\"Yes\",'Input&Findings'!$D$21>40),\"Yes\",\"No\")","v":"No"}]
[]
[]
["Estimated ADT of Major Street (Both Approaches)*:",null,null,null,0,"vpd"]
["*If applicable, attach all supporting calculations and documentation."]
[]
["Estimated ADT of Higher-Volume Minor Street (One Direction Only)*:",null,null,null,0,"vpd"]
["*If applicable, attach all supporting calculations and documentation."]
[]
["Condition A - ADT Volume Warrant"]
["Number of lanes for moving traffic on each approach",null,"Estimated ADT*"]
[null,null,"Major Street (Both Approaches)",null,"Higher-Volume Minor Street Approach (One Direction Only)"]
[]
["Major Street","Minor Street",1,0.7,1,0.7,null,null,"Decision Chart"]
[1,1,10000,7000,3000,2100,null,null,{"$f":"IF(AND('Input&Findings'!$D$20=1,'Input&Findings'!$D$29=1,NOT($D$8=\"Yes\")),'Warrant PA-1'!C22,\"\")","v":10000},{"$f":"IF(AND('Input&Findings'!$D$20=1,'Input&Findings'!$D$29=1,$D$8=\"Yes\"),'Warrant PA-1'!D22,\"\")","v":""},{"$f":"IF(AND('Input&Findings'!$D$20=1,'Input&Findings'!$D$29=1,NOT($D$8=\"Yes\")),'Warrant PA-1'!E22,\"\")","v":3000},{"$f":"IF(AND('Input&Findings'!$D$20=1,'Input&Findings'!$D$29=1,$D$8=\"Yes\"),'Warrant PA-1'!F22,\"\")","v":""}]
["2 or More",1,12000,8400,3000,2100,null,null,{"$f":"IF(AND('Input&Findings'!$D$20>1,'Input&Findings'!$D$29=1,NOT($D$8=\"Yes\")),'Warrant PA-1'!C23,\"\")","v":""},{"$f":"IF(AND('Input&Findings'!$D$20>1,'Input&Findings'!$D$29=1,$D$8=\"Yes\"),'Warrant PA-1'!D23,\"\")","v":""},{"$f":"IF(AND('Input&Findings'!$D$20>1,'Input&Findings'!$D$29=1,NOT($D$8=\"Yes\")),'Warrant PA-1'!E23,\"\")","v":""},{"$f":"IF(AND('Input&Findings'!$D$20>1,'Input&Findings'!$D$29=1,$D$8=\"Yes\"),'Warrant PA-1'!F23,\"\")","v":""}]
["2 or More","2 or More",12000,8400,4000,2800,null,null,{"$f":"IF(AND('Input&Findings'!$D$20>1,'Input&Findings'!$D$29>1,NOT($D$8=\"Yes\")),'Warrant PA-1'!C24,\"\")","v":""},{"$f":"IF(AND('Input&Findings'!$D$20>1,'Input&Findings'!$D$29>1,$D$8=\"Yes\"),'Warrant PA-1'!D24,\"\")","v":""},{"$f":"IF(AND('Input&Findings'!$D$20>1,'Input&Findings'!$D$29>1,NOT($D$8=\"Yes\")),'Warrant PA-1'!E24,\"\")","v":""},{"$f":"IF(AND('Input&Findings'!$D$20>1,'Input&Findings'!$D$29>1,$D$8=\"Yes\"),'Warrant PA-1'!F24,\"\")","v":""}]
[1,"2 or More",10000,7000,4000,2800,null,null,{"$f":"IF(AND('Input&Findings'!$D$20=1,'Input&Findings'!$D$29>1,NOT($D$8=\"Yes\")),'Warrant PA-1'!C25,\"\")","v":""},{"$f":"IF(AND('Input&Findings'!$D$20=1,'Input&Findings'!$D$29>1,$D$8=\"Yes\"),'Warrant PA-1'!D25,\"\")","v":""},{"$f":"IF(AND('Input&Findings'!$D$20=1,'Input&Findings'!$D$29>1,NOT($D$8=\"Yes\")),'Warrant PA-1'!E25,\"\")","v":""},{"$f":"IF(AND('Input&Findings'!$D$20=1,'Input&Findings'!$D$29>1,$D$8=\"Yes\"),'Warrant PA-1'!F25,\"\")","v":""}]
[null,null,null,null,null,null,null,null,{"$f":"SUM(I22:J25)","v":10000},null,{"$f":"SUM(K22:L25)","v":3000}]
["Condition B - ADT Volume Warrant"]
["Number of lanes for moving traffic on each approach",null,"Estimated ADT*"]
[null,null,"Major Street (Both Approaches)",null,"Higher-Volume Minor Street Approach (One Direction Only)"]
[]
["Major Street","Minor Street",1,0.7,1,0.7,null,null,"Decision Chart"]
[1,1,15000,10500,1500,1050,null,null,{"$f":"IF(AND('Input&Findings'!$D$20=1,'Input&Findings'!$D$29=1,NOT($D$8=\"Yes\")),'Warrant PA-1'!C32,\"\")","v":15000},{"$f":"IF(AND('Input&Findings'!$D$20=1,'Input&Findings'!$D$29=1,$D$8=\"Yes\"),'Warrant PA-1'!D32,\"\")","v":""},{"$f":"IF(AND('Input&Findings'!$D$20=1,'Input&Findings'!$D$29=1,NOT($D$8=\"Yes\")),'Warrant PA-1'!E32,\"\")","v":1500},{"$f":"IF(AND('Input&Findings'!$D$20=1,'Input&Findings'!$D$29=1,$D$8=\"Yes\"),'Warrant PA-1'!F32,\"\")","v":""}]
["2 or More",1,18000,12600,1500,1050,null,null,{"$f":"IF(AND('Input&Findings'!$D$20>1,'Input&Findings'!$D$29=1,NOT($D$8=\"Yes\")),'Warrant PA-1'!C33,\"\")","v":""},{"$f":"IF(AND('Input&Findings'!$D$20>1,'Input&Findings'!$D$29=1,$D$8=\"Yes\"),'Warrant PA-1'!D33,\"\")","v":""},{"$f":"IF(AND('Input&Findings'!$D$20>1,'Input&Findings'!$D$29=1,NOT($D$8=\"Yes\")),'Warrant PA-1'!E33,\"\")","v":""},{"$f":"IF(AND('Input&Findings'!$D$20>1,'Input&Findings'!$D$29=1,$D$8=\"Yes\"),'Warrant PA-1'!F33,\"\")","v":""}]
["2 or More","2 or More",18000,12600,2000,1400,null,null,{"$f":"IF(AND('Input&Findings'!$D$20>1,'Input&Findings'!$D$29>1,NOT($D$8=\"Yes\")),'Warrant PA-1'!C34,\"\")","v":""},{"$f":"IF(AND('Input&Findings'!$D$20>1,'Input&Findings'!$D$29>1,$D$8=\"Yes\"),'Warrant PA-1'!D34,\"\")","v":""},{"$f":"IF(AND('Input&Findings'!$D$20>1,'Input&Findings'!$D$29>1,NOT($D$8=\"Yes\")),'Warrant PA-1'!E34,\"\")","v":""},{"$f":"IF(AND('Input&Findings'!$D$20>1,'Input&Findings'!$D$29>1,$D$8=\"Yes\"),'Warrant PA-1'!F34,\"\")","v":""}]
[1,"2 or More",15000,10500,2000,1400,null,null,{"$f":"IF(AND('Input&Findings'!$D$20=1,'Input&Findings'!$D$29>1,NOT($D$8=\"Yes\")),'Warrant PA-1'!C35,\"\")","v":""},{"$f":"IF(AND('Input&Findings'!$D$20=1,'Input&Findings'!$D$29>1,$D$8=\"Yes\"),'Warrant PA-1'!D35,\"\")","v":""},{"$f":"IF(AND('Input&Findings'!$D$20=1,'Input&Findings'!$D$29>1,NOT($D$8=\"Yes\")),'Warrant PA-1'!E35,\"\")","v":""},{"$f":"IF(AND('Input&Findings'!$D$20=1,'Input&Findings'!$D$29>1,$D$8=\"Yes\"),'Warrant PA-1'!F35,\"\")","v":""}]
[null,null,null,null,null,null,null,null,{"$f":"SUM(I32:J35)","v":15000},null,{"$f":"SUM(K32:L35)","v":1500}]
["Condition A Met?",null,{"$f":"IF(AND($E$11>=$I$26,$E$14>=$K$26),\"Yes\",\"No\")","v":"No"}]
["Condition B Met?",null,{"$f":"IF(AND($E$11>=$I$36,$E$14>=$K$36),\"Yes\",\"No\")","v":"No"}]

{"sheet":"Warrant PA-2","index":21,"n_rows":31,"n_cols":34,"rows_kept":31,"cut":false,"hidden":false,"merged":[[30,31,30,32],[30,33,30,34],[29,31,29,34],[10,33,10,34],[10,31,10,32],[9,31,9,34],[29,1,29,6],[0,0,0,8],[8,1,8,4],[27,0,27,4],[2,1,2,6],[4,1,4,6],[6,1,6,4],[14,2,14,3],[13,2,13,5],[11,3,11,4],[10,3,10,4]]}
["WARRANT PA-2, OPTIONAL TRAFFIC SIGNAL WARRANT FOR MIDBLOCK CROSSINGS AND TRAIL CROSSINGS",null,null,null,null,null,null,null,null,null,"↓"]
[]
[null,"Has District Traffic Engineer approval been acquired to conduct this analysis?",null,null,null,null,null,"N/A"]
[]
[null,"Will the proposed traffic signal be at least 100' from adjacent intersections?",null,null,null,null,null,"N/A"]
[]
[null,"85th Percentile Speed on the Major Street:",null,null,null,35,"MPH"]
[]
[null,"Length of Uncontrolled Crossing:",null,null,null,50,"feet"]
[null,null,null,null,null,null,null,null,null,null,null,null,null,null,null,null,null,null,null,null,null,null,null,null,null,null,null,null,null,null,null,"Figure 4C-9"]
[null,null,null,"Data Collection Date:",null,"2012-07-27",null,null,null,null,null,null,null,null,null,null,null,null,null,null,null,null,null,null,null,null,null,null,null,null,null,"Plot Points",null,"Plot Points"]
[null,null,null,"Day of the Week:",null,"Monday"]
[]
[null,null,"Hourly Vehicular & Pedestrian Volume"]
[null,null,"Hour Interval",null,"Major Street Combined","Total of All Pedestrians Crossing Major Street"]
[null,null,"#","Beginning At","Vehicles Per Hour (VPH)","Pedestrians Per Hour (PPH)"]
[null,null,1,null,0,0]
[null,null,2,null,0,0]
[null,null,3,null,0,0]
[null,null,4,null,0,0]
[null,null,5,null,0,0]
[null,null,6,null,0,0]
[null,null,7,null,0,0]
[null,null,8,null,0,0]
[null,null,9,null,0,0]
[null,null,10,null,0,0]
[]
["Applicable Exhibit for Comparison:",null,null,null,null,{"$f":"IF($F$7<=35,\"Exhibit 4-6\",\"Exhibit 4-7\")","v":"Exhibit 4-6"}]
[]
[null,"Does at least one hour plot above the applicable line for the appropriate exhibit?",null,null,null,null,null,"N/A",null,null,null,null,null,null,null,null,null,null,null,null,null,null,null,null,null,null,null,null,null,null,null,"Figure 4C-10"]
[null,null,null,null,null,null,null,null,null,null,null,null,null,null,null,null,null,null,null,null,null,null,null,null,null,null,null,null,null,null,null,"Plot Points",null,"Plot Points"]

{"sheet":"Lists","index":24,"n_rows":79,"n_cols":3,"rows_kept":79,"cut":false,"hidden":true,"merged":[]}
["PennDOT Engineering Districts","Pennsylvania Counties","Direction"]
[1,"Adams County","E-Bound"]
[2,"Allegheny County","NE-Bound"]
[3,"Armstrong County","N-Bound"]
[4,"Beaver County","NW-Bound"]
[5,"Bedford County","W-Bound"]
[6,"Berks County","SW-Bound"]
[8,"Blair County","S-Bound"]
[9,"Bradford County","SE-Bound"]
[10,"Bucks County","N/A"]
[11,"Butler County"]
[12,"Cambria County"]
["Lanes","Cameron County"]
[1,"Carbon County"]
[2,"Centre County"]
[3,"Chester County"]
[4,"Clarion County"]
[5,"Clearfield County"]
["Yes/No/N/A Decision","Clinton County"]
["Yes","Columbia County"]
["No","Crawford County"]
["N/A","Cumberland County"]
["Type of Data Entry","Dauphin County"]
["15-Minute","Delaware County"]
["Hourly","Elk County"]
["Day of Week","Erie County"]
["Monday","Fayette County"]
["Tuesday","Forest County"]
["Wednesday","Franklin County"]
["Thursday","Fulton County"]
["Friday","Greene County"]
["Saturday","Huntingdon County"]
["Sunday","Indiana County"]
["High-Occupancy Buses","Jefferson County"]
[0,"Juniata County"]
[0.02,"Lackawanna County"]
[0.04,"Lancaster County"]
["6% or more","Lawrence County"]
["Rail Traffic","Lebanon County"]
[1,"Lehigh County"]
[2,"Luzerne County"]
["3 to 5","Lycoming County"]
["6 to 8","McKean County"]
["9 to 11","Mercer County"]
["12 or More","Mifflin County"]
["Tractor-Trailer Trucks","Monroe County"]
["0% to 2.5%","Montgomery County"]
["2.6% to 7.5%","Montour County"]
["7.6% to 12.5%","Northampton County"]
["12.6% to 17.5%","Northumberland County"]
["17.6% to 22.5%","Perry County"]
["22.6% to 27.5%","Philadelphia County"]
["More than 27.5%","Pike County"]
["Hours","Potter County"]
[0,"Schuylkill County"]
[1,"Snyder County"]
[2,"Somerset County"]
[3,"Sullivan County"]
[4,"Susquehanna County"]
[5,"Tioga County"]
[6,"Union County"]
[7,"Venango County"]
[8,"Warren County"]
[9,"Washington County"]
[10,"Wayne County"]
[11,"Westmoreland County"]
[12,"Wyoming County"]
[13,"York County"]
[14]
[15]
[16]
[17]
[18]
[19]
[20]
[21]
[22]
[23]
[24]